{"text_format":"1","workbook":"xlsx","n_sheets":13,"sheets":["Sheet1","r1","r2","r3","r4","r5","r6","l1","l2","l3","l4","l5","l6"],"not_rendered":{"charts":0,"images":5,"macros":1,"external_links":0,"defined_names":1,"comments":0,"pivot_tables":0},"unopened":[],"bounds":{"document_bytes":16777216,"sheet_cells":100000,"rows_first":2000,"rows_last":500,"rows_between":2000,"halvings":0,"cell_chars":16384,"cell_head_chars":4096},"cells_cut":0,"cells_raw":0,"read":"whole","date_system":"1900"}

{"sheet":"Sheet1","index":0,"n_rows":156,"n_cols":16,"rows_kept":156,"cut":false,"hidden":false,"merged":[[0,0,0,13],[6,0,6,13],[1,0,1,3],[13,0,13,13],[7,0,7,1],[7,2,7,3],[7,4,7,5],[7,6,7,7],[7,8,7,9],[7,10,7,11],[7,12,7,13],[23,1,23,3],[23,4,23,6],[23,7,23,9],[23,10,23,12],[23,13,23,15],[17,0,17,13],[18,1,18,3],[18,4,18,6],[18,7,18,9],[18,10,18,12],[18,13,18,15],[33,1,33,3],[33,4,33,6],[33,7,33,9],[33,10,33,12],[33,13,33,15],[28,1,28,3],[28,4,28,6],[28,7,28,9],[28,10,28,12],[28,13,28,15],[48,1,48,3],[48,4,48,6],[48,7,48,9],[48,10,48,12],[48,13,48,15],[38,1,38,3],[38,4,38,6],[38,7,38,9],[38,10,38,12],[38,13,38,15],[43,1,43,3],[43,4,43,6],[43,7,43,9],[43,10,43,12],[43,13,43,15],[58,1,58,3],[58,4,58,6],[58,7,58,9],[58,10,58,12],[58,13,58,15],[53,1,53,3],[53,4,53,6],[53,7,53,9],[53,10,53,12],[53,13,53,15],[68,1,68,3],[68,4,68,6],[68,7,68,9],[68,10,68,12],[68,13,68,15],[63,1,63,3],[63,4,63,6],[63,7,63,9],[63,10,63,12],[63,13,63,15],[102,1,102,3],[102,4,102,6],[102,7,102,9],[102,10,102,12],[102,13,102,15],[73,1,73,3],[73,4,73,6],[73,7,73,9],[73,10,73,12],[73,13,73,15],[98,1,98,3],[98,4,98,6],[98,7,98,9],[98,10,98,12],[98,13,98,15],[78,0,78,2],[84,1,84,3],[112,1,112,3],[112,4,112,6],[112,7,112,9],[112,10,112,12],[112,13,112,15],[107,1,107,3],[107,4,107,6],[107,7,107,9],[107,10,107,12],[107,13,107,15],[122,1,122,3],[122,4,122,6],[122,7,122,9],[122,10,122,12],[122,13,122,15],[117,1,117,3],[117,4,117,6],[117,7,117,9],[117,10,117,12],[117,13,117,15],[132,1,132,3],[132,4,132,6],[132,7,132,9],[132,10,132,12],[132,13,132,15],[127,1,127,3],[127,4,127,6],[127,7,127,9],[127,10,127,12],[127,13,127,15],[152,1,152,3],[152,4,152,6],[152,7,152,9],[152,10,152,12],[152,13,152,15],[147,1,147,3],[147,4,147,6],[147,7,147,9],[147,10,147,12],[147,13,147,15],[142,1,142,3],[142,4,142,6],[142,7,142,9],[142,10,142,12],[142,13,142,15],[137,1,137,3],[137,4,137,6],[137,7,137,9],[137,10,137,12],[137,13,137,15]]}
["โปรแกรมคำนวณแผ่นพื้นสองทางไร้คาน 2-5  ช่วง"]
[]
["จำนวนช่วงพื้นตามแกน x =",3]
["จำนวนช่วงพื้นตามแกน y =",2]
[]
[]
["รายละเอียด"]
["คุณสมบัติวัสดุ",null,"ขนาดเสา",null,"ความยาวช่วงพื้น",null,"น้ำหนักบรรทุกจร",null,"น้ำหนักวัสดุตกแต่ง",null,"ความกว้างช่วงพื้น",null,"ความสูงชั้น"]
["fy (kg/cm^2) =",3058,"C1 (m) =",0.5,{"$f":"IF(B3>=1,(\"L1 (m) =\"),(\"\"))","v":"L1 (m) ="},5,{"$f":"IF(B3>=1,(\"LL1 (kg/m^2) =\"),(\"\"))","v":"LL1 (kg/m^2) ="},300,{"$f":"IF(B3>=1,(\"SDL1 (kg/m^2) =\"),(\"\"))","v":"SDL1 (kg/m^2) ="},700,"R1 (m) =",6,"ความต่างชั้น (m) =",2.7]
["fc' (kg/cm^2) =",320,"C2 (m) =",0.4,{"$f":"IF(B3>=2,(\"L2 (m) =\"),(\"\"))","v":"L2 (m) ="},6,{"$f":"IF(B3>=2,(\"LL2 (kg/m^2) =\"),(\"\"))","v":"LL2 (kg/m^2) ="},300,{"$f":"IF(B3>=2,(\"SDL2 (kg/m^2) =\"),(\"\"))","v":"SDL2 (kg/m^2) ="},700,"R2 (m) =",5]
["ความหนาแนนคอนกรีต (kg/m^3) =",2400,null,null,{"$f":"IF(B3>=3,(\"L3 (m) =\"),(\"\"))","v":"L3 (m) ="},5,{"$f":"IF(B3>=3,(\"LL3 (kg/m^2) =\"),(\"\"))","v":"LL3 (kg/m^2) ="},300,{"$f":"IF(B3>=3,(\"SDL3 (kg/m^2) =\"),(\"\"))","v":"SDL3 (kg/m^2) ="},700,{"$f":"IF(B4>=3,(\"R3 (m) =\"),(\"\"))","v":""}]
["ขนาดเหล็กเสริม (unit : cm) =",1.6,null,null,{"$f":"IF(B3>=4,(\"L4 (m) =\"),(\"\"))","v":""},null,{"$f":"IF(B3>=4,(\"LL4 (kg/m^2) =\"),(\"\"))","v":""},null,{"$f":"IF(B3>=4,(\"SDL4 (kg/m^2) =\"),(\"\"))","v":""},null,{"$f":"IF(B4>=4,(\"R4 (m) =\"),(\"\"))","v":""}]
["ระยะหุ้มคอนกรีต (unit : cm)",2.5,null,null,{"$f":"IF(B3>=5,(\"L5 (m) =\"),(\"\"))","v":""},null,{"$f":"IF(B3>=5,(\"LL5 (kg/m^2) =\"),(\"\"))","v":""},null,{"$f":"IF(B3>=5,(\"SDL5 (kg/m^2) =\"),(\"\"))","v":""},null,{"$f":"IF(B4>=5,(\"R5 (m) =\"),(\"\"))","v":""}]
["รายละเอียดความหนาพื้น"]
["ความหนาพื้นขั่นต่ำ ACI Code (unit:m) =",{"$f":"IF('r2'!B5>0.12,('r2'!B5),(0.12))","v":0.18153098318934047}]
["ความหนาที่เลือกใช้ (unit:m) =",0.25]
[]
["รายละเอียดเหล็กเสริม"]
["แถบนอกหน้าตัด R1","span L1",null,null,"span L2",null,null,"span L3",null,null,"span L4",null,null,"span L5"]
[null,"โมเมนต์ลบซ้าย","โมเมนต์บวกกลาง","โมเมนต์ลบขวา","โมเมนต์ลบซ้าย","โมเมนต์บวกกลาง","โมเมนต์ลบขวา","โมเมนต์ลบซ้าย","โมเมนต์บวกกลาง","โมเมนต์ลบขวา","โมเมนต์ลบซ้าย","โมเมนต์บวกกลาง","โมเมนต์ลบขวา","โมเมนต์ลบซ้าย","โมเมนต์บวกกลาง","โมเมนต์ลบขวา"]
[{"$f":"\"แถบเสา \"&  'r1'!$J$58&\"  m \"","v":"แถบเสา 1.5  m "},{"$f":"\"DB\"&$B$12*10&\"@\"&ROUND(INT(100/((('r1'!$J$70+'r1'!$J$84)/(3.142*($B$12*10)^2/4))))/100,1)&\"\"&\"m\"","v":"DB16@0.3m"},{"$f":"\"DB\"&$B$12*10&\"@\"&ROUND(INT(100/((('r1'!$J$66)/(3.142*($B$12*10)^2/4))))/100,1)&\"\"&\"m\"","v":"DB16@0.3m"},{"$f":"\"DB\"&$B$12*10&\"@\"&ROUND(INT(100/((('r1'!$J$62+'r1'!$M$84)/(3.142*($B$12*10)^2/4))))/100,1)&\"\"&\"m\"","v":"DB16@0.2m"},{"$f":"\"DB\"&$B$12*10&\"@\"&ROUND(INT(100/((('r1'!$M$70+'r1'!$O$84)/(3.142*($B$12*10)^2/4))))/100,1)&\"\"&\"m\"","v":"DB16@0.2m"},{"$f":"\"DB\"&$B$12*10&\"@\"&ROUND(INT(100/((('r1'!$M$66)/(3.142*($B$12*10)^2/4))))/100,1)&\"\"&\"m\"","v":"DB16@0.3m"},{"$f":"\"DB\"&$B$12*10&\"@\"&ROUND(INT(100/((('r1'!$M$62+'r1'!$N$84)/(3.142*($B$12*10)^2/4))))/100,1)&\"\"&\"m\"","v":"DB16@0.2m"},{"$f":"IF(('r1'!$O$70)=0,(0),(\"DB\"&$B$12*10&\"@\"&ROUND(INT(100/((('r1'!$O$70+'r1'!$Q$84)/(3.142*($B$12*10)^2/4))))/100,1)&\"\"&\"m\"))","v":"DB16@0.2m"},{"$f":"IF($B$12=0,0,IF(('r1'!$O$66)<1,(0),(\"DB\"&$B$12*10&\"@\"&ROUND(INT(100/((('r1'!$O$66)/(3.142*($B$12*10)^2/4))))/100,1)&\"\"&\"m\")))","v":"DB16@0.3m"},{"$f":"IF('r1'!$O$62=0,(0),(\"DB\"&$B$12*10&\"@\"&ROUND(INT(100/((('r1'!$O$62+'r1'!$P$84)/(3.142*($B$12*10)^2/4))))/100,1)&\"\"&\"m\"))","v":"DB16@0.3m"},{"$f":"IF('r1'!$Q$70=0,(0),(\"DB\"&$B$12*10&\"@\"&ROUND(INT(100/((('r1'!$Q$70+'r1'!$S$84)/(3.142*($B$12*10)^2/4))))/100,1)&\"\"&\"m\"))","v":0},{"$f":"IF('r1'!$Q$66=0,(0),(\"DB\"&$B$12*10&\"@\"&ROUND(INT(100/((('r1'!$Q$66)/(3.142*($B$12*10)^2/4))))/100,1)&\"\"&\"m\"))","v":0},{"$f":"IF('r1'!$Q$62=0,(0),(\"DB\"&$B$12*10&\"@\"&ROUND(INT(100/((('r1'!$Q$62+'r1'!$R$84)/(3.142*($B$12*10)^2/4))))/100,1)&\"\"&\"m\"))","v":0},{"$f":"IF('r1'!$S$70=0,(0),(\"DB\"&$B$12*10&\"@\"&ROUND(INT(100/((('r1'!$S$70+'r1'!$U$84)/(3.142*($B$12*10)^2/4))))/100,1)&\"\"&\"m\"))","v":0},{"$f":"IF('r1'!$S$66=0,(0),(\"DB\"&$B$12*10&\"@\"&ROUND(INT(100/((('r1'!$S$66)/(3.142*($B$12*10)^2/4))))/100,1)&\"\"&\"m\"))","v":0},{"$f":"IF('r1'!$S$62=0,(0),(\"DB\"&$B$12*10&\"@\"&ROUND(INT(100/((('r1'!$S$62+'r1'!$T$84)/(3.142*($B$12*10)^2/4))))/100,1)&\"\"&\"m\"))","v":0}]
[{"$f":"\"แถบกลาง \"&  'r1'!$K$58&\"  m \"","v":"แถบกลาง 1.5  m "},{"$f":"\"DB\"&$B$12*10&\"@\"&ROUND(INT(100/((('r1'!$K$70)/(3.142*($B$12*10)^2/4))))/100,1)&\"\"&\"m\"","v":"DB16@0.4m"},{"$f":"\"DB\"&$B$12*10&\"@\"&ROUND(INT(100/((('r1'!$K$66)/(3.142*($B$12*10)^2/4))))/100,1)&\"\"&\"m\"","v":"DB16@0.4m"},{"$f":"\"DB\"&$B$12*10&\"@\"&ROUND(INT(100/((('r1'!$K$62)/(3.142*($B$12*10)^2/4))))/100,1)&\"\"&\"m\"","v":"DB16@0.4m"},{"$f":"\"DB\"&$B$12*10&\"@\"&ROUND(INT(100/((('r1'!$N$70)/(3.142*($B$12*10)^2/4))))/100,1)&\"\"&\"m\"","v":"DB16@0.4m"},{"$f":"\"DB\"&$B$12*10&\"@\"&ROUND(INT(100/((('r1'!$N$66)/(3.142*($B$12*10)^2/4))))/100,1)&\"\"&\"m\"","v":"DB16@0.4m"},{"$f":"\"DB\"&$B$12*10&\"@\"&ROUND(INT(100/((('r1'!N$62)/(3.142*($B$12*10)^2/4))))/100,1)&\"\"&\"m\"","v":"DB16@0.4m"},{"$f":"IF(('r1'!$P$70)=0,(0),(\"DB\"&$B$12*10&\"@\"&ROUND(INT(100/((('r1'!$P$70)/(3.142*($B$12*10)^2/4))))/100,1)&\"\"&\"m\"))","v":"DB16@0.4m"},{"$f":"IF(('r1'!$P$66)=0,(0),(\"DB\"&$B$12*10&\"@\"&ROUND(INT(100/((('r1'!$P$66)/(3.142*($B$12*10)^2/4))))/100,1)&\"\"&\"m\"))","v":"DB16@0.4m"},{"$f":"IF(('r1'!$P$62)=0,(0),(\"DB\"&$B$12*10&\"@\"&ROUND(INT(100/((('r1'!$P$62)/(3.142*($B$12*10)^2/4))))/100,1)&\"\"&\"m\"))","v":"DB16@0.4m"},{"$f":"IF(('r1'!$R$70)=0,(0),(\"DB\"&$B$12*10&\"@\"&ROUND(INT(100/((('r1'!$R$70)/(3.142*($B$12*10)^2/4))))/100,1)&\"\"&\"m\"))","v":0},{"$f":"IF(('r1'!$R$66)=0,(0),(\"DB\"&$B$12*10&\"@\"&ROUND(INT(100/((('r1'!$R$66)/(3.142*($B$12*10)^2/4))))/100,1)&\"\"&\"m\"))","v":0},{"$f":"IF(('r1'!$R$62)=0,(0),(\"DB\"&$B$12*10&\"@\"&ROUND(INT(100/((('r1'!$R$62)/(3.142*($B$12*10)^2/4))))/100,1)&\"\"&\"m\"))","v":0},{"$f":"IF(('r1'!$T$70)=0,(0),(\"DB\"&$B$12*10&\"@\"&ROUND(INT(100/((('r1'!$T$70)/(3.142*($B$12*10)^2/4))))/100,1)&\"\"&\"m\"))","v":0},{"$f":"IF(('r1'!$T$66)=0,(0),(\"DB\"&$B$12*10&\"@\"&ROUND(INT(100/((('r1'!$T$66)/(3.142*($B$12*10)^2/4))))/100,1)&\"\"&\"m\"))","v":0},{"$f":"IF(('r1'!$T$62)=0,(0),(\"DB\"&$B$12*10&\"@\"&ROUND(INT(100/((('r1'!$T$62)/(3.142*($B$12*10)^2/4))))/100,1)&\"\"&\"m\"))","v":0}]
[]
["แถบในหน้าตัด R1-R2","span L1",null,null,"span L2",null,null,"span L3",null,null,"span L4",null,null,"span L5"]
[null,"โมเมนต์ลบซ้าย","โมเมนต์บวกกลาง","โมเมนต์ลบขวา","โมเมนต์ลบซ้าย","โมเมนต์บวกกลาง","โมเมนต์ลบขวา","โมเมนต์ลบซ้าย","โมเมนต์บวกกลาง","โมเมนต์ลบขวา","โมเมนต์ลบซ้าย","โมเมนต์บวกกลาง","โมเมนต์ลบขวา","โมเมนต์ลบซ้าย","โมเมนต์บวกกลาง","โมเมนต์ลบขวา"]
[{"$f":"\"แถบเสา \"&  'r2'!$J$58&\"  m \"","v":"แถบเสา 2.75  m "},{"$f":"\"DB\"&$B$12*10&\"@\"&ROUND(INT(100/((('r2'!$J$70)/(3.142*($B$12*10)^2/4))))/100,1)&\"\"&\"m\"","v":"DB16@0.4m"},{"$f":"\"DB\"&$B$12*10&\"@\"&ROUND(INT(100/((('r2'!$J$66)/(3.142*($B$12*10)^2/4))))/100,1)&\"\"&\"m\"","v":"DB16@0.3m"},{"$f":"\"DB\"&$B$12*10&\"@\"&ROUND(INT(100/((('r2'!$J$62)/(3.142*($B$12*10)^2/4))))/100,1)&\"\"&\"m\"","v":"DB16@0.2m"},{"$f":"\"DB\"&$B$12*10&\"@\"&ROUND(INT(100/((('r2'!$M$70)/(3.142*($B$12*10)^2/4))))/100,1)&\"\"&\"m\"","v":"DB16@0.2m"},{"$f":"\"DB\"&$B$12*10&\"@\"&ROUND(INT(100/((('r2'!$M$66)/(3.142*($B$12*10)^2/4))))/100,1)&\"\"&\"m\"","v":"DB16@0.3m"},{"$f":"\"DB\"&$B$12*10&\"@\"&ROUND(INT(100/((('r2'!$M$62)/(3.142*($B$12*10)^2/4))))/100,1)&\"\"&\"m\"","v":"DB16@0.2m"},{"$f":"IF(('r2'!$O$70)<1,(0),(\"DB\"&$B$12*10&\"@\"&ROUND(INT(100/((('r2'!$O$70)/(3.142*($B$12*10)^2/4))))/100,1)&\"\"&\"m\"))","v":"DB16@0.2m"},{"$f":"IF(('r2'!$O$66)=0,(0),(\"DB\"&$B$12*10&\"@\"&ROUND(INT(100/((('r2'!$O$66)/(3.142*($B$12*10)^2/4))))/100,1)&\"\"&\"m\"))","v":"DB16@0.3m"},{"$f":"IF('r2'!$O$62=0,(0),(\"DB\"&$B$12*10&\"@\"&ROUND(INT(100/((('r2'!$O$62)/(3.142*($B$12*10)^2/4))))/100,1)&\"\"&\"m\"))","v":"DB16@0.4m"},{"$f":"IF('r2'!$Q$70=0,(0),(\"DB\"&$B$12*10&\"@\"&ROUND(INT(100/((('r2'!$Q$70)/(3.142*($B$12*10)^2/4))))/100,1)&\"\"&\"m\"))","v":0},{"$f":"IF('r2'!$Q$66=0,(0),(\"DB\"&$B$12*10&\"@\"&ROUND(INT(100/((('r2'!$Q$66)/(3.142*($B$12*10)^2/4))))/100,1)&\"\"&\"m\"))","v":0},{"$f":"IF('r2'!$Q$62=0,(0),(\"DB\"&$B$12*10&\"@\"&ROUND(INT(100/((('r2'!$Q$62)/(3.142*($B$12*10)^2/4))))/100,1)&\"\"&\"m\"))","v":0},{"$f":"IF('r2'!$S$70=0,(0),(\"DB\"&$B$12*10&\"@\"&ROUND(INT(100/((('r2'!$S$70)/(3.142*($B$12*10)^2/4))))/100,1)&\"\"&\"m\"))","v":0},{"$f":"IF('r2'!$S$66=0,(0),(\"DB\"&$B$12*10&\"@\"&ROUND(INT(100/((('r2'!$S$66)/(3.142*($B$12*10)^2/4))))/100,1)&\"\"&\"m\"))","v":0},{"$f":"IF('r2'!$S$62=0,(0),(\"DB\"&$B$12*10&\"@\"&ROUND(INT(100/((('r2'!$S$62)/(3.142*($B$12*10)^2/4))))/100,1)&\"\"&\"m\"))","v":0}]
[{"$f":"\"แถบกลาง \"&  'r2'!$K$58&\"  m \"","v":"แถบกลาง 2.25  m "},{"$f":"\"DB\"&$B$12*10&\"@\"&ROUND(INT(100/((('r2'!$K$70)/(3.142*($B$12*10)^2/4))))/100,1)&\"\"&\"m\"","v":"DB16@0.4m"},{"$f":"\"DB\"&$B$12*10&\"@\"&ROUND(INT(100/((('r2'!$K$66)/(3.142*($B$12*10)^2/4))))/100,1)&\"\"&\"m\"","v":"DB16@0.4m"},{"$f":"\"DB\"&$B$12*10&\"@\"&ROUND(INT(100/((('r2'!$K$62)/(3.142*($B$12*10)^2/4))))/100,1)&\"\"&\"m\"","v":"DB16@0.4m"},{"$f":"\"DB\"&$B$12*10&\"@\"&ROUND(INT(100/((('r2'!$N$70)/(3.142*($B$12*10)^2/4))))/100,1)&\"\"&\"m\"","v":"DB16@0.4m"},{"$f":"\"DB\"&$B$12*10&\"@\"&ROUND(INT(100/((('r2'!$N$66)/(3.142*($B$12*10)^2/4))))/100,1)&\"\"&\"m\"","v":"DB16@0.3m"},{"$f":"\"DB\"&$B$12*10&\"@\"&ROUND(INT(100/((('r2'!N$62)/(3.142*($B$12*10)^2/4))))/100,1)&\"\"&\"m\"","v":"DB16@0.4m"},{"$f":"IF(('r2'!$P$70)<10,(0),(\"DB\"&$B$12*10&\"@\"&ROUND(INT(100/((('r2'!$P$70)/(3.142*($B$12*10)^2/4))))/100,1)&\"\"&\"m\"))","v":"DB16@0.4m"},{"$f":"IF(('r2'!$P$66)=0,(0),(\"DB\"&$B$12*10&\"@\"&ROUND(INT(100/((('r2'!$P$66)/(3.142*($B$12*10)^2/4))))/100,1)&\"\"&\"m\"))","v":"DB16@0.4m"},{"$f":"IF(('r2'!$P$62)=0,(0),(\"DB\"&$B$12*10&\"@\"&ROUND(INT(100/((('r2'!$P$62)/(3.142*($B$12*10)^2/4))))/100,1)&\"\"&\"m\"))","v":"DB16@0.4m"},{"$f":"IF(('r2'!$R$70)=0,(0),(\"DB\"&$B$12*10&\"@\"&ROUND(INT(100/((('r2'!$R$70)/(3.142*($B$12*10)^2/4))))/100,1)&\"\"&\"m\"))","v":0},{"$f":"IF(('r2'!$R$66)=0,(0),(\"DB\"&$B$12*10&\"@\"&ROUND(INT(100/((('r2'!$R$66)/(3.142*($B$12*10)^2/4))))/100,1)&\"\"&\"m\"))","v":0},{"$f":"IF(('r2'!$R$62)=0,(0),(\"DB\"&$B$12*10&\"@\"&ROUND(INT(100/((('r2'!$R$62)/(3.142*($B$12*10)^2/4))))/100,1)&\"\"&\"m\"))","v":0},{"$f":"IF(('r2'!$T$70)=0,(0),(\"DB\"&$B$12*10&\"@\"&ROUND(INT(100/((('r2'!$T$70)/(3.142*($B$12*10)^2/4))))/100,1)&\"\"&\"m\"))","v":0},{"$f":"IF(('r2'!$T$66)=0,(0),(\"DB\"&$B$12*10&\"@\"&ROUND(INT(100/((('r2'!$T$66)/(3.142*($B$12*10)^2/4))))/100,1)&\"\"&\"m\"))","v":0},{"$f":"IF(('r2'!$T$62)=0,(0),(\"DB\"&$B$12*10&\"@\"&ROUND(INT(100/((('r2'!$T$62)/(3.142*($B$12*10)^2/4))))/100,1)&\"\"&\"m\"))","v":0}]
[]
[{"$f":"IF($B$4=2,(\"แถบนอกหน้าตัด R2\"),(IF($B$4>2,(\"แถบในหน้าตัด R2-R3\"),(\"ไม่มีพื้น\"))))","v":"แถบนอกหน้าตัด R2"},"span L1",null,null,"span L2",null,null,"span L3",null,null,"span L4",null,null,"span L5"]
[null,"โมเมนต์ลบซ้าย","โมเมนต์บวกกลาง","โมเมนต์ลบขวา","โมเมนต์ลบซ้าย","โมเมนต์บวกกลาง","โมเมนต์ลบขวา","โมเมนต์ลบซ้าย","โมเมนต์บวกกลาง","โมเมนต์ลบขวา","โมเมนต์ลบซ้าย","โมเมนต์บวกกลาง","โมเมนต์ลบขวา","โมเมนต์ลบซ้าย","โมเมนต์บวกกลาง","โมเมนต์ลบขวา"]
[{"$f":"\"แถบเสา \"&  'r3'!$J$58&\"  m \"","v":"แถบเสา 1.25  m "},{"$f":"IF('r3'!$J$70=0,(0),(\"DB\"&$B$12*10&\"@\"&ROUND(INT(100/((('r3'!$J$70)/(3.142*($B$12*10)^2/4))))/100,1)&\"\"&\"m\"))","v":"DB16@0.3m"},{"$f":"IF('r3'!$J$66=0,(0),(\"DB\"&$B$12*10&\"@\"&ROUND(INT(100/((('r3'!$J$66)/(3.142*($B$12*10)^2/4))))/100,1)&\"\"&\"m\"))","v":"DB16@0.4m"},{"$f":"IF('r3'!$J$62=0,(0),(\"DB\"&$B$12*10&\"@\"&ROUND(INT(100/((('r3'!$J$62)/(3.142*($B$12*10)^2/4))))/100,1)&\"\"&\"m\"))","v":"DB16@0.2m"},{"$f":"IF('r3'!$M$70=0,(0),(\"DB\"&$B$12*10&\"@\"&ROUND(INT(100/((('r3'!$M$70)/(3.142*($B$12*10)^2/4))))/100,1)&\"\"&\"m\"))","v":"DB16@0.2m"},{"$f":"IF('r3'!$M$66=0,(0),(\"DB\"&$B$12*10&\"@\"&ROUND(INT(100/((('r3'!$M$66)/(3.142*($B$12*10)^2/4))))/100,1)&\"\"&\"m\"))","v":"DB16@0.3m"},{"$f":"IF('r3'!$M$62=0,(0),(\"DB\"&$B$12*10&\"@\"&ROUND(INT(100/((('r3'!$M$62)/(3.142*($B$12*10)^2/4))))/100,1)&\"\"&\"m\"))","v":"DB16@0.2m"},{"$f":"IF(('r3'!$O$70)<1,(0),(\"DB\"&$B$12*10&\"@\"&ROUND(INT(100/((('r3'!$O$70)/(3.142*($B$12*10)^2/4))))/100,1)&\"\"&\"m\"))","v":"DB16@0.2m"},{"$f":"IF(('r3'!$O$66)=0,(0),(\"DB\"&$B$12*10&\"@\"&ROUND(INT(100/((('r3'!$O$66)/(3.142*($B$12*10)^2/4))))/100,1)&\"\"&\"m\"))","v":"DB16@0.4m"},{"$f":"IF('r3'!$O$62=0,(0),(\"DB\"&$B$12*10&\"@\"&ROUND(INT(100/((('r3'!$O$62)/(3.142*($B$12*10)^2/4))))/100,1)&\"\"&\"m\"))","v":"DB16@0.3m"},{"$f":"IF('r3'!$Q$70=0,(0),(\"DB\"&$B$12*10&\"@\"&ROUND(INT(100/((('r3'!$Q$70)/(3.142*($B$12*10)^2/4))))/100,1)&\"\"&\"m\"))","v":0},{"$f":"IF('r3'!$Q$66=0,(0),(\"DB\"&$B$12*10&\"@\"&ROUND(INT(100/((('r3'!$Q$66)/(3.142*($B$12*10)^2/4))))/100,1)&\"\"&\"m\"))","v":0},{"$f":"IF('r3'!$Q$62=0,(0),(\"DB\"&$B$12*10&\"@\"&ROUND(INT(100/((('r3'!$Q$62)/(3.142*($B$12*10)^2/4))))/100,1)&\"\"&\"m\"))","v":0},{"$f":"IF('r3'!$S$70=0,(0),(\"DB\"&$B$12*10&\"@\"&ROUND(INT(100/((('r3'!$S$70)/(3.142*($B$12*10)^2/4))))/100,1)&\"\"&\"m\"))","v":0},{"$f":"IF('r3'!$S$66=0,(0),(\"DB\"&$B$12*10&\"@\"&ROUND(INT(100/((('r3'!$S$66)/(3.142*($B$12*10)^2/4))))/100,1)&\"\"&\"m\"))","v":0},{"$f":"IF('r3'!$S$62=0,(0),(\"DB\"&$B$12*10&\"@\"&ROUND(INT(100/((('r3'!$S$62)/(3.142*($B$12*10)^2/4))))/100,1)&\"\"&\"m\"))","v":0}]
[{"$f":"\"แถบกลาง \"&  'r3'!$K$58&\"  m \"","v":"แถบกลาง 1.25  m "},{"$f":"IF('r3'!$K$70=0,(0),(\"DB\"&$B$12*10&\"@\"&ROUND(INT(100/((('r3'!$K$70)/(3.142*($B$12*10)^2/4))))/100,1)&\"\"&\"m\"))","v":"DB16@0.4m"},{"$f":"IF('r3'!$K$66=0,(0),(\"DB\"&$B$12*10&\"@\"&ROUND(INT(100/((('r3'!$K$66)/(3.142*($B$12*10)^2/4))))/100,1)&\"\"&\"m\"))","v":"DB16@0.4m"},{"$f":"IF('r3'!$K$62=0,(0),(\"DB\"&$B$12*10&\"@\"&ROUND(INT(100/((('r3'!$K$62)/(3.142*($B$12*10)^2/4))))/100,1)&\"\"&\"m\"))","v":"DB16@0.4m"},{"$f":"IF('r3'!$N$70=0,(0),(\"DB\"&$B$12*10&\"@\"&ROUND(INT(100/((('r3'!$N$70)/(3.142*($B$12*10)^2/4))))/100,1)&\"\"&\"m\"))","v":"DB16@0.4m"},{"$f":"IF(('r3'!$N$66)=0,(0),(\"DB\"&$B$12*10&\"@\"&ROUND(INT(100/((('r3'!$N$66)/(3.142*($B$12*10)^2/4))))/100,1)&\"\"&\"m\"))","v":"DB16@0.4m"},{"$f":"IF('r3'!$N$62=0,(0),(\"DB\"&$B$12*10&\"@\"&ROUND(INT(100/((('r3'!$N$62)/(3.142*($B$12*10)^2/4))))/100,1)&\"\"&\"m\"))","v":"DB16@0.4m"},{"$f":"IF(('r3'!$P$70)=0,(0),(\"DB\"&$B$12*10&\"@\"&ROUND(INT(100/((('r3'!$P$70)/(3.142*($B$12*10)^2/4))))/100,1)&\"\"&\"m\"))","v":"DB16@0.4m"},{"$f":"IF(('r3'!$P$66)=0,(0),(\"DB\"&$B$12*10&\"@\"&ROUND(INT(100/((('r3'!$P$66)/(3.142*($B$12*10)^2/4))))/100,1)&\"\"&\"m\"))","v":"DB16@0.4m"},{"$f":"IF(('r3'!$P$62)=0,(0),(\"DB\"&$B$12*10&\"@\"&ROUND(INT(100/((('r3'!$P$62)/(3.142*($B$12*10)^2/4))))/100,1)&\"\"&\"m\"))","v":"DB16@0.4m"},{"$f":"IF(('r3'!$R$70)=0,(0),(\"DB\"&$B$12*10&\"@\"&ROUND(INT(100/((('r3'!$R$70)/(3.142*($B$12*10)^2/4))))/100,1)&\"\"&\"m\"))","v":0},{"$f":"IF(('r3'!$R$66)=0,(0),(\"DB\"&$B$12*10&\"@\"&ROUND(INT(100/((('r3'!$R$66)/(3.142*($B$12*10)^2/4))))/100,1)&\"\"&\"m\"))","v":0},{"$f":"IF(('r3'!$R$62)=0,(0),(\"DB\"&$B$12*10&\"@\"&ROUND(INT(100/((('r3'!$R$62)/(3.142*($B$12*10)^2/4))))/100,1)&\"\"&\"m\"))","v":0},{"$f":"IF(('r3'!$T$70)=0,(0),(\"DB\"&$B$12*10&\"@\"&ROUND(INT(100/((('r3'!$T$70)/(3.142*($B$12*10)^2/4))))/100,1)&\"\"&\"m\"))","v":0},{"$f":"IF(('r3'!$T$66)=0,(0),(\"DB\"&$B$12*10&\"@\"&ROUND(INT(100/((('r3'!$T$66)/(3.142*($B$12*10)^2/4))))/100,1)&\"\"&\"m\"))","v":0},{"$f":"IF(('r3'!$T$62)=0,(0),(\"DB\"&$B$12*10&\"@\"&ROUND(INT(100/((('r3'!$T$62)/(3.142*($B$12*10)^2/4))))/100,1)&\"\"&\"m\"))","v":0}]
[]
[{"$f":"IF($B$4=3,(\"แถบนอกหน้าตัด R3\"),(IF($B$4>3,(\"แถบในหน้าตัด R3-R4\"),(\"ไม่มีพื้น\"))))","v":"ไม่มีพื้น"},"span L1",null,null,"span L2",null,null,"span L3",null,null,"span L4",null,null,"span L5"]
[null,"โมเมนต์ลบซ้าย","โมเมนต์บวกกลาง","โมเมนต์ลบขวา","โมเมนต์ลบซ้าย","โมเมนต์บวกกลาง","โมเมนต์ลบขวา","โมเมนต์ลบซ้าย","โมเมนต์บวกกลาง","โมเมนต์ลบขวา","โมเมนต์ลบซ้าย","โมเมนต์บวกกลาง","โมเมนต์ลบขวา","โมเมนต์ลบซ้าย","โมเมนต์บวกกลาง","โมเมนต์ลบขวา"]
[{"$f":"\"แถบเสา \"&  'r4'!$J$58&\"  m \"","v":"แถบเสา 0  m "},{"$f":"IF('r4'!$J$70=0,(0),(\"DB\"&$B$12*10&\"@\"&ROUND(INT(100/((('r4'!$J$70)/(3.142*($B$12*10)^2/4))))/100,1)&\"\"&\"m\"))","v":0},{"$f":"IF('r4'!$J$66=0,(0),(\"DB\"&$B$12*10&\"@\"&ROUND(INT(100/((('r4'!$J$66)/(3.142*($B$12*10)^2/4))))/100,1)&\"\"&\"m\"))","v":0},{"$f":"IF('r4'!$J$62=0,(0),(\"DB\"&$B$12*10&\"@\"&ROUND(INT(100/((('r4'!$J$62)/(3.142*($B$12*10)^2/4))))/100,1)&\"\"&\"m\"))","v":0},{"$f":"IF('r4'!$M$70=0,(0),(\"DB\"&$B$12*10&\"@\"&ROUND(INT(100/((('r4'!$M$70)/(3.142*($B$12*10)^2/4))))/100,1)&\"\"&\"m\"))","v":0},{"$f":"IF('r4'!$M$66=0,(0),(\"DB\"&$B$12*10&\"@\"&ROUND(INT(100/((('r4'!$M$66)/(3.142*($B$12*10)^2/4))))/100,1)&\"\"&\"m\"))","v":0},{"$f":"IF('r4'!$M$62=0,(0),(\"DB\"&$B$12*10&\"@\"&ROUND(INT(100/((('r4'!$M$62)/(3.142*($B$12*10)^2/4))))/100,1)&\"\"&\"m\"))","v":0},{"$f":"IF(('r4'!$O$70)<1,(0),(\"DB\"&$B$12*10&\"@\"&ROUND(INT(100/((('r4'!$O$70)/(3.142*($B$12*10)^2/4))))/100,1)&\"\"&\"m\"))","v":0},{"$f":"IF(('r4'!$O$66)=0,(0),(\"DB\"&$B$12*10&\"@\"&ROUND(INT(100/((('r4'!$O$66)/(3.142*($B$12*10)^2/4))))/100,1)&\"\"&\"m\"))","v":0},{"$f":"IF('r4'!$O$62=0,(0),(\"DB\"&$B$12*10&\"@\"&ROUND(INT(100/((('r4'!$O$62)/(3.142*($B$12*10)^2/4))))/100,1)&\"\"&\"m\"))","v":0},{"$f":"IF('r4'!$Q$70=0,(0),(\"DB\"&$B$12*10&\"@\"&ROUND(INT(100/((('r4'!$Q$70)/(3.142*($B$12*10)^2/4))))/100,1)&\"\"&\"m\"))","v":0},{"$f":"IF('r4'!$Q$66=0,(0),(\"DB\"&$B$12*10&\"@\"&ROUND(INT(100/((('r4'!$Q$66)/(3.142*($B$12*10)^2/4))))/100,1)&\"\"&\"m\"))","v":0},{"$f":"IF('r4'!$Q$62=0,(0),(\"DB\"&$B$12*10&\"@\"&ROUND(INT(100/((('r4'!$Q$62)/(3.142*($B$12*10)^2/4))))/100,1)&\"\"&\"m\"))","v":0},{"$f":"IF('r4'!$S$70=0,(0),(\"DB\"&$B$12*10&\"@\"&ROUND(INT(100/((('r4'!$S$70)/(3.142*($B$12*10)^2/4))))/100,1)&\"\"&\"m\"))","v":0},{"$f":"IF('r4'!$S$66=0,(0),(\"DB\"&$B$12*10&\"@\"&ROUND(INT(100/((('r4'!$S$66)/(3.142*($B$12*10)^2/4))))/100,1)&\"\"&\"m\"))","v":0},{"$f":"IF('r4'!$S$62=0,(0),(\"DB\"&$B$12*10&\"@\"&ROUND(INT(100/((('r4'!$S$62)/(3.142*($B$12*10)^2/4))))/100,1)&\"\"&\"m\"))","v":0}]
[{"$f":"\"แถบกลาง \"&  'r4'!$K$58&\"  m \"","v":"แถบกลาง 0  m "},{"$f":"IF('r4'!$K$70=0,(0),(\"DB\"&$B$12*10&\"@\"&ROUND(INT(100/((('r4'!$K$70)/(3.142*($B$12*10)^2/4))))/100,1)&\"\"&\"m\"))","v":0},{"$f":"IF('r4'!$K$66=0,(0),(\"DB\"&$B$12*10&\"@\"&ROUND(INT(100/((('r4'!$K$66)/(3.142*($B$12*10)^2/4))))/100,1)&\"\"&\"m\"))","v":0},{"$f":"IF('r4'!$K$62=0,(0),(\"DB\"&$B$12*10&\"@\"&ROUND(INT(100/((('r4'!$K$62)/(3.142*($B$12*10)^2/4))))/100,1)&\"\"&\"m\"))","v":0},{"$f":"IF('r4'!$N$70=0,(0),(\"DB\"&$B$12*10&\"@\"&ROUND(INT(100/((('r4'!$N$70)/(3.142*($B$12*10)^2/4))))/100,1)&\"\"&\"m\"))","v":0},{"$f":"IF(('r4'!$N$66)=0,(0),(\"DB\"&$B$12*10&\"@\"&ROUND(INT(100/((('r4'!$N$66)/(3.142*($B$12*10)^2/4))))/100,1)&\"\"&\"m\"))","v":0},{"$f":"IF('r4'!$N$62=0,(0),(\"DB\"&$B$12*10&\"@\"&ROUND(INT(100/((('r4'!$N$62)/(3.142*($B$12*10)^2/4))))/100,1)&\"\"&\"m\"))","v":0},{"$f":"IF(('r4'!$P$70)=0,(0),(\"DB\"&$B$12*10&\"@\"&ROUND(INT(100/((('r4'!$P$70)/(3.142*($B$12*10)^2/4))))/100,1)&\"\"&\"m\"))","v":0},{"$f":"IF(('r4'!$P$66)=0,(0),(\"DB\"&$B$12*10&\"@\"&ROUND(INT(100/((('r4'!$P$66)/(3.142*($B$12*10)^2/4))))/100,1)&\"\"&\"m\"))","v":0},{"$f":"IF(('r4'!$P$62)=0,(0),(\"DB\"&$B$12*10&\"@\"&ROUND(INT(100/((('r4'!$P$62)/(3.142*($B$12*10)^2/4))))/100,1)&\"\"&\"m\"))","v":0},{"$f":"IF(('r4'!$R$70)=0,(0),(\"DB\"&$B$12*10&\"@\"&ROUND(INT(100/((('r4'!$R$70)/(3.142*($B$12*10)^2/4))))/100,1)&\"\"&\"m\"))","v":0},{"$f":"IF(('r4'!$R$66)=0,(0),(\"DB\"&$B$12*10&\"@\"&ROUND(INT(100/((('r4'!$R$66)/(3.142*($B$12*10)^2/4))))/100,1)&\"\"&\"m\"))","v":0},{"$f":"IF(('r4'!$R$62)=0,(0),(\"DB\"&$B$12*10&\"@\"&ROUND(INT(100/((('r4'!$R$62)/(3.142*($B$12*10)^2/4))))/100,1)&\"\"&\"m\"))","v":0},{"$f":"IF(('r4'!$T$70)=0,(0),(\"DB\"&$B$12*10&\"@\"&ROUND(INT(100/((('r4'!$T$70)/(3.142*($B$12*10)^2/4))))/100,1)&\"\"&\"m\"))","v":0},{"$f":"IF(('r4'!$T$66)=0,(0),(\"DB\"&$B$12*10&\"@\"&ROUND(INT(100/((('r4'!$T$66)/(3.142*($B$12*10)^2/4))))/100,1)&\"\"&\"m\"))","v":0},{"$f":"IF(('r4'!$T$62)=0,(0),(\"DB\"&$B$12*10&\"@\"&ROUND(INT(100/((('r4'!$T$62)/(3.142*($B$12*10)^2/4))))/100,1)&\"\"&\"m\"))","v":0}]
[]
[{"$f":"IF($B$4=4,(\"แถบนอกหน้าตัด R4\"),(IF($B$4>4,(\"แถบในหน้าตัด R4-R5\"),(\"ไม่มีพื้น\"))))","v":"ไม่มีพื้น"},"span L1",null,null,"span L2",null,null,"span L3",null,null,"span L4",null,null,"span L5"]
[null,"โมเมนต์ลบซ้าย","โมเมนต์บวกกลาง","โมเมนต์ลบขวา","โมเมนต์ลบซ้าย","โมเมนต์บวกกลาง","โมเมนต์ลบขวา","โมเมนต์ลบซ้าย","โมเมนต์บวกกลาง","โมเมนต์ลบขวา","โมเมนต์ลบซ้าย","โมเมนต์บวกกลาง","โมเมนต์ลบขวา","โมเมนต์ลบซ้าย","โมเมนต์บวกกลาง","โมเมนต์ลบขวา"]
[{"$f":"\"แถบเสา \"&  'r5'!$J$58&\"  m \"","v":"แถบเสา 0  m "},{"$f":"IF('r5'!$J$70=0,(0),(\"DB\"&$B$12*10&\"@\"&ROUND(INT(100/((('r5'!$J$70)/(3.142*($B$12*10)^2/4))))/100,1)&\"\"&\"m\"))","v":0},{"$f":"IF('r5'!$J$66=0,(0),(\"DB\"&$B$12*10&\"@\"&ROUND(INT(100/((('r5'!$J$66)/(3.142*($B$12*10)^2/4))))/100,1)&\"\"&\"m\"))","v":0},{"$f":"IF('r5'!$J$62=0,(0),(\"DB\"&$B$12*10&\"@\"&ROUND(INT(100/((('r5'!$J$62)/(3.142*($B$12*10)^2/4))))/100,1)&\"\"&\"m\"))","v":0},{"$f":"IF('r5'!$M$70=0,(0),(\"DB\"&$B$12*10&\"@\"&ROUND(INT(100/((('r5'!$M$70)/(3.142*($B$12*10)^2/4))))/100,1)&\"\"&\"m\"))","v":0},{"$f":"IF('r5'!$M$66=0,(0),(\"DB\"&$B$12*10&\"@\"&ROUND(INT(100/((('r5'!$M$66)/(3.142*($B$12*10)^2/4))))/100,1)&\"\"&\"m\"))","v":0},{"$f":"IF('r5'!$M$62=0,(0),(\"DB\"&$B$12*10&\"@\"&ROUND(INT(100/((('r5'!$M$62)/(3.142*($B$12*10)^2/4))))/100,1)&\"\"&\"m\"))","v":0},{"$f":"IF(('r5'!$O$70)=0,(0),(\"DB\"&$B$12*10&\"@\"&ROUND(INT(100/((('r5'!$O$70)/(3.142*($B$12*10)^2/4))))/100,1)&\"\"&\"m\"))","v":0},{"$f":"IF(('r5'!$O$66)=0,(0),(\"DB\"&$B$12*10&\"@\"&ROUND(INT(100/((('r5'!$O$66)/(3.142*($B$12*10)^2/4))))/100,1)&\"\"&\"m\"))","v":0},{"$f":"IF('r5'!$O$62=0,(0),(\"DB\"&$B$12*10&\"@\"&ROUND(INT(100/((('r5'!$O$62)/(3.142*($B$12*10)^2/4))))/100,1)&\"\"&\"m\"))","v":0},{"$f":"IF('r5'!$Q$70=0,(0),(\"DB\"&$B$12*10&\"@\"&ROUND(INT(100/((('r5'!$Q$70)/(3.142*($B$12*10)^2/4))))/100,1)&\"\"&\"m\"))","v":0},{"$f":"IF('r5'!$Q$66=0,(0),(\"DB\"&$B$12*10&\"@\"&ROUND(INT(100/((('r5'!$Q$66)/(3.142*($B$12*10)^2/4))))/100,1)&\"\"&\"m\"))","v":0},{"$f":"IF('r5'!$Q$62=0,(0),(\"DB\"&$B$12*10&\"@\"&ROUND(INT(100/((('r5'!$Q$62)/(3.142*($B$12*10)^2/4))))/100,1)&\"\"&\"m\"))","v":0},{"$f":"IF('r5'!$S$70=0,(0),(\"DB\"&$B$12*10&\"@\"&ROUND(INT(100/((('r5'!$S$70)/(3.142*($B$12*10)^2/4))))/100,1)&\"\"&\"m\"))","v":0},{"$f":"IF('r5'!$S$66=0,(0),(\"DB\"&$B$12*10&\"@\"&ROUND(INT(100/((('r5'!$S$66)/(3.142*($B$12*10)^2/4))))/100,1)&\"\"&\"m\"))","v":0},{"$f":"IF('r5'!$S$62=0,(0),(\"DB\"&$B$12*10&\"@\"&ROUND(INT(100/((('r5'!$S$62)/(3.142*($B$12*10)^2/4))))/100,1)&\"\"&\"m\"))","v":0}]
[{"$f":"\"แถบกลาง \"&  'r5'!$K$58&\"  m \"","v":"แถบกลาง 0  m "},{"$f":"IF('r5'!$K$70=0,(0),(\"DB\"&$B$12*10&\"@\"&ROUND(INT(100/((('r5'!$K$70)/(3.142*($B$12*10)^2/4))))/100,1)&\"\"&\"m\"))","v":0},{"$f":"IF('r5'!$K$66=0,(0),(\"DB\"&$B$12*10&\"@\"&ROUND(INT(100/((('r5'!$K$66)/(3.142*($B$12*10)^2/4))))/100,1)&\"\"&\"m\"))","v":0},{"$f":"IF('r5'!$K$62=0,(0),(\"DB\"&$B$12*10&\"@\"&ROUND(INT(100/((('r5'!$K$62)/(3.142*($B$12*10)^2/4))))/100,1)&\"\"&\"m\"))","v":0},{"$f":"IF('r5'!$N$70=0,(0),(\"DB\"&$B$12*10&\"@\"&ROUND(INT(100/((('r5'!$N$70)/(3.142*($B$12*10)^2/4))))/100,1)&\"\"&\"m\"))","v":0},{"$f":"IF(('r5'!$N$66)=0,(0),(\"DB\"&$B$12*10&\"@\"&ROUND(INT(100/((('r5'!$N$66)/(3.142*($B$12*10)^2/4))))/100,1)&\"\"&\"m\"))","v":0},{"$f":"IF('r5'!$N$62=0,(0),(\"DB\"&$B$12*10&\"@\"&ROUND(INT(100/((('r5'!$N$62)/(3.142*($B$12*10)^2/4))))/100,1)&\"\"&\"m\"))","v":0},{"$f":"IF(('r5'!$P$70)=0,(0),(\"DB\"&$B$12*10&\"@\"&ROUND(INT(100/((('r5'!$P$70)/(3.142*($B$12*10)^2/4))))/100,1)&\"\"&\"m\"))","v":0},{"$f":"IF(('r5'!$P$66)=0,(0),(\"DB\"&$B$12*10&\"@\"&ROUND(INT(100/((('r5'!$P$66)/(3.142*($B$12*10)^2/4))))/100,1)&\"\"&\"m\"))","v":0},{"$f":"IF(('r5'!$P$62)=0,(0),(\"DB\"&$B$12*10&\"@\"&ROUND(INT(100/((('r5'!$P$62)/(3.142*($B$12*10)^2/4))))/100,1)&\"\"&\"m\"))","v":0},{"$f":"IF(('r5'!$R$70)=0,(0),(\"DB\"&$B$12*10&\"@\"&ROUND(INT(100/((('r5'!$R$70)/(3.142*($B$12*10)^2/4))))/100,1)&\"\"&\"m\"))","v":0},{"$f":"IF(('r5'!$R$66)=0,(0),(\"DB\"&$B$12*10&\"@\"&ROUND(INT(100/((('r5'!$R$66)/(3.142*($B$12*10)^2/4))))/100,1)&\"\"&\"m\"))","v":0},{"$f":"IF(('r5'!$R$62)=0,(0),(\"DB\"&$B$12*10&\"@\"&ROUND(INT(100/((('r5'!$R$62)/(3.142*($B$12*10)^2/4))))/100,1)&\"\"&\"m\"))","v":0},{"$f":"IF(('r5'!$T$70)=0,(0),(\"DB\"&$B$12*10&\"@\"&ROUND(INT(100/((('r5'!$T$70)/(3.142*($B$12*10)^2/4))))/100,1)&\"\"&\"m\"))","v":0},{"$f":"IF(('r5'!$T$66)=0,(0),(\"DB\"&$B$12*10&\"@\"&ROUND(INT(100/((('r5'!$T$66)/(3.142*($B$12*10)^2/4))))/100,1)&\"\"&\"m\"))","v":0},{"$f":"IF(('r5'!$T$62)=0,(0),(\"DB\"&$B$12*10&\"@\"&ROUND(INT(100/((('r5'!$T$62)/(3.142*($B$12*10)^2/4))))/100,1)&\"\"&\"m\"))","v":0}]
[]
[{"$f":"IF($B$4=5,(\"แถบนอกหน้าตัด R5\"),(IF($B$4>5,(\"แถบในหน้าตัด R5-R6\"),(\"ไม่มีพื้น\"))))","v":"ไม่มีพื้น"},"span L1",null,null,"span L2",null,null,"span L3",null,null,"span L4",null,null,"span L5"]
[null,"โมเมนต์ลบซ้าย","โมเมนต์บวกกลาง","โมเมนต์ลบขวา","โมเมนต์ลบซ้าย","โมเมนต์บวกกลาง","โมเมนต์ลบขวา","โมเมนต์ลบซ้าย","โมเมนต์บวกกลาง","โมเมนต์ลบขวา","โมเมนต์ลบซ้าย","โมเมนต์บวกกลาง","โมเมนต์ลบขวา","โมเมนต์ลบซ้าย","โมเมนต์บวกกลาง","โมเมนต์ลบขวา"]
[{"$f":"\"แถบเสา \"&  'r6'!$J$58&\"  m \"","v":"แถบเสา 0  m "},{"$f":"IF('r6'!$J$70=0,(0),(\"DB\"&$B$12*10&\"@\"&ROUND(INT(100/((('r6'!$J$70+'r6'!$J$86)/(3.142*($B$12*10)^2/4))))/100,1)&\"\"&\"m\"))","v":0},{"$f":"IF('r6'!$J$66=0,(0),(\"DB\"&$B$12*10&\"@\"&ROUND(INT(100/((('r6'!$J$66)/(3.142*($B$12*10)^2/4))))/100,1)&\"\"&\"m\"))","v":0},{"$f":"IF('r6'!$J$62=0,(0),(\"DB\"&$B$12*10&\"@\"&ROUND(INT(100/((('r6'!$J$62+'r6'!$M$86)/(3.142*($B$12*10)^2/4))))/100,1)&\"\"&\"m\"))","v":0},{"$f":"IF('r6'!$M$70=0,(0),(\"DB\"&$B$12*10&\"@\"&ROUND(INT(100/((('r6'!$M$70+'r6'!$O$86)/(3.142*($B$12*10)^2/4))))/100,1)&\"\"&\"m\"))","v":0},{"$f":"IF('r6'!$M$66=0,(0),(\"DB\"&$B$12*10&\"@\"&ROUND(INT(100/((('r6'!$M$66)/(3.142*($B$12*10)^2/4))))/100,1)&\"\"&\"m\"))","v":0},{"$f":"IF('r6'!$M$62=0,(0),(\"DB\"&$B$12*10&\"@\"&ROUND(INT(100/((('r6'!$M$62+'r6'!$N$86)/(3.142*($B$12*10)^2/4))))/100,1)&\"\"&\"m\"))","v":0},{"$f":"IF(('r6'!$O$70)=0,(0),(\"DB\"&$B$12*10&\"@\"&ROUND(INT(100/((('r6'!$O$70+'r6'!$Q$86)/(3.142*($B$12*10)^2/4))))/100,1)&\"\"&\"m\"))","v":0},{"$f":"IF(('r6'!$O$66)=0,(0),(\"DB\"&$B$12*10&\"@\"&ROUND(INT(100/((('r6'!$O$66)/(3.142*($B$12*10)^2/4))))/100,1)&\"\"&\"m\"))","v":0},{"$f":"IF('r6'!$O$62=0,(0),(\"DB\"&$B$12*10&\"@\"&ROUND(INT(100/((('r6'!$O$62+'r6'!$P$86)/(3.142*($B$12*10)^2/4))))/100,1)&\"\"&\"m\"))","v":0},{"$f":"IF('r6'!$Q$70=0,(0),(\"DB\"&$B$12*10&\"@\"&ROUND(INT(100/((('r6'!$Q$70+'r6'!$S$86)/(3.142*($B$12*10)^2/4))))/100,1)&\"\"&\"m\"))","v":0},{"$f":"IF('r6'!$Q$66=0,(0),(\"DB\"&$B$12*10&\"@\"&ROUND(INT(100/((('r6'!$Q$66)/(3.142*($B$12*10)^2/4))))/100,1)&\"\"&\"m\"))","v":0},{"$f":"IF('r6'!$Q$62=0,(0),(\"DB\"&$B$12*10&\"@\"&ROUND(INT(100/((('r6'!$Q$62+'r6'!$R$86)/(3.142*($B$12*10)^2/4))))/100,1)&\"\"&\"m\"))","v":0},{"$f":"IF('r6'!$S$70=0,(0),(\"DB\"&$B$12*10&\"@\"&ROUND(INT(100/((('r6'!$S$70+'r6'!$U$86)/(3.142*($B$12*10)^2/4))))/100,1)&\"\"&\"m\"))","v":0},{"$f":"IF('r6'!$S$66=0,(0),(\"DB\"&$B$12*10&\"@\"&ROUND(INT(100/((('r6'!$S$66)/(3.142*($B$12*10)^2/4))))/100,1)&\"\"&\"m\"))","v":0},{"$f":"IF('r6'!$S$62=0,(0),(\"DB\"&$B$12*10&\"@\"&ROUND(INT(100/((('r6'!$S$62+'r6'!$T$86)/(3.142*($B$12*10)^2/4))))/100,1)&\"\"&\"m\"))","v":0}]
[{"$f":"\"แถบกลาง \"&  'r6'!$K$58&\"  m \"","v":"แถบกลาง 0  m "},{"$f":"IF('r6'!$K$70=0,(0),(\"DB\"&$B$12*10&\"@\"&ROUND(INT(100/((('r6'!$K$70)/(3.142*($B$12*10)^2/4))))/100,1)&\"\"&\"m\"))","v":0},{"$f":"IF('r6'!$K$66=0,(0),(\"DB\"&$B$12*10&\"@\"&ROUND(INT(100/((('r6'!$K$66)/(3.142*($B$12*10)^2/4))))/100,1)&\"\"&\"m\"))","v":0},{"$f":"IF('r6'!$K$62=0,(0),(\"DB\"&$B$12*10&\"@\"&ROUND(INT(100/((('r6'!$K$62)/(3.142*($B$12*10)^2/4))))/100,1)&\"\"&\"m\"))","v":0},{"$f":"IF('r6'!$N$70=0,(0),(\"DB\"&$B$12*10&\"@\"&ROUND(INT(100/((('r6'!$N$70)/(3.142*($B$12*10)^2/4))))/100,1)&\"\"&\"m\"))","v":0},{"$f":"IF(('r6'!$N$66)=0,(0),(\"DB\"&$B$12*10&\"@\"&ROUND(INT(100/((('r6'!$N$66)/(3.142*($B$12*10)^2/4))))/100,1)&\"\"&\"m\"))","v":0},{"$f":"IF('r6'!$N$62=0,(0),(\"DB\"&$B$12*10&\"@\"&ROUND(INT(100/((('r6'!$N$62)/(3.142*($B$12*10)^2/4))))/100,1)&\"\"&\"m\"))","v":0},{"$f":"IF(('r6'!$P$70)=0,(0),(\"DB\"&$B$12*10&\"@\"&ROUND(INT(100/((('r6'!$P$70)/(3.142*($B$12*10)^2/4))))/100,1)&\"\"&\"m\"))","v":0},{"$f":"IF(('r6'!$P$66)=0,(0),(\"DB\"&$B$12*10&\"@\"&ROUND(INT(100/((('r6'!$P$66)/(3.142*($B$12*10)^2/4))))/100,1)&\"\"&\"m\"))","v":0},{"$f":"IF(('r6'!$P$62)=0,(0),(\"DB\"&$B$12*10&\"@\"&ROUND(INT(100/((('r6'!$P$62)/(3.142*($B$12*10)^2/4))))/100,1)&\"\"&\"m\"))","v":0},{"$f":"IF(('r6'!$R$70)=0,(0),(\"DB\"&$B$12*10&\"@\"&ROUND(INT(100/((('r6'!$R$70)/(3.142*($B$12*10)^2/4))))/100,1)&\"\"&\"m\"))","v":0},{"$f":"IF(('r6'!$R$66)=0,(0),(\"DB\"&$B$12*10&\"@\"&ROUND(INT(100/((('r6'!$R$66)/(3.142*($B$12*10)^2/4))))/100,1)&\"\"&\"m\"))","v":0},{"$f":"IF(('r6'!$R$62)=0,(0),(\"DB\"&$B$12*10&\"@\"&ROUND(INT(100/((('r6'!$R$62)/(3.142*($B$12*10)^2/4))))/100,1)&\"\"&\"m\"))","v":0},{"$f":"IF(('r6'!$T$70)=0,(0),(\"DB\"&$B$12*10&\"@\"&ROUND(INT(100/((('r6'!$T$70)/(3.142*($B$12*10)^2/4))))/100,1)&\"\"&\"m\"))","v":0},{"$f":"IF(('r6'!$T$66)=0,(0),(\"DB\"&$B$12*10&\"@\"&ROUND(INT(100/((('r6'!$T$66)/(3.142*($B$12*10)^2/4))))/100,1)&\"\"&\"m\"))","v":0},{"$f":"IF(('r6'!$T$62)=0,(0),(\"DB\"&$B$12*10&\"@\"&ROUND(INT(100/((('r6'!$T$62)/(3.142*($B$12*10)^2/4))))/100,1)&\"\"&\"m\"))","v":0}]
[]
["แถบนอกหน้าตัด L1","span R1",null,null,"span R2",null,null,"span R3",null,null,"span R4",null,null,"span R5"]
[null,"โมเมนต์ลบบน","โมเมนต์บวกกลาง","โมเมนต์ลบล่าง","โมเมนต์ลบบน","โมเมนต์บวกกลาง","โมเมนต์ลบล่าง","โมเมนต์ลบบน","โมเมนต์บวกกลาง","โมเมนต์ลบล่าง","โมเมนต์ลบบน","โมเมนต์บวกกลาง","โมเมนต์ลบล่าง","โมเมนต์ลบบน","โมเมนต์บวกกลาง","โมเมนต์ลบล่าง"]
[{"$f":"\"แถบเสา \"&  'l1'!$J$58&\"  m \"","v":"แถบเสา 1.25  m "},{"$f":"\"DB\"&$B$12*10&\"@\"&ROUND(INT(100/((('l1'!$J$70+'l1'!$J$84)/(3.142*($B$12*10)^2/4))))/100,1)&\"\"&\"m\"","v":"DB16@0.2m"},{"$f":"\"DB\"&$B$12*10&\"@\"&ROUND(INT(100/((('l1'!$J$66)/(3.142*($B$12*10)^2/4))))/100,1)&\"\"&\"m\"","v":"DB16@0.2m"},{"$f":"\"DB\"&$B$12*10&\"@\"&ROUND(INT(100/((('l1'!$J$62+'l1'!$M$84)/(3.142*($B$12*10)^2/4))))/100,1)&\"\"&\"m\"","v":"DB16@0.1m"},{"$f":"\"DB\"&$B$12*10&\"@\"&ROUND(INT(100/((('l1'!$M$70+'l1'!$O$84)/(3.142*($B$12*10)^2/4))))/100,1)&\"\"&\"m\"","v":"DB16@0.1m"},{"$f":"\"DB\"&$B$12*10&\"@\"&ROUND(INT(100/((('l1'!$M$66)/(3.142*($B$12*10)^2/4))))/100,1)&\"\"&\"m\"","v":"DB16@0.4m"},{"$f":"\"DB\"&$B$12*10&\"@\"&ROUND(INT(100/((('l1'!$M$62+'l1'!$N$84)/(3.142*($B$12*10)^2/4))))/100,1)&\"\"&\"m\"","v":"DB16@0.3m"},{"$f":"IF(('l1'!$O$70)=0,(0),(\"DB\"&$B$12*10&\"@\"&ROUND(INT(100/((('l1'!$O$70+'l1'!$Q$84)/(3.142*($B$12*10)^2/4))))/100,1)&\"\"&\"m\"))","v":0},{"$f":"IF(('l1'!$O$66)=0,(0),(\"DB\"&$B$12*10&\"@\"&ROUND(INT(100/((('l1'!$O$66)/(3.142*($B$12*10)^2/4))))/100,1)&\"\"&\"m\"))","v":0},{"$f":"IF('l1'!$O$62=0,(0),(\"DB\"&$B$12*10&\"@\"&ROUND(INT(100/((('l1'!$O$62+'l1'!$P$84)/(3.142*($B$12*10)^2/4))))/100,1)&\"\"&\"m\"))","v":0},{"$f":"IF('l1'!$Q$70=0,(0),(\"DB\"&$B$12*10&\"@\"&ROUND(INT(100/((('l1'!$Q$70+'l1'!$S$84)/(3.142*($B$12*10)^2/4))))/100,1)&\"\"&\"m\"))","v":0},{"$f":"IF('l1'!$Q$66=0,(0),(\"DB\"&$B$12*10&\"@\"&ROUND(INT(100/((('l1'!$Q$66)/(3.142*($B$12*10)^2/4))))/100,1)&\"\"&\"m\"))","v":0},{"$f":"IF('l1'!$Q$62=0,(0),(\"DB\"&$B$12*10&\"@\"&ROUND(INT(100/((('l1'!$Q$62+'l1'!$R$84)/(3.142*($B$12*10)^2/4))))/100,1)&\"\"&\"m\"))","v":0},{"$f":"IF('l1'!$S$70=0,(0),(\"DB\"&$B$12*10&\"@\"&ROUND(INT(100/((('l1'!$S$70+'l1'!$U$84)/(3.142*($B$12*10)^2/4))))/100,1)&\"\"&\"m\"))","v":0},{"$f":"IF('l1'!$S$66=0,(0),(\"DB\"&$B$12*10&\"@\"&ROUND(INT(100/((('l1'!$S$66)/(3.142*($B$12*10)^2/4))))/100,1)&\"\"&\"m\"))","v":0},{"$f":"IF('l1'!$S$62=0,(0),(\"DB\"&$B$12*10&\"@\"&ROUND(INT(100/((('l1'!$S$62+'l1'!$T$84)/(3.142*($B$12*10)^2/4))))/100,1)&\"\"&\"m\"))","v":0}]
[{"$f":"\"แถบกลาง \"&  'l1'!$K$58&\"  m \"","v":"แถบกลาง 1.25  m "},{"$f":"\"DB\"&$B$12*10&\"@\"&ROUND(INT(100/((('l1'!$K$70)/(3.142*($B$12*10)^2/4))))/100,1)&\"\"&\"m\"","v":"DB16@0.4m"},{"$f":"\"DB\"&$B$12*10&\"@\"&ROUND(INT(100/((('l1'!$K$66)/(3.142*($B$12*10)^2/4))))/100,1)&\"\"&\"m\"","v":"DB16@0.4m"},{"$f":"\"DB\"&$B$12*10&\"@\"&ROUND(INT(100/((('l1'!$K$62)/(3.142*($B$12*10)^2/4))))/100,1)&\"\"&\"m\"","v":"DB16@0.4m"},{"$f":"\"DB\"&$B$12*10&\"@\"&ROUND(INT(100/((('l1'!$N$70)/(3.142*($B$12*10)^2/4))))/100,1)&\"\"&\"m\"","v":"DB16@0.4m"},{"$f":"\"DB\"&$B$12*10&\"@\"&ROUND(INT(100/((('l1'!$N$66)/(3.142*($B$12*10)^2/4))))/100,1)&\"\"&\"m\"","v":"DB16@0.4m"},{"$f":"\"DB\"&$B$12*10&\"@\"&ROUND(INT(100/((('l1'!N$62)/(3.142*($B$12*10)^2/4))))/100,1)&\"\"&\"m\"","v":"DB16@0.4m"},{"$f":"IF(('l1'!$P$70)=0,(0),(\"DB\"&$B$12*10&\"@\"&ROUND(INT(100/((('l1'!$P$70)/(3.142*($B$12*10)^2/4))))/100,1)&\"\"&\"m\"))","v":0},{"$f":"IF(('l1'!$P$66)=0,(0),(\"DB\"&$B$12*10&\"@\"&ROUND(INT(100/((('l1'!$P$66)/(3.142*($B$12*10)^2/4))))/100,1)&\"\"&\"m\"))","v":0},{"$f":"IF(('l1'!$P$62)=0,(0),(\"DB\"&$B$12*10&\"@\"&ROUND(INT(100/((('l1'!$P$62)/(3.142*($B$12*10)^2/4))))/100,1)&\"\"&\"m\"))","v":0},{"$f":"IF(('l1'!$R$70)=0,(0),(\"DB\"&$B$12*10&\"@\"&ROUND(INT(100/((('l1'!$R$70)/(3.142*($B$12*10)^2/4))))/100,1)&\"\"&\"m\"))","v":0},{"$f":"IF(('l1'!$R$66)=0,(0),(\"DB\"&$B$12*10&\"@\"&ROUND(INT(100/((('l1'!$R$66)/(3.142*($B$12*10)^2/4))))/100,1)&\"\"&\"m\"))","v":0},{"$f":"IF(('l1'!$R$62)=0,(0),(\"DB\"&$B$12*10&\"@\"&ROUND(INT(100/((('l1'!$R$62)/(3.142*($B$12*10)^2/4))))/100,1)&\"\"&\"m\"))","v":0},{"$f":"IF(('l1'!$T$70)=0,(0),(\"DB\"&$B$12*10&\"@\"&ROUND(INT(100/((('l1'!$T$70)/(3.142*($B$12*10)^2/4))))/100,1)&\"\"&\"m\"))","v":0},{"$f":"IF(('l1'!$T$66)=0,(0),(\"DB\"&$B$12*10&\"@\"&ROUND(INT(100/((('l1'!$T$66)/(3.142*($B$12*10)^2/4))))/100,1)&\"\"&\"m\"))","v":0},{"$f":"IF(('l1'!$T$62)=0,(0),(\"DB\"&$B$12*10&\"@\"&ROUND(INT(100/((('l1'!$T$62)/(3.142*($B$12*10)^2/4))))/100,1)&\"\"&\"m\"))","v":0}]
[]
["แถบในหน้าตัด L1-L2","span R1",null,null,"span R2",null,null,"span R3",null,null,"span R4",null,null,"span R5"]
[null,"โมเมนต์ลบบน","โมเมนต์บวกกลาง","โมเมนต์ลบล่าง","โมเมนต์ลบบน","โมเมนต์บวกกลาง","โมเมนต์ลบล่าง","โมเมนต์ลบบน","โมเมนต์บวกกลาง","โมเมนต์ลบล่าง","โมเมนต์ลบบน","โมเมนต์บวกกลาง","โมเมนต์ลบล่าง","โมเมนต์ลบบน","โมเมนต์บวกกลาง","โมเมนต์ลบล่าง"]
[{"$f":"\"แถบเสา \"&  'l2'!$J$58&\"  m \"","v":"แถบเสา 2.75  m "},{"$f":"\"DB\"&$B$12*10&\"@\"&ROUND(INT(100/((('l2'!$J$70)/(3.142*($B$12*10)^2/4))))/100,1)&\"\"&\"m\"","v":"DB16@0.4m"},{"$f":"\"DB\"&$B$12*10&\"@\"&ROUND(INT(100/((('l2'!$J$66)/(3.142*($B$12*10)^2/4))))/100,1)&\"\"&\"m\"","v":"DB16@0.2m"},{"$f":"\"DB\"&$B$12*10&\"@\"&ROUND(INT(100/((('l2'!$J$62)/(3.142*($B$12*10)^2/4))))/100,1)&\"\"&\"m\"","v":"DB16@0.1m"},{"$f":"\"DB\"&$B$12*10&\"@\"&ROUND(INT(100/((('l2'!$M$70)/(3.142*($B$12*10)^2/4))))/100,1)&\"\"&\"m\"","v":"DB16@0.1m"},{"$f":"\"DB\"&$B$12*10&\"@\"&ROUND(INT(100/((('l2'!$M$66)/(3.142*($B$12*10)^2/4))))/100,1)&\"\"&\"m\"","v":"DB16@0.3m"},{"$f":"\"DB\"&$B$12*10&\"@\"&ROUND(INT(100/((('l2'!$M$62)/(3.142*($B$12*10)^2/4))))/100,1)&\"\"&\"m\"","v":"DB16@0.4m"},{"$f":"IF(('l2'!$O$70)=0,(0),(\"DB\"&$B$12*10&\"@\"&ROUND(INT(100/((('l2'!$O$70)/(3.142*($B$12*10)^2/4))))/100,1)&\"\"&\"m\"))","v":0},{"$f":"IF(('l2'!$O$66)=0,(0),(\"DB\"&$B$12*10&\"@\"&ROUND(INT(100/((('l2'!$O$66)/(3.142*($B$12*10)^2/4))))/100,1)&\"\"&\"m\"))","v":0},{"$f":"IF('l2'!$O$62=0,(0),(\"DB\"&$B$12*10&\"@\"&ROUND(INT(100/((('l2'!$O$62)/(3.142*($B$12*10)^2/4))))/100,1)&\"\"&\"m\"))","v":0},{"$f":"IF('l2'!$Q$70=0,(0),(\"DB\"&$B$12*10&\"@\"&ROUND(INT(100/((('l2'!$Q$70)/(3.142*($B$12*10)^2/4))))/100,1)&\"\"&\"m\"))","v":0},{"$f":"IF('l2'!$Q$66=0,(0),(\"DB\"&$B$12*10&\"@\"&ROUND(INT(100/((('l2'!$Q$66)/(3.142*($B$12*10)^2/4))))/100,1)&\"\"&\"m\"))","v":0},{"$f":"IF('l2'!$Q$62=0,(0),(\"DB\"&$B$12*10&\"@\"&ROUND(INT(100/((('l2'!$Q$62)/(3.142*($B$12*10)^2/4))))/100,1)&\"\"&\"m\"))","v":0},{"$f":"IF('l2'!$S$70=0,(0),(\"DB\"&$B$12*10&\"@\"&ROUND(INT(100/((('l2'!$S$70)/(3.142*($B$12*10)^2/4))))/100,1)&\"\"&\"m\"))","v":0},{"$f":"IF('l2'!$S$66=0,(0),(\"DB\"&$B$12*10&\"@\"&ROUND(INT(100/((('l2'!$S$66)/(3.142*($B$12*10)^2/4))))/100,1)&\"\"&\"m\"))","v":0},{"$f":"IF('l2'!$S$62=0,(0),(\"DB\"&$B$12*10&\"@\"&ROUND(INT(100/((('l2'!$S$62)/(3.142*($B$12*10)^2/4))))/100,1)&\"\"&\"m\"))","v":0}]
[{"$f":"\"แถบกลาง \"&  'l2'!$K$58&\"  m \"","v":"แถบกลาง 2.75  m "},{"$f":"\"DB\"&$B$12*10&\"@\"&ROUND(INT(100/((('l2'!$K$70)/(3.142*($B$12*10)^2/4))))/100,1)&\"\"&\"m\"","v":"DB16@0.4m"},{"$f":"\"DB\"&$B$12*10&\"@\"&ROUND(INT(100/((('l2'!$K$66)/(3.142*($B$12*10)^2/4))))/100,1)&\"\"&\"m\"","v":"DB16@0.3m"},{"$f":"\"DB\"&$B$12*10&\"@\"&ROUND(INT(100/((('l2'!$K$62)/(3.142*($B$12*10)^2/4))))/100,1)&\"\"&\"m\"","v":"DB16@0.4m"},{"$f":"\"DB\"&$B$12*10&\"@\"&ROUND(INT(100/((('l2'!$N$70)/(3.142*($B$12*10)^2/4))))/100,1)&\"\"&\"m\"","v":"DB16@0.4m"},{"$f":"\"DB\"&$B$12*10&\"@\"&ROUND(INT(100/((('l2'!$N$66)/(3.142*($B$12*10)^2/4))))/100,1)&\"\"&\"m\"","v":"DB16@0.4m"},{"$f":"\"DB\"&$B$12*10&\"@\"&ROUND(INT(100/((('l2'!N$62)/(3.142*($B$12*10)^2/4))))/100,1)&\"\"&\"m\"","v":"DB16@0.4m"},{"$f":"IF(('l2'!$P$70)=0,(0),(\"DB\"&$B$12*10&\"@\"&ROUND(INT(100/((('l2'!$P$70)/(3.142*($B$12*10)^2/4))))/100,1)&\"\"&\"m\"))","v":0},{"$f":"IF(('l2'!$P$66)=0,(0),(\"DB\"&$B$12*10&\"@\"&ROUND(INT(100/((('l2'!$P$66)/(3.142*($B$12*10)^2/4))))/100,1)&\"\"&\"m\"))","v":0},{"$f":"IF(('l2'!$P$62)=0,(0),(\"DB\"&$B$12*10&\"@\"&ROUND(INT(100/((('l2'!$P$62)/(3.142*($B$12*10)^2/4))))/100,1)&\"\"&\"m\"))","v":0},{"$f":"IF(('l2'!$R$70)=0,(0),(\"DB\"&$B$12*10&\"@\"&ROUND(INT(100/((('l2'!$R$70)/(3.142*($B$12*10)^2/4))))/100,1)&\"\"&\"m\"))","v":0},{"$f":"IF(('l2'!$R$66)=0,(0),(\"DB\"&$B$12*10&\"@\"&ROUND(INT(100/((('l2'!$R$66)/(3.142*($B$12*10)^2/4))))/100,1)&\"\"&\"m\"))","v":0},{"$f":"IF(('l2'!$R$62)=0,(0),(\"DB\"&$B$12*10&\"@\"&ROUND(INT(100/((('l2'!$R$62)/(3.142*($B$12*10)^2/4))))/100,1)&\"\"&\"m\"))","v":0},{"$f":"IF(('l2'!$T$70)=0,(0),(\"DB\"&$B$12*10&\"@\"&ROUND(INT(100/((('l2'!$T$70)/(3.142*($B$12*10)^2/4))))/100,1)&\"\"&\"m\"))","v":0},{"$f":"IF(('l2'!$T$66)=0,(0),(\"DB\"&$B$12*10&\"@\"&ROUND(INT(100/((('l2'!$T$66)/(3.142*($B$12*10)^2/4))))/100,1)&\"\"&\"m\"))","v":0},{"$f":"IF(('l2'!$T$62)=0,(0),(\"DB\"&$B$12*10&\"@\"&ROUND(INT(100/((('l2'!$T$62)/(3.142*($B$12*10)^2/4))))/100,1)&\"\"&\"m\"))","v":0}]
[]
[{"$f":"IF($B$3=2,(\"แถบนอกหน้าตัด L2\"),(IF($B$3>2,(\"แถบในหน้าตัด L2-L3\"),(\"ไม่มีพื้น\"))))","v":"แถบในหน้าตัด L2-L3"},"span R1",null,null,"span R2",null,null,"span R3",null,null,"span R4",null,null,"span R5"]
[null,"โมเมนต์ลบบน","โมเมนต์บวกกลาง","โมเมนต์ลบล่าง","โมเมนต์ลบบน","โมเมนต์บวกกลาง","โมเมนต์ลบล่าง","โมเมนต์ลบบน","โมเมนต์บวกกลาง","โมเมนต์ลบล่าง","โมเมนต์ลบบน","โมเมนต์บวกกลาง","โมเมนต์ลบล่าง","โมเมนต์ลบบน","โมเมนต์บวกกลาง","โมเมนต์ลบล่าง"]
[{"$f":"\"แถบเสา \"&  'l3'!$J$58&\"  m \"","v":"แถบเสา 2.75  m "},{"$f":"IF('l3'!$J$70=0,(0),(\"DB\"&$B$12*10&\"@\"&ROUND(INT(100/((('l3'!$J$70)/(3.142*($B$12*10)^2/4))))/100,1)&\"\"&\"m\"))","v":"DB16@0.4m"},{"$f":"IF('l3'!$J$66=0,(0),(\"DB\"&$B$12*10&\"@\"&ROUND(INT(100/((('l3'!$J$66)/(3.142*($B$12*10)^2/4))))/100,1)&\"\"&\"m\"))","v":"DB16@0.2m"},{"$f":"IF('l3'!$J$62=0,(0),(\"DB\"&$B$12*10&\"@\"&ROUND(INT(100/((('l3'!$J$62)/(3.142*($B$12*10)^2/4))))/100,1)&\"\"&\"m\"))","v":"DB16@0.1m"},{"$f":"IF('l3'!$M$70=0,(0),(\"DB\"&$B$12*10&\"@\"&ROUND(INT(100/((('l3'!$M$70)/(3.142*($B$12*10)^2/4))))/100,1)&\"\"&\"m\"))","v":"DB16@0.1m"},{"$f":"IF('l3'!$M$66=0,(0),(\"DB\"&$B$12*10&\"@\"&ROUND(INT(100/((('l3'!$M$66)/(3.142*($B$12*10)^2/4))))/100,1)&\"\"&\"m\"))","v":"DB16@0.3m"},{"$f":"IF('l3'!$M$62=0,(0),(\"DB\"&$B$12*10&\"@\"&ROUND(INT(100/((('l3'!$M$62)/(3.142*($B$12*10)^2/4))))/100,1)&\"\"&\"m\"))","v":"DB16@0.4m"},{"$f":"IF(('l3'!$O$70)<1,(0),(\"DB\"&$B$12*10&\"@\"&ROUND(INT(100/((('l3'!$O$70)/(3.142*($B$12*10)^2/4))))/100,1)&\"\"&\"m\"))","v":0},{"$f":"IF(('l3'!$O$66)=0,(0),(\"DB\"&$B$12*10&\"@\"&ROUND(INT(100/((('l3'!$O$66)/(3.142*($B$12*10)^2/4))))/100,1)&\"\"&\"m\"))","v":0},{"$f":"IF('l3'!$O$62=0,(0),(\"DB\"&$B$12*10&\"@\"&ROUND(INT(100/((('l3'!$O$62)/(3.142*($B$12*10)^2/4))))/100,1)&\"\"&\"m\"))","v":0},{"$f":"IF('l3'!$Q$70=0,(0),(\"DB\"&$B$12*10&\"@\"&ROUND(INT(100/((('l3'!$Q$70)/(3.142*($B$12*10)^2/4))))/100,1)&\"\"&\"m\"))","v":0},{"$f":"IF('l3'!$Q$66=0,(0),(\"DB\"&$B$12*10&\"@\"&ROUND(INT(100/((('l3'!$Q$66)/(3.142*($B$12*10)^2/4))))/100,1)&\"\"&\"m\"))","v":0},{"$f":"IF('l3'!$Q$62=0,(0),(\"DB\"&$B$12*10&\"@\"&ROUND(INT(100/((('l3'!$Q$62)/(3.142*($B$12*10)^2/4))))/100,1)&\"\"&\"m\"))","v":0},{"$f":"IF('l3'!$S$70=0,(0),(\"DB\"&$B$12*10&\"@\"&ROUND(INT(100/((('l3'!$S$70)/(3.142*($B$12*10)^2/4))))/100,1)&\"\"&\"m\"))","v":0},{"$f":"IF('l3'!$S$66=0,(0),(\"DB\"&$B$12*10&\"@\"&ROUND(INT(100/((('l3'!$S$66)/(3.142*($B$12*10)^2/4))))/100,1)&\"\"&\"m\"))","v":0},{"$f":"IF('l3'!$S$62=0,(0),(\"DB\"&$B$12*10&\"@\"&ROUND(INT(100/((('l3'!$S$62)/(3.142*($B$12*10)^2/4))))/100,1)&\"\"&\"m\"))","v":0}]
[{"$f":"\"แถบกลาง \"&  'l3'!$K$58&\"  m \"","v":"แถบกลาง 2.75  m "},{"$f":"IF('l3'!$K$70=0,(0),(\"DB\"&$B$12*10&\"@\"&ROUND(INT(100/((('l3'!$K$70)/(3.142*($B$12*10)^2/4))))/100,1)&\"\"&\"m\"))","v":"DB16@0.4m"},{"$f":"IF('l3'!$K$66=0,(0),(\"DB\"&$B$12*10&\"@\"&ROUND(INT(100/((('l3'!$K$66)/(3.142*($B$12*10)^2/4))))/100,1)&\"\"&\"m\"))","v":"DB16@0.3m"},{"$f":"IF('l3'!$K$62=0,(0),(\"DB\"&$B$12*10&\"@\"&ROUND(INT(100/((('l3'!$K$62)/(3.142*($B$12*10)^2/4))))/100,1)&\"\"&\"m\"))","v":"DB16@0.4m"},{"$f":"IF('l3'!$N$70=0,(0),(\"DB\"&$B$12*10&\"@\"&ROUND(INT(100/((('l3'!$N$70)/(3.142*($B$12*10)^2/4))))/100,1)&\"\"&\"m\"))","v":"DB16@0.4m"},{"$f":"IF(('l3'!$N$66)=0,(0),(\"DB\"&$B$12*10&\"@\"&ROUND(INT(100/((('l3'!$N$66)/(3.142*($B$12*10)^2/4))))/100,1)&\"\"&\"m\"))","v":"DB16@0.4m"},{"$f":"IF('l3'!$N$62=0,(0),(\"DB\"&$B$12*10&\"@\"&ROUND(INT(100/((('l3'!$N$62)/(3.142*($B$12*10)^2/4))))/100,1)&\"\"&\"m\"))","v":"DB16@0.4m"},{"$f":"IF(('l3'!$P$70)=0,(0),(\"DB\"&$B$12*10&\"@\"&ROUND(INT(100/((('l3'!$P$70)/(3.142*($B$12*10)^2/4))))/100,1)&\"\"&\"m\"))","v":0},{"$f":"IF(('l3'!$P$66)=0,(0),(\"DB\"&$B$12*10&\"@\"&ROUND(INT(100/((('l3'!$P$66)/(3.142*($B$12*10)^2/4))))/100,1)&\"\"&\"m\"))","v":0},{"$f":"IF(('l3'!$P$62)=0,(0),(\"DB\"&$B$12*10&\"@\"&ROUND(INT(100/((('l3'!$P$62)/(3.142*($B$12*10)^2/4))))/100,1)&\"\"&\"m\"))","v":0},{"$f":"IF(('l3'!$R$70)=0,(0),(\"DB\"&$B$12*10&\"@\"&ROUND(INT(100/((('l3'!$R$70)/(3.142*($B$12*10)^2/4))))/100,1)&\"\"&\"m\"))","v":0},{"$f":"IF(('l3'!$R$66)=0,(0),(\"DB\"&$B$12*10&\"@\"&ROUND(INT(100/((('l3'!$R$66)/(3.142*($B$12*10)^2/4))))/100,1)&\"\"&\"m\"))","v":0},{"$f":"IF(('l3'!$R$62)=0,(0),(\"DB\"&$B$12*10&\"@\"&ROUND(INT(100/((('l3'!$R$62)/(3.142*($B$12*10)^2/4))))/100,1)&\"\"&\"m\"))","v":0},{"$f":"IF(('l3'!$T$70)=0,(0),(\"DB\"&$B$12*10&\"@\"&ROUND(INT(100/((('l3'!$T$70)/(3.142*($B$12*10)^2/4))))/100,1)&\"\"&\"m\"))","v":0},{"$f":"IF(('l3'!$T$66)=0,(0),(\"DB\"&$B$12*10&\"@\"&ROUND(INT(100/((('l3'!$T$66)/(3.142*($B$12*10)^2/4))))/100,1)&\"\"&\"m\"))","v":0},{"$f":"IF(('l3'!$T$62)=0,(0),(\"DB\"&$B$12*10&\"@\"&ROUND(INT(100/((('l3'!$T$62)/(3.142*($B$12*10)^2/4))))/100,1)&\"\"&\"m\"))","v":0}]
[]
[{"$f":"IF($B$3=3,(\"แถบนอกหน้าตัด L3\"),(IF($B$3>3,(\"แถบในหน้าตัด L3-L4\"),(\"ไม่มีพื้น\"))))","v":"แถบนอกหน้าตัด L3"},"span R1",null,null,"span R2",null,null,"span R3",null,null,"span R4",null,null,"span R5"]
[null,"โมเมนต์ลบบน","โมเมนต์บวกกลาง","โมเมนต์ลบล่าง","โมเมนต์ลบบน","โมเมนต์บวกกลาง","โมเมนต์ลบล่าง","โมเมนต์ลบบน","โมเมนต์บวกกลาง","โมเมนต์ลบล่าง","โมเมนต์ลบบน","โมเมนต์บวกกลาง","โมเมนต์ลบล่าง","โมเมนต์ลบบน","โมเมนต์บวกกลาง","โมเมนต์ลบล่าง"]
[{"$f":"\"แถบเสา \"&  'l4'!$J$58&\"  m \"","v":"แถบเสา 1.25  m "},{"$f":"IF('l4'!$J$70=0,(0),(\"DB\"&$B$12*10&\"@\"&ROUND(INT(100/((('l4'!$J$70)/(3.142*($B$12*10)^2/4))))/100,1)&\"\"&\"m\"))","v":"DB16@0.2m"},{"$f":"IF('l4'!$J$66=0,(0),(\"DB\"&$B$12*10&\"@\"&ROUND(INT(100/((('l4'!$J$66)/(3.142*($B$12*10)^2/4))))/100,1)&\"\"&\"m\"))","v":"DB16@0.2m"},{"$f":"IF('l4'!$J$62=0,(0),(\"DB\"&$B$12*10&\"@\"&ROUND(INT(100/((('l4'!$J$62)/(3.142*($B$12*10)^2/4))))/100,1)&\"\"&\"m\"))","v":"DB16@0.1m"},{"$f":"IF('l4'!$M$70=0,(0),(\"DB\"&$B$12*10&\"@\"&ROUND(INT(100/((('l4'!$M$70)/(3.142*($B$12*10)^2/4))))/100,1)&\"\"&\"m\"))","v":"DB16@0.1m"},{"$f":"IF('l4'!$M$66=0,(0),(\"DB\"&$B$12*10&\"@\"&ROUND(INT(100/((('l4'!$M$66)/(3.142*($B$12*10)^2/4))))/100,1)&\"\"&\"m\"))","v":"DB16@0.4m"},{"$f":"IF('l4'!$M$62=0,(0),(\"DB\"&$B$12*10&\"@\"&ROUND(INT(100/((('l4'!$M$62)/(3.142*($B$12*10)^2/4))))/100,1)&\"\"&\"m\"))","v":"DB16@0.3m"},{"$f":"IF(('l4'!$O$70)=0,(0),(\"DB\"&$B$12*10&\"@\"&ROUND(INT(100/((('l4'!$O$70)/(3.142*($B$12*10)^2/4))))/100,1)&\"\"&\"m\"))","v":0},{"$f":"IF(('l4'!$O$66)=0,(0),(\"DB\"&$B$12*10&\"@\"&ROUND(INT(100/((('l4'!$O$66)/(3.142*($B$12*10)^2/4))))/100,1)&\"\"&\"m\"))","v":0},{"$f":"IF('l4'!$O$62=0,(0),(\"DB\"&$B$12*10&\"@\"&ROUND(INT(100/((('l4'!$O$62)/(3.142*($B$12*10)^2/4))))/100,1)&\"\"&\"m\"))","v":0},{"$f":"IF('l4'!$Q$70=0,(0),(\"DB\"&$B$12*10&\"@\"&ROUND(INT(100/((('l4'!$Q$70)/(3.142*($B$12*10)^2/4))))/100,1)&\"\"&\"m\"))","v":0},{"$f":"IF('l4'!$Q$66=0,(0),(\"DB\"&$B$12*10&\"@\"&ROUND(INT(100/((('l4'!$Q$66)/(3.142*($B$12*10)^2/4))))/100,1)&\"\"&\"m\"))","v":0},{"$f":"IF('l4'!$Q$62=0,(0),(\"DB\"&$B$12*10&\"@\"&ROUND(INT(100/((('l4'!$Q$62)/(3.142*($B$12*10)^2/4))))/100,1)&\"\"&\"m\"))","v":0},{"$f":"IF('l4'!$S$70=0,(0),(\"DB\"&$B$12*10&\"@\"&ROUND(INT(100/((('l4'!$S$70)/(3.142*($B$12*10)^2/4))))/100,1)&\"\"&\"m\"))","v":0},{"$f":"IF('l4'!$S$66=0,(0),(\"DB\"&$B$12*10&\"@\"&ROUND(INT(100/((('l4'!$S$66)/(3.142*($B$12*10)^2/4))))/100,1)&\"\"&\"m\"))","v":0},{"$f":"IF('l4'!$S$62=0,(0),(\"DB\"&$B$12*10&\"@\"&ROUND(INT(100/((('l4'!$S$62)/(3.142*($B$12*10)^2/4))))/100,1)&\"\"&\"m\"))","v":0}]
[{"$f":"\"แถบกลาง \"&  'l4'!$K$58&\"  m \"","v":"แถบกลาง 1.25  m "},{"$f":"IF('l4'!$K$70=0,(0),(\"DB\"&$B$12*10&\"@\"&ROUND(INT(100/((('l4'!$K$70)/(3.142*($B$12*10)^2/4))))/100,1)&\"\"&\"m\"))","v":"DB16@0.4m"},{"$f":"IF('l4'!$K$66=0,(0),(\"DB\"&$B$12*10&\"@\"&ROUND(INT(100/((('l4'!$K$66)/(3.142*($B$12*10)^2/4))))/100,1)&\"\"&\"m\"))","v":"DB16@0.4m"},{"$f":"IF('l4'!$K$62=0,(0),(\"DB\"&$B$12*10&\"@\"&ROUND(INT(100/((('l4'!$K$62)/(3.142*($B$12*10)^2/4))))/100,1)&\"\"&\"m\"))","v":"DB16@0.4m"},{"$f":"IF('l4'!$N$70=0,(0),(\"DB\"&$B$12*10&\"@\"&ROUND(INT(100/((('l4'!$N$70)/(3.142*($B$12*10)^2/4))))/100,1)&\"\"&\"m\"))","v":"DB16@0.4m"},{"$f":"IF(('l4'!$N$66)=0,(0),(\"DB\"&$B$12*10&\"@\"&ROUND(INT(100/((('l4'!$N$66)/(3.142*($B$12*10)^2/4))))/100,1)&\"\"&\"m\"))","v":"DB16@0.4m"},{"$f":"IF('l4'!$N$62=0,(0),(\"DB\"&$B$12*10&\"@\"&ROUND(INT(100/((('l4'!$N$62)/(3.142*($B$12*10)^2/4))))/100,1)&\"\"&\"m\"))","v":"DB16@0.4m"},{"$f":"IF(('l4'!$P$70)=0,(0),(\"DB\"&$B$12*10&\"@\"&ROUND(INT(100/((('l4'!$P$70)/(3.142*($B$12*10)^2/4))))/100,1)&\"\"&\"m\"))","v":0},{"$f":"IF(('l4'!$P$66)=0,(0),(\"DB\"&$B$12*10&\"@\"&ROUND(INT(100/((('l4'!$P$66)/(3.142*($B$12*10)^2/4))))/100,1)&\"\"&\"m\"))","v":0},{"$f":"IF(('l4'!$P$62)=0,(0),(\"DB\"&$B$12*10&\"@\"&ROUND(INT(100/((('l4'!$P$62)/(3.142*($B$12*10)^2/4))))/100,1)&\"\"&\"m\"))","v":0},{"$f":"IF(('l4'!$R$70)=0,(0),(\"DB\"&$B$12*10&\"@\"&ROUND(INT(100/((('l4'!$R$70)/(3.142*($B$12*10)^2/4))))/100,1)&\"\"&\"m\"))","v":0},{"$f":"IF(('l4'!$R$66)=0,(0),(\"DB\"&$B$12*10&\"@\"&ROUND(INT(100/((('l4'!$R$66)/(3.142*($B$12*10)^2/4))))/100,1)&\"\"&\"m\"))","v":0},{"$f":"IF(('l4'!$R$62)=0,(0),(\"DB\"&$B$12*10&\"@\"&ROUND(INT(100/((('l4'!$R$62)/(3.142*($B$12*10)^2/4))))/100,1)&\"\"&\"m\"))","v":0},{"$f":"IF(('l4'!$T$70)=0,(0),(\"DB\"&$B$12*10&\"@\"&ROUND(INT(100/((('l4'!$T$70)/(3.142*($B$12*10)^2/4))))/100,1)&\"\"&\"m\"))","v":0},{"$f":"IF(('l4'!$T$66)=0,(0),(\"DB\"&$B$12*10&\"@\"&ROUND(INT(100/((('l4'!$T$66)/(3.142*($B$12*10)^2/4))))/100,1)&\"\"&\"m\"))","v":0},{"$f":"IF(('l4'!$T$62)=0,(0),(\"DB\"&$B$12*10&\"@\"&ROUND(INT(100/((('l4'!$T$62)/(3.142*($B$12*10)^2/4))))/100,1)&\"\"&\"m\"))","v":0}]
[]
[{"$f":"IF($B$3=4,(\"แถบนอกหน้าตัด L4\"),(IF($B$3>4,(\"แถบในหน้าตัด L4-L5\"),(\"ไม่มีพื้น\"))))","v":"ไม่มีพื้น"},"span R1",null,null,"span R2",null,null,"span R3",null,null,"span R4",null,null,"span R5"]
[null,"โมเมนต์ลบบน","โมเมนต์บวกกลาง","โมเมนต์ลบล่าง","โมเมนต์ลบบน","โมเมนต์บวกกลาง","โมเมนต์ลบล่าง","โมเมนต์ลบบน","โมเมนต์บวกกลาง","โมเมนต์ลบล่าง","โมเมนต์ลบบน","โมเมนต์บวกกลาง","โมเมนต์ลบล่าง","โมเมนต์ลบบน","โมเมนต์บวกกลาง","โมเมนต์ลบล่าง"]
[{"$f":"\"แถบเสา \"&  'l5'!$J$58&\"  m \"","v":"แถบเสา 0  m "},{"$f":"IF('l5'!$J$70=0,(0),(\"DB\"&$B$12*10&\"@\"&ROUND(INT(100/((('l5'!$J$70)/(3.142*($B$12*10)^2/4))))/100,1)&\"\"&\"m\"))","v":0},{"$f":"IF('l5'!$J$66=0,(0),(\"DB\"&$B$12*10&\"@\"&ROUND(INT(100/((('l5'!$J$66)/(3.142*($B$12*10)^2/4))))/100,1)&\"\"&\"m\"))","v":0},{"$f":"IF('l5'!$J$62=0,(0),(\"DB\"&$B$12*10&\"@\"&ROUND(INT(100/((('l5'!$J$62)/(3.142*($B$12*10)^2/4))))/100,1)&\"\"&\"m\"))","v":0},{"$f":"IF('l5'!$M$70=0,(0),(\"DB\"&$B$12*10&\"@\"&ROUND(INT(100/((('l5'!$M$70)/(3.142*($B$12*10)^2/4))))/100,1)&\"\"&\"m\"))","v":0},{"$f":"IF('l5'!$M$66=0,(0),(\"DB\"&$B$12*10&\"@\"&ROUND(INT(100/((('l5'!$M$66)/(3.142*($B$12*10)^2/4))))/100,1)&\"\"&\"m\"))","v":0},{"$f":"IF('l5'!$M$62=0,(0),(\"DB\"&$B$12*10&\"@\"&ROUND(INT(100/((('l5'!$M$62)/(3.142*($B$12*10)^2/4))))/100,1)&\"\"&\"m\"))","v":0},{"$f":"IF(('l5'!$O$70)=0,(0),(\"DB\"&$B$12*10&\"@\"&ROUND(INT(100/((('l5'!$O$70)/(3.142*($B$12*10)^2/4))))/100,1)&\"\"&\"m\"))","v":0},{"$f":"IF(('l5'!$O$66)=0,(0),(\"DB\"&$B$12*10&\"@\"&ROUND(INT(100/((('l5'!$O$66)/(3.142*($B$12*10)^2/4))))/100,1)&\"\"&\"m\"))","v":0},{"$f":"IF('l5'!$O$62=0,(0),(\"DB\"&$B$12*10&\"@\"&ROUND(INT(100/((('l5'!$O$62)/(3.142*($B$12*10)^2/4))))/100,1)&\"\"&\"m\"))","v":0},{"$f":"IF('l5'!$Q$70=0,(0),(\"DB\"&$B$12*10&\"@\"&ROUND(INT(100/((('l5'!$Q$70)/(3.142*($B$12*10)^2/4))))/100,1)&\"\"&\"m\"))","v":0},{"$f":"IF('l5'!$Q$66=0,(0),(\"DB\"&$B$12*10&\"@\"&ROUND(INT(100/((('l5'!$Q$66)/(3.142*($B$12*10)^2/4))))/100,1)&\"\"&\"m\"))","v":0},{"$f":"IF('l5'!$Q$62=0,(0),(\"DB\"&$B$12*10&\"@\"&ROUND(INT(100/((('l5'!$Q$62)/(3.142*($B$12*10)^2/4))))/100,1)&\"\"&\"m\"))","v":0},{"$f":"IF('l5'!$S$70=0,(0),(\"DB\"&$B$12*10&\"@\"&ROUND(INT(100/((('l5'!$S$70)/(3.142*($B$12*10)^2/4))))/100,1)&\"\"&\"m\"))","v":0},{"$f":"IF('l5'!$S$66=0,(0),(\"DB\"&$B$12*10&\"@\"&ROUND(INT(100/((('l5'!$S$66)/(3.142*($B$12*10)^2/4))))/100,1)&\"\"&\"m\"))","v":0},{"$f":"IF('l5'!$S$62=0,(0),(\"DB\"&$B$12*10&\"@\"&ROUND(INT(100/((('l5'!$S$62)/(3.142*($B$12*10)^2/4))))/100,1)&\"\"&\"m\"))","v":0}]
[{"$f":"\"แถบกลาง \"&  'l5'!$K$58&\"  m \"","v":"แถบกลาง 0  m "},{"$f":"IF('l5'!$K$70=0,(0),(\"DB\"&$B$12*10&\"@\"&ROUND(INT(100/((('l5'!$K$70)/(3.142*($B$12*10)^2/4))))/100,1)&\"\"&\"m\"))","v":0},{"$f":"IF('l5'!$K$66=0,(0),(\"DB\"&$B$12*10&\"@\"&ROUND(INT(100/((('l5'!$K$66)/(3.142*($B$12*10)^2/4))))/100,1)&\"\"&\"m\"))","v":0},{"$f":"IF('l5'!$K$62=0,(0),(\"DB\"&$B$12*10&\"@\"&ROUND(INT(100/((('l5'!$K$62)/(3.142*($B$12*10)^2/4))))/100,1)&\"\"&\"m\"))","v":0},{"$f":"IF('l5'!$N$70=0,(0),(\"DB\"&$B$12*10&\"@\"&ROUND(INT(100/((('l5'!$N$70)/(3.142*($B$12*10)^2/4))))/100,1)&\"\"&\"m\"))","v":0},{"$f":"IF(('l5'!$N$66)=0,(0),(\"DB\"&$B$12*10&\"@\"&ROUND(INT(100/((('l5'!$N$66)/(3.142*($B$12*10)^2/4))))/100,1)&\"\"&\"m\"))","v":0},{"$f":"IF('l5'!$N$62=0,(0),(\"DB\"&$B$12*10&\"@\"&ROUND(INT(100/((('l5'!$N$62)/(3.142*($B$12*10)^2/4))))/100,1)&\"\"&\"m\"))","v":0},{"$f":"IF(('l5'!$P$70)=0,(0),(\"DB\"&$B$12*10&\"@\"&ROUND(INT(100/((('l5'!$P$70)/(3.142*($B$12*10)^2/4))))/100,1)&\"\"&\"m\"))","v":0},{"$f":"IF(('l5'!$P$66)=0,(0),(\"DB\"&$B$12*10&\"@\"&ROUND(INT(100/((('l5'!$P$66)/(3.142*($B$12*10)^2/4))))/100,1)&\"\"&\"m\"))","v":0},{"$f":"IF(('l5'!$P$62)=0,(0),(\"DB\"&$B$12*10&\"@\"&ROUND(INT(100/((('l5'!$P$62)/(3.142*($B$12*10)^2/4))))/100,1)&\"\"&\"m\"))","v":0},{"$f":"IF(('l5'!$R$70)=0,(0),(\"DB\"&$B$12*10&\"@\"&ROUND(INT(100/((('l5'!$R$70)/(3.142*($B$12*10)^2/4))))/100,1)&\"\"&\"m\"))","v":0},{"$f":"IF(('l5'!$R$66)=0,(0),(\"DB\"&$B$12*10&\"@\"&ROUND(INT(100/((('l5'!$R$66)/(3.142*($B$12*10)^2/4))))/100,1)&\"\"&\"m\"))","v":0},{"$f":"IF(('l5'!$R$62)=0,(0),(\"DB\"&$B$12*10&\"@\"&ROUND(INT(100/((('l5'!$R$62)/(3.142*($B$12*10)^2/4))))/100,1)&\"\"&\"m\"))","v":0},{"$f":"IF(('l5'!$T$70)=0,(0),(\"DB\"&$B$12*10&\"@\"&ROUND(INT(100/((('l5'!$T$70)/(3.142*($B$12*10)^2/4))))/100,1)&\"\"&\"m\"))","v":0},{"$f":"IF(('l5'!$T$66)=0,(0),(\"DB\"&$B$12*10&\"@\"&ROUND(INT(100/((('l5'!$T$66)/(3.142*($B$12*10)^2/4))))/100,1)&\"\"&\"m\"))","v":0},{"$f":"IF(('l5'!$T$62)=0,(0),(\"DB\"&$B$12*10&\"@\"&ROUND(INT(100/((('l5'!$T$62)/(3.142*($B$12*10)^2/4))))/100,1)&\"\"&\"m\"))","v":0}]
[]
[{"$f":"IF($B$3=5,(\"แถบนอกหน้าตัด L5\"),(IF($B$3>5,(\"แถบในหน้าตัด L5-L6\"),(\"ไม่มีพื้น\"))))","v":"ไม่มีพื้น"},"span R1",null,null,"span R2",null,null,"span R3",null,null,"span R4",null,null,"span R5"]
[null,"โมเมนต์ลบบน","โมเมนต์บวกกลาง","โมเมนต์ลบล่าง","โมเมนต์ลบบน","โมเมนต์บวกกลาง","โมเมนต์ลบล่าง","โมเมนต์ลบบน","โมเมนต์บวกกลาง","โมเมนต์ลบล่าง","โมเมนต์ลบบน","โมเมนต์บวกกลาง","โมเมนต์ลบล่าง","โมเมนต์ลบบน","โมเมนต์บวกกลาง","โมเมนต์ลบล่าง"]
[{"$f":"\"แถบเสา \"&  'l6'!$J$58&\"  m \"","v":"แถบเสา 0  m "},{"$f":"IF('l6'!$J$70=0,(0),(\"DB\"&$B$12*10&\"@\"&ROUND(INT(100/((('l6'!$J$70+'l6'!$J$86)/(3.142*($B$12*10)^2/4))))/100,1)&\"\"&\"m\"))","v":0},{"$f":"IF('l6'!$J$66=0,(0),(\"DB\"&$B$12*10&\"@\"&ROUND(INT(100/((('l6'!$J$66)/(3.142*($B$12*10)^2/4))))/100,1)&\"\"&\"m\"))","v":0},{"$f":"IF('l6'!$J$62=0,(0),(\"DB\"&$B$12*10&\"@\"&ROUND(INT(100/((('l6'!$J$62+'l6'!$M$86)/(3.142*($B$12*10)^2/4))))/100,1)&\"\"&\"m\"))","v":0},{"$f":"IF('l6'!$M$70=0,(0),(\"DB\"&$B$12*10&\"@\"&ROUND(INT(100/((('l6'!$M$70+'l6'!$O$86)/(3.142*($B$12*10)^2/4))))/100,1)&\"\"&\"m\"))","v":0},{"$f":"IF('l6'!$M$66=0,(0),(\"DB\"&$B$12*10&\"@\"&ROUND(INT(100/((('l6'!$M$66)/(3.142*($B$12*10)^2/4))))/100,1)&\"\"&\"m\"))","v":0},{"$f":"IF('l6'!$M$62=0,(0),(\"DB\"&$B$12*10&\"@\"&ROUND(INT(100/((('l6'!$M$62+'l6'!$N$86)/(3.142*($B$12*10)^2/4))))/100,1)&\"\"&\"m\"))","v":0},{"$f":"IF(('l6'!$O$70)=0,(0),(\"DB\"&$B$12*10&\"@\"&ROUND(INT(100/((('l6'!$O$70+'l6'!$Q$86)/(3.142*($B$12*10)^2/4))))/100,1)&\"\"&\"m\"))","v":0},{"$f":"IF(('l6'!$O$66)=0,(0),(\"DB\"&$B$12*10&\"@\"&ROUND(INT(100/((('l6'!$O$66)/(3.142*($B$12*10)^2/4))))/100,1)&\"\"&\"m\"))","v":0},{"$f":"IF('l6'!$O$62=0,(0),(\"DB\"&$B$12*10&\"@\"&ROUND(INT(100/((('l6'!$O$62+'l6'!$P$86)/(3.142*($B$12*10)^2/4))))/100,1)&\"\"&\"m\"))","v":0},{"$f":"IF('l6'!$Q$70=0,(0),(\"DB\"&$B$12*10&\"@\"&ROUND(INT(100/((('l6'!$Q$70+'l6'!$S$86)/(3.142*($B$12*10)^2/4))))/100,1)&\"\"&\"m\"))","v":0},{"$f":"IF('l6'!$Q$66=0,(0),(\"DB\"&$B$12*10&\"@\"&ROUND(INT(100/((('l6'!$Q$66)/(3.142*($B$12*10)^2/4))))/100,1)&\"\"&\"m\"))","v":0},{"$f":"IF('l6'!$Q$62=0,(0),(\"DB\"&$B$12*10&\"@\"&ROUND(INT(100/((('l6'!$Q$62+'l6'!$R$86)/(3.142*($B$12*10)^2/4))))/100,1)&\"\"&\"m\"))","v":0},{"$f":"IF('l6'!$S$70=0,(0),(\"DB\"&$B$12*10&\"@\"&ROUND(INT(100/((('l6'!$S$70+'l6'!$U$86)/(3.142*($B$12*10)^2/4))))/100,1)&\"\"&\"m\"))","v":0},{"$f":"IF('l6'!$S$66=0,(0),(\"DB\"&$B$12*10&\"@\"&ROUND(INT(100/((('l6'!$S$66)/(3.142*($B$12*10)^2/4))))/100,1)&\"\"&\"m\"))","v":0},{"$f":"IF('l6'!$S$62=0,(0),(\"DB\"&$B$12*10&\"@\"&ROUND(INT(100/((('l6'!$S$62+'l6'!$T$86)/(3.142*($B$12*10)^2/4))))/100,1)&\"\"&\"m\"))","v":0}]
[{"$f":"\"แถบกลาง \"&  'l6'!$K$58&\"  m \"","v":"แถบกลาง 0  m "},{"$f":"IF('l6'!$K$70=0,(0),(\"DB\"&$B$12*10&\"@\"&ROUND(INT(100/((('l6'!$K$70)/(3.142*($B$12*10)^2/4))))/100,1)&\"\"&\"m\"))","v":0},{"$f":"IF('l6'!$K$66=0,(0),(\"DB\"&$B$12*10&\"@\"&ROUND(INT(100/((('l6'!$K$66)/(3.142*($B$12*10)^2/4))))/100,1)&\"\"&\"m\"))","v":0},{"$f":"IF('l6'!$K$62=0,(0),(\"DB\"&$B$12*10&\"@\"&ROUND(INT(100/((('l6'!$K$62)/(3.142*($B$12*10)^2/4))))/100,1)&\"\"&\"m\"))","v":0},{"$f":"IF('l6'!$N$70=0,(0),(\"DB\"&$B$12*10&\"@\"&ROUND(INT(100/((('l6'!$N$70)/(3.142*($B$12*10)^2/4))))/100,1)&\"\"&\"m\"))","v":0},{"$f":"IF(('l6'!$N$66)=0,(0),(\"DB\"&$B$12*10&\"@\"&ROUND(INT(100/((('l6'!$N$66)/(3.142*($B$12*10)^2/4))))/100,1)&\"\"&\"m\"))","v":0},{"$f":"IF('l6'!$N$62=0,(0),(\"DB\"&$B$12*10&\"@\"&ROUND(INT(100/((('l6'!$N$62)/(3.142*($B$12*10)^2/4))))/100,1)&\"\"&\"m\"))","v":0},{"$f":"IF(('l6'!$P$70)=0,(0),(\"DB\"&$B$12*10&\"@\"&ROUND(INT(100/((('l6'!$P$70)/(3.142*($B$12*10)^2/4))))/100,1)&\"\"&\"m\"))","v":0},{"$f":"IF(('l6'!$P$66)=0,(0),(\"DB\"&$B$12*10&\"@\"&ROUND(INT(100/((('l6'!$P$66)/(3.142*($B$12*10)^2/4))))/100,1)&\"\"&\"m\"))","v":0},{"$f":"IF(('l6'!$P$62)=0,(0),(\"DB\"&$B$12*10&\"@\"&ROUND(INT(100/((('l6'!$P$62)/(3.142*($B$12*10)^2/4))))/100,1)&\"\"&\"m\"))","v":0},{"$f":"IF(('l6'!$R$70)=0,(0),(\"DB\"&$B$12*10&\"@\"&ROUND(INT(100/((('l6'!$R$70)/(3.142*($B$12*10)^2/4))))/100,1)&\"\"&\"m\"))","v":0},{"$f":"IF(('l6'!$R$66)=0,(0),(\"DB\"&$B$12*10&\"@\"&ROUND(INT(100/((('l6'!$R$66)/(3.142*($B$12*10)^2/4))))/100,1)&\"\"&\"m\"))","v":0},{"$f":"IF(('l6'!$R$62)=0,(0),(\"DB\"&$B$12*10&\"@\"&ROUND(INT(100/((('l6'!$R$62)/(3.142*($B$12*10)^2/4))))/100,1)&\"\"&\"m\"))","v":0},{"$f":"IF(('l6'!$T$70)=0,(0),(\"DB\"&$B$12*10&\"@\"&ROUND(INT(100/((('l6'!$T$70)/(3.142*($B$12*10)^2/4))))/100,1)&\"\"&\"m\"))","v":0},{"$f":"IF(('l6'!$T$66)=0,(0),(\"DB\"&$B$12*10&\"@\"&ROUND(INT(100/((('l6'!$T$66)/(3.142*($B$12*10)^2/4))))/100,1)&\"\"&\"m\"))","v":0},{"$f":"IF(('l6'!$T$62)=0,(0),(\"DB\"&$B$12*10&\"@\"&ROUND(INT(100/((('l6'!$T$62)/(3.142*($B$12*10)^2/4))))/100,1)&\"\"&\"m\"))","v":0}]
[]
["เช็ค Punching shear"]
["รายการ","หน่วย","ค่า"]
["หน่วยแรงเฉือนประลัย","kg/cm^2",{"$f":"MAX('r2'!J86:L86,'r3'!J87:L87,'r4'!J87:L87,'r5'!J87:L87,'l2'!J86:L86,'l3'!J86:L86,'l4'!J86:L86,'l5'!J86:L86,'l2'!T87,'l3'!T87,'l4'!T87,'l5'!T88,'r2'!Q86,'r3'!R87,'r4'!R87,'r5'!R87)","v":14.964740916837442}]
["หน่วยแรงเฉือนที่ยอมให้","kg/cm^2",{"$f":"'r2'!J87","v":18.961856449198219}]
[null,null,{"$f":"IF(C82>C81,(\" OK \"),(\"เพิ่มความหนาพื้น\"))","v":" OK "}]
[]
["ตำแหน่งสร้างไฟล์ข้อมูลในงาน CAD","C:\\Users\\Administrator.VOI41WPMDT3XNKN\\Desktop",null,null,"ต้องนำไฟล์ข้อมูลไว้ทีเดียวกันกับไฟล์ pro.Lsp"]
[]
[]
[]
[]
[]
[]
[]
[]
[]
[]
[]
[]
[]
[null,"span L1",null,null,"span L2",null,null,"span L3",null,null,"span L4",null,null,"span L5"]
[null,{"$f":"INT(100/((('r1'!$J$70)/(3.142*($B$12*10)^2/4))))&\"\"","v":"34"},{"$f":"INT(100/((('r1'!$J$66)/(3.142*($B$12*10)^2/4))))&\"\"","v":"34"},{"$f":"INT(100/((('r1'!$J$62)/(3.142*($B$12*10)^2/4))))&\"\"","v":"16"},{"$f":"INT(100/((('r1'!$M$70)/(3.142*($B$12*10)^2/4))))&\"\"","v":"16"},{"$f":"INT(100/((('r1'!$M$66)/(3.142*($B$12*10)^2/4))))&\"\"","v":"27"},{"$f":"INT(100/((('r1'!$M$62)/(3.142*($B$12*10)^2/4))))&\"\"","v":"16"},{"$f":"IF(('r1'!$O$70)=0,(0),(INT(100/((('r1'!$O$70)/(3.142*($B$12*10)^2/4))))&\"\"))","v":"16"},{"$f":"IF($B$12=0,0,IF(('r1'!$O$66)<1,(0),(INT(100/((('r1'!$O$66)/(3.142*($B$12*10)^2/4))))&\"\")))","v":"34"},{"$f":"IF('r1'!$O$62=0,(0),(INT(100/((('r1'!$O$62)/(3.142*($B$12*10)^2/4))))&\"\"))","v":"34"},{"$f":"IF('r1'!$Q$70=0,(0),(INT(100/((('r1'!$Q$70)/(3.142*($B$12*10)^2/4))))&\"\"))","v":0},{"$f":"IF('r1'!$Q$66=0,(0),(INT(100/((('r1'!$Q$66)/(3.142*($B$12*10)^2/4))))&\"\"))","v":0},{"$f":"IF('r1'!$Q$62=0,(0),(INT(100/((('r1'!$Q$62)/(3.142*($B$12*10)^2/4))))&\"\"))","v":0},{"$f":"IF('r1'!$S$70=0,(0),(INT(100/((('r1'!$S$70)/(3.142*($B$12*10)^2/4))))&\"\"))","v":0},{"$f":"IF('r1'!$S$66=0,(0),(INT(100/((('r1'!$S$66)/(3.142*($B$12*10)^2/4))))&\"\"))","v":0},{"$f":"IF('r1'!$S$62=0,(0),(INT(100/((('r1'!$S$62)/(3.142*($B$12*10)^2/4))))&\"\"))","v":0}]
[null,{"$f":"INT(100/((('r1'!$K$70)/(3.142*($B$12*10)^2/4))))&\"\"","v":"37"},{"$f":"INT(100/((('r1'!$K$66)/(3.142*($B$12*10)^2/4))))&\"\"","v":"37"},{"$f":"INT(100/((('r1'!$K$62)/(3.142*($B$12*10)^2/4))))&\"\"","v":"37"},{"$f":"INT(100/((('r1'!$N$70)/(3.142*($B$12*10)^2/4))))&\"\"","v":"37"},{"$f":"INT(100/((('r1'!$N$66)/(3.142*($B$12*10)^2/4))))&\"\"","v":"37"},{"$f":"INT(100/((('r1'!N$62)/(3.142*($B$12*10)^2/4))))&\"\"","v":"37"},{"$f":"IF(('r1'!$P$70)=0,(0),(INT(100/((('r1'!$P$70)/(3.142*($B$12*10)^2/4))))&\"\"))","v":"37"},{"$f":"IF(('r1'!$P$66)=0,(0),(INT(100/((('r1'!$P$66)/(3.142*($B$12*10)^2/4))))&\"\"))","v":"37"},{"$f":"IF(('r1'!$P$62)=0,(0),(INT(100/((('r1'!$P$62)/(3.142*($B$12*10)^2/4))))&\"\"))","v":"37"},{"$f":"IF(('r1'!$R$70)=0,(0),(INT(100/((('r1'!$R$70)/(3.142*($B$12*10)^2/4))))&\"\"))","v":0},{"$f":"IF(('r1'!$R$66)=0,(0),(INT(100/((('r1'!$R$66)/(3.142*($B$12*10)^2/4))))&\"\"))","v":0},{"$f":"IF(('r1'!$R$62)=0,(0),(INT(100/((('r1'!$R$62)/(3.142*($B$12*10)^2/4))))&\"\"))","v":0},{"$f":"IF(('r1'!$T$70)=0,(0),(INT(100/((('r1'!$T$70)/(3.142*($B$12*10)^2/4))))&\"\"))","v":0},{"$f":"IF(('r1'!$T$66)=0,(0),(INT(100/((('r1'!$T$66)/(3.142*($B$12*10)^2/4))))&\"\"))","v":0},{"$f":"IF(('r1'!$T$62)=0,(0),(INT(100/((('r1'!$T$62)/(3.142*($B$12*10)^2/4))))&\"\"))","v":0}]
[]
[null,"span L1",null,null,"span L2",null,null,"span L3",null,null,"span L4",null,null,"span L5"]
[null,"โมเมนต์ลบซ้าย","โมเมนต์บวกกลาง","โมเมนต์ลบขวา","โมเมนต์ลบซ้าย","โมเมนต์บวกกลาง","โมเมนต์ลบขวา","โมเมนต์ลบซ้าย","โมเมนต์บวกกลาง","โมเมนต์ลบขวา","โมเมนต์ลบซ้าย","โมเมนต์บวกกลาง","โมเมนต์ลบขวา","โมเมนต์ลบซ้าย","โมเมนต์บวกกลาง","โมเมนต์ลบขวา"]
[null,{"$f":"INT(100/((('r2'!$J$70)/(3.142*($B$12*10)^2/4))))&\"\"","v":"37"},{"$f":"INT(100/((('r2'!$J$66)/(3.142*($B$12*10)^2/4))))&\"\"","v":"28"},{"$f":"INT(100/((('r2'!$J$62)/(3.142*($B$12*10)^2/4))))&\"\"","v":"15"},{"$f":"INT(100/((('r2'!$M$70)/(3.142*($B$12*10)^2/4))))&\"\"","v":"15"},{"$f":"INT(100/((('r2'!$M$66)/(3.142*($B$12*10)^2/4))))&\"\"","v":"26"},{"$f":"INT(100/((('r2'!$M$62)/(3.142*($B$12*10)^2/4))))&\"\"","v":"15"},{"$f":"IF(('r2'!$O$70)<1,(0),(INT(100/((('r2'!$O$70)/(3.142*($B$12*10)^2/4))))&\"\"))","v":"15"},{"$f":"IF(('r2'!$O$66)=0,(0),(INT(100/((('r2'!$O$66)/(3.142*($B$12*10)^2/4))))&\"\"))","v":"28"},{"$f":"IF('r2'!$O$62=0,(0),(INT(100/((('r2'!$O$62)/(3.142*($B$12*10)^2/4))))&\"\"))","v":"37"},{"$f":"IF('r2'!$Q$70=0,(0),(INT(100/((('r2'!$Q$70)/(3.142*($B$12*10)^2/4))))&\"\"))","v":0},{"$f":"IF('r2'!$Q$66=0,(0),(INT(100/((('r2'!$Q$66)/(3.142*($B$12*10)^2/4))))&\"\"))","v":0},{"$f":"IF('r2'!$Q$62=0,(0),(INT(100/((('r2'!$Q$62)/(3.142*($B$12*10)^2/4))))&\"\"))","v":0},{"$f":"IF('r2'!$S$70=0,(0),(INT(100/((('r2'!$S$70)/(3.142*($B$12*10)^2/4))))&\"\"))","v":0},{"$f":"IF('r2'!$S$66=0,(0),(INT(100/((('r2'!$S$66)/(3.142*($B$12*10)^2/4))))&\"\"))","v":0},{"$f":"IF('r2'!$S$62=0,(0),(INT(100/((('r2'!$S$62)/(3.142*($B$12*10)^2/4))))&\"\"))","v":0}]
[null,{"$f":"INT(100/((('r2'!$K$70)/(3.142*($B$12*10)^2/4))))&\"\"","v":"37"},{"$f":"INT(100/((('r2'!$K$66)/(3.142*($B$12*10)^2/4))))&\"\"","v":"35"},{"$f":"INT(100/((('r2'!$K$62)/(3.142*($B$12*10)^2/4))))&\"\"","v":"37"},{"$f":"INT(100/((('r2'!$N$70)/(3.142*($B$12*10)^2/4))))&\"\"","v":"37"},{"$f":"INT(100/((('r2'!$N$66)/(3.142*($B$12*10)^2/4))))&\"\"","v":"32"},{"$f":"INT(100/((('r2'!N$62)/(3.142*($B$12*10)^2/4))))&\"\"","v":"37"},{"$f":"IF(('r2'!$P$70)<10,(0),(INT(100/((('r2'!$P$70)/(3.142*($B$12*10)^2/4))))&\"\"))","v":"37"},{"$f":"IF(('r2'!$P$66)=0,(0),(INT(100/((('r2'!$P$66)/(3.142*($B$12*10)^2/4))))&\"\"))","v":"35"},{"$f":"IF(('r2'!$P$62)=0,(0),(INT(100/((('r2'!$P$62)/(3.142*($B$12*10)^2/4))))&\"\"))","v":"37"},{"$f":"IF(('r2'!$R$70)=0,(0),(INT(100/((('r2'!$R$70)/(3.142*($B$12*10)^2/4))))&\"\"))","v":0},{"$f":"IF(('r2'!$R$66)=0,(0),(INT(100/((('r2'!$R$66)/(3.142*($B$12*10)^2/4))))&\"\"))","v":0},{"$f":"IF(('r2'!$R$62)=0,(0),(INT(100/((('r2'!$R$62)/(3.142*($B$12*10)^2/4))))&\"\"))","v":0},{"$f":"IF(('r2'!$T$70)=0,(0),(INT(100/((('r2'!$T$70)/(3.142*($B$12*10)^2/4))))&\"\"))","v":0},{"$f":"IF(('r2'!$T$66)=0,(0),(INT(100/((('r2'!$T$66)/(3.142*($B$12*10)^2/4))))&\"\"))","v":0},{"$f":"IF(('r2'!$T$62)=0,(0),(INT(100/((('r2'!$T$62)/(3.142*($B$12*10)^2/4))))&\"\"))","v":0}]
[]
[null,"span L1",null,null,"span L2",null,null,"span L3",null,null,"span L4",null,null,"span L5"]
[null,"โมเมนต์ลบซ้าย","โมเมนต์บวกกลาง","โมเมนต์ลบขวา","โมเมนต์ลบซ้าย","โมเมนต์บวกกลาง","โมเมนต์ลบขวา","โมเมนต์ลบซ้าย","โมเมนต์บวกกลาง","โมเมนต์ลบขวา","โมเมนต์ลบซ้าย","โมเมนต์บวกกลาง","โมเมนต์ลบขวา","โมเมนต์ลบซ้าย","โมเมนต์บวกกลาง","โมเมนต์ลบขวา"]
[null,{"$f":"IF('r3'!$J$70=0,(0),(INT(100/((('r3'!$J$70)/(3.142*($B$12*10)^2/4))))&\"\"))","v":"28"},{"$f":"IF('r3'!$J$66=0,(0),(INT(100/((('r3'!$J$66)/(3.142*($B$12*10)^2/4))))&\"\"))","v":"35"},{"$f":"IF('r3'!$J$62=0,(0),(INT(100/((('r3'!$J$62)/(3.142*($B$12*10)^2/4))))&\"\"))","v":"16"},{"$f":"IF('r3'!$M$70=0,(0),(INT(100/((('r3'!$M$70)/(3.142*($B$12*10)^2/4))))&\"\"))","v":"16"},{"$f":"IF('r3'!$M$66=0,(0),(INT(100/((('r3'!$M$66)/(3.142*($B$12*10)^2/4))))&\"\"))","v":"27"},{"$f":"IF('r3'!$M$62=0,(0),(INT(100/((('r3'!$M$62)/(3.142*($B$12*10)^2/4))))&\"\"))","v":"16"},{"$f":"IF(('r3'!$O$70)<1,(0),(INT(100/((('r3'!$O$70)/(3.142*($B$12*10)^2/4))))&\"\"))","v":"16"},{"$f":"IF(('r3'!$O$66)=0,(0),(INT(100/((('r3'!$O$66)/(3.142*($B$12*10)^2/4))))&\"\"))","v":"35"},{"$f":"IF('r3'!$O$62=0,(0),(INT(100/((('r3'!$O$62)/(3.142*($B$12*10)^2/4))))&\"\"))","v":"28"},{"$f":"IF('r3'!$Q$70=0,(0),(INT(100/((('r3'!$Q$70)/(3.142*($B$12*10)^2/4))))&\"\"))","v":0},{"$f":"IF('r3'!$Q$66=0,(0),(INT(100/((('r3'!$Q$66)/(3.142*($B$12*10)^2/4))))&\"\"))","v":0},{"$f":"IF('r3'!$Q$62=0,(0),(INT(100/((('r3'!$Q$62)/(3.142*($B$12*10)^2/4))))&\"\"))","v":0},{"$f":"IF('r3'!$S$70=0,(0),(INT(100/((('r3'!$S$70)/(3.142*($B$12*10)^2/4))))&\"\"))","v":0},{"$f":"IF('r3'!$S$66=0,(0),(INT(100/((('r3'!$S$66)/(3.142*($B$12*10)^2/4))))&\"\"))","v":0},{"$f":"IF('r3'!$S$62=0,(0),(INT(100/((('r3'!$S$62)/(3.142*($B$12*10)^2/4))))&\"\"))","v":0}]
[null,{"$f":"IF('r3'!$K$70=0,(0),(INT(100/((('r3'!$K$70)/(3.142*($B$12*10)^2/4))))&\"\"))","v":"37"},{"$f":"IF('r3'!$K$66=0,(0),(INT(100/((('r3'!$K$66)/(3.142*($B$12*10)^2/4))))&\"\"))","v":"37"},{"$f":"IF('r3'!$K$62=0,(0),(INT(100/((('r3'!$K$62)/(3.142*($B$12*10)^2/4))))&\"\"))","v":"37"},{"$f":"IF('r3'!$N$70=0,(0),(INT(100/((('r3'!$N$70)/(3.142*($B$12*10)^2/4))))&\"\"))","v":"37"},{"$f":"IF(('r3'!$N$66)=0,(0),(INT(100/((('r3'!$N$66)/(3.142*($B$12*10)^2/4))))&\"\"))","v":"37"},{"$f":"IF('r3'!$N$62=0,(0),(INT(100/((('r3'!$N$62)/(3.142*($B$12*10)^2/4))))&\"\"))","v":"37"},{"$f":"IF(('r3'!$P$70)=0,(0),(INT(100/((('r3'!$P$70)/(3.142*($B$12*10)^2/4))))&\"\"))","v":"37"},{"$f":"IF(('r3'!$P$66)=0,(0),(INT(100/((('r3'!$P$66)/(3.142*($B$12*10)^2/4))))&\"\"))","v":"37"},{"$f":"IF(('r3'!$P$62)=0,(0),(INT(100/((('r3'!$P$62)/(3.142*($B$12*10)^2/4))))&\"\"))","v":"37"},{"$f":"IF(('r3'!$R$70)=0,(0),(INT(100/((('r3'!$R$70)/(3.142*($B$12*10)^2/4))))&\"\"))","v":0},{"$f":"IF(('r3'!$R$66)=0,(0),(INT(100/((('r3'!$R$66)/(3.142*($B$12*10)^2/4))))&\"\"))","v":0},{"$f":"IF(('r3'!$R$62)=0,(0),(INT(100/((('r3'!$R$62)/(3.142*($B$12*10)^2/4))))&\"\"))","v":0},{"$f":"IF(('r3'!$T$70)=0,(0),(INT(100/((('r3'!$T$70)/(3.142*($B$12*10)^2/4))))&\"\"))","v":0},{"$f":"IF(('r3'!$T$66)=0,(0),(INT(100/((('r3'!$T$66)/(3.142*($B$12*10)^2/4))))&\"\"))","v":0},{"$f":"IF(('r3'!$T$62)=0,(0),(INT(100/((('r3'!$T$62)/(3.142*($B$12*10)^2/4))))&\"\"))","v":0}]
[]
[null,"span L1",null,null,"span L2",null,null,"span L3",null,null,"span L4",null,null,"span L5"]
[null,"โมเมนต์ลบซ้าย","โมเมนต์บวกกลาง","โมเมนต์ลบขวา","โมเมนต์ลบซ้าย","โมเมนต์บวกกลาง","โมเมนต์ลบขวา","โมเมนต์ลบซ้าย","โมเมนต์บวกกลาง","โมเมนต์ลบขวา","โมเมนต์ลบซ้าย","โมเมนต์บวกกลาง","โมเมนต์ลบขวา","โมเมนต์ลบซ้าย","โมเมนต์บวกกลาง","โมเมนต์ลบขวา"]
[null,{"$f":"IF('r4'!$J$70=0,(0),(INT(100/((('r4'!$J$70)/(3.142*($B$12*10)^2/4))))&\"\"))","v":0},{"$f":"IF('r4'!$J$66=0,(0),(INT(100/((('r4'!$J$66)/(3.142*($B$12*10)^2/4))))&\"\"))","v":0},{"$f":"IF('r4'!$J$62=0,(0),(INT(100/((('r4'!$J$62)/(3.142*($B$12*10)^2/4))))&\"\"))","v":0},{"$f":"IF('r4'!$M$70=0,(0),(INT(100/((('r4'!$M$70)/(3.142*($B$12*10)^2/4))))&\"\"))","v":0},{"$f":"IF('r4'!$M$66=0,(0),(INT(100/((('r4'!$M$66)/(3.142*($B$12*10)^2/4))))&\"\"))","v":0},{"$f":"IF('r4'!$M$62=0,(0),(INT(100/((('r4'!$M$62)/(3.142*($B$12*10)^2/4))))&\"\"))","v":0},{"$f":"IF(('r4'!$O$70)<1,(0),(INT(100/((('r4'!$O$70)/(3.142*($B$12*10)^2/4))))&\"\"))","v":0},{"$f":"IF(('r4'!$O$66)=0,(0),(INT(100/((('r4'!$O$66)/(3.142*($B$12*10)^2/4))))&\"\"))","v":0},{"$f":"IF('r4'!$O$62=0,(0),(INT(100/((('r4'!$O$62)/(3.142*($B$12*10)^2/4))))&\"\"))","v":0},{"$f":"IF('r4'!$Q$70=0,(0),(INT(100/((('r4'!$Q$70)/(3.142*($B$12*10)^2/4))))&\"\"))","v":0},{"$f":"IF('r4'!$Q$66=0,(0),(INT(100/((('r4'!$Q$66)/(3.142*($B$12*10)^2/4))))&\"\"))","v":0},{"$f":"IF('r4'!$Q$62=0,(0),(INT(100/((('r4'!$Q$62)/(3.142*($B$12*10)^2/4))))&\"\"))","v":0},{"$f":"IF('r4'!$S$70=0,(0),(INT(100/((('r4'!$S$70)/(3.142*($B$12*10)^2/4))))&\"\"))","v":0},{"$f":"IF('r4'!$S$66=0,(0),(INT(100/((('r4'!$S$66)/(3.142*($B$12*10)^2/4))))&\"\"))","v":0},{"$f":"IF('r4'!$S$62=0,(0),(INT(100/((('r4'!$S$62)/(3.142*($B$12*10)^2/4))))&\"\"))","v":0}]
[null,{"$f":"IF('r4'!$K$70=0,(0),(INT(100/((('r4'!$K$70)/(3.142*($B$12*10)^2/4))))&\"\"))","v":0},{"$f":"IF('r4'!$K$66=0,(0),(INT(100/((('r4'!$K$66)/(3.142*($B$12*10)^2/4))))&\"\"))","v":0},{"$f":"IF('r4'!$K$62=0,(0),(INT(100/((('r4'!$K$62)/(3.142*($B$12*10)^2/4))))&\"\"))","v":0},{"$f":"IF('r4'!$N$70=0,(0),(INT(100/((('r4'!$N$70)/(3.142*($B$12*10)^2/4))))&\"\"))","v":0},{"$f":"IF(('r4'!$N$66)=0,(0),(INT(100/((('r4'!$N$66)/(3.142*($B$12*10)^2/4))))&\"\"))","v":0},{"$f":"IF('r4'!$N$62=0,(0),(INT(100/((('r4'!$N$62)/(3.142*($B$12*10)^2/4))))&\"\"))","v":0},{"$f":"IF(('r4'!$P$70)=0,(0),(INT(100/((('r4'!$P$70)/(3.142*($B$12*10)^2/4))))&\"\"))","v":0},{"$f":"IF(('r4'!$P$66)=0,(0),(INT(100/((('r4'!$P$66)/(3.142*($B$12*10)^2/4))))&\"\"))","v":0},{"$f":"IF(('r4'!$P$62)=0,(0),(INT(100/((('r4'!$P$62)/(3.142*($B$12*10)^2/4))))&\"\"))","v":0},{"$f":"IF(('r4'!$R$70)=0,(0),(INT(100/((('r4'!$R$70)/(3.142*($B$12*10)^2/4))))&\"\"))","v":0},{"$f":"IF(('r4'!$R$66)=0,(0),(INT(100/((('r4'!$R$66)/(3.142*($B$12*10)^2/4))))&\"\"))","v":0},{"$f":"IF(('r4'!$R$62)=0,(0),(INT(100/((('r4'!$R$62)/(3.142*($B$12*10)^2/4))))&\"\"))","v":0},{"$f":"IF(('r4'!$T$70)=0,(0),(INT(100/((('r4'!$T$70)/(3.142*($B$12*10)^2/4))))&\"\"))","v":0},{"$f":"IF(('r4'!$T$66)=0,(0),(INT(100/((('r4'!$T$66)/(3.142*($B$12*10)^2/4))))&\"\"))","v":0},{"$f":"IF(('r4'!$T$62)=0,(0),(INT(100/((('r4'!$T$62)/(3.142*($B$12*10)^2/4))))&\"\"))","v":0}]
[]
[null,"span L1",null,null,"span L2",null,null,"span L3",null,null,"span L4",null,null,"span L5"]
[null,"โมเมนต์ลบซ้าย","โมเมนต์บวกกลาง","โมเมนต์ลบขวา","โมเมนต์ลบซ้าย","โมเมนต์บวกกลาง","โมเมนต์ลบขวา","โมเมนต์ลบซ้าย","โมเมนต์บวกกลาง","โมเมนต์ลบขวา","โมเมนต์ลบซ้าย","โมเมนต์บวกกลาง","โมเมนต์ลบขวา","โมเมนต์ลบซ้าย","โมเมนต์บวกกลาง","โมเมนต์ลบขวา"]
[null,{"$f":"IF('r5'!$J$70=0,(0),(INT(100/((('r5'!$J$70)/(3.142*($B$12*10)^2/4))))&\"\"))","v":0},{"$f":"IF('r5'!$J$66=0,(0),(INT(100/((('r5'!$J$66)/(3.142*($B$12*10)^2/4))))&\"\"))","v":0},{"$f":"IF('r5'!$J$62=0,(0),(INT(100/((('r5'!$J$62)/(3.142*($B$12*10)^2/4))))&\"\"))","v":0},{"$f":"IF('r5'!$M$70=0,(0),(INT(100/((('r5'!$M$70)/(3.142*($B$12*10)^2/4))))&\"\"))","v":0},{"$f":"IF('r5'!$M$66=0,(0),(INT(100/((('r5'!$M$66)/(3.142*($B$12*10)^2/4))))&\"\"))","v":0},{"$f":"IF('r5'!$M$62=0,(0),(INT(100/((('r5'!$M$62)/(3.142*($B$12*10)^2/4))))&\"\"))","v":0},{"$f":"IF(('r5'!$O$70)<1,(0),(INT(100/((('r5'!$O$70)/(3.142*($B$12*10)^2/4))))&\"\"))","v":0},{"$f":"IF(('r5'!$O$66)=0,(0),(INT(100/((('r5'!$O$66)/(3.142*($B$12*10)^2/4))))&\"\"))","v":0},{"$f":"IF('r5'!$O$62=0,(0),(INT(100/((('r5'!$O$62)/(3.142*($B$12*10)^2/4))))&\"\"))","v":0},{"$f":"IF('r5'!$Q$70=0,(0),(INT(100/((('r5'!$Q$70)/(3.142*($B$12*10)^2/4))))&\"\"))","v":0},{"$f":"IF('r5'!$Q$66=0,(0),(INT(100/((('r5'!$Q$66)/(3.142*($B$12*10)^2/4))))&\"\"))","v":0},{"$f":"IF('r5'!$Q$62=0,(0),(INT(100/((('r5'!$Q$62)/(3.142*($B$12*10)^2/4))))&\"\"))","v":0},{"$f":"IF('r5'!$S$70=0,(0),(INT(100/((('r5'!$S$70)/(3.142*($B$12*10)^2/4))))&\"\"))","v":0},{"$f":"IF('r5'!$S$66=0,(0),(INT(100/((('r5'!$S$66)/(3.142*($B$12*10)^2/4))))&\"\"))","v":0},{"$f":"IF('r5'!$S$62=0,(0),(INT(100/((('r5'!$S$62)/(3.142*($B$12*10)^2/4))))&\"\"))","v":0}]
[null,{"$f":"IF('r5'!$K$70=0,(0),(INT(100/((('r5'!$K$70)/(3.142*($B$12*10)^2/4))))&\"\"))","v":0},{"$f":"IF('r5'!$K$66=0,(0),(INT(100/((('r5'!$K$66)/(3.142*($B$12*10)^2/4))))&\"\"))","v":0},{"$f":"IF('r5'!$K$62=0,(0),(INT(100/((('r5'!$K$62)/(3.142*($B$12*10)^2/4))))&\"\"))","v":0},{"$f":"IF('r5'!$N$70=0,(0),(INT(100/((('r5'!$N$70)/(3.142*($B$12*10)^2/4))))&\"\"))","v":0},{"$f":"IF(('r5'!$N$66)=0,(0),(INT(100/((('r5'!$N$66)/(3.142*($B$12*10)^2/4))))&\"\"))","v":0},{"$f":"IF('r5'!$N$62=0,(0),(INT(100/((('r5'!$N$62)/(3.142*($B$12*10)^2/4))))&\"\"))","v":0},{"$f":"IF(('r5'!$P$70)=0,(0),(INT(100/((('r5'!$P$70)/(3.142*($B$12*10)^2/4))))&\"\"))","v":0},{"$f":"IF(('r5'!$P$66)=0,(0),(INT(100/((('r5'!$P$66)/(3.142*($B$12*10)^2/4))))&\"\"))","v":0},{"$f":"IF(('r5'!$P$62)=0,(0),(INT(100/((('r5'!$P$62)/(3.142*($B$12*10)^2/4))))&\"\"))","v":0},{"$f":"IF(('r5'!$R$70)=0,(0),(INT(100/((('r5'!$R$70)/(3.142*($B$12*10)^2/4))))&\"\"))","v":0},{"$f":"IF(('r5'!$R$66)=0,(0),(INT(100/((('r5'!$R$66)/(3.142*($B$12*10)^2/4))))&\"\"))","v":0},{"$f":"IF(('r5'!$R$62)=0,(0),(INT(100/((('r5'!$R$62)/(3.142*($B$12*10)^2/4))))&\"\"))","v":0},{"$f":"IF(('r5'!$T$70)=0,(0),(INT(100/((('r5'!$T$70)/(3.142*($B$12*10)^2/4))))&\"\"))","v":0},{"$f":"IF(('r5'!$T$66)=0,(0),(INT(100/((('r5'!$T$66)/(3.142*($B$12*10)^2/4))))&\"\"))","v":0},{"$f":"IF(('r5'!$T$62)=0,(0),(INT(100/((('r5'!$T$62)/(3.142*($B$12*10)^2/4))))&\"\"))","v":0}]
[]
[null,"span L1",null,null,"span L2",null,null,"span L3",null,null,"span L4",null,null,"span L5"]
[null,"โมเมนต์ลบซ้าย","โมเมนต์บวกกลาง","โมเมนต์ลบขวา","โมเมนต์ลบซ้าย","โมเมนต์บวกกลาง","โมเมนต์ลบขวา","โมเมนต์ลบซ้าย","โมเมนต์บวกกลาง","โมเมนต์ลบขวา","โมเมนต์ลบซ้าย","โมเมนต์บวกกลาง","โมเมนต์ลบขวา","โมเมนต์ลบซ้าย","โมเมนต์บวกกลาง","โมเมนต์ลบขวา"]
[null,{"$f":"IF('r6'!$J$70=0,(0),(INT(100/((('r6'!$J$70)/(3.142*($B$12*10)^2/4))))&\"\"))","v":0},{"$f":"IF('r6'!$J$66=0,(0),(INT(100/((('r6'!$J$66)/(3.142*($B$12*10)^2/4))))&\"\"))","v":0},{"$f":"IF('r6'!$J$62=0,(0),(INT(100/((('r6'!$J$62)/(3.142*($B$12*10)^2/4))))&\"\"))","v":0},{"$f":"IF('r6'!$M$70=0,(0),(INT(100/((('r6'!$M$70)/(3.142*($B$12*10)^2/4))))&\"\"))","v":0},{"$f":"IF('r6'!$M$66=0,(0),(INT(100/((('r6'!$M$66)/(3.142*($B$12*10)^2/4))))&\"\"))","v":0},{"$f":"IF('r6'!$M$62=0,(0),(INT(100/((('r6'!$M$62)/(3.142*($B$12*10)^2/4))))&\"\"))","v":0},{"$f":"IF(('r6'!$O$70)<1,(0),(INT(100/((('r6'!$O$70)/(3.142*($B$12*10)^2/4))))&\"\"))","v":0},{"$f":"IF(('r6'!$O$66)=0,(0),(INT(100/((('r6'!$O$66)/(3.142*($B$12*10)^2/4))))&\"\"))","v":0},{"$f":"IF('r6'!$O$62=0,(0),(INT(100/((('r6'!$O$62)/(3.142*($B$12*10)^2/4))))&\"\"))","v":0},{"$f":"IF('r6'!$Q$70=0,(0),(INT(100/((('r6'!$Q$70)/(3.142*($B$12*10)^2/4))))&\"\"))","v":0},{"$f":"IF('r6'!$Q$66=0,(0),(INT(100/((('r6'!$Q$66)/(3.142*($B$12*10)^2/4))))&\"\"))","v":0},{"$f":"IF('r6'!$Q$62=0,(0),(INT(100/((('r6'!$Q$62)/(3.142*($B$12*10)^2/4))))&\"\"))","v":0},{"$f":"IF('r6'!$S$70=0,(0),(INT(100/((('r6'!$S$70)/(3.142*($B$12*10)^2/4))))&\"\"))","v":0},{"$f":"IF('r6'!$S$66=0,(0),(INT(100/((('r6'!$S$66)/(3.142*($B$12*10)^2/4))))&\"\"))","v":0},{"$f":"IF('r6'!$S$62=0,(0),(INT(100/((('r6'!$S$62)/(3.142*($B$12*10)^2/4))))&\"\"))","v":0}]
[null,{"$f":"IF('r6'!$K$70=0,(0),(INT(100/((('r6'!$K$70)/(3.142*($B$12*10)^2/4))))&\"\"))","v":0},{"$f":"IF('r6'!$K$66=0,(0),(INT(100/((('r6'!$K$66)/(3.142*($B$12*10)^2/4))))&\"\"))","v":0},{"$f":"IF('r6'!$K$62=0,(0),(INT(100/((('r6'!$K$62)/(3.142*($B$12*10)^2/4))))&\"\"))","v":0},{"$f":"IF('r6'!$N$70=0,(0),(INT(100/((('r6'!$N$70)/(3.142*($B$12*10)^2/4))))&\"\"))","v":0},{"$f":"IF(('r6'!$N$66)=0,(0),(INT(100/((('r6'!$N$66)/(3.142*($B$12*10)^2/4))))&\"\"))","v":0},{"$f":"IF('r6'!$N$62=0,(0),(INT(100/((('r6'!$N$62)/(3.142*($B$12*10)^2/4))))&\"\"))","v":0},{"$f":"IF(('r6'!$P$70)=0,(0),(INT(100/((('r6'!$P$70)/(3.142*($B$12*10)^2/4))))&\"\"))","v":0},{"$f":"IF(('r6'!$P$66)=0,(0),(INT(100/((('r6'!$P$66)/(3.142*($B$12*10)^2/4))))&\"\"))","v":0},{"$f":"IF(('r6'!$P$62)=0,(0),(INT(100/((('r6'!$P$62)/(3.142*($B$12*10)^2/4))))&\"\"))","v":0},{"$f":"IF(('r6'!$R$70)=0,(0),(INT(100/((('r6'!$R$70)/(3.142*($B$12*10)^2/4))))&\"\"))","v":0},{"$f":"IF(('r6'!$R$66)=0,(0),(INT(100/((('r6'!$R$66)/(3.142*($B$12*10)^2/4))))&\"\"))","v":0},{"$f":"IF(('r6'!$R$62)=0,(0),(INT(100/((('r6'!$R$62)/(3.142*($B$12*10)^2/4))))&\"\"))","v":0},{"$f":"IF(('r6'!$T$70)=0,(0),(INT(100/((('r6'!$T$70)/(3.142*($B$12*10)^2/4))))&\"\"))","v":0},{"$f":"IF(('r6'!$T$66)=0,(0),(INT(100/((('r6'!$T$66)/(3.142*($B$12*10)^2/4))))&\"\"))","v":0},{"$f":"IF(('r6'!$T$62)=0,(0),(INT(100/((('r6'!$T$62)/(3.142*($B$12*10)^2/4))))&\"\"))","v":0}]
[]
[null,"span R1",null,null,"span R2",null,null,"span R3",null,null,"span R4",null,null,"span R5"]
[null,"โมเมนต์ลบบน","โมเมนต์บวกกลาง","โมเมนต์ลบล่าง","โมเมนต์ลบบน","โมเมนต์บวกกลาง","โมเมนต์ลบล่าง","โมเมนต์ลบบน","โมเมนต์บวกกลาง","โมเมนต์ลบล่าง","โมเมนต์ลบบน","โมเมนต์บวกกลาง","โมเมนต์ลบล่าง","โมเมนต์ลบบน","โมเมนต์บวกกลาง","โมเมนต์ลบล่าง"]
[null,{"$f":"IF('l1'!$J$70=0,(0),(INT(100/((('l1'!$J$70)/(3.142*($B$12*10)^2/4))))&\"\"))","v":"17"},{"$f":"IF('l1'!$J$66=0,(0),(INT(100/((('l1'!$J$66)/(3.142*($B$12*10)^2/4))))&\"\"))","v":"23"},{"$f":"IF('l1'!$J$62=0,(0),(INT(100/((('l1'!$J$62)/(3.142*($B$12*10)^2/4))))&\"\"))","v":"13"},{"$f":"IF('l1'!$M$70=0,(0),(INT(100/((('l1'!$M$70)/(3.142*($B$12*10)^2/4))))&\"\"))","v":"13"},{"$f":"IF('l1'!$M$66=0,(0),(INT(100/((('l1'!$M$66)/(3.142*($B$12*10)^2/4))))&\"\"))","v":"35"},{"$f":"IF('l1'!$M$62=0,(0),(INT(100/((('l1'!$M$62)/(3.142*($B$12*10)^2/4))))&\"\"))","v":"30"},{"$f":"IF(('l1'!$O$70)<1,(0),(INT(100/((('l1'!$O$70)/(3.142*($B$12*10)^2/4))))&\"\"))","v":0},{"$f":"IF(('l1'!$O$66)=0,(0),(INT(100/((('l1'!$O$66)/(3.142*($B$12*10)^2/4))))&\"\"))","v":0},{"$f":"IF('l1'!$O$62=0,(0),(INT(100/((('l1'!$O$62)/(3.142*($B$12*10)^2/4))))&\"\"))","v":0},{"$f":"IF('l1'!$Q$70=0,(0),(INT(100/((('l1'!$Q$70)/(3.142*($B$12*10)^2/4))))&\"\"))","v":0},{"$f":"IF('l1'!$Q$66=0,(0),(INT(100/((('l1'!$Q$66)/(3.142*($B$12*10)^2/4))))&\"\"))","v":0},{"$f":"IF('l1'!$Q$62=0,(0),(INT(100/((('l1'!$Q$62)/(3.142*($B$12*10)^2/4))))&\"\"))","v":0},{"$f":"IF('l1'!$S$70=0,(0),(INT(100/((('l1'!$S$70)/(3.142*($B$12*10)^2/4))))&\"\"))","v":0},{"$f":"IF('l1'!$S$66=0,(0),(INT(100/((('l1'!$S$66)/(3.142*($B$12*10)^2/4))))&\"\"))","v":0},{"$f":"IF('l1'!$S$62=0,(0),(INT(100/((('l1'!$S$62)/(3.142*($B$12*10)^2/4))))&\"\"))","v":0}]
[null,{"$f":"INT(100/((('l1'!$K$70)/(3.142*($B$12*10)^2/4))))&\"\"","v":"37"},{"$f":"INT(100/((('l1'!$K$66)/(3.142*($B$12*10)^2/4))))&\"\"","v":"35"},{"$f":"INT(100/((('l1'!$K$62)/(3.142*($B$12*10)^2/4))))&\"\"","v":"37"},{"$f":"INT(100/((('l1'!$N$70)/(3.142*($B$12*10)^2/4))))&\"\"","v":"37"},{"$f":"INT(100/((('l1'!$N$66)/(3.142*($B$12*10)^2/4))))&\"\"","v":"37"},{"$f":"INT(100/((('l1'!N$62)/(3.142*($B$12*10)^2/4))))&\"\"","v":"37"},{"$f":"IF(('l1'!$P$70)=0,(0),(INT(100/((('l1'!$P$70)/(3.142*($B$12*10)^2/4))))&\"\"))","v":0},{"$f":"IF(('l1'!$P$66)=0,(0),(INT(100/((('l1'!$P$66)/(3.142*($B$12*10)^2/4))))&\"\"))","v":0},{"$f":"IF(('l1'!$P$62)=0,(0),(INT(100/((('l1'!$P$62)/(3.142*($B$12*10)^2/4))))&\"\"))","v":0},{"$f":"IF(('l1'!$R$70)=0,(0),(INT(100/((('l1'!$R$70)/(3.142*($B$12*10)^2/4))))&\"\"))","v":0},{"$f":"IF(('l1'!$R$66)=0,(0),(INT(100/((('l1'!$R$66)/(3.142*($B$12*10)^2/4))))&\"\"))","v":0},{"$f":"IF(('l1'!$R$62)=0,(0),(INT(100/((('l1'!$R$62)/(3.142*($B$12*10)^2/4))))&\"\"))","v":0},{"$f":"IF(('l1'!$T$70)=0,(0),(INT(100/((('l1'!$T$70)/(3.142*($B$12*10)^2/4))))&\"\"))","v":0},{"$f":"IF(('l1'!$T$66)=0,(0),(INT(100/((('l1'!$T$66)/(3.142*($B$12*10)^2/4))))&\"\"))","v":0},{"$f":"IF(('l1'!$T$62)=0,(0),(INT(100/((('l1'!$T$62)/(3.142*($B$12*10)^2/4))))&\"\"))","v":0}]
[]
[null,"span R1",null,null,"span R2",null,null,"span R3",null,null,"span R4",null,null,"span R5"]
[null,"โมเมนต์ลบบน","โมเมนต์บวกกลาง","โมเมนต์ลบล่าง","โมเมนต์ลบบน","โมเมนต์บวกกลาง","โมเมนต์ลบล่าง","โมเมนต์ลบบน","โมเมนต์บวกกลาง","โมเมนต์ลบล่าง","โมเมนต์ลบบน","โมเมนต์บวกกลาง","โมเมนต์ลบล่าง","โมเมนต์ลบบน","โมเมนต์บวกกลาง","โมเมนต์ลบล่าง"]
[null,{"$f":"IF('l2'!$J$70=0,(0),(INT(100/((('l2'!$J$70)/(3.142*($B$12*10)^2/4))))&\"\"))","v":"37"},{"$f":"IF('l2'!$J$66=0,(0),(INT(100/((('l2'!$J$66)/(3.142*($B$12*10)^2/4))))&\"\"))","v":"18"},{"$f":"IF('l2'!$J$62=0,(0),(INT(100/((('l2'!$J$62)/(3.142*($B$12*10)^2/4))))&\"\"))","v":"12"},{"$f":"IF('l2'!$M$70=0,(0),(INT(100/((('l2'!$M$70)/(3.142*($B$12*10)^2/4))))&\"\"))","v":"12"},{"$f":"IF('l2'!$M$66=0,(0),(INT(100/((('l2'!$M$66)/(3.142*($B$12*10)^2/4))))&\"\"))","v":"29"},{"$f":"IF('l2'!$M$62=0,(0),(INT(100/((('l2'!$M$62)/(3.142*($B$12*10)^2/4))))&\"\"))","v":"37"},{"$f":"IF(('l2'!$O$70)<1,(0),(INT(100/((('l2'!$O$70)/(3.142*($B$12*10)^2/4))))&\"\"))","v":0},{"$f":"IF(('l2'!$O$66)=0,(0),(INT(100/((('l2'!$O$66)/(3.142*($B$12*10)^2/4))))&\"\"))","v":0},{"$f":"IF('l2'!$O$62=0,(0),(INT(100/((('l2'!$O$62)/(3.142*($B$12*10)^2/4))))&\"\"))","v":0},{"$f":"IF('l2'!$Q$70=0,(0),(INT(100/((('l2'!$Q$70)/(3.142*($B$12*10)^2/4))))&\"\"))","v":0},{"$f":"IF('l2'!$Q$66=0,(0),(INT(100/((('l2'!$Q$66)/(3.142*($B$12*10)^2/4))))&\"\"))","v":0},{"$f":"IF('l2'!$Q$62=0,(0),(INT(100/((('l2'!$Q$62)/(3.142*($B$12*10)^2/4))))&\"\"))","v":0},{"$f":"IF('l2'!$S$70=0,(0),(INT(100/((('l2'!$S$70)/(3.142*($B$12*10)^2/4))))&\"\"))","v":0},{"$f":"IF('l2'!$S$66=0,(0),(INT(100/((('l2'!$S$66)/(3.142*($B$12*10)^2/4))))&\"\"))","v":0},{"$f":"IF('l2'!$S$62=0,(0),(INT(100/((('l2'!$S$62)/(3.142*($B$12*10)^2/4))))&\"\"))","v":0}]
[null,{"$f":"INT(100/((('l2'!$K$70)/(3.142*($B$12*10)^2/4))))&\"\"","v":"37"},{"$f":"INT(100/((('l2'!$K$66)/(3.142*($B$12*10)^2/4))))&\"\"","v":"27"},{"$f":"INT(100/((('l2'!$K$62)/(3.142*($B$12*10)^2/4))))&\"\"","v":"36"},{"$f":"INT(100/((('l2'!$N$70)/(3.142*($B$12*10)^2/4))))&\"\"","v":"36"},{"$f":"INT(100/((('l2'!$N$66)/(3.142*($B$12*10)^2/4))))&\"\"","v":"37"},{"$f":"INT(100/((('l2'!N$62)/(3.142*($B$12*10)^2/4))))&\"\"","v":"37"},{"$f":"IF(('l2'!$P$70)=0,(0),(INT(100/((('l2'!$P$70)/(3.142*($B$12*10)^2/4))))&\"\"))","v":0},{"$f":"IF(('l2'!$P$66)=0,(0),(INT(100/((('l2'!$P$66)/(3.142*($B$12*10)^2/4))))&\"\"))","v":0},{"$f":"IF(('l2'!$P$62)=0,(0),(INT(100/((('l2'!$P$62)/(3.142*($B$12*10)^2/4))))&\"\"))","v":0},{"$f":"IF(('l2'!$R$70)=0,(0),(INT(100/((('l2'!$R$70)/(3.142*($B$12*10)^2/4))))&\"\"))","v":0},{"$f":"IF(('l2'!$R$66)=0,(0),(INT(100/((('l2'!$R$66)/(3.142*($B$12*10)^2/4))))&\"\"))","v":0},{"$f":"IF(('l2'!$R$62)=0,(0),(INT(100/((('l2'!$R$62)/(3.142*($B$12*10)^2/4))))&\"\"))","v":0},{"$f":"IF(('l2'!$T$70)=0,(0),(INT(100/((('l2'!$T$70)/(3.142*($B$12*10)^2/4))))&\"\"))","v":0},{"$f":"IF(('l2'!$T$66)=0,(0),(INT(100/((('l2'!$T$66)/(3.142*($B$12*10)^2/4))))&\"\"))","v":0},{"$f":"IF(('l2'!$T$62)=0,(0),(INT(100/((('l2'!$T$62)/(3.142*($B$12*10)^2/4))))&\"\"))","v":0}]
[]
[null,"span R1",null,null,"span R2",null,null,"span R3",null,null,"span R4",null,null,"span R5"]
[null,"โมเมนต์ลบบน","โมเมนต์บวกกลาง","โมเมนต์ลบล่าง","โมเมนต์ลบบน","โมเมนต์บวกกลาง","โมเมนต์ลบล่าง","โมเมนต์ลบบน","โมเมนต์บวกกลาง","โมเมนต์ลบล่าง","โมเมนต์ลบบน","โมเมนต์บวกกลาง","โมเมนต์ลบล่าง","โมเมนต์ลบบน","โมเมนต์บวกกลาง","โมเมนต์ลบล่าง"]
[null,{"$f":"IF('l3'!$J$70=0,(0),(INT(100/((('l3'!$J$70)/(3.142*($B$12*10)^2/4))))&\"\"))","v":"37"},{"$f":"IF('l3'!$J$66=0,(0),(INT(100/((('l3'!$J$66)/(3.142*($B$12*10)^2/4))))&\"\"))","v":"18"},{"$f":"IF('l3'!$J$62=0,(0),(INT(100/((('l3'!$J$62)/(3.142*($B$12*10)^2/4))))&\"\"))","v":"12"},{"$f":"IF('l3'!$M$70=0,(0),(INT(100/((('l3'!$M$70)/(3.142*($B$12*10)^2/4))))&\"\"))","v":"12"},{"$f":"IF('l3'!$M$66=0,(0),(INT(100/((('l3'!$M$66)/(3.142*($B$12*10)^2/4))))&\"\"))","v":"29"},{"$f":"IF('l3'!$M$62=0,(0),(INT(100/((('l3'!$M$62)/(3.142*($B$12*10)^2/4))))&\"\"))","v":"37"},{"$f":"IF(('l3'!$O$70)<1,(0),(INT(100/((('l3'!$O$70)/(3.142*($B$12*10)^2/4))))&\"\"))","v":0},{"$f":"IF(('l3'!$O$66)=0,(0),(INT(100/((('l3'!$O$66)/(3.142*($B$12*10)^2/4))))&\"\"))","v":0},{"$f":"IF('l3'!$O$62=0,(0),(INT(100/((('l3'!$O$62)/(3.142*($B$12*10)^2/4))))&\"\"))","v":0},{"$f":"IF('l3'!$Q$70=0,(0),(INT(100/((('l3'!$Q$70)/(3.142*($B$12*10)^2/4))))&\"\"))","v":0},{"$f":"IF('l3'!$Q$66=0,(0),(INT(100/((('l3'!$Q$66)/(3.142*($B$12*10)^2/4))))&\"\"))","v":0},{"$f":"IF('l3'!$Q$62=0,(0),(INT(100/((('l3'!$Q$62)/(3.142*($B$12*10)^2/4))))&\"\"))","v":0},{"$f":"IF('l3'!$S$70=0,(0),(INT(100/((('l3'!$S$70)/(3.142*($B$12*10)^2/4))))&\"\"))","v":0},{"$f":"IF('l3'!$S$66=0,(0),(INT(100/((('l3'!$S$66)/(3.142*($B$12*10)^2/4))))&\"\"))","v":0},{"$f":"IF('l3'!$S$62=0,(0),(INT(100/((('l3'!$S$62)/(3.142*($B$12*10)^2/4))))&\"\"))","v":0}]
[null,{"$f":"IF('l3'!$K$70=0,(0),(INT(100/((('l3'!$K$70)/(3.142*($B$12*10)^2/4))))&\"\"))","v":"37"},{"$f":"IF('l3'!$K$66=0,(0),(INT(100/((('l3'!$K$66)/(3.142*($B$12*10)^2/4))))&\"\"))","v":"27"},{"$f":"IF('l3'!$K$62=0,(0),(INT(100/((('l3'!$K$62)/(3.142*($B$12*10)^2/4))))&\"\"))","v":"36"},{"$f":"IF('l3'!$N$70=0,(0),(INT(100/((('l3'!$N$70)/(3.142*($B$12*10)^2/4))))&\"\"))","v":"36"},{"$f":"IF(('l3'!$N$66)=0,(0),(INT(100/((('l3'!$N$66)/(3.142*($B$12*10)^2/4))))&\"\"))","v":"37"},{"$f":"IF('l3'!$N$62=0,(0),(INT(100/((('l3'!$N$62)/(3.142*($B$12*10)^2/4))))&\"\"))","v":"37"},{"$f":"IF(('l3'!$P$70)=0,(0),(INT(100/((('l3'!$P$70)/(3.142*($B$12*10)^2/4))))&\"\"))","v":0},{"$f":"IF(('l3'!$P$66)=0,(0),(INT(100/((('l3'!$P$66)/(3.142*($B$12*10)^2/4))))&\"\"))","v":0},{"$f":"IF(('l3'!$P$62)=0,(0),(INT(100/((('l3'!$P$62)/(3.142*($B$12*10)^2/4))))&\"\"))","v":0},{"$f":"IF(('l3'!$R$70)=0,(0),(INT(100/((('l3'!$R$70)/(3.142*($B$12*10)^2/4))))&\"\"))","v":0},{"$f":"IF(('l3'!$R$66)=0,(0),(INT(100/((('l3'!$R$66)/(3.142*($B$12*10)^2/4))))&\"\"))","v":0},{"$f":"IF(('l3'!$R$62)=0,(0),(INT(100/((('l3'!$R$62)/(3.142*($B$12*10)^2/4))))&\"\"))","v":0},{"$f":"IF(('l3'!$T$70)=0,(0),(INT(100/((('l3'!$T$70)/(3.142*($B$12*10)^2/4))))&\"\"))","v":0},{"$f":"IF(('l3'!$T$66)=0,(0),(INT(100/((('l3'!$T$66)/(3.142*($B$12*10)^2/4))))&\"\"))","v":0},{"$f":"IF(('l3'!$T$62)=0,(0),(INT(100/((('l3'!$T$62)/(3.142*($B$12*10)^2/4))))&\"\"))","v":0}]
[]
[null,"span R1",null,null,"span R2",null,null,"span R3",null,null,"span R4",null,null,"span R5"]
[null,"โมเมนต์ลบบน","โมเมนต์บวกกลาง","โมเมนต์ลบล่าง","โมเมนต์ลบบน","โมเมนต์บวกกลาง","โมเมนต์ลบล่าง","โมเมนต์ลบบน","โมเมนต์บวกกลาง","โมเมนต์ลบล่าง","โมเมนต์ลบบน","โมเมนต์บวกกลาง","โมเมนต์ลบล่าง","โมเมนต์ลบบน","โมเมนต์บวกกลาง","โมเมนต์ลบล่าง"]
[null,{"$f":"IF('l4'!$J$70=0,(0),(INT(100/((('l4'!$J$70)/(3.142*($B$12*10)^2/4))))&\"\"))","v":"17"},{"$f":"IF('l4'!$J$66=0,(0),(INT(100/((('l4'!$J$66)/(3.142*($B$12*10)^2/4))))&\"\"))","v":"23"},{"$f":"IF('l4'!$J$62=0,(0),(INT(100/((('l4'!$J$62)/(3.142*($B$12*10)^2/4))))&\"\"))","v":"13"},{"$f":"IF('l4'!$M$70=0,(0),(INT(100/((('l4'!$M$70)/(3.142*($B$12*10)^2/4))))&\"\"))","v":"13"},{"$f":"IF('l4'!$M$66=0,(0),(INT(100/((('l4'!$M$66)/(3.142*($B$12*10)^2/4))))&\"\"))","v":"35"},{"$f":"IF('l4'!$M$62=0,(0),(INT(100/((('l4'!$M$62)/(3.142*($B$12*10)^2/4))))&\"\"))","v":"30"},{"$f":"IF(('l4'!$O$70)<1,(0),(INT(100/((('l4'!$O$70)/(3.142*($B$12*10)^2/4))))&\"\"))","v":0},{"$f":"IF(('l4'!$O$66)=0,(0),(INT(100/((('l4'!$O$66)/(3.142*($B$12*10)^2/4))))&\"\"))","v":0},{"$f":"IF('l4'!$O$62=0,(0),(INT(100/((('l4'!$O$62)/(3.142*($B$12*10)^2/4))))&\"\"))","v":0},{"$f":"IF('l4'!$Q$70=0,(0),(INT(100/((('l4'!$Q$70)/(3.142*($B$12*10)^2/4))))&\"\"))","v":0},{"$f":"IF('l4'!$Q$66=0,(0),(INT(100/((('l4'!$Q$66)/(3.142*($B$12*10)^2/4))))&\"\"))","v":0},{"$f":"IF('l4'!$Q$62=0,(0),(INT(100/((('l4'!$Q$62)/(3.142*($B$12*10)^2/4))))&\"\"))","v":0},{"$f":"IF('l4'!$S$70=0,(0),(INT(100/((('l4'!$S$70)/(3.142*($B$12*10)^2/4))))&\"\"))","v":0},{"$f":"IF('l4'!$S$66=0,(0),(INT(100/((('l4'!$S$66)/(3.142*($B$12*10)^2/4))))&\"\"))","v":0},{"$f":"IF('l4'!$S$62=0,(0),(INT(100/((('l4'!$S$62)/(3.142*($B$12*10)^2/4))))&\"\"))","v":0}]
[null,{"$f":"IF('l4'!$K$70=0,(0),(INT(100/((('l4'!$K$70)/(3.142*($B$12*10)^2/4))))&\"\"))","v":"37"},{"$f":"IF('l4'!$K$66=0,(0),(INT(100/((('l4'!$K$66)/(3.142*($B$12*10)^2/4))))&\"\"))","v":"35"},{"$f":"IF('l4'!$K$62=0,(0),(INT(100/((('l4'!$K$62)/(3.142*($B$12*10)^2/4))))&\"\"))","v":"37"},{"$f":"IF('l4'!$N$70=0,(0),(INT(100/((('l4'!$N$70)/(3.142*($B$12*10)^2/4))))&\"\"))","v":"37"},{"$f":"IF(('l4'!$N$66)=0,(0),(INT(100/((('l4'!$N$66)/(3.142*($B$12*10)^2/4))))&\"\"))","v":"37"},{"$f":"IF('l4'!$N$62=0,(0),(INT(100/((('l4'!$N$62)/(3.142*($B$12*10)^2/4))))&\"\"))","v":"37"},{"$f":"IF(('l4'!$P$70)=0,(0),(INT(100/((('l4'!$P$70)/(3.142*($B$12*10)^2/4))))&\"\"))","v":0},{"$f":"IF(('l4'!$P$66)=0,(0),(INT(100/((('l4'!$P$66)/(3.142*($B$12*10)^2/4))))&\"\"))","v":0},{"$f":"IF(('l4'!$P$62)=0,(0),(INT(100/((('l4'!$P$62)/(3.142*($B$12*10)^2/4))))&\"\"))","v":0},{"$f":"IF(('l4'!$R$70)=0,(0),(INT(100/((('l4'!$R$70)/(3.142*($B$12*10)^2/4))))&\"\"))","v":0},{"$f":"IF(('l4'!$R$66)=0,(0),(INT(100/((('l4'!$R$66)/(3.142*($B$12*10)^2/4))))&\"\"))","v":0},{"$f":"IF(('l4'!$R$62)=0,(0),(INT(100/((('l4'!$R$62)/(3.142*($B$12*10)^2/4))))&\"\"))","v":0},{"$f":"IF(('l4'!$T$70)=0,(0),(INT(100/((('l4'!$T$70)/(3.142*($B$12*10)^2/4))))&\"\"))","v":0},{"$f":"IF(('l4'!$T$66)=0,(0),(INT(100/((('l4'!$T$66)/(3.142*($B$12*10)^2/4))))&\"\"))","v":0},{"$f":"IF(('l4'!$T$62)=0,(0),(INT(100/((('l4'!$T$62)/(3.142*($B$12*10)^2/4))))&\"\"))","v":0}]
[]
[null,"span R1",null,null,"span R2",null,null,"span R3",null,null,"span R4",null,null,"span R5"]
[null,"โมเมนต์ลบบน","โมเมนต์บวกกลาง","โมเมนต์ลบล่าง","โมเมนต์ลบบน","โมเมนต์บวกกลาง","โมเมนต์ลบล่าง","โมเมนต์ลบบน","โมเมนต์บวกกลาง","โมเมนต์ลบล่าง","โมเมนต์ลบบน","โมเมนต์บวกกลาง","โมเมนต์ลบล่าง","โมเมนต์ลบบน","โมเมนต์บวกกลาง","โมเมนต์ลบล่าง"]
[null,{"$f":"IF('l5'!$J$70=0,(0),(INT(100/((('l5'!$J$70)/(3.142*($B$12*10)^2/4))))&\"\"))","v":0},{"$f":"IF('l5'!$J$66=0,(0),(INT(100/((('l5'!$J$66)/(3.142*($B$12*10)^2/4))))&\"\"))","v":0},{"$f":"IF('l5'!$J$62=0,(0),(INT(100/((('l5'!$J$62)/(3.142*($B$12*10)^2/4))))&\"\"))","v":0},{"$f":"IF('l5'!$M$70=0,(0),(INT(100/((('l5'!$M$70)/(3.142*($B$12*10)^2/4))))&\"\"))","v":0},{"$f":"IF('l5'!$M$66=0,(0),(INT(100/((('l5'!$M$66)/(3.142*($B$12*10)^2/4))))&\"\"))","v":0},{"$f":"IF('l5'!$M$62=0,(0),(INT(100/((('l5'!$M$62)/(3.142*($B$12*10)^2/4))))&\"\"))","v":0},{"$f":"IF(('l5'!$O$70)<1,(0),(INT(100/((('l5'!$O$70)/(3.142*($B$12*10)^2/4))))&\"\"))","v":0},{"$f":"IF(('l5'!$O$66)=0,(0),(INT(100/((('l5'!$O$66)/(3.142*($B$12*10)^2/4))))&\"\"))","v":0},{"$f":"IF('l5'!$O$62=0,(0),(INT(100/((('l5'!$O$62)/(3.142*($B$12*10)^2/4))))&\"\"))","v":0},{"$f":"IF('l5'!$Q$70=0,(0),(INT(100/((('l5'!$Q$70)/(3.142*($B$12*10)^2/4))))&\"\"))","v":0},{"$f":"IF('l5'!$Q$66=0,(0),(INT(100/((('l5'!$Q$66)/(3.142*($B$12*10)^2/4))))&\"\"))","v":0},{"$f":"IF('l5'!$Q$62=0,(0),(INT(100/((('l5'!$Q$62)/(3.142*($B$12*10)^2/4))))&\"\"))","v":0},{"$f":"IF('l5'!$S$70=0,(0),(INT(100/((('l5'!$S$70)/(3.142*($B$12*10)^2/4))))&\"\"))","v":0},{"$f":"IF('l5'!$S$66=0,(0),(INT(100/((('l5'!$S$66)/(3.142*($B$12*10)^2/4))))&\"\"))","v":0},{"$f":"IF('l5'!$S$62=0,(0),(INT(100/((('l5'!$S$62)/(3.142*($B$12*10)^2/4))))&\"\"))","v":0}]
[null,{"$f":"IF('l5'!$K$70=0,(0),(INT(100/((('l5'!$K$70)/(3.142*($B$12*10)^2/4))))&\"\"))","v":0},{"$f":"IF('l5'!$K$66=0,(0),(INT(100/((('l5'!$K$66)/(3.142*($B$12*10)^2/4))))&\"\"))","v":0},{"$f":"IF('l5'!$K$62=0,(0),(INT(100/((('l5'!$K$62)/(3.142*($B$12*10)^2/4))))&\"\"))","v":0},{"$f":"IF('l5'!$N$70=0,(0),(INT(100/((('l5'!$N$70)/(3.142*($B$12*10)^2/4))))&\"\"))","v":0},{"$f":"IF(('l5'!$N$66)=0,(0),(INT(100/((('l5'!$N$66)/(3.142*($B$12*10)^2/4))))&\"\"))","v":0},{"$f":"IF('l5'!$N$62=0,(0),(INT(100/((('l5'!$N$62)/(3.142*($B$12*10)^2/4))))&\"\"))","v":0},{"$f":"IF(('l5'!$P$70)=0,(0),(INT(100/((('l5'!$P$70)/(3.142*($B$12*10)^2/4))))&\"\"))","v":0},{"$f":"IF(('l5'!$P$66)=0,(0),(INT(100/((('l5'!$P$66)/(3.142*($B$12*10)^2/4))))&\"\"))","v":0},{"$f":"IF(('l5'!$P$62)=0,(0),(INT(100/((('l5'!$P$62)/(3.142*($B$12*10)^2/4))))&\"\"))","v":0},{"$f":"IF(('l5'!$R$70)=0,(0),(INT(100/((('l5'!$R$70)/(3.142*($B$12*10)^2/4))))&\"\"))","v":0},{"$f":"IF(('l5'!$R$66)=0,(0),(INT(100/((('l5'!$R$66)/(3.142*($B$12*10)^2/4))))&\"\"))","v":0},{"$f":"IF(('l5'!$R$62)=0,(0),(INT(100/((('l5'!$R$62)/(3.142*($B$12*10)^2/4))))&\"\"))","v":0},{"$f":"IF(('l5'!$T$70)=0,(0),(INT(100/((('l5'!$T$70)/(3.142*($B$12*10)^2/4))))&\"\"))","v":0},{"$f":"IF(('l5'!$T$66)=0,(0),(INT(100/((('l5'!$T$66)/(3.142*($B$12*10)^2/4))))&\"\"))","v":0},{"$f":"IF(('l5'!$T$62)=0,(0),(INT(100/((('l5'!$T$62)/(3.142*($B$12*10)^2/4))))&\"\"))","v":0}]
[]
[null,"span R1",null,null,"span R2",null,null,"span R3",null,null,"span R4",null,null,"span R5"]
[null,"โมเมนต์ลบบน","โมเมนต์บวกกลาง","โมเมนต์ลบล่าง","โมเมนต์ลบบน","โมเมนต์บวกกลาง","โมเมนต์ลบล่าง","โมเมนต์ลบบน","โมเมนต์บวกกลาง","โมเมนต์ลบล่าง","โมเมนต์ลบบน","โมเมนต์บวกกลาง","โมเมนต์ลบล่าง","โมเมนต์ลบบน","โมเมนต์บวกกลาง","โมเมนต์ลบล่าง"]
[null,{"$f":"IF('l6'!$J$70=0,(0),(INT(100/((('l6'!$J$70)/(3.142*($B$12*10)^2/4))))&\"\"))","v":0},{"$f":"IF('l6'!$J$66=0,(0),(INT(100/((('l6'!$J$66)/(3.142*($B$12*10)^2/4))))&\"\"))","v":0},{"$f":"IF('l6'!$J$62=0,(0),(INT(100/((('l6'!$J$62)/(3.142*($B$12*10)^2/4))))&\"\"))","v":0},{"$f":"IF('l6'!$M$70=0,(0),(INT(100/((('l6'!$M$70)/(3.142*($B$12*10)^2/4))))&\"\"))","v":0},{"$f":"IF('l6'!$M$66=0,(0),(INT(100/((('l6'!$M$66)/(3.142*($B$12*10)^2/4))))&\"\"))","v":0},{"$f":"IF('l6'!$M$62=0,(0),(INT(100/((('l6'!$M$62)/(3.142*($B$12*10)^2/4))))&\"\"))","v":0},{"$f":"IF(('l6'!$O$70)<1,(0),(INT(100/((('l6'!$O$70)/(3.142*($B$12*10)^2/4))))&\"\"))","v":0},{"$f":"IF(('l6'!$O$66)=0,(0),(INT(100/((('l6'!$O$66)/(3.142*($B$12*10)^2/4))))&\"\"))","v":0},{"$f":"IF('l6'!$O$62=0,(0),(INT(100/((('l6'!$O$62)/(3.142*($B$12*10)^2/4))))&\"\"))","v":0},{"$f":"IF('l6'!$Q$70=0,(0),(INT(100/((('l6'!$Q$70)/(3.142*($B$12*10)^2/4))))&\"\"))","v":0},{"$f":"IF('l6'!$Q$66=0,(0),(INT(100/((('l6'!$Q$66)/(3.142*($B$12*10)^2/4))))&\"\"))","v":0},{"$f":"IF('l6'!$Q$62=0,(0),(INT(100/((('l6'!$Q$62)/(3.142*($B$12*10)^2/4))))&\"\"))","v":0},{"$f":"IF('l6'!$S$70=0,(0),(INT(100/((('l6'!$S$70)/(3.142*($B$12*10)^2/4))))&\"\"))","v":0},{"$f":"IF('l6'!$S$66=0,(0),(INT(100/((('l6'!$S$66)/(3.142*($B$12*10)^2/4))))&\"\"))","v":0},{"$f":"IF('l6'!$S$62=0,(0),(INT(100/((('l6'!$S$62)/(3.142*($B$12*10)^2/4))))&\"\"))","v":0}]
[null,{"$f":"IF('l6'!$K$70=0,(0),(INT(100/((('l6'!$K$70)/(3.142*($B$12*10)^2/4))))&\"\"))","v":0},{"$f":"IF('l6'!$K$66=0,(0),(INT(100/((('l6'!$K$66)/(3.142*($B$12*10)^2/4))))&\"\"))","v":0},{"$f":"IF('l6'!$K$62=0,(0),(INT(100/((('l6'!$K$62)/(3.142*($B$12*10)^2/4))))&\"\"))","v":0},{"$f":"IF('l6'!$N$70=0,(0),(INT(100/((('l6'!$N$70)/(3.142*($B$12*10)^2/4))))&\"\"))","v":0},{"$f":"IF(('l6'!$N$66)=0,(0),(INT(100/((('l6'!$N$66)/(3.142*($B$12*10)^2/4))))&\"\"))","v":0},{"$f":"IF('l6'!$N$62=0,(0),(INT(100/((('l6'!$N$62)/(3.142*($B$12*10)^2/4))))&\"\"))","v":0},{"$f":"IF(('l6'!$P$70)=0,(0),(INT(100/((('l6'!$P$70)/(3.142*($B$12*10)^2/4))))&\"\"))","v":0},{"$f":"IF(('l6'!$P$66)=0,(0),(INT(100/((('l6'!$P$66)/(3.142*($B$12*10)^2/4))))&\"\"))","v":0},{"$f":"IF(('l6'!$P$62)=0,(0),(INT(100/((('l6'!$P$62)/(3.142*($B$12*10)^2/4))))&\"\"))","v":0},{"$f":"IF(('l6'!$R$70)=0,(0),(INT(100/((('l6'!$R$70)/(3.142*($B$12*10)^2/4))))&\"\"))","v":0},{"$f":"IF(('l6'!$R$66)=0,(0),(INT(100/((('l6'!$R$66)/(3.142*($B$12*10)^2/4))))&\"\"))","v":0},{"$f":"IF(('l6'!$R$62)=0,(0),(INT(100/((('l6'!$R$62)/(3.142*($B$12*10)^2/4))))&\"\"))","v":0},{"$f":"IF(('l6'!$T$70)=0,(0),(INT(100/((('l6'!$T$70)/(3.142*($B$12*10)^2/4))))&\"\"))","v":0},{"$f":"IF(('l6'!$T$66)=0,(0),(INT(100/((('l6'!$T$66)/(3.142*($B$12*10)^2/4))))&\"\"))","v":0},{"$f":"IF(('l6'!$T$62)=0,(0),(INT(100/((('l6'!$T$62)/(3.142*($B$12*10)^2/4))))&\"\"))","v":0}]

{"sheet":"r1","index":1,"n_rows":109,"n_cols":86,"rows_kept":109,"cut":false,"hidden":false,"merged":[[103,60,103,61],[103,48,103,49],[103,51,103,52],[103,57,103,58],[69,10,69,11],[103,63,103,64],[103,45,103,46],[47,10,47,11],[48,10,48,11],[103,9,103,10],[103,12,103,13],[103,15,103,16],[103,21,103,22],[103,24,103,25],[103,27,103,28],[103,33,103,34],[103,36,103,37],[103,39,103,40],[50,10,50,11],[51,10,51,11],[52,10,52,11],[53,10,53,11],[54,10,54,11],[55,18,55,19],[55,6,55,8],[55,9,55,11],[55,12,55,13],[55,14,55,15],[20,69,20,79],[46,10,46,11],[0,0,0,4],[5,0,5,1],[5,3,5,4],[12,0,12,1],[12,3,12,4],[20,9,20,19],[20,33,20,43],[20,45,20,55],[20,57,20,67],[20,21,20,31],[64,10,64,11],[65,10,65,11],[66,10,66,11],[67,10,67,11],[68,10,68,11],[63,10,63,11],[55,16,55,17],[60,10,60,11],[61,10,61,11],[62,10,62,11],[59,10,59,11],[58,10,58,11],[56,10,56,11],[57,10,57,11]]}
["รายการคำนวณโมเมนต์แกน x   แถบนอก Rslab1"]
["ระยะช่วงพื้น (unit: m)",{"$f":"MAX(Sheet1!F9,Sheet1!F10,Sheet1!F11,Sheet1!F12,Sheet1!F13,Sheet1!L9,Sheet1!L10,Sheet1!L11,Sheet1!L12,Sheet1!F13)","v":6},null,"ความกว้างแถบเสา =",{"$f":"(Sheet1!L9)/2","v":3}]
["ตัวคูณหาความหนาพื้นขั้นต่ำ",{"$f":"0.01*LN(Sheet1!B9)-0.05","v":3.0255163864890078E-2}]
[]
["ความหนาพื้น (unit:m)",{"$f":"IF((B2*B3)>0.12,(B2*B3),(0.12))","v":0.18153098318934047}]
["น้ำหนัก DL+WDS",null,null,"น้ำหนัก LL"]
["Wdl1+Wsd1 (unit:KG/m^2) =",{"$f":"IF(Sheet1!B3>=2,(((Sheet1!B16*Sheet1!B11)+Sheet1!J9)*1.4),(0))","v":1819.9999999999998},null,"Wtl1 (unit:kg/m^2) =",{"$f":"(1.7*Sheet1!H9)","v":510}]
["Wdl2+Wsd2 (unit:KG/m^2) =",{"$f":"IF(Sheet1!B3>=2,(((Sheet1!B16*Sheet1!B11)+Sheet1!J10)*1.4),(0))","v":1819.9999999999998},null,"Wtl2 (unit:kg/m^2) =",{"$f":"1.7*Sheet1!H10","v":510}]
[{"$f":"IF(Sheet1!B3>2,(\"Wdl3+Wsd3 (unit:KG/m^2) =\"),(\"\"))","v":"Wdl3+Wsd3 (unit:KG/m^2) ="},{"$f":"IF(Sheet1!B3>=3,(((Sheet1!B16*Sheet1!B11)+Sheet1!J11)*1.4),(0))","v":1819.9999999999998},null,{"$f":"IF(Sheet1!B3>2,(\"Wtl3 (unit:KG/m^2) =\"),(\"\"))","v":"Wtl3 (unit:KG/m^2) ="},{"$f":"1.7*Sheet1!H11","v":510}]
[{"$f":"IF(Sheet1!B3>3,(\"Wdl4+Wsd4 (unit:KG/m^2) =\"),(\"\"))","v":""},{"$f":"IF(Sheet1!B3>=4,(((Sheet1!B16*Sheet1!B11)+Sheet1!J12)*1.4),(0))","v":0},null,{"$f":"IF(Sheet1!B3>3,(\"Wtl4 (unit:KG/m^2) =\"),(\"\"))","v":""},{"$f":"1.7*Sheet1!H12","v":0}]
[{"$f":"IF(Sheet1!B3>4,(\"Wdl5+Wsd5 (unit:KG/m^2) =\"),(\"\"))","v":""},{"$f":"IF(Sheet1!B3>=5,(((Sheet1!B16*Sheet1!B11)+Sheet1!J13)*1.4),(0))","v":0},null,{"$f":"IF(Sheet1!B3>4,(\"Wtl5 (unit:KG/m^2) =\"),(\"\"))","v":""},{"$f":"1.7*Sheet1!H13","v":0}]
[]
["โมเมนต์ DL+WSD",null,null,"โมเมนต LL"]
["FEM.DL1 (unit:kg*m) =",{"$f":"B7*E2*Sheet1!F9^2/12","v":11374.999999999998},null,"FEM.TL1 (unit:kg*m) =",{"$f":"E7*E2*Sheet1!F9^2/12","v":3187.5}]
["FEM.DL2 (unit:kg*m) =",{"$f":"B8*E2*Sheet1!F10^2/12","v":16379.999999999998},null,"FEM.TL2 (unit:kg*m) =",{"$f":"E8*E2*Sheet1!F10^2/12","v":4590}]
[{"$f":"IF(Sheet1!B3>=3,(\"FEM.DL3 (unit:kg*m) =\"),(\"\"))","v":"FEM.DL3 (unit:kg*m) ="},{"$f":"IF(Sheet1!B3>=3,('r1'!B9*'r1'!E2*Sheet1!F11^2/12),(0))","v":11374.999999999998},null,{"$f":"IF(Sheet1!B3>=3,(\"FEM.TL3 (unit:kg*m) =\"),(\"\"))","v":"FEM.TL3 (unit:kg*m) ="},{"$f":"IF(Sheet1!B3>=3,('r1'!E9*'r1'!E2*Sheet1!F11^2/12),(0))","v":3187.5}]
[{"$f":"IF(Sheet1!B3>=4,(\"FEM.DL4 (unit:kg*m) =\"),(\"\"))","v":""},{"$f":"IF(Sheet1!B3>=4,('r1'!B10*'r1'!E2*Sheet1!F12^2/12),(0))","v":0},null,{"$f":"IF(Sheet1!B3>=4,(\"FEM.TL4 (unit:kg*m) =\"),(\"\"))","v":""},{"$f":"IF(Sheet1!B3>=4,('r1'!E10*'r1'!E2*Sheet1!F12^2/12),(0))","v":0}]
[{"$f":"IF(Sheet1!B3>=5,(\"FEM.DL5 (unit:kg*m) =\"),(\"\"))","v":""},{"$f":"IF(Sheet1!B3>=5,('r1'!B11*'r1'!E2*Sheet1!F13^2/12),(0))","v":0},null,{"$f":"IF(Sheet1!B3>=5,(\"FEM.TL5 (unit:kg*m) =\"),(\"\"))","v":""},{"$f":"IF(Sheet1!B3>=5,('r1'!E11*'r1'!E2*Sheet1!F13^2/12),(0))","v":0}]
[]
[]
[null,null,null,null,null,null,null,null,null,"วางน้ำหนัก LL    สแปน 1",null,null,null,null,null,null,null,null,null,null,null,"วางน้ำหนัก LL  สแปน 2",null,null,null,null,null,null,null,null,null,null,null,"วางน้ำหนัก LL สแปน 3",null,null,null,null,null,null,null,null,null,null,null,"วางน้ำหนัก LL สแปน 4",null,null,null,null,null,null,null,null,null,null,null,"วางน้ำหนัก LL  สแปน 5",null,null,null,null,null,null,null,null,null,null,null,"วางน้ำหนัก DL ทุกสแปน"]
[null,null,null,null,null,null,null,null,null,null,"1r","2l","2r","3l","3r","4l","4r","5l","5r","6l",null,null,"1r","2l","2r","3l","3r","4l","4r","5l","5r","6l",null,null,"1r","2l","2r","3l","3r","4l","4r","5l","5r","6l",null,null,"1r","2l","2r","3l","3r","4l","4r","5l","5r","6l",null,null,"1r","2l","2r","3l","3r","4l","4r","5l","5r","6l",null,null,"1r","2l","2r","3l","3r","4l","4r","5l","5r","6l"]
[null,null,null,null,null,null,null,null,null,"D.o.f",0.38166111983466622,0.23678799091959429,0.19560747075966486,0.19560747075966486,0.23678799091959429,0.38166111983466622,null,null,null,null,null,"D.o.f",0.38166111983466622,0.23678799091959429,0.19560747075966486,0.19560747075966486,0.23678799091959429,0.38166111983466622,null,null,null,null,null,"D.o.f",0.38166111983466622,0.23678799091959429,0.19560747075966486,0.19560747075966486,0.23678799091959429,0.38166111983466622,null,null,null,null,null,"D.o.f",0.38166111983466622,0.23678799091959429,0.19560747075966486,0.19560747075966486,0.23678799091959429,0.38166111983466622,null,null,null,null,null,"D.o.f",0.38166111983466622,0.23678799091959429,0.19560747075966486,0.19560747075966486,0.23678799091959429,0.38166111983466622,null,null,null,null,null,"D.o.f",0.38166111983466622,0.23678799091959429,0.19560747075966486,0.19560747075966486,0.23678799091959429,0.38166111983466622]
[null,null,null,null,null,null,null,null,null,"FEM",{"$f":"E14*-1","v":-3187.5},{"$f":"E14","v":3187.5},null,null,null,null,null,null,null,null,null,"FEM",null,null,{"$f":"-E15","v":-4590},{"$f":"E15","v":4590},null,null,null,null,null,null,null,"FEM",null,null,null,null,{"$f":"-E16","v":-3187.5},{"$f":"E16","v":3187.5},null,null,null,null,null,"FEM",null,null,null,null,null,null,{"$f":"-E17","v":0},{"$f":"E17","v":0},null,null,null,"FEM",null,null,null,null,null,null,null,null,{"$f":"-E18","v":0},{"$f":"E18","v":0},null,"FEM",{"$f":"-B14","v":-11374.999999999998},{"$f":"B14","v":11374.999999999998},{"$f":"-B15","v":-16379.999999999998},{"$f":"B15","v":16379.999999999998},{"$f":"-B16","v":-11374.999999999998},{"$f":"B16","v":11374.999999999998},{"$f":"-B17","v":0},{"$f":"B17","v":0},{"$f":"-B18","v":0},{"$f":"B18","v":0}]
[null,null,null,null,null,null,null,null,null,"Dis",{"$f":"(K24)*K23*-1","v":1216.5448194729986},{"$f":"(L24+M24)*L23*-1","v":-754.76172105620685},{"$f":"(M24+L24)*M23*-1","v":-623.49881304643179},{"$f":"(N24+O24)*N23*-1","v":0},{"$f":"(O24+N24)*O23*-1","v":0},{"$f":"(P24+Q24)*P23*-1","v":0},{"$f":"(Q24+P24)*Q23*-1","v":0},{"$f":"(R24+S24)*R23*-1","v":0},{"$f":"(S24+R24)*S23*-1","v":0},{"$f":"(T24+U24)*T23*-1","v":0},null,"Dis",{"$f":"(W24)*W23*-1","v":0},{"$f":"(X24+Y24)*X23*-1","v":1086.8568783209378},{"$f":"(Y24+X24)*Y23*-1","v":897.83829078686176},{"$f":"(Z24+AA24)*Z23*-1","v":-897.83829078686176},{"$f":"(AA24+Z24)*AA23*-1","v":-1086.8568783209378},{"$f":"(AB24+AC24)*AB23*-1","v":0},{"$f":"(AC24+AB24)*AC23*-1","v":0},{"$f":"(AD24+AE24)*AD23*-1","v":0},{"$f":"(AE24+AD24)*AE23*-1","v":0},{"$f":"(AF24+AG24)*AF23*-1","v":0},null,"Dis",{"$f":"(AI24)*AI23*-1","v":0},{"$f":"(AJ24+AK24)*AJ23*-1","v":0},{"$f":"(AK24+AJ24)*AK23*-1","v":0},{"$f":"(AL24+AM24)*AL23*-1","v":623.49881304643179},{"$f":"(AM24+AL24)*AM23*-1","v":754.76172105620685},{"$f":"(AN24+AO24)*AN23*-1","v":-1216.5448194729986},{"$f":"(AO24+AN24)*AO23*-1","v":0},{"$f":"(AP24+AQ24)*AP23*-1","v":0},{"$f":"(AQ24+AP24)*AQ23*-1","v":0},{"$f":"(AR24+AS24)*AR23*-1","v":0},null,"Dis",{"$f":"(AU24)*AU23*-1","v":0},{"$f":"(AV24+AW24)*AV23*-1","v":0},{"$f":"(AW24+AV24)*AW23*-1","v":0},{"$f":"(AX24+AY24)*AX23*-1","v":0},{"$f":"(AY24+AX24)*AY23*-1","v":0},{"$f":"(AZ24+BA24)*AZ23*-1","v":0},{"$f":"(BA24+AZ24)*BA23*-1","v":0},{"$f":"(BB24+BC24)*BB23*-1","v":0},{"$f":"(BC24+BB24)*BC23*-1","v":0},{"$f":"(BD24+BE24)*BD23*-1","v":0},null,"Dis",{"$f":"(BG24)*BG23*-1","v":0},{"$f":"(BH24+BI24)*BH23*-1","v":0},{"$f":"(BI24+BH24)*BI23*-1","v":0},{"$f":"(BJ24+BK24)*BJ23*-1","v":0},{"$f":"(BK24+BJ24)*BK23*-1","v":0},{"$f":"(BL24+BM24)*BL23*-1","v":0},{"$f":"(BM24+BL24)*BM23*-1","v":0},{"$f":"(BN24+BO24)*BN23*-1","v":0},{"$f":"(BO24+BN24)*BO23*-1","v":0},{"$f":"(BP24+BQ24)*BP23*-1","v":0},null,"Dis",{"$f":"(BS24)*BS23*-1","v":4341.3952381193276},{"$f":"(BT24+BU24)*BT23*-1","v":1185.1238945525695},{"$f":"(BU24+BT24)*BU23*-1","v":979.01539115212267},{"$f":"(BV24+BW24)*BV23*-1","v":-979.01539115212267},{"$f":"(BW24+BV24)*BW23*-1","v":-1185.1238945525695},{"$f":"(BX24+BY24)*BX23*-1","v":-4341.3952381193276},{"$f":"(BY24+BX24)*BY23*-1","v":0},{"$f":"(BZ24+CA24)*BZ23*-1","v":0},{"$f":"(CA24+BZ24)*CA23*-1","v":0},{"$f":"(CB24+CC24)*CB23*-1","v":0}]
[null,null,null,null,null,null,null,null,null,"Co",{"$f":"L25/2","v":-377.38086052810343},{"$f":"K25/2","v":608.2724097364993},{"$f":"N25/2","v":0},{"$f":"M25/2","v":-311.7494065232159},{"$f":"P25/2","v":0},{"$f":"O25/2","v":0},{"$f":"R25/2","v":0},{"$f":"Q25/2","v":0},{"$f":"T25/2","v":0},{"$f":"S25/2","v":0},null,"Co",{"$f":"X25/2","v":543.42843916046888},{"$f":"W25/2","v":0},{"$f":"Z25/2","v":-448.91914539343088},{"$f":"Y25/2","v":448.91914539343088},{"$f":"AB25/2","v":0},{"$f":"AA25/2","v":-543.42843916046888},{"$f":"AD25/2","v":0},{"$f":"AC25/2","v":0},{"$f":"AF25/2","v":0},{"$f":"AE25/2","v":0},null,"Co",{"$f":"AJ25/2","v":0},{"$f":"AI25/2","v":0},{"$f":"AL25/2","v":311.7494065232159},{"$f":"AK25/2","v":0},{"$f":"AN25/2","v":-608.2724097364993},{"$f":"AM25/2","v":377.38086052810343},{"$f":"AP25/2","v":0},{"$f":"AO25/2","v":0},{"$f":"AR25/2","v":0},{"$f":"AQ25/2","v":0},null,"Co",{"$f":"AV25/2","v":0},{"$f":"AU25/2","v":0},{"$f":"AX25/2","v":0},{"$f":"AW25/2","v":0},{"$f":"AZ25/2","v":0},{"$f":"AY25/2","v":0},{"$f":"BB25/2","v":0},{"$f":"BA25/2","v":0},{"$f":"BD25/2","v":0},{"$f":"BC25/2","v":0},null,"Co",{"$f":"BH25/2","v":0},{"$f":"BG25/2","v":0},{"$f":"BJ25/2","v":0},{"$f":"BI25/2","v":0},{"$f":"BL25/2","v":0},{"$f":"BK25/2","v":0},{"$f":"BN25/2","v":0},{"$f":"BM25/2","v":0},{"$f":"BP25/2","v":0},{"$f":"BO25/2","v":0},null,"Co",{"$f":"BT25/2","v":592.56194727628474},{"$f":"BS25/2","v":2170.6976190596638},{"$f":"BV25/2","v":-489.50769557606134},{"$f":"BU25/2","v":489.50769557606134},{"$f":"BX25/2","v":-2170.6976190596638},{"$f":"BW25/2","v":-592.56194727628474},{"$f":"BZ25/2","v":0},{"$f":"BY25/2","v":0},{"$f":"CB25/2","v":0},{"$f":"CA25/2","v":0}]
[null,null,null,null,null,null,null,null,null,"dis",{"$f":"(K26)*K23*-1","v":144.03160183332594},{"$f":"(L26+M26)*L23*-1","v":-144.03160183332594},{"$f":"(M26+L26)*M23*-1","v":-118.98262760144317},{"$f":"(N26+O26)*N23*-1","v":60.98051292083283},{"$f":"(O26+N26)*O23*-1","v":73.818515641008162},{"$f":"(P26+Q26)*P23*-1","v":0},{"$f":"(Q26+P26)*Q23*-1","v":0},{"$f":"(R26+S26)*R23*-1","v":0},{"$f":"(S26+R26)*S23*-1","v":0},{"$f":"(T26+U26)*T23*-1","v":0},null,"dis",{"$f":"(W26)*W23*-1","v":-207.40550663998934},{"$f":"(X26+Y26)*X23*-1","v":106.29866252305175},{"$f":"(Y26+X26)*Y23*-1","v":87.811938605999273},{"$f":"(Z26+AA26)*Z23*-1","v":-87.811938605999273},{"$f":"(AA26+Z26)*AA23*-1","v":-106.29866252305175},{"$f":"(AB26+AC26)*AB23*-1","v":207.40550663998934},{"$f":"(AC26+AB26)*AC23*-1","v":0},{"$f":"(AD26+AE26)*AD23*-1","v":0},{"$f":"(AE26+AD26)*AE23*-1","v":0},{"$f":"(AF26+AG26)*AF23*-1","v":0},null,"dis",{"$f":"(AI26)*AI23*-1","v":0},{"$f":"(AJ26+AK26)*AJ23*-1","v":-73.818515641008162},{"$f":"(AK26+AJ26)*AK23*-1","v":-60.98051292083283},{"$f":"(AL26+AM26)*AL23*-1","v":118.98262760144317},{"$f":"(AM26+AL26)*AM23*-1","v":144.03160183332594},{"$f":"(AN26+AO26)*AN23*-1","v":-144.03160183332594},{"$f":"(AO26+AN26)*AO23*-1","v":0},{"$f":"(AP26+AQ26)*AP23*-1","v":0},{"$f":"(AQ26+AP26)*AQ23*-1","v":0},{"$f":"(AR26+AS26)*AR23*-1","v":0},null,"dis",{"$f":"(AU26)*AU23*-1","v":0},{"$f":"(AV26+AW26)*AV23*-1","v":0},{"$f":"(AW26+AV26)*AW23*-1","v":0},{"$f":"(AX26+AY26)*AX23*-1","v":0},{"$f":"(AY26+AX26)*AY23*-1","v":0},{"$f":"(AZ26+BA26)*AZ23*-1","v":0},{"$f":"(BA26+AZ26)*BA23*-1","v":0},{"$f":"(BB26+BC26)*BB23*-1","v":0},{"$f":"(BC26+BB26)*BC23*-1","v":0},{"$f":"(BD26+BE26)*BD23*-1","v":0},null,"dis",{"$f":"(BG26)*BG23*-1","v":0},{"$f":"(BH26+BI26)*BH23*-1","v":0},{"$f":"(BI26+BH26)*BI23*-1","v":0},{"$f":"(BJ26+BK26)*BJ23*-1","v":0},{"$f":"(BK26+BJ26)*BK23*-1","v":0},{"$f":"(BL26+BM26)*BL23*-1","v":0},{"$f":"(BM26+BL26)*BM23*-1","v":0},{"$f":"(BN26+BO26)*BN23*-1","v":0},{"$f":"(BO26+BN26)*BO23*-1","v":0},{"$f":"(BP26+BQ26)*BP23*-1","v":0},null,"dis",{"$f":"(BS26)*BS23*-1","v":-226.15785636887728},{"$f":"(BT26+BU26)*BT23*-1","v":-398.08558433594868},{"$f":"(BU26+BT26)*BU23*-1","v":-328.85330879926198},{"$f":"(BV26+BW26)*BV23*-1","v":328.85330879926198},{"$f":"(BW26+BV26)*BW23*-1","v":398.08558433594868},{"$f":"(BX26+BY26)*BX23*-1","v":226.15785636887728},{"$f":"(BY26+BX26)*BY23*-1","v":0},{"$f":"(BZ26+CA26)*BZ23*-1","v":0},{"$f":"(CA26+BZ26)*CA23*-1","v":0},{"$f":"(CB26+CC26)*CB23*-1","v":0}]
[null,null,null,null,null,null,null,null,null,"co",{"$f":"L27/2","v":-72.015800916662968},{"$f":"K27/2","v":72.015800916662968},{"$f":"N27/2","v":30.490256460416415},{"$f":"M27/2","v":-59.491313800721585},{"$f":"P27/2","v":0},{"$f":"O27/2","v":36.909257820504081},{"$f":"R27/2","v":0},{"$f":"Q27/2","v":0},{"$f":"T27/2","v":0},{"$f":"S27/2","v":0},null,"co",{"$f":"X27/2","v":53.149331261525873},{"$f":"W27/2","v":-103.70275331999467},{"$f":"Z27/2","v":-43.905969302999637},{"$f":"Y27/2","v":43.905969302999637},{"$f":"AB27/2","v":103.70275331999467},{"$f":"AA27/2","v":-53.149331261525873},{"$f":"AD27/2","v":0},{"$f":"AC27/2","v":0},{"$f":"AF27/2","v":0},{"$f":"AE27/2","v":0},null,"co",{"$f":"AJ27/2","v":-36.909257820504081},{"$f":"AI27/2","v":0},{"$f":"AL27/2","v":59.491313800721585},{"$f":"AK27/2","v":-30.490256460416415},{"$f":"AN27/2","v":-72.015800916662968},{"$f":"AM27/2","v":72.015800916662968},{"$f":"AP27/2","v":0},{"$f":"AO27/2","v":0},{"$f":"AR27/2","v":0},{"$f":"AQ27/2","v":0},null,"co",{"$f":"AV27/2","v":0},{"$f":"AU27/2","v":0},{"$f":"AX27/2","v":0},{"$f":"AW27/2","v":0},{"$f":"AZ27/2","v":0},{"$f":"AY27/2","v":0},{"$f":"BB27/2","v":0},{"$f":"BA27/2","v":0},{"$f":"BD27/2","v":0},{"$f":"BC27/2","v":0},null,"co",{"$f":"BH27/2","v":0},{"$f":"BG27/2","v":0},{"$f":"BJ27/2","v":0},{"$f":"BI27/2","v":0},{"$f":"BL27/2","v":0},{"$f":"BK27/2","v":0},{"$f":"BN27/2","v":0},{"$f":"BM27/2","v":0},{"$f":"BP27/2","v":0},{"$f":"BO27/2","v":0},null,"co",{"$f":"BT27/2","v":-199.04279216797434},{"$f":"BS27/2","v":-113.07892818443864},{"$f":"BV27/2","v":164.42665439963099},{"$f":"BU27/2","v":-164.42665439963099},{"$f":"BX27/2","v":113.07892818443864},{"$f":"BW27/2","v":199.04279216797434},{"$f":"BZ27/2","v":0},{"$f":"BY27/2","v":0},{"$f":"CB27/2","v":0},{"$f":"CA27/2","v":0}]
[null,null,null,null,null,null,null,null,null,"dis",{"$f":"(K28)*K23*-1","v":27.485631223643971},{"$f":"(L28+M28)*L23*-1","v":-24.272203383407284},{"$f":"(M28+L28)*M23*-1","v":-20.050950621075586},{"$f":"(N28+O28)*N23*-1","v":11.636945424728694},{"$f":"(O28+N28)*O23*-1","v":14.086828672039998},{"$f":"(P28+Q28)*P23*-1","v":-14.086828672039999},{"$f":"(Q28+P28)*Q23*-1","v":0},{"$f":"(R28+S28)*R23*-1","v":0},{"$f":"(S28+R28)*S23*-1","v":0},{"$f":"(T28+U28)*T23*-1","v":0},null,"dis",{"$f":"(W28)*W23*-1","v":-20.285033287737598},{"$f":"(X28+Y28)*X23*-1","v":34.951972872106495},{"$f":"(Y28+X28)*Y23*-1","v":28.873368894348843},{"$f":"(Z28+AA28)*Z23*-1","v":-28.873368894348843},{"$f":"(AA28+Z28)*AA23*-1","v":-34.951972872106495},{"$f":"(AB28+AC28)*AB23*-1","v":20.285033287737598},{"$f":"(AC28+AB28)*AC23*-1","v":0},{"$f":"(AD28+AE28)*AD23*-1","v":0},{"$f":"(AE28+AD28)*AE23*-1","v":0},{"$f":"(AF28+AG28)*AF23*-1","v":0},null,"dis",{"$f":"(AI28)*AI23*-1","v":14.086828672039999},{"$f":"(AJ28+AK28)*AJ23*-1","v":-14.086828672039998},{"$f":"(AK28+AJ28)*AK23*-1","v":-11.636945424728694},{"$f":"(AL28+AM28)*AL23*-1","v":20.050950621075586},{"$f":"(AM28+AL28)*AM23*-1","v":24.272203383407284},{"$f":"(AN28+AO28)*AN23*-1","v":-27.485631223643971},{"$f":"(AO28+AN28)*AO23*-1","v":0},{"$f":"(AP28+AQ28)*AP23*-1","v":0},{"$f":"(AQ28+AP28)*AQ23*-1","v":0},{"$f":"(AR28+AS28)*AR23*-1","v":0},null,"dis",{"$f":"(AU28)*AU23*-1","v":0},{"$f":"(AV28+AW28)*AV23*-1","v":0},{"$f":"(AW28+AV28)*AW23*-1","v":0},{"$f":"(AX28+AY28)*AX23*-1","v":0},{"$f":"(AY28+AX28)*AY23*-1","v":0},{"$f":"(AZ28+BA28)*AZ23*-1","v":0},{"$f":"(BA28+AZ28)*BA23*-1","v":0},{"$f":"(BB28+BC28)*BB23*-1","v":0},{"$f":"(BC28+BB28)*BC23*-1","v":0},{"$f":"(BD28+BE28)*BD23*-1","v":0},null,"dis",{"$f":"(BG28)*BG23*-1","v":0},{"$f":"(BH28+BI28)*BH23*-1","v":0},{"$f":"(BI28+BH28)*BI23*-1","v":0},{"$f":"(BJ28+BK28)*BJ23*-1","v":0},{"$f":"(BK28+BJ28)*BK23*-1","v":0},{"$f":"(BL28+BM28)*BL23*-1","v":0},{"$f":"(BM28+BL28)*BM23*-1","v":0},{"$f":"(BN28+BO28)*BN23*-1","v":0},{"$f":"(BO28+BN28)*BO23*-1","v":0},{"$f":"(BP28+BQ28)*BP23*-1","v":0},null,"dis",{"$f":"(BS28)*BS23*-1","v":75.966894953847813},{"$f":"(BT28+BU28)*BT23*-1","v":-12.158524928784781},{"$f":"(BU28+BT28)*BU23*-1","v":-10.043998854213514},{"$f":"(BV28+BW28)*BV23*-1","v":10.043998854213514},{"$f":"(BW28+BV28)*BW23*-1","v":12.158524928784781},{"$f":"(BX28+BY28)*BX23*-1","v":-75.966894953847813},{"$f":"(BY28+BX28)*BY23*-1","v":0},{"$f":"(BZ28+CA28)*BZ23*-1","v":0},{"$f":"(CA28+BZ28)*CA23*-1","v":0},{"$f":"(CB28+CC28)*CB23*-1","v":0}]
[null,null,null,null,null,null,null,null,null,"co",{"$f":"L29/2","v":-12.136101691703642},{"$f":"K29/2","v":13.742815611821985},{"$f":"N29/2","v":5.8184727123643469},{"$f":"M29/2","v":-10.025475310537793},{"$f":"P29/2","v":-7.0434143360199997},{"$f":"O29/2","v":7.0434143360199988},{"$f":"R29/2","v":0},{"$f":"Q29/2","v":0},{"$f":"T29/2","v":0},{"$f":"S29/2","v":0},null,"co",{"$f":"X29/2","v":17.475986436053248},-10.142516643868799,{"$f":"Z29/2","v":-14.436684447174422},{"$f":"Y29/2","v":14.436684447174422},{"$f":"AB29/2","v":10.142516643868799},{"$f":"AA29/2","v":-17.475986436053248},{"$f":"AD29/2","v":0},{"$f":"AC29/2","v":0},{"$f":"AF29/2","v":0},{"$f":"AE29/2","v":0},null,"co",{"$f":"AJ29/2","v":-7.0434143360199988},{"$f":"AI29/2","v":7.0434143360199997},{"$f":"AL29/2","v":10.025475310537793},{"$f":"AK29/2","v":-5.8184727123643469},{"$f":"AN29/2","v":-13.742815611821985},{"$f":"AM29/2","v":12.136101691703642},{"$f":"AP29/2","v":0},{"$f":"AO29/2","v":0},{"$f":"AR29/2","v":0},{"$f":"AQ29/2","v":0},null,"co",{"$f":"AV29/2","v":0},{"$f":"AU29/2","v":0},{"$f":"AX29/2","v":0},{"$f":"AW29/2","v":0},{"$f":"AZ29/2","v":0},{"$f":"AY29/2","v":0},{"$f":"BB29/2","v":0},{"$f":"BA29/2","v":0},{"$f":"BD29/2","v":0},{"$f":"BC29/2","v":0},null,"co",{"$f":"BH29/2","v":0},{"$f":"BG29/2","v":0},{"$f":"BJ29/2","v":0},{"$f":"BI29/2","v":0},{"$f":"BL29/2","v":0},{"$f":"BK29/2","v":0},{"$f":"BN29/2","v":0},{"$f":"BM29/2","v":0},{"$f":"BP29/2","v":0},{"$f":"BO29/2","v":0},null,"co",{"$f":"BT29/2","v":-6.0792624643923903},{"$f":"BS29/2","v":37.983447476923907},{"$f":"BV29/2","v":5.0219994271067572},{"$f":"BU29/2","v":-5.0219994271067572},{"$f":"BX29/2","v":-37.983447476923907},{"$f":"BW29/2","v":6.0792624643923903},{"$f":"BZ29/2","v":0},{"$f":"BY29/2","v":0},{"$f":"CB29/2","v":0},{"$f":"CA29/2","v":0}]
[null,null,null,null,null,null,null,null,null,"dis",{"$f":"(K30)*K23*-1","v":4.631878162082999},{"$f":"(L30+M30)*L23*-1","v":-4.631878162082999},{"$f":"(M30+L30)*M23*-1","v":-3.8263341338946515},{"$f":"(N30+O30)*N23*-1","v":3.3388023324389997},{"$f":"(O30+N30)*O23*-1","v":4.0417080866366835},{"$f":"(P30+Q30)*P23*-1","v":-2.6881974029449349},{"$f":"(Q30+P30)*Q23*-1","v":0},{"$f":"(R30+S30)*R23*-1","v":0},{"$f":"(S30+R30)*S23*-1","v":0},{"$f":"(T30+U30)*T23*-1","v":0},null,"dis",{"$f":"(W30)*W23*-1","v":-6.6699045533995198},{"$f":"(X30+Y30)*X23*-1","v":5.8200596447568245},{"$f":"(Y30+X30)*Y23*-1","v":4.8078753587121597},{"$f":"(Z30+AA30)*Z23*-1","v":-4.8078753587121597},{"$f":"(AA30+Z30)*AA23*-1","v":-5.8200596447568245},{"$f":"(AB30+AC30)*AB23*-1","v":6.6699045533995198},{"$f":"(AC30+AB30)*AC23*-1","v":0},{"$f":"(AD30+AE30)*AD23*-1","v":0},{"$f":"(AE30+AD30)*AE23*-1","v":0},{"$f":"(AF30+AG30)*AF23*-1","v":0},null,"dis",{"$f":"(AI30)*AI23*-1","v":2.6881974029449349},{"$f":"(AJ30+AK30)*AJ23*-1","v":-4.0417080866366835},{"$f":"(AK30+AJ30)*AK23*-1","v":-3.3388023324389997},{"$f":"(AL30+AM30)*AL23*-1","v":3.8263341338946515},{"$f":"(AM30+AL30)*AM23*-1","v":4.631878162082999},{"$f":"(AN30+AO30)*AN23*-1","v":-4.631878162082999},{"$f":"(AO30+AN30)*AO23*-1","v":0},{"$f":"(AP30+AQ30)*AP23*-1","v":0},{"$f":"(AQ30+AP30)*AQ23*-1","v":0},{"$f":"(AR30+AS30)*AR23*-1","v":0},null,"dis",{"$f":"(AU30)*AU23*-1","v":0},{"$f":"(AV30+AW30)*AV23*-1","v":0},{"$f":"(AW30+AV30)*AW23*-1","v":0},{"$f":"(AX30+AY30)*AX23*-1","v":0},{"$f":"(AY30+AX30)*AY23*-1","v":0},{"$f":"(AZ30+BA30)*AZ23*-1","v":0},{"$f":"(BA30+AZ30)*BA23*-1","v":0},{"$f":"(BB30+BC30)*BB23*-1","v":0},{"$f":"(BC30+BB30)*BC23*-1","v":0},{"$f":"(BD30+BE30)*BD23*-1","v":0},null,"dis",{"$f":"(BG30)*BG23*-1","v":0},{"$f":"(BH30+BI30)*BH23*-1","v":0},{"$f":"(BI30+BH30)*BI23*-1","v":0},{"$f":"(BJ30+BK30)*BJ23*-1","v":0},{"$f":"(BK30+BJ30)*BK23*-1","v":0},{"$f":"(BL30+BM30)*BL23*-1","v":0},{"$f":"(BM30+BL30)*BM23*-1","v":0},{"$f":"(BN30+BO30)*BN23*-1","v":0},{"$f":"(BO30+BN30)*BO23*-1","v":0},{"$f":"(BP30+BQ30)*BP23*-1","v":0},null,"dis",{"$f":"(BS30)*BS23*-1","v":2.3202181199288523},{"$f":"(BT30+BU30)*BT23*-1","v":-10.183173371004708},{"$f":"(BU30+BT30)*BU23*-1","v":-8.4121866977864972},{"$f":"(BV30+BW30)*BV23*-1","v":8.4121866977864972},{"$f":"(BW30+BV30)*BW23*-1","v":10.183173371004708},{"$f":"(BX30+BY30)*BX23*-1","v":-2.3202181199288523},{"$f":"(BY30+BX30)*BY23*-1","v":0},{"$f":"(BZ30+CA30)*BZ23*-1","v":0},{"$f":"(CA30+BZ30)*CA23*-1","v":0},{"$f":"(CB30+CC30)*CB23*-1","v":0}]
[null,null,null,null,null,null,null,null,null,"co",{"$f":"L31/2","v":-2.3159390810414995},{"$f":"K31/2","v":2.3159390810414995},{"$f":"N31/2","v":1.6694011662194999},{"$f":"M31/2","v":-1.9131670669473257},{"$f":"P31/2","v":-1.3440987014724675},{"$f":"O31/2","v":2.0208540433183417},{"$f":"R31/2","v":0},{"$f":"Q31/2","v":0},{"$f":"T31/2","v":0},{"$f":"S31/2","v":0},null,"co",{"$f":"X31/2","v":2.9100298223784122},{"$f":"W31/2","v":-3.3349522766997599},{"$f":"Z31/2","v":-2.4039376793560798},{"$f":"Y31/2","v":2.4039376793560798},{"$f":"AB31/2","v":3.3349522766997599},{"$f":"AA31/2","v":-2.9100298223784122},{"$f":"AD31/2","v":0},{"$f":"AC31/2","v":0},{"$f":"AF31/2","v":0},{"$f":"AE31/2","v":0},null,"co",{"$f":"AJ31/2","v":-2.0208540433183417},{"$f":"AI31/2","v":1.3440987014724675},{"$f":"AL31/2","v":1.9131670669473257},{"$f":"AK31/2","v":-1.6694011662194999},{"$f":"AN31/2","v":-2.3159390810414995},{"$f":"AM31/2","v":2.3159390810414995},{"$f":"AP31/2","v":0},{"$f":"AO31/2","v":0},{"$f":"AR31/2","v":0},{"$f":"AQ31/2","v":0},null,"co",{"$f":"AV31/2","v":0},{"$f":"AU31/2","v":0},{"$f":"AX31/2","v":0},{"$f":"AW31/2","v":0},{"$f":"AZ31/2","v":0},{"$f":"AY31/2","v":0},{"$f":"BB31/2","v":0},{"$f":"BA31/2","v":0},{"$f":"BD31/2","v":0},{"$f":"BC31/2","v":0},null,"co",{"$f":"BH31/2","v":0},{"$f":"BG31/2","v":0},{"$f":"BJ31/2","v":0},{"$f":"BI31/2","v":0},{"$f":"BL31/2","v":0},{"$f":"BK31/2","v":0},{"$f":"BN31/2","v":0},{"$f":"BM31/2","v":0},{"$f":"BP31/2","v":0},{"$f":"BO31/2","v":0},null,"co",{"$f":"BT31/2","v":-5.0915866855023539},{"$f":"BS31/2","v":1.1601090599644261},{"$f":"BV31/2","v":4.2060933488932486},{"$f":"BU31/2","v":-4.2060933488932486},{"$f":"BX31/2","v":-1.1601090599644261},{"$f":"BW31/2","v":5.0915866855023539},{"$f":"BZ31/2","v":0},{"$f":"BY31/2","v":0},{"$f":"CB31/2","v":0},{"$f":"CA31/2","v":0}]
[null,null,null,null,null,null,null,null,null,"dis",{"$f":"(K32)*K23*-1","v":0.88390390313916645},{"$f":"(L32+M32)*L23*-1","v":-0.94368071027993117},{"$f":"(M32+L32)*M23*-1","v":-0.77956232588342145},{"$f":"(N32+O32)*N23*-1","v":0.63714551855263191},{"$f":"(O32+N32)*O23*-1","v":0.77128141719529131},{"$f":"(P32+Q32)*P23*-1","v":-0.77128141719529142},{"$f":"(Q32+P32)*Q23*-1","v":0},{"$f":"(R32+S32)*R23*-1","v":0},{"$f":"(S32+R32)*S23*-1","v":0},{"$f":"(T32+U32)*T23*-1","v":0},null,"dis",{"$f":"(W32)*W23*-1","v":-1.1106452407612197},{"$f":"(X32+Y32)*X23*-1","v":1.3589002228031011},{"$f":"(Y32+X32)*Y23*-1","v":1.1225697492721269},{"$f":"(Z32+AA32)*Z23*-1","v":-1.1225697492721269},{"$f":"(AA32+Z32)*AA23*-1","v":-1.3589002228031011},{"$f":"(AB32+AC32)*AB23*-1","v":1.1106452407612197},{"$f":"(AC32+AB32)*AC23*-1","v":0},{"$f":"(AD32+AE32)*AD23*-1","v":0},{"$f":"(AE32+AD32)*AE23*-1","v":0},{"$f":"(AF32+AG32)*AF23*-1","v":0},null,"dis",{"$f":"(AI32)*AI23*-1","v":0.77128141719529142},{"$f":"(AJ32+AK32)*AJ23*-1","v":-0.77128141719529131},{"$f":"(AK32+AJ32)*AK23*-1","v":-0.63714551855263191},{"$f":"(AL32+AM32)*AL23*-1","v":0.77956232588342145},{"$f":"(AM32+AL32)*AM23*-1","v":0.94368071027993117},{"$f":"(AN32+AO32)*AN23*-1","v":-0.88390390313916645},{"$f":"(AO32+AN32)*AO23*-1","v":0},{"$f":"(AP32+AQ32)*AP23*-1","v":0},{"$f":"(AQ32+AP32)*AQ23*-1","v":0},{"$f":"(AR32+AS32)*AR23*-1","v":0},null,"dis",{"$f":"(AU32)*AU23*-1","v":0},{"$f":"(AV32+AW32)*AV23*-1","v":0},{"$f":"(AW32+AV32)*AW23*-1","v":0},{"$f":"(AX32+AY32)*AX23*-1","v":0},{"$f":"(AY32+AX32)*AY23*-1","v":0},{"$f":"(AZ32+BA32)*AZ23*-1","v":0},{"$f":"(BA32+AZ32)*BA23*-1","v":0},{"$f":"(BB32+BC32)*BB23*-1","v":0},{"$f":"(BC32+BB32)*BC23*-1","v":0},{"$f":"(BD32+BE32)*BD23*-1","v":0},null,"dis",{"$f":"(BG32)*BG23*-1","v":0},{"$f":"(BH32+BI32)*BH23*-1","v":0},{"$f":"(BI32+BH32)*BI23*-1","v":0},{"$f":"(BJ32+BK32)*BJ23*-1","v":0},{"$f":"(BK32+BJ32)*BK23*-1","v":0},{"$f":"(BL32+BM32)*BL23*-1","v":0},{"$f":"(BM32+BL32)*BM23*-1","v":0},{"$f":"(BN32+BO32)*BN23*-1","v":0},{"$f":"(BO32+BN32)*BO23*-1","v":0},{"$f":"(BP32+BQ32)*BP23*-1","v":0},null,"dis",{"$f":"(BS32)*BS23*-1","v":1.9432606761241049},{"$f":"(BT32+BU32)*BT23*-1","v":-1.270652287261296},{"$f":"(BU32+BT32)*BU23*-1","v":-1.0496692807810706},{"$f":"(BV32+BW32)*BV23*-1","v":1.0496692807810706},{"$f":"(BW32+BV32)*BW23*-1","v":1.270652287261296},{"$f":"(BX32+BY32)*BX23*-1","v":-1.9432606761241049},{"$f":"(BY32+BX32)*BY23*-1","v":0},{"$f":"(BZ32+CA32)*BZ23*-1","v":0},{"$f":"(CA32+BZ32)*CA23*-1","v":0},{"$f":"(CB32+CC32)*CB23*-1","v":0}]
[null,null,null,null,null,null,null,null,null,"co",{"$f":"L33/2","v":-0.47184035513996558},{"$f":"K33/2","v":0.44195195156958322},{"$f":"N33/2","v":0.31857275927631595},{"$f":"M33/2","v":-0.38978116294171072},{"$f":"P33/2","v":-0.38564070859764571},{"$f":"O33/2","v":0.38564070859764565},{"$f":"R33/2","v":0},{"$f":"Q33/2","v":0},{"$f":"T33/2","v":0},{"$f":"S33/2","v":0},null,"co",{"$f":"X33/2","v":0.67945011140155054},{"$f":"W33/2","v":-0.55532262038060987},{"$f":"Z33/2","v":-0.56128487463606347},{"$f":"Y33/2","v":0.56128487463606347},{"$f":"AB33/2","v":0.55532262038060987},{"$f":"AA33/2","v":-0.67945011140155054},{"$f":"AD33/2","v":0},{"$f":"AC33/2","v":0},{"$f":"AF33/2","v":0},{"$f":"AE33/2","v":0},null,"co",{"$f":"AJ33/2","v":-0.38564070859764565},{"$f":"AI33/2","v":0.38564070859764571},{"$f":"AL33/2","v":0.38978116294171072},{"$f":"AK33/2","v":-0.31857275927631595},{"$f":"AN33/2","v":-0.44195195156958322},{"$f":"AM33/2","v":0.47184035513996558},{"$f":"AP33/2","v":0},{"$f":"AO33/2","v":0},{"$f":"AR33/2","v":0},{"$f":"AQ33/2","v":0},null,"co",{"$f":"AV33/2","v":0},{"$f":"AU33/2","v":0},{"$f":"AX33/2","v":0},{"$f":"AW33/2","v":0},{"$f":"AZ33/2","v":0},{"$f":"AY33/2","v":0},{"$f":"BB33/2","v":0},{"$f":"BA33/2","v":0},{"$f":"BD33/2","v":0},{"$f":"BC33/2","v":0},null,"co",{"$f":"BH33/2","v":0},{"$f":"BG33/2","v":0},{"$f":"BJ33/2","v":0},{"$f":"BI33/2","v":0},{"$f":"BL33/2","v":0},{"$f":"BK33/2","v":0},{"$f":"BN33/2","v":0},{"$f":"BM33/2","v":0},{"$f":"BP33/2","v":0},{"$f":"BO33/2","v":0},null,"co",{"$f":"BT33/2","v":-0.63532614363064799},{"$f":"BS33/2","v":0.97163033806205246},{"$f":"BV33/2","v":0.52483464039053529},{"$f":"BU33/2","v":-0.52483464039053529},{"$f":"BX33/2","v":-0.97163033806205246},{"$f":"BW33/2","v":0.63532614363064799},{"$f":"BZ33/2","v":0},{"$f":"BY33/2","v":0},{"$f":"CB33/2","v":0},{"$f":"CA33/2","v":0}]
[null,null,null,null,null,null,null,null,null,"dis",{"$f":"(K34)*K23*-1","v":0.18008311832590587},{"$f":"(L34+M34)*L23*-1","v":-0.18008311832590587},{"$f":"(M34+L34)*M23*-1","v":-0.14876431513879182},{"$f":"(N34+O34)*N23*-1","v":0.15167831106353927},{"$f":"(O34+N34)*O23*-1","v":0.18361058707691594},{"$f":"(P34+Q34)*P23*-1","v":-0.14718406469721163},{"$f":"(Q34+P34)*Q23*-1","v":0},{"$f":"(R34+S34)*R23*-1","v":0},{"$f":"(S34+R34)*S23*-1","v":0},{"$f":"(T34+U34)*T23*-1","v":0},null,"dis",{"$f":"(W34)*W23*-1","v":-0.25931969038930447},{"$f":"(X34+Y34)*X23*-1","v":0.26439924539075899},{"$f":"(Y34+X34)*Y23*-1","v":0.21841676793149656},{"$f":"(Z34+AA34)*Z23*-1","v":-0.21841676793149656},{"$f":"(AA34+Z34)*AA23*-1","v":-0.26439924539075899},{"$f":"(AB34+AC34)*AB23*-1","v":0.25931969038930447},{"$f":"(AC34+AB34)*AC23*-1","v":0},{"$f":"(AD34+AE34)*AD23*-1","v":0},{"$f":"(AE34+AD34)*AE23*-1","v":0},{"$f":"(AF34+AG34)*AF23*-1","v":0},null,"dis",{"$f":"(AI34)*AI23*-1","v":0.14718406469721163},{"$f":"(AJ34+AK34)*AJ23*-1","v":-0.18361058707691594},{"$f":"(AK34+AJ34)*AK23*-1","v":-0.15167831106353927},{"$f":"(AL34+AM34)*AL23*-1","v":0.14876431513879182},{"$f":"(AM34+AL34)*AM23*-1","v":0.18008311832590587},{"$f":"(AN34+AO34)*AN23*-1","v":-0.18008311832590587},{"$f":"(AO34+AN34)*AO23*-1","v":0},{"$f":"(AP34+AQ34)*AP23*-1","v":0},{"$f":"(AQ34+AP34)*AQ23*-1","v":0},{"$f":"(AR34+AS34)*AR23*-1","v":0},null,"dis",{"$f":"(AU34)*AU23*-1","v":0},{"$f":"(AV34+AW34)*AV23*-1","v":0},{"$f":"(AW34+AV34)*AW23*-1","v":0},{"$f":"(AX34+AY34)*AX23*-1","v":0},{"$f":"(AY34+AX34)*AY23*-1","v":0},{"$f":"(AZ34+BA34)*AZ23*-1","v":0},{"$f":"(BA34+AZ34)*BA23*-1","v":0},{"$f":"(BB34+BC34)*BB23*-1","v":0},{"$f":"(BC34+BB34)*BC23*-1","v":0},{"$f":"(BD34+BE34)*BD23*-1","v":0},null,"dis",{"$f":"(BG34)*BG23*-1","v":0},{"$f":"(BH34+BI34)*BH23*-1","v":0},{"$f":"(BI34+BH34)*BI23*-1","v":0},{"$f":"(BJ34+BK34)*BJ23*-1","v":0},{"$f":"(BK34+BJ34)*BK23*-1","v":0},{"$f":"(BL34+BM34)*BL23*-1","v":0},{"$f":"(BM34+BL34)*BM23*-1","v":0},{"$f":"(BN34+BO34)*BN23*-1","v":0},{"$f":"(BO34+BN34)*BO23*-1","v":0},{"$f":"(BP34+BQ34)*BP23*-1","v":0},null,"dis",{"$f":"(BS34)*BS23*-1","v":0.2424792874383131},{"$f":"(BT34+BU34)*BT23*-1","v":-0.35434493572932224},{"$f":"(BU34+BT34)*BU23*-1","v":-0.29271972951552711},{"$f":"(BV34+BW34)*BV23*-1","v":0.29271972951552711},{"$f":"(BW34+BV34)*BW23*-1","v":0.35434493572932224},{"$f":"(BX34+BY34)*BX23*-1","v":-0.2424792874383131},{"$f":"(BY34+BX34)*BY23*-1","v":0},{"$f":"(BZ34+CA34)*BZ23*-1","v":0},{"$f":"(CA34+BZ34)*CA23*-1","v":0},{"$f":"(CB34+CC34)*CB23*-1","v":0}]
[null,null,null,null,null,null,null,null,null,"co",{"$f":"L35/2","v":-9.0041559162952936E-2},{"$f":"K35/2","v":9.0041559162952936E-2},{"$f":"N35/2","v":7.5839155531769634E-2},{"$f":"M35/2","v":-7.438215756939591E-2},{"$f":"P35/2","v":-7.3592032348605813E-2},{"$f":"O35/2","v":9.1805293538457969E-2},{"$f":"R35/2","v":0},{"$f":"Q35/2","v":0},{"$f":"T35/2","v":0},{"$f":"S35/2","v":0},null,"co",0.13219962269537949,-0.12965984519465223,{"$f":"Z35/2","v":-0.10920838396574828},{"$f":"Y35/2","v":0.10920838396574828},{"$f":"AB35/2","v":0.12965984519465223},{"$f":"AA35/2","v":-0.13219962269537949},{"$f":"AD35/2","v":0},{"$f":"AC35/2","v":0},{"$f":"AF35/2","v":0},{"$f":"AE35/2","v":0},null,"co",{"$f":"AJ35/2","v":-9.1805293538457969E-2},{"$f":"AI35/2","v":7.3592032348605813E-2},{"$f":"AL35/2","v":7.438215756939591E-2},{"$f":"AK35/2","v":-7.5839155531769634E-2},{"$f":"AN35/2","v":-9.0041559162952936E-2},{"$f":"AM35/2","v":9.0041559162952936E-2},{"$f":"AP35/2","v":0},{"$f":"AO35/2","v":0},{"$f":"AR35/2","v":0},{"$f":"AQ35/2","v":0},null,"co",{"$f":"AV35/2","v":0},{"$f":"AU35/2","v":0},{"$f":"AX35/2","v":0},{"$f":"AW35/2","v":0},{"$f":"AZ35/2","v":0},{"$f":"AY35/2","v":0},{"$f":"BB35/2","v":0},{"$f":"BA35/2","v":0},{"$f":"BD35/2","v":0},{"$f":"BC35/2","v":0},null,"co",{"$f":"BH35/2","v":0},{"$f":"BG35/2","v":0},{"$f":"BJ35/2","v":0},{"$f":"BI35/2","v":0},{"$f":"BL35/2","v":0},{"$f":"BK35/2","v":0},{"$f":"BN35/2","v":0},{"$f":"BM35/2","v":0},{"$f":"BP35/2","v":0},{"$f":"BO35/2","v":0},null,"co",{"$f":"BT35/2","v":-0.17717246786466112},{"$f":"BS35/2","v":0.12123964371915655},{"$f":"BV35/2","v":0.14635986475776355},{"$f":"BU35/2","v":-0.14635986475776355},{"$f":"BX35/2","v":-0.12123964371915655},{"$f":"BW35/2","v":0.17717246786466112},{"$f":"BZ35/2","v":0},{"$f":"BY35/2","v":0},{"$f":"CB35/2","v":0},{"$f":"CA35/2","v":0}]
[null,null,null,null,null,null,null,null,null,"dis",{"$f":"(K36)*K23*-1","v":3.436536230179197E-2},{"$f":"(L36+M36)*L23*-1","v":-3.9278561164869781E-2},{"$f":"(M36+L36)*M23*-1","v":-3.2447507049240258E-2},{"$f":"(N36+O36)*N23*-1","v":2.8944857027570613E-2},{"$f":"(O36+N36)*O23*-1","v":3.5038511138638109E-2},{"$f":"(P36+Q36)*P23*-1","v":-3.5038511138638116E-2},{"$f":"(Q36+P36)*Q23*-1","v":0},{"$f":"(R36+S36)*R23*-1","v":0},{"$f":"(S36+R36)*S23*-1","v":0},{"$f":"(T36+U36)*T23*-1","v":0},null,"dis",{"$f":"(W36)*W23*-1","v":-5.0455456039638892E-2},{"$f":"(X36+Y36)*X23*-1","v":5.6561128077412488E-2},{"$f":"(Y36+X36)*Y23*-1","v":4.6724410150905969E-2},{"$f":"(Z36+AA36)*Z23*-1","v":-4.6724410150905969E-2},{"$f":"(AA36+Z36)*AA23*-1","v":-5.6561128077412488E-2},{"$f":"(AB36+AC36)*AB23*-1","v":5.0455456039638892E-2},{"$f":"(AC36+AB36)*AC23*-1","v":0},{"$f":"(AD36+AE36)*AD23*-1","v":0},{"$f":"(AE36+AD36)*AE23*-1","v":0},{"$f":"(AF36+AG36)*AF23*-1","v":0},null,"dis",{"$f":"(AI36)*AI23*-1","v":3.5038511138638116E-2},{"$f":"(AJ36+AK36)*AJ23*-1","v":-3.5038511138638109E-2},{"$f":"(AK36+AJ36)*AK23*-1","v":-2.8944857027570613E-2},{"$f":"(AL36+AM36)*AL23*-1","v":3.2447507049240258E-2},{"$f":"(AM36+AL36)*AM23*-1","v":3.9278561164869781E-2},{"$f":"(AN36+AO36)*AN23*-1","v":-3.436536230179197E-2},{"$f":"(AO36+AN36)*AO23*-1","v":0},{"$f":"(AP36+AQ36)*AP23*-1","v":0},{"$f":"(AQ36+AP36)*AQ23*-1","v":0},{"$f":"(AR36+AS36)*AR23*-1","v":0},null,"dis",{"$f":"(AU36)*AU23*-1","v":0},{"$f":"(AV36+AW36)*AV23*-1","v":0},{"$f":"(AW36+AV36)*AW23*-1","v":0},{"$f":"(AX36+AY36)*AX23*-1","v":0},{"$f":"(AY36+AX36)*AY23*-1","v":0},{"$f":"(AZ36+BA36)*AZ23*-1","v":0},{"$f":"(BA36+AZ36)*BA23*-1","v":0},{"$f":"(BB36+BC36)*BB23*-1","v":0},{"$f":"(BC36+BB36)*BC23*-1","v":0},{"$f":"(BD36+BE36)*BD23*-1","v":0},null,"dis",{"$f":"(BG36)*BG23*-1","v":0},{"$f":"(BH36+BI36)*BH23*-1","v":0},{"$f":"(BI36+BH36)*BI23*-1","v":0},{"$f":"(BJ36+BK36)*BJ23*-1","v":0},{"$f":"(BK36+BJ36)*BK23*-1","v":0},{"$f":"(BL36+BM36)*BL23*-1","v":0},{"$f":"(BM36+BL36)*BM23*-1","v":0},{"$f":"(BN36+BO36)*BN23*-1","v":0},{"$f":"(BO36+BN36)*BO23*-1","v":0},{"$f":"(BP36+BQ36)*BP23*-1","v":0},null,"dis",{"$f":"(BS36)*BS23*-1","v":6.7619842489097984E-2},{"$f":"(BT36+BU36)*BT23*-1","v":-6.3364349983320856E-2},{"$f":"(BU36+BT36)*BU23*-1","v":-5.2344463029699841E-2},{"$f":"(BV36+BW36)*BV23*-1","v":5.2344463029699841E-2},{"$f":"(BW36+BV36)*BW23*-1","v":6.3364349983320856E-2},{"$f":"(BX36+BY36)*BX23*-1","v":-6.7619842489097984E-2},{"$f":"(BY36+BX36)*BY23*-1","v":0},{"$f":"(BZ36+CA36)*BZ23*-1","v":0},{"$f":"(CA36+BZ36)*CA23*-1","v":0},{"$f":"(CB36+CC36)*CB23*-1","v":0}]
[null,null,null,null,null,null,null,null,null,"co",{"$f":"L37/2","v":-1.9639280582434891E-2},{"$f":"K37/2","v":1.7182681150895985E-2},{"$f":"N37/2","v":1.4472428513785307E-2},{"$f":"M37/2","v":-1.6223753524620129E-2},{"$f":"P37/2","v":-1.7519255569319058E-2},{"$f":"O37/2","v":1.7519255569319055E-2},{"$f":"R37/2","v":0},{"$f":"Q37/2","v":0},{"$f":"T37/2","v":0},{"$f":"S37/2","v":0},null,"co",{"$f":"X37/2","v":2.8280564038706244E-2},{"$f":"W37/2","v":-2.5227728019819446E-2},{"$f":"Z37/2","v":-2.3362205075452985E-2},{"$f":"Y37/2","v":2.3362205075452985E-2},{"$f":"AB37/2","v":2.5227728019819446E-2},{"$f":"AA37/2","v":-2.8280564038706244E-2},{"$f":"AD37/2","v":0},{"$f":"AC37/2","v":0},{"$f":"AF37/2","v":0},{"$f":"AE37/2","v":0},null,"co",{"$f":"AJ37/2","v":-1.7519255569319055E-2},{"$f":"AI37/2","v":1.7519255569319058E-2},{"$f":"AL37/2","v":1.6223753524620129E-2},{"$f":"AK37/2","v":-1.4472428513785307E-2},{"$f":"AN37/2","v":-1.7182681150895985E-2},{"$f":"AM37/2","v":1.9639280582434891E-2},{"$f":"AP37/2","v":0},{"$f":"AO37/2","v":0},{"$f":"AR37/2","v":0},{"$f":"AQ37/2","v":0},null,"co",{"$f":"AV37/2","v":0},{"$f":"AU37/2","v":0},{"$f":"AX37/2","v":0},{"$f":"AW37/2","v":0},{"$f":"AZ37/2","v":0},{"$f":"AY37/2","v":0},{"$f":"BB37/2","v":0},{"$f":"BA37/2","v":0},{"$f":"BD37/2","v":0},{"$f":"BC37/2","v":0},null,"co",{"$f":"BH37/2","v":0},{"$f":"BG37/2","v":0},{"$f":"BJ37/2","v":0},{"$f":"BI37/2","v":0},{"$f":"BL37/2","v":0},{"$f":"BK37/2","v":0},{"$f":"BN37/2","v":0},{"$f":"BM37/2","v":0},{"$f":"BP37/2","v":0},{"$f":"BO37/2","v":0},null,"co",{"$f":"BT37/2","v":-3.1682174991660428E-2},{"$f":"BS37/2","v":3.3809921244548992E-2},{"$f":"BV37/2","v":2.617223151484992E-2},{"$f":"BU37/2","v":-2.617223151484992E-2},{"$f":"BX37/2","v":-3.3809921244548992E-2},{"$f":"BW37/2","v":3.1682174991660428E-2},{"$f":"BZ37/2","v":0},{"$f":"BY37/2","v":0},{"$f":"CB37/2","v":0},{"$f":"CA37/2","v":0}]
[null,null,null,null,null,null,null,null,null,"dis",{"$f":"(K38)*K23*-1","v":7.495549819839316E-3},{"$f":"(L38+M38)*L23*-1","v":-7.4955498198393151E-3},{"$f":"(M38+L38)*M23*-1","v":-6.1919759381281305E-3},{"$f":"(N38+O38)*N23*-1","v":6.600384664685815E-3},{"$f":"(O38+N38)*O23*-1","v":7.9899393309354593E-3},{"$f":"(P38+Q38)*P23*-1","v":-6.6864186992560233E-3},{"$f":"(Q38+P38)*Q23*-1","v":0},{"$f":"(R38+S38)*R23*-1","v":0},{"$f":"(S38+R38)*S23*-1","v":0},{"$f":"(T38+U38)*T23*-1","v":0},null,"dis",{"$f":"(W38)*W23*-1","v":-1.0793591740568615E-2},{"$f":"(X38+Y38)*X23*-1","v":1.1505512636547062E-2},{"$f":"(Y38+X38)*Y23*-1","v":9.5045539171475738E-3},{"$f":"(Z38+AA38)*Z23*-1","v":-9.5045539171475738E-3},{"$f":"(AA38+Z38)*AA23*-1","v":-1.1505512636547062E-2},{"$f":"(AB38+AC38)*AB23*-1","v":1.0793591740568615E-2},{"$f":"(AC38+AB38)*AC23*-1","v":0},{"$f":"(AD38+AE38)*AD23*-1","v":0},{"$f":"(AE38+AD38)*AE23*-1","v":0},{"$f":"(AF38+AG38)*AF23*-1","v":0},null,"dis",{"$f":"(AI38)*AI23*-1","v":6.6864186992560233E-3},{"$f":"(AJ38+AK38)*AJ23*-1","v":-7.9899393309354593E-3},{"$f":"(AK38+AJ38)*AK23*-1","v":-6.600384664685815E-3},{"$f":"(AL38+AM38)*AL23*-1","v":6.1919759381281305E-3},{"$f":"(AM38+AL38)*AM23*-1","v":7.4955498198393151E-3},{"$f":"(AN38+AO38)*AN23*-1","v":-7.495549819839316E-3},{"$f":"(AO38+AN38)*AO23*-1","v":0},{"$f":"(AP38+AQ38)*AP23*-1","v":0},{"$f":"(AQ38+AP38)*AQ23*-1","v":0},{"$f":"(AR38+AS38)*AR23*-1","v":0},null,"dis",{"$f":"(AU38)*AU23*-1","v":0},{"$f":"(AV38+AW38)*AV23*-1","v":0},{"$f":"(AW38+AV38)*AW23*-1","v":0},{"$f":"(AX38+AY38)*AX23*-1","v":0},{"$f":"(AY38+AX38)*AY23*-1","v":0},{"$f":"(AZ38+BA38)*AZ23*-1","v":0},{"$f":"(BA38+AZ38)*BA23*-1","v":0},{"$f":"(BB38+BC38)*BB23*-1","v":0},{"$f":"(BC38+BB38)*BC23*-1","v":0},{"$f":"(BD38+BE38)*BD23*-1","v":0},null,"dis",{"$f":"(BG38)*BG23*-1","v":0},{"$f":"(BH38+BI38)*BH23*-1","v":0},{"$f":"(BI38+BH38)*BI23*-1","v":0},{"$f":"(BJ38+BK38)*BJ23*-1","v":0},{"$f":"(BK38+BJ38)*BK23*-1","v":0},{"$f":"(BL38+BM38)*BL23*-1","v":0},{"$f":"(BM38+BL38)*BM23*-1","v":0},{"$f":"(BN38+BO38)*BN23*-1","v":0},{"$f":"(BO38+BN38)*BO23*-1","v":0},{"$f":"(BP38+BQ38)*BP23*-1","v":0},null,"dis",{"$f":"(BS38)*BS23*-1","v":1.2091854386114976E-2},{"$f":"(BT38+BU38)*BT23*-1","v":-1.4203053442930269E-2},{"$f":"(BU38+BT38)*BU23*-1","v":-1.1732957191985874E-2},{"$f":"(BV38+BW38)*BV23*-1","v":1.1732957191985874E-2},{"$f":"(BW38+BV38)*BW23*-1","v":1.4203053442930269E-2},{"$f":"(BX38+BY38)*BX23*-1","v":-1.2091854386114976E-2},{"$f":"(BY38+BX38)*BY23*-1","v":0},{"$f":"(BZ38+CA38)*BZ23*-1","v":0},{"$f":"(CA38+BZ38)*CA23*-1","v":0},{"$f":"(CB38+CC38)*CB23*-1","v":0}]
[null,null,null,null,null,null,null,null,null,"co",{"$f":"L39/2","v":-3.7477749099196576E-3},{"$f":"K39/2","v":3.747774909919658E-3},{"$f":"N39/2","v":3.3001923323429075E-3},{"$f":"M39/2","v":-3.0959879690640652E-3},{"$f":"P39/2","v":-3.3432093496280116E-3},{"$f":"O39/2","v":3.9949696654677297E-3},{"$f":"R39/2","v":0},{"$f":"Q39/2","v":0},{"$f":"T39/2","v":0},{"$f":"S39/2","v":0},null,"co",{"$f":"X39/2","v":5.7527563182735312E-3},{"$f":"W39/2","v":-5.3967958702843075E-3},{"$f":"Z39/2","v":-4.7522769585737869E-3},{"$f":"Y39/2","v":4.7522769585737869E-3},{"$f":"AB39/2","v":5.3967958702843075E-3},{"$f":"AA39/2","v":-5.7527563182735312E-3},{"$f":"AD39/2","v":0},{"$f":"AC39/2","v":0},{"$f":"AF39/2","v":0},{"$f":"AE39/2","v":0},null,"co",{"$f":"AJ39/2","v":-3.9949696654677297E-3},{"$f":"AI39/2","v":3.3432093496280116E-3},{"$f":"AL39/2","v":3.0959879690640652E-3},{"$f":"AK39/2","v":-3.3001923323429075E-3},{"$f":"AN39/2","v":-3.747774909919658E-3},{"$f":"AM39/2","v":3.7477749099196576E-3},{"$f":"AP39/2","v":0},{"$f":"AO39/2","v":0},{"$f":"AR39/2","v":0},{"$f":"AQ39/2","v":0},null,"co",{"$f":"AV39/2","v":0},{"$f":"AU39/2","v":0},{"$f":"AX39/2","v":0},{"$f":"AW39/2","v":0},{"$f":"AZ39/2","v":0},{"$f":"AY39/2","v":0},{"$f":"BB39/2","v":0},{"$f":"BA39/2","v":0},{"$f":"BD39/2","v":0},{"$f":"BC39/2","v":0},null,"co",{"$f":"BH39/2","v":0},{"$f":"BG39/2","v":0},{"$f":"BJ39/2","v":0},{"$f":"BI39/2","v":0},{"$f":"BL39/2","v":0},{"$f":"BK39/2","v":0},{"$f":"BN39/2","v":0},{"$f":"BM39/2","v":0},{"$f":"BP39/2","v":0},{"$f":"BO39/2","v":0},null,"co",{"$f":"BT39/2","v":-7.1015267214651345E-3},{"$f":"BS39/2","v":6.045927193057488E-3},{"$f":"BV39/2","v":5.8664785959929369E-3},{"$f":"BU39/2","v":-5.8664785959929369E-3},{"$f":"BX39/2","v":-6.045927193057488E-3},{"$f":"BW39/2","v":7.1015267214651345E-3},{"$f":"BZ39/2","v":0},{"$f":"BY39/2","v":0},{"$f":"CB39/2","v":0},{"$f":"CA39/2","v":0}]
[null,null,null,null,null,null,null,null,null,"dis",{"$f":"(K40)*K23*-1","v":1.4303799690082019E-3},{"$f":"(L40+M40)*L23*-1","v":-1.6688740033624664E-3},{"$f":"(M40+L40)*M23*-1","v":-1.3786350462559507E-3},{"$f":"(N40+O40)*N23*-1","v":1.2595551012317728E-3},{"$f":"(O40+N40)*O23*-1","v":1.5247245962279354E-3},{"$f":"(P40+Q40)*P23*-1","v":-1.5247245962279356E-3},{"$f":"(Q40+P40)*Q23*-1","v":0},{"$f":"(R40+S40)*R23*-1","v":0},{"$f":"(S40+R40)*S23*-1","v":0},{"$f":"(T40+U40)*T23*-1","v":0},null,"dis",{"$f":"(W40)*W23*-1","v":-2.1956034185682274E-3},{"$f":"(X40+Y40)*X23*-1","v":2.403178564841952E-3},{"$f":"(Y40+X40)*Y23*-1","v":1.9852344666085688E-3},{"$f":"(Z40+AA40)*Z23*-1","v":-1.9852344666085688E-3},{"$f":"(AA40+Z40)*AA23*-1","v":-2.403178564841952E-3},{"$f":"(AB40+AC40)*AB23*-1","v":2.1956034185682274E-3},{"$f":"(AC40+AB40)*AC23*-1","v":0},{"$f":"(AD40+AE40)*AD23*-1","v":0},{"$f":"(AE40+AD40)*AE23*-1","v":0},{"$f":"(AF40+AG40)*AF23*-1","v":0},null,"dis",{"$f":"(AI40)*AI23*-1","v":1.5247245962279356E-3},{"$f":"(AJ40+AK40)*AJ23*-1","v":-1.5247245962279354E-3},{"$f":"(AK40+AJ40)*AK23*-1","v":-1.2595551012317728E-3},{"$f":"(AL40+AM40)*AL23*-1","v":1.3786350462559507E-3},{"$f":"(AM40+AL40)*AM23*-1","v":1.6688740033624664E-3},{"$f":"(AN40+AO40)*AN23*-1","v":-1.4303799690082019E-3},{"$f":"(AO40+AN40)*AO23*-1","v":0},{"$f":"(AP40+AQ40)*AP23*-1","v":0},{"$f":"(AQ40+AP40)*AQ23*-1","v":0},{"$f":"(AR40+AS40)*AR23*-1","v":0},null,"dis",{"$f":"(AU40)*AU23*-1","v":0},{"$f":"(AV40+AW40)*AV23*-1","v":0},{"$f":"(AW40+AV40)*AW23*-1","v":0},{"$f":"(AX40+AY40)*AX23*-1","v":0},{"$f":"(AY40+AX40)*AY23*-1","v":0},{"$f":"(AZ40+BA40)*AZ23*-1","v":0},{"$f":"(BA40+AZ40)*BA23*-1","v":0},{"$f":"(BB40+BC40)*BB23*-1","v":0},{"$f":"(BC40+BB40)*BC23*-1","v":0},{"$f":"(BD40+BE40)*BD23*-1","v":0},null,"dis",{"$f":"(BG40)*BG23*-1","v":0},{"$f":"(BH40+BI40)*BH23*-1","v":0},{"$f":"(BI40+BH40)*BI23*-1","v":0},{"$f":"(BJ40+BK40)*BJ23*-1","v":0},{"$f":"(BK40+BJ40)*BK23*-1","v":0},{"$f":"(BL40+BM40)*BL23*-1","v":0},{"$f":"(BM40+BL40)*BM23*-1","v":0},{"$f":"(BN40+BO40)*BN23*-1","v":0},{"$f":"(BO40+BN40)*BO23*-1","v":0},{"$f":"(BP40+BQ40)*BP23*-1","v":0},null,"dis",{"$f":"(BS40)*BS23*-1","v":2.7103766410501891E-3},{"$f":"(BT40+BU40)*BT23*-1","v":-2.8207146338081945E-3},{"$f":"(BU40+BT40)*BU23*-1","v":-2.3301555670589436E-3},{"$f":"(BV40+BW40)*BV23*-1","v":2.3301555670589436E-3},{"$f":"(BW40+BV40)*BW23*-1","v":2.8207146338081945E-3},{"$f":"(BX40+BY40)*BX23*-1","v":-2.7103766410501891E-3},{"$f":"(BY40+BX40)*BY23*-1","v":0},{"$f":"(BZ40+CA40)*BZ23*-1","v":0},{"$f":"(CA40+BZ40)*CA23*-1","v":0},{"$f":"(CB40+CC40)*CB23*-1","v":0}]
[null,null,null,null,null,null,null,null,null,"co",{"$f":"L41/2","v":-8.3443700168123322E-4},{"$f":"K41/2","v":7.1518998450410094E-4},{"$f":"N41/2","v":6.2977755061588642E-4},{"$f":"M41/2","v":-6.8931752312797535E-4},{"$f":"P41/2","v":-7.623622981139678E-4},{"$f":"O41/2","v":7.6236229811396769E-4},{"$f":"R41/2","v":0},{"$f":"Q41/2","v":0},{"$f":"T41/2","v":0},{"$f":"S41/2","v":0},null,"co",{"$f":"X41/2","v":1.201589282420976E-3},{"$f":"W41/2","v":-1.0978017092841137E-3},{"$f":"Z41/2","v":-9.9261723330428442E-4},{"$f":"Y41/2","v":9.9261723330428442E-4},{"$f":"AB41/2","v":1.0978017092841137E-3},{"$f":"AA41/2","v":-1.201589282420976E-3},{"$f":"AD41/2","v":0},{"$f":"AC41/2","v":0},{"$f":"AF41/2","v":0},{"$f":"AE41/2","v":0},null,"co",{"$f":"AJ41/2","v":-7.6236229811396769E-4},{"$f":"AI41/2","v":7.623622981139678E-4},{"$f":"AL41/2","v":6.8931752312797535E-4},{"$f":"AK41/2","v":-6.2977755061588642E-4},{"$f":"AN41/2","v":-7.1518998450410094E-4},{"$f":"AM41/2","v":8.3443700168123322E-4},{"$f":"AP41/2","v":0},{"$f":"AO41/2","v":0},{"$f":"AR41/2","v":0},{"$f":"AQ41/2","v":0},null,"co",{"$f":"AV41/2","v":0},{"$f":"AU41/2","v":0},{"$f":"AX41/2","v":0},{"$f":"AW41/2","v":0},{"$f":"AZ41/2","v":0},{"$f":"AY41/2","v":0},{"$f":"BB41/2","v":0},{"$f":"BA41/2","v":0},{"$f":"BD41/2","v":0},{"$f":"BC41/2","v":0},null,"co",{"$f":"BH41/2","v":0},{"$f":"BG41/2","v":0},{"$f":"BJ41/2","v":0},{"$f":"BI41/2","v":0},{"$f":"BL41/2","v":0},{"$f":"BK41/2","v":0},{"$f":"BN41/2","v":0},{"$f":"BM41/2","v":0},{"$f":"BP41/2","v":0},{"$f":"BO41/2","v":0},null,"co",{"$f":"BT41/2","v":-1.4103573169040973E-3},{"$f":"BS41/2","v":1.3551883205250945E-3},{"$f":"BV41/2","v":1.1650777835294718E-3},{"$f":"BU41/2","v":-1.1650777835294718E-3},{"$f":"BX41/2","v":-1.3551883205250945E-3},{"$f":"BW41/2","v":1.4103573169040973E-3},{"$f":"BZ41/2","v":0},{"$f":"BY41/2","v":0},{"$f":"CB41/2","v":0},{"$f":"CA41/2","v":0}]
[null,null,null,null,null,null,null,null,null,"dis",{"$f":"(K42)*K23*-1","v":3.1847216049314073E-4},{"$f":"(L42+M42)*L23*-1","v":-3.1847216049314068E-4},{"$f":"(M42+L42)*M23*-1","v":-2.6308569779868145E-4},{"$f":"(N42+O42)*N23*-1","v":2.8395941818597892E-4},{"$f":"(O42+N42)*O23*-1","v":3.4374034833039549E-4},{"$f":"(P42+Q42)*P23*-1","v":-2.9096404841790657E-4},{"$f":"(Q42+P42)*Q23*-1","v":0},{"$f":"(R42+S42)*R23*-1","v":0},{"$f":"(S42+R42)*S23*-1","v":0},{"$f":"(T42+U42)*T23*-1","v":0},null,"dis",{"$f":"(W42)*W23*-1","v":-4.585999111101227E-4},{"$f":"(X42+Y42)*X23*-1","v":4.9498610159576955E-4},{"$f":"(Y42+X42)*Y23*-1","v":4.0890156218780963E-4},{"$f":"(Z42+AA42)*Z23*-1","v":-4.0890156218780963E-4},{"$f":"(AA42+Z42)*AA23*-1","v":-4.9498610159576955E-4},{"$f":"(AB42+AC42)*AB23*-1","v":4.585999111101227E-4},{"$f":"(AC42+AB42)*AC23*-1","v":0},{"$f":"(AD42+AE42)*AD23*-1","v":0},{"$f":"(AE42+AD42)*AE23*-1","v":0},{"$f":"(AF42+AG42)*AF23*-1","v":0},null,"dis",{"$f":"(AI42)*AI23*-1","v":2.9096404841790657E-4},{"$f":"(AJ42+AK42)*AJ23*-1","v":-3.4374034833039549E-4},{"$f":"(AK42+AJ42)*AK23*-1","v":-2.8395941818597892E-4},{"$f":"(AL42+AM42)*AL23*-1","v":2.6308569779868145E-4},{"$f":"(AM42+AL42)*AM23*-1","v":3.1847216049314068E-4},{"$f":"(AN42+AO42)*AN23*-1","v":-3.1847216049314073E-4},{"$f":"(AO42+AN42)*AO23*-1","v":0},{"$f":"(AP42+AQ42)*AP23*-1","v":0},{"$f":"(AQ42+AP42)*AQ23*-1","v":0},{"$f":"(AR42+AS42)*AR23*-1","v":0},null,"dis",{"$f":"(AU42)*AU23*-1","v":0},{"$f":"(AV42+AW42)*AV23*-1","v":0},{"$f":"(AW42+AV42)*AW23*-1","v":0},{"$f":"(AX42+AY42)*AX23*-1","v":0},{"$f":"(AY42+AX42)*AY23*-1","v":0},{"$f":"(AZ42+BA42)*AZ23*-1","v":0},{"$f":"(BA42+AZ42)*BA23*-1","v":0},{"$f":"(BB42+BC42)*BB23*-1","v":0},{"$f":"(BC42+BB42)*BC23*-1","v":0},{"$f":"(BD42+BE42)*BD23*-1","v":0},null,"dis",{"$f":"(BG42)*BG23*-1","v":0},{"$f":"(BH42+BI42)*BH23*-1","v":0},{"$f":"(BI42+BH42)*BI23*-1","v":0},{"$f":"(BJ42+BK42)*BJ23*-1","v":0},{"$f":"(BK42+BJ42)*BK23*-1","v":0},{"$f":"(BL42+BM42)*BL23*-1","v":0},{"$f":"(BM42+BL42)*BM23*-1","v":0},{"$f":"(BN42+BO42)*BN23*-1","v":0},{"$f":"(BO42+BN42)*BO23*-1","v":0},{"$f":"(BP42+BQ42)*BP23*-1","v":0},null,"dis",{"$f":"(BS42)*BS23*-1","v":5.38278552936633E-4},{"$f":"(BT42+BU42)*BT23*-1","v":-5.9676874736183389E-4},{"$f":"(BU42+BT42)*BU23*-1","v":-4.9298287825542812E-4},{"$f":"(BV42+BW42)*BV23*-1","v":4.9298287825542812E-4},{"$f":"(BW42+BV42)*BW23*-1","v":5.9676874736183389E-4},{"$f":"(BX42+BY42)*BX23*-1","v":-5.38278552936633E-4},{"$f":"(BY42+BX42)*BY23*-1","v":0},{"$f":"(BZ42+CA42)*BZ23*-1","v":0},{"$f":"(CA42+BZ42)*CA23*-1","v":0},{"$f":"(CB42+CC42)*CB23*-1","v":0}]
[null,null,null,null,null,null,null,null,null,"co",{"$f":"L43/2","v":-1.5923608024657034E-4},{"$f":"K43/2","v":1.5923608024657037E-4},{"$f":"N43/2","v":1.4197970909298946E-4},{"$f":"M43/2","v":-1.3154284889934072E-4},{"$f":"P43/2","v":-1.4548202420895328E-4},{"$f":"O43/2","v":1.7187017416519775E-4},{"$f":"R43/2","v":0},{"$f":"Q43/2","v":0},{"$f":"T43/2","v":0},{"$f":"S43/2","v":0},null,"co",{"$f":"X43/2","v":2.4749305079788478E-4},{"$f":"W43/2","v":-2.2929995555506135E-4},{"$f":"Z43/2","v":-2.0445078109390482E-4},{"$f":"Y43/2","v":2.0445078109390482E-4},{"$f":"AB43/2","v":2.2929995555506135E-4},{"$f":"AA43/2","v":-2.4749305079788478E-4},{"$f":"AD43/2","v":0},{"$f":"AC43/2","v":0},{"$f":"AF43/2","v":0},{"$f":"AE43/2","v":0},null,"co",{"$f":"AJ43/2","v":-1.7187017416519775E-4},{"$f":"AI43/2","v":1.4548202420895328E-4},{"$f":"AL43/2","v":1.3154284889934072E-4},{"$f":"AK43/2","v":-1.4197970909298946E-4},{"$f":"AN43/2","v":-1.5923608024657037E-4},{"$f":"AM43/2","v":1.5923608024657034E-4},{"$f":"AP43/2","v":0},{"$f":"AO43/2","v":0},{"$f":"AR43/2","v":0},{"$f":"AQ43/2","v":0},null,"co",{"$f":"AV43/2","v":0},{"$f":"AU43/2","v":0},{"$f":"AX43/2","v":0},{"$f":"AW43/2","v":0},{"$f":"AZ43/2","v":0},{"$f":"AY43/2","v":0},{"$f":"BB43/2","v":0},{"$f":"BA43/2","v":0},{"$f":"BD43/2","v":0},{"$f":"BC43/2","v":0},null,"co",{"$f":"BH43/2","v":0},{"$f":"BG43/2","v":0},{"$f":"BJ43/2","v":0},{"$f":"BI43/2","v":0},{"$f":"BL43/2","v":0},{"$f":"BK43/2","v":0},{"$f":"BN43/2","v":0},{"$f":"BM43/2","v":0},{"$f":"BP43/2","v":0},{"$f":"BO43/2","v":0},null,"co",{"$f":"BT43/2","v":-2.9838437368091695E-4},{"$f":"BS43/2","v":2.691392764683165E-4},{"$f":"BV43/2","v":2.4649143912771406E-4},{"$f":"BU43/2","v":-2.4649143912771406E-4},{"$f":"BX43/2","v":-2.691392764683165E-4},{"$f":"BW43/2","v":2.9838437368091695E-4},{"$f":"BZ43/2","v":0},{"$f":"BY43/2","v":0},{"$f":"CB43/2","v":0},{"$f":"CA43/2","v":0}]
[null,null,null,null,null,null,null,null,null,"dis",{"$f":"(K44)*K23*-1","v":6.0774220704988808E-5},{"$f":"(L44+M44)*L23*-1","v":-7.1324281590974114E-5},{"$f":"(M44+L44)*M23*-1","v":-5.8920058705587319E-5},{"$f":"(N44+O44)*N23*-1","v":5.4188134766230487E-5},{"$f":"(O44+N44)*O23*-1","v":6.5596163138068484E-5},{"$f":"(P44+Q44)*P23*-1","v":-6.5596163138068497E-5},{"$f":"(Q44+P44)*Q23*-1","v":0},{"$f":"(R44+S44)*R23*-1","v":0},{"$f":"(S44+R44)*S23*-1","v":0},{"$f":"(T44+U44)*T23*-1","v":0},null,"dis",{"$f":"(W44)*W23*-1","v":-9.4458474918818636E-5},{"$f":"(X44+Y44)*X23*-1","v":1.0270696549100274E-4},{"$f":"(Y44+X44)*Y23*-1","v":8.4844884536045744E-5},{"$f":"(Z44+AA44)*Z23*-1","v":-8.4844884536045744E-5},{"$f":"(AA44+Z44)*AA23*-1","v":-1.0270696549100274E-4},{"$f":"(AB44+AC44)*AB23*-1","v":9.4458474918818636E-5},{"$f":"(AC44+AB44)*AC23*-1","v":0},{"$f":"(AD44+AE44)*AD23*-1","v":0},{"$f":"(AE44+AD44)*AE23*-1","v":0},{"$f":"(AF44+AG44)*AF23*-1","v":0},null,"dis",{"$f":"(AI44)*AI23*-1","v":6.5596163138068497E-5},{"$f":"(AJ44+AK44)*AJ23*-1","v":-6.5596163138068484E-5},{"$f":"(AK44+AJ44)*AK23*-1","v":-5.4188134766230487E-5},{"$f":"(AL44+AM44)*AL23*-1","v":5.8920058705587319E-5},{"$f":"(AM44+AL44)*AM23*-1","v":7.1324281590974114E-5},{"$f":"(AN44+AO44)*AN23*-1","v":-6.0774220704988808E-5},{"$f":"(AO44+AN44)*AO23*-1","v":0},{"$f":"(AP44+AQ44)*AP23*-1","v":0},{"$f":"(AQ44+AP44)*AQ23*-1","v":0},{"$f":"(AR44+AS44)*AR23*-1","v":0},null,"dis",{"$f":"(AU44)*AU23*-1","v":0},{"$f":"(AV44+AW44)*AV23*-1","v":0},{"$f":"(AW44+AV44)*AW23*-1","v":0},{"$f":"(AX44+AY44)*AX23*-1","v":0},{"$f":"(AY44+AX44)*AY23*-1","v":0},{"$f":"(AZ44+BA44)*AZ23*-1","v":0},{"$f":"(BA44+AZ44)*BA23*-1","v":0},{"$f":"(BB44+BC44)*BB23*-1","v":0},{"$f":"(BC44+BB44)*BC23*-1","v":0},{"$f":"(BD44+BE44)*BD23*-1","v":0},null,"dis",{"$f":"(BG44)*BG23*-1","v":0},{"$f":"(BH44+BI44)*BH23*-1","v":0},{"$f":"(BI44+BH44)*BI23*-1","v":0},{"$f":"(BJ44+BK44)*BJ23*-1","v":0},{"$f":"(BK44+BJ44)*BK23*-1","v":0},{"$f":"(BL44+BM44)*BL23*-1","v":0},{"$f":"(BM44+BL44)*BM23*-1","v":0},{"$f":"(BN44+BO44)*BN23*-1","v":0},{"$f":"(BO44+BN44)*BO23*-1","v":0},{"$f":"(BP44+BQ44)*BP23*-1","v":0},null,"dis",{"$f":"(BS44)*BS23*-1","v":1.1388171420022427E-4},{"$f":"(BT44+BU44)*BT23*-1","v":-1.220951612024168E-4},{"$f":"(BU44+BT44)*BU23*-1","v":-1.0086122012373561E-4},{"$f":"(BV44+BW44)*BV23*-1","v":1.0086122012373561E-4},{"$f":"(BW44+BV44)*BW23*-1","v":1.220951612024168E-4},{"$f":"(BX44+BY44)*BX23*-1","v":-1.1388171420022427E-4},{"$f":"(BY44+BX44)*BY23*-1","v":0},{"$f":"(BZ44+CA44)*BZ23*-1","v":0},{"$f":"(CA44+BZ44)*CA23*-1","v":0},{"$f":"(CB44+CC44)*CB23*-1","v":0}]
[null,null,null,null,null,null,null,null,null,"sum",{"$f":"SUM(K24:K45)","v":-2258.1333766084003},{"$f":"SUM(L24:L45)","v":2955.5307626938252},{"$f":"SUM(M24:M45)","v":-728.93630553574337},{"$f":"SUM(N24:N45)","v":-306.88143917183623},{"$f":"SUM(O24:O45)","v":84.078390827854335},28.736322888162473,0,0,0,0,null,"sum",{"$f":"SUM(W24:W45)","v":382.01651169535171},1117.7247840096993,-4079.6343735235046,4079.6343735235046,-1117.7247840096993,-382.01651169535171,0,0,0,0,null,"sum",{"$f":"SUM(AI24:AI45)","v":-28.736322888162473},-84.078390827854335,306.88143917183623,728.93630553574337,-2955.5307626938252,2258.1333766084003,0,0,0,0,null,"sum",{"$f":"SUM(AU24:AU45)","v":0},0,0,0,0,0,0,0,0,0,null,"sum",{"$f":"SUM(BG24:BG45)","v":0},0,0,0,0,0,0,0,0,0,null,"sum",{"$f":"SUM(BS24:BS45)","v":-6797.7113760749098},14235.887105281798,-16064.851797245265,16064.851797245265,-14235.887105281798,6797.7113760749098,0,0,0,0]
[null,null,null,null,null,null,null,null,null,"โมเมนต์บวก span 1 =",{"$f":"K109","v":8931.9518191198131},null,"โมเมนต์บวก span 2 =",{"$f":"W109","v":11310.513829231229},"โมเมนต์บวก span 3 =",{"$f":"AI109","v":8931.9518191198222},"โมเมนต์บวก span 4 =",{"$f":"AU109","v":0},"โมเมนต์บวก span 5 =",{"$f":"BG109","v":0}]
[null,null,null,null,null,null,null,null,null,"โมเมนต์ลบ span 1 ขวา =",{"$f":"N108","v":-13895.501931435454},null,"โมเมนต์ลบ span 2 ขวา =",{"$f":"AC109","v":-16024.638403608365},"โมเมนต์ลบ span 3 ขวา =",{"$f":"AO108","v":-5553.8439956502871},"โมเมนต์ลบ span 4 ขวา =",{"$f":"BA108","v":0},"โมเมนต์ลบ span 5 ขวา =",{"$f":"BM108","v":0}]
[null,null,null,null,null,null,null,null,null,"โมเมนต์ลบ span 1 ซ้าย =",{"$f":"Q105","v":-5553.8439956502871},null,"โมเมนต์ลบ span 2 ซ้าย =",{"$f":"Z109","v":-16024.638403608365},"โมเมนต์ลบ span 3 ซ้าย =",{"$f":"AL108","v":-13895.501931435454},"โมเมนต์ลบ span 4 ซ้าย =",{"$f":"AX108","v":0},"โมเมนต์ลบ span 5 ซ้าย =",{"$f":"BJ108","v":0}]
[]
[null,null,null,null,null,null,"ทิศทาง","ช่วงเสา","สัมประสิทธ์ร้อยละ","แถบเสา","แถบกลาง",null,"แถบเสา","แถบกลาง","แถบเสา","แถบกลาง","แถบเสา","แถบกลาง","แถบเสา","แถบกลาง"]
[null,null,null,null,null,null,null,"โมเมนต์ลบขวา",0.75,{"$f":"IF((-K48>-N49),(K48),(N49))*I52","v":-12018.478802706275},{"$f":"IF((-K48>-N49),(K48),(N49))-J52","v":-4006.1596009020905},null,{"$f":"IF((-N48>-P49),(N48),(P49))*IF(Sheet1!$B$3=2,(I54),(I52))","v":-12018.478802706275},{"$f":"IF((-N48>-P49),(N48),(P49))-M52","v":-4006.1596009020905},{"$f":"IF(-P48>-R49,(P48),(R49))*IF(Sheet1!$B$3=3,(1),(0.75))","v":-5553.8439956502871},{"$f":"IF(-P48>-R49,(P48),(R49))*IF(Sheet1!$B$3=3,(1),(0.75))-O52","v":0},{"$f":"IF(-R48>-T49,(R48),(T49))*IF(Sheet1!$B$3=4,(1),(0.75))","v":0},{"$f":"IF(-R48>-T49,(R48),(T49))*IF(Sheet1!$B$3=4,(1),(0.75))-Q52","v":0},{"$f":"IF(-T48>-V49,(T48),(V49))*IF(Sheet1!$B$3=5,(1),(0.75))","v":0},{"$f":"IF(-T48>-V49,(T48),(V49))*IF(Sheet1!$B$3=5,(1),(0.75))-S52","v":0}]
[null,null,null,null,null,null,null,"โมเมนต์กลางช่วงโมเมนต์บวก",0.6,{"$f":"K47*$I$53","v":5359.1710914718878},{"$f":"K47-J53","v":3572.7807276479252},null,{"$f":"N47*$I$53","v":6786.3082975387379},{"$f":"N47-M53","v":4524.2055316924916},{"$f":"P47*$I$53","v":5359.1710914718933},{"$f":"P47-O53","v":3572.7807276479289},{"$f":"R47*$I$53","v":0},{"$f":"R47-Q53","v":0},{"$f":"T47*$I$53","v":0},{"$f":"T47-S53","v":0}]
[null,null,null,null,null,null,null,"โมเมนต์ลบซ้าย",1,{"$f":"K49*I54","v":-5553.8439956502871},{"$f":"K49-J54","v":0},null,{"$f":"IF((-K48>-N49),(K48),(N49))*I52","v":-12018.478802706275},{"$f":"IF((-K48>-N49),(K48),(N49))-M54","v":-4006.1596009020905},{"$f":"IF((-N48>-P49),(N48),(P49))*IF(Sheet1!$B$3<3,(0),(0.75))","v":-12018.478802706275},{"$f":"IF(O54=0,(0),(IF((-N48>-P49),(N48),(P49))-O54))","v":-4006.1596009020905},{"$f":"IF((-P48>-R49),(P48),(R49))*IF(Sheet1!$B$3<4,(0),(0.75))","v":0},{"$f":"IF(Q54=0,(0),(IF((-P48>-R49),(P48),(R49))-Q54))","v":0},{"$f":"IF((-R48>-T49),(R48),(T49))*IF(Sheet1!$B$3<5,(0),(0.75))","v":0},{"$f":"IF(S54=0,(0),(IF((-R48>-T49),(R48),(T49))-S54))","v":0}]
[]
[null,null,null,null,null,null,"เหล็กเสริมในแผ่นพื้น",null,null,"span r1",null,null,"span r2",null,"span r3",null,"span r4",null,"span r5"]
[null,null,null,null,null,null,null,"รายการ","หน่วย","แถบเสา","แถบกลาง",null,"แถบเสา","แถบกลาง","แถบเสา","แถบกลาง","แถบเสา","แถบกลาง","แถบเสา","แถบกลาง"]
[null,null,null,null,null,null,null,"ความกว้าง","m",{"$f":"E2*0.5","v":1.5},{"$f":"MIN(0.5*Sheet1!$L$9)-J58","v":1.5},null,{"$f":"E2*0.5","v":1.5},{"$f":"MIN(0.5*Sheet1!$L$9)-M58","v":1.5},{"$f":"E2*0.5","v":1.5},{"$f":"MIN(0.5*Sheet1!$L$9)-O58","v":1.5},{"$f":"E2*0.5","v":1.5},{"$f":"MIN(0.5*Sheet1!$L$9)-Q58","v":1.5},{"$f":"E2*0.5","v":1.5},{"$f":"MIN(0.5*Sheet1!$L$9)-S58","v":1.5}]
[null,null,null,null,null,null,null,"โมเมนต์ลบขวา","kg-m/m",{"$f":"J52/(0.9*J58)","v":-8902.576890893537},{"$f":"K52/(K58*0.9)","v":-2967.5256302978446},null,{"$f":"M52/(0.9*M58)","v":-8902.576890893537},-2967.5256302978446,-4113.9585152965083,0,0,0,0,0]
[null,null,null,null,null,null,null,"Rn","kg/m^2",{"$f":"J59/(((Sheet1!B16)-(Sheet1!B13/100))^2)","v":-175853.37068431676},{"$f":"K59/(((Sheet1!B16)-(Sheet1!B13/100))^2)","v":-58617.790228105565},null,{"$f":"M59/(((Sheet1!B16)-(Sheet1!B13/100))^2)","v":-175853.37068431676},{"$f":"N59/(((Sheet1!B16)-(Sheet1!B13/100))^2)","v":-58617.790228105565},{"$f":"O59/(((Sheet1!B16)-(Sheet1!B13/100))^2)","v":-81263.378079931019},{"$f":"P59/(((Sheet1!B16)-(Sheet1!B13/100))^2)","v":0},{"$f":"Q59/(((Sheet1!B16)-(Sheet1!B13/100))^2)","v":0},{"$f":"R59/(((Sheet1!B16)-(Sheet1!B13/100))^2)","v":0},{"$f":"S59/(((Sheet1!B16)-(Sheet1!B13/100))^2)","v":0},{"$f":"T59/(((Sheet1!B16)-(Sheet1!B13/100))^2)","v":0}]
[null,null,null,null,null,null,null,"p",null,{"$f":"ABS((0.85*Sheet1!B10/Sheet1!B9)*(1-(SQRT(1-(2*J60/(0.85*Sheet1!B10*100^2))))))","v":5.5758342032785181E-3},{"$f":"ABS((0.85*Sheet1!B10/Sheet1!B9)*(1-(SQRT(1-(2*K60/(0.85*Sheet1!B10*100^2))))))","v":1.896645527720131E-3},null,{"$f":"ABS((0.85*Sheet1!B10/Sheet1!B9)*(1-(SQRT(1-(2*M60/(0.85*Sheet1!B10*100^2))))))","v":5.5758342032785181E-3},{"$f":"ABS((0.85*Sheet1!B10/Sheet1!B9)*(1-(SQRT(1-(2*N60/(0.85*Sheet1!B10*100^2))))))","v":1.896645527720131E-3},{"$f":"ABS((0.85*Sheet1!B10/Sheet1!B9)*(1-(SQRT(1-(2*O60/(0.85*Sheet1!B10*100^2))))))","v":2.6188496778213792E-3},{"$f":"ABS((0.85*Sheet1!B10/Sheet1!B9)*(1-(SQRT(1-(2*P60/(0.85*Sheet1!B10*100^2))))))","v":0},{"$f":"ABS((0.85*Sheet1!B10/Sheet1!B9)*(1-(SQRT(1-(2*Q60/(0.85*Sheet1!B10*100^2))))))","v":0},{"$f":"ABS((0.85*Sheet1!B10/Sheet1!B9)*(1-(SQRT(1-(2*R60/(0.85*Sheet1!B10*100^2))))))","v":0},{"$f":"ABS((0.85*Sheet1!B10/Sheet1!B9)*(1-(SQRT(1-(2*S60/(0.85*Sheet1!B10*100^2))))))","v":0},{"$f":"ABS((0.85*Sheet1!B10/Sheet1!B9)*(1-(SQRT(1-(2*T60/(0.85*Sheet1!B10*100^2))))))","v":0}]
[null,null,null,null,null,null,null,"As-","mm^2/m",{"$f":"IF(J59=0,(0),(IF(J61>(0.0018*4000/Sheet1!$B$9),(ABS(J61*1000*(Sheet1!$B$16*1000-Sheet1!$B$13*10)*-1)),(ABS((0.0018*4000/Sheet1!$B$9)*1000*(Sheet1!$B$16*1000-Sheet1!$B$13*10)*-1)))))","v":1254.5626957376664},{"$f":"IF(J59=0,(0),(IF(K61>(0.0018*4000/Sheet1!$B$9),(ABS(K61*1000*(Sheet1!$B$16*1000-Sheet1!$B$13*10)*-1)),(ABS((0.0018*4000/Sheet1!$B$9)*1000*(Sheet1!$B$16*1000-Sheet1!$B$13*10)*-1)))))","v":529.75801177240021},null,{"$f":"IF(M59=0,(0),(IF(M61>(0.0018*4000/Sheet1!$B$9),(ABS(M61*1000*(Sheet1!$B$16*1000-Sheet1!$B$13*10)*-1)),(ABS((0.0018*4000/Sheet1!$B$9)*1000*(Sheet1!$B$16*1000-Sheet1!$B$13*10)*-1)))))","v":1254.5626957376664},{"$f":"IF(M59=0,(0),(IF(N61>(0.0018*4000/Sheet1!$B$9),(ABS(N61*1000*(Sheet1!$B$16*1000-Sheet1!$B$13*10)*-1)),(ABS((0.0018*4000/Sheet1!$B$9)*1000*(Sheet1!$B$16*1000-Sheet1!$B$13*10)*-1)))))","v":529.75801177240021},{"$f":"IF(O59=0,(0),(IF(O61>(0.0018*4000/Sheet1!$B$9),(ABS(O61*1000*(Sheet1!$B$16*1000-Sheet1!$B$13*10)*-1)),(ABS((0.0018*4000/Sheet1!$B$9)*1000*(Sheet1!$B$16*1000-Sheet1!$B$13*10)*-1)))))","v":589.24117750981043},{"$f":"IF(O59=0,(0),(IF(P61>(0.0018*4000/Sheet1!$B$9),(ABS(P61*1000*(Sheet1!$B$16*1000-Sheet1!$B$13*10)*-1)),(ABS((0.0018*4000/Sheet1!$B$9)*1000*(Sheet1!$B$16*1000-Sheet1!$B$13*10)*-1)))))","v":529.75801177240021},{"$f":"IF(Q59=0,(0),(IF(Q61>(0.0018*4000/Sheet1!$B$9),(ABS(Q61*1000*(Sheet1!$B$16*1000-Sheet1!$B$13*10)*-1)),(ABS((0.0018*4000/Sheet1!$B$9)*1000*(Sheet1!$B$16*1000-Sheet1!$B$13*10)*-1)))))","v":0},{"$f":"IF(Q59=0,(0),(IF(R61>(0.0018*4000/Sheet1!$B$9),(ABS(R61*1000*(Sheet1!$B$16*1000-Sheet1!$B$13*10)*-1)),(ABS((0.0018*4000/Sheet1!$B$9)*1000*(Sheet1!$B$16*1000-Sheet1!$B$13*10)*-1)))))","v":0},{"$f":"IF(S59=0,(0),(IF(S61>(0.0018*4000/Sheet1!$B$9),(ABS(S61*1000*(Sheet1!$B$16*1000-Sheet1!$B$13*10)*-1)),(ABS((0.0018*4000/Sheet1!$B$9)*1000*(Sheet1!$B$16*1000-Sheet1!$B$13*10)*-1)))))","v":0},{"$f":"IF(S59=0,(0),(IF(T61>(0.0018*4000/Sheet1!$B$9),(ABS(T61*1000*(Sheet1!$B$16*1000-Sheet1!$B$13*10)*-1)),(ABS((0.0018*4000/Sheet1!$B$9)*1000*(Sheet1!$B$16*1000-Sheet1!$B$13*10)*-1)))))","v":0}]
[null,null,null,null,null,null,null,"โมเมนต์บวกกลาง","kg-m/m",{"$f":"J53/(0.9*J58)","v":3969.7563640532499},{"$f":"K53/(0.9*K58)","v":2646.5042427021667},null,{"$f":"M53/(0.9*M58)","v":5026.89503521388},3351.2633568092529,3969.7563640532539,2646.5042427021694,0,0,0,0]
[null,null,null,null,null,null,null,"Rn","kg/m^2",{"$f":"J63/(((Sheet1!B16)-(Sheet1!B13/100))^2)","v":78414.940524508638},{"$f":"K63/(((Sheet1!B16)-(Sheet1!B13/100))^2)","v":52276.627016339095},null,{"$f":"M63/(((Sheet1!B16)-(Sheet1!B13/100))^2)","v":99296.692053607505},{"$f":"N63/(((Sheet1!B16)-(Sheet1!B13/100))^2)","v":66197.794702404994},{"$f":"O63/(((Sheet1!B16)-(Sheet1!B13/100))^2)","v":78414.940524508711},{"$f":"P63/(((Sheet1!B16)-(Sheet1!B13/100))^2)","v":52276.627016339145},{"$f":"Q63/(((Sheet1!B16)-(Sheet1!B13/100))^2)","v":0},{"$f":"R63/(((Sheet1!B16)-(Sheet1!B13/100))^2)","v":0},{"$f":"S63/(((Sheet1!B16)-(Sheet1!B13/100))^2)","v":0},{"$f":"T63/(((Sheet1!B16)-(Sheet1!B13/100))^2)","v":0}]
[null,null,null,null,null,null,null,"p",null,{"$f":"ABS((0.85*Sheet1!B10/Sheet1!B9)*(1-(SQRT(1-(2*J64/(0.85*Sheet1!B10*100^2))))))","v":2.6023238453108857E-3},{"$f":"(0.85*Sheet1!B10/Sheet1!B9)*(1-(SQRT(1-(2*K64/(0.85*Sheet1!B10*100^2)))))","v":1.7262551276482237E-3},null,{"$f":"ABS((0.85*Sheet1!B10/Sheet1!B9)*(1-(SQRT(1-(2*M64/(0.85*Sheet1!B10*100^2))))))","v":3.3086497789430458E-3},{"$f":"ABS((0.85*Sheet1!B10/Sheet1!B9)*(1-(SQRT(1-(2*N64/(0.85*Sheet1!B10*100^2))))))","v":2.1917448966673621E-3},{"$f":"ABS((0.85*Sheet1!B10/Sheet1!B9)*(1-(SQRT(1-(2*O64/(0.85*Sheet1!B10*100^2))))))","v":2.6023238453108956E-3},{"$f":"ABS((0.85*Sheet1!B10/Sheet1!B9)*(1-(SQRT(1-(2*P64/(0.85*Sheet1!B10*100^2))))))","v":1.7262551276482337E-3},{"$f":"ABS((0.85*Sheet1!B10/Sheet1!B9)*(1-(SQRT(1-(2*Q64/(0.85*Sheet1!B10*100^2))))))","v":0},{"$f":"ABS((0.85*Sheet1!B10/Sheet1!B9)*(1-(SQRT(1-(2*R64/(0.85*Sheet1!B10*100^2))))))","v":0},{"$f":"ABS((0.85*Sheet1!B10/Sheet1!B9)*(1-(SQRT(1-(2*S64/(0.85*Sheet1!B10*100^2))))))","v":0},{"$f":"ABS((0.85*Sheet1!B10/Sheet1!B9)*(1-(SQRT(1-(2*T64/(0.85*Sheet1!B10*100^2))))))","v":0}]
[null,null,null,null,null,null,null,"As+","mm^2/m",{"$f":"IF(J63=0,(0),(IF(J65>(0.0018*4000/Sheet1!$B$9),(ABS(J65*1000*(Sheet1!$B$16*1000-Sheet1!$B$13*10)*-1)),(ABS((0.0018*4000/Sheet1!$B$9)*1000*(Sheet1!$B$16*1000-Sheet1!$B$13*10)*-1)))))","v":585.52286519494919},{"$f":"IF(K63=0,(0),(IF(K65>(0.0018*4000/Sheet1!$B$9),(ABS(K65*1000*(Sheet1!$B$16*1000-Sheet1!$B$13*10)*-1)),(ABS((0.0018*4000/Sheet1!$B$9)*1000*(Sheet1!$B$16*1000-Sheet1!$B$13*10)*-1)))))","v":529.75801177240021},null,{"$f":"IF(M63=0,(0),(IF(M65>(0.0018*4000/Sheet1!$B$9),(ABS(M65*1000*(Sheet1!$B$16*1000-Sheet1!$B$13*10)*-1)),(ABS((0.0018*4000/Sheet1!$B$9)*1000*(Sheet1!$B$16*1000-Sheet1!$B$13*10)*-1)))))","v":744.44620026218536},{"$f":"IF(N63=0,(0),(IF(N65>(0.0018*4000/Sheet1!$B$9),(ABS(N65*1000*(Sheet1!$B$16*1000-Sheet1!$B$13*10)*-1)),(ABS((0.0018*4000/Sheet1!$B$9)*1000*(Sheet1!$B$16*1000-Sheet1!$B$13*10)*-1)))))","v":529.75801177240021},{"$f":"IF(O63=0,(0),(IF(O65>(0.0018*4000/Sheet1!$B$9),(ABS(O65*1000*(Sheet1!$B$16*1000-Sheet1!$B$13*10)*-1)),(ABS((0.0018*4000/Sheet1!$B$9)*1000*(Sheet1!$B$16*1000-Sheet1!$B$13*10)*-1)))))","v":585.52286519495158},{"$f":"IF(P63=0,(0),(IF(P65>(0.0018*4000/Sheet1!$B$9),(ABS(P65*1000*(Sheet1!$B$16*1000-Sheet1!$B$13*10)*-1)),(ABS((0.0018*4000/Sheet1!$B$9)*1000*(Sheet1!$B$16*1000-Sheet1!$B$13*10)*-1)))))","v":529.75801177240021},{"$f":"IF(Q63=0,(0),(IF(Q65>(0.0018*4000/Sheet1!$B$9),(ABS(Q65*1000*(Sheet1!$B$16*1000-Sheet1!$B$13*10)*-1)),(ABS((0.0018*4000/Sheet1!$B$9)*1000*(Sheet1!$B$16*1000-Sheet1!$B$13*10)*-1)))))","v":0},{"$f":"IF(R63=0,(0),(IF(R65>(0.0018*4000/Sheet1!$B$9),(ABS(R65*1000*(Sheet1!$B$16*1000-Sheet1!$B$13*10)*-1)),(ABS((0.0018*4000/Sheet1!$B$9)*1000*(Sheet1!$B$16*1000-Sheet1!$B$13*10)*-1)))))","v":0},{"$f":"IF(S63=0,(0),(IF(S65>(0.0018*4000/Sheet1!$B$9),(ABS(S65*1000*(Sheet1!$B$16*1000-Sheet1!$B$13*10)*-1)),(ABS((0.0018*4000/Sheet1!$B$9)*1000*(Sheet1!$B$16*1000-Sheet1!$B$13*10)*-1)))))","v":0},{"$f":"IF(T63=0,(0),(IF(T65>(0.0018*4000/Sheet1!$B$9),(ABS(T65*1000*(Sheet1!$B$16*1000-Sheet1!$B$13*10)*-1)),(ABS((0.0018*4000/Sheet1!$B$9)*1000*(Sheet1!$B$16*1000-Sheet1!$B$13*10)*-1)))))","v":0}]
[null,null,null,null,null,null,null,"โมเมนต์ลบซ้าย","kg-m/m",{"$f":"J54/(0.9*J58)","v":-4113.9585152965083},{"$f":"K54/(0.9*K58)","v":0},null,{"$f":"M54/(0.9*M58)","v":-8902.576890893537},{"$f":"N54/(0.9*N58)","v":-2967.5256302978446},{"$f":"O54/(0.9*O58)","v":-8902.576890893537},{"$f":"P54/(0.9*P58)","v":-2967.5256302978446},0,0,0,0]
[null,null,null,null,null,null,null,"Rn","kg/m^2",{"$f":"J67/(((Sheet1!B16)-(Sheet1!B13/100))^2)","v":-81263.378079931019},{"$f":"K67/(((Sheet1!B16)-(Sheet1!B13/100))^2)","v":0},null,{"$f":"M67/(((Sheet1!B16)-(Sheet1!B13/100))^2)","v":-175853.37068431676},{"$f":"N67/(((Sheet1!B16)-(Sheet1!B13/100))^2)","v":-58617.790228105565},{"$f":"O67/(((Sheet1!B16)-(Sheet1!B13/100))^2)","v":-175853.37068431676},{"$f":"P67/(((Sheet1!B16)-(Sheet1!B13/100))^2)","v":-58617.790228105565},{"$f":"Q67/(((Sheet1!B16)-(Sheet1!B13/100))^2)","v":0},{"$f":"R67/(((Sheet1!B16)-(Sheet1!B13/100))^2)","v":0},{"$f":"S67/(((Sheet1!B16)-(Sheet1!B13/100))^2)","v":0},{"$f":"T67/(((Sheet1!B16)-(Sheet1!B13/100))^2)","v":0}]
[null,null,null,null,null,null,null,"p",null,{"$f":"ABS((0.85*Sheet1!B10/Sheet1!B9)*(1-(SQRT(1-(2*J68/(0.85*Sheet1!B10*100^2))))))","v":2.6188496778213792E-3},{"$f":"(0.85*Sheet1!B10/Sheet1!B9)*(1-(SQRT(1-(2*K68/(0.85*Sheet1!B10*100^2)))))","v":0},null,{"$f":"ABS((0.85*Sheet1!B10/Sheet1!B9)*(1-(SQRT(1-(2*M68/(0.85*Sheet1!B10*100^2))))))","v":5.5758342032785181E-3},{"$f":"ABS((0.85*Sheet1!B10/Sheet1!B9)*(1-(SQRT(1-(2*N68/(0.85*Sheet1!B10*100^2))))))","v":1.896645527720131E-3},{"$f":"ABS((0.85*Sheet1!B10/Sheet1!B9)*(1-(SQRT(1-(2*O68/(0.85*Sheet1!B10*100^2))))))","v":5.5758342032785181E-3},{"$f":"ABS((0.85*Sheet1!B10/Sheet1!B9)*(1-(SQRT(1-(2*P68/(0.85*Sheet1!B10*100^2))))))","v":1.896645527720131E-3},{"$f":"ABS((0.85*Sheet1!B10/Sheet1!B9)*(1-(SQRT(1-(2*Q68/(0.85*Sheet1!B10*100^2))))))","v":0},{"$f":"ABS((0.85*Sheet1!B10/Sheet1!B9)*(1-(SQRT(1-(2*R68/(0.85*Sheet1!B10*100^2))))))","v":0},{"$f":"ABS((0.85*Sheet1!B10/Sheet1!B9)*(1-(SQRT(1-(2*S68/(0.85*Sheet1!B10*100^2))))))","v":0},{"$f":"ABS((0.85*Sheet1!B10/Sheet1!B9)*(1-(SQRT(1-(2*T68/(0.85*Sheet1!B10*100^2))))))","v":0}]
[null,null,null,null,null,null,null,"As-","mm^2/m",{"$f":"IF(J67=0,(0),(IF(J69>(0.0018*4000/Sheet1!$B$9),(ABS(J69*1000*(Sheet1!$B$16*1000-Sheet1!$B$13*10)*-1)),(ABS((0.0018*4000/Sheet1!$B$9)*1000*(Sheet1!$B$16*1000-Sheet1!$B$13*10)*-1)))))","v":589.24117750981043},{"$f":"IF(J67=0,(0),(IF(K69>(0.0018*4000/Sheet1!$B$9),(ABS(K69*1000*(Sheet1!$B$16*1000-Sheet1!$B$13*10)*-1)),(ABS((0.0018*4000/Sheet1!$B$9)*1000*(Sheet1!$B$16*1000-Sheet1!$B$13*10)*-1)))))","v":529.75801177240021},null,{"$f":"IF(M67=0,(0),(IF(M69>(0.0018*4000/Sheet1!$B$9),(ABS(M69*1000*(Sheet1!$B$16*1000-Sheet1!$B$13*10)*-1)),(ABS((0.0018*4000/Sheet1!$B$9)*1000*(Sheet1!$B$16*1000-Sheet1!$B$13*10)*-1)))))","v":1254.5626957376664},{"$f":"IF(M67=0,(0),(IF(N69>(0.0018*4000/Sheet1!$B$9),(ABS(N69*1000*(Sheet1!$B$16*1000-Sheet1!$B$13*10)*-1)),(ABS((0.0018*4000/Sheet1!$B$9)*1000*(Sheet1!$B$16*1000-Sheet1!$B$13*10)*-1)))))","v":529.75801177240021},{"$f":"IF(O67=0,(0),(IF(O69>(0.0018*4000/Sheet1!$B$9),(ABS(O69*1000*(Sheet1!$B$16*1000-Sheet1!$B$13*10)*-1)),(ABS((0.0018*4000/Sheet1!$B$9)*1000*(Sheet1!$B$16*1000-Sheet1!$B$13*10)*-1)))))","v":1254.5626957376664},{"$f":"IF(O67=0,(0),(IF(P69>(0.0018*4000/Sheet1!$B$9),(ABS(P69*1000*(Sheet1!$B$16*1000-Sheet1!$B$13*10)*-1)),(ABS((0.0018*4000/Sheet1!$B$9)*1000*(Sheet1!$B$16*1000-Sheet1!$B$13*10)*-1)))))","v":529.75801177240021},{"$f":"IF(Q67=0,(0),(IF(Q69>(0.0018*4000/Sheet1!$B$9),(ABS(Q69*1000*(Sheet1!$B$16*1000-Sheet1!$B$13*10)*-1)),(ABS((0.0018*4000/Sheet1!$B$9)*1000*(Sheet1!$B$16*1000-Sheet1!$B$13*10)*-1)))))","v":0},{"$f":"IF(Q67=0,(0),(IF(R69>(0.0018*4000/Sheet1!$B$9),(ABS(R69*1000*(Sheet1!$B$16*1000-Sheet1!$B$13*10)*-1)),(ABS((0.0018*4000/Sheet1!$B$9)*1000*(Sheet1!$B$16*1000-Sheet1!$B$13*10)*-1)))))","v":0},{"$f":"IF(S67=0,(0),(IF(S69>(0.0018*4000/Sheet1!$B$9),(ABS(S69*1000*(Sheet1!$B$16*1000-Sheet1!$B$13*10)*-1)),(ABS((0.0018*4000/Sheet1!$B$9)*1000*(Sheet1!$B$16*1000-Sheet1!$B$13*10)*-1)))))","v":0},{"$f":"IF(S67=0,(0),(IF(T69>(0.0018*4000/Sheet1!$B$9),(ABS(T69*1000*(Sheet1!$B$16*1000-Sheet1!$B$13*10)*-1)),(ABS((0.0018*4000/Sheet1!$B$9)*1000*(Sheet1!$B$16*1000-Sheet1!$B$13*10)*-1)))))","v":0}]
[]
[]
[]
[]
[]
[]
[]
[]
[]
[]
[]
[]
[]
[]
[]
[]
[]
[]
[]
[]
[]
[]
[]
[]
[]
[]
[]
[]
[]
[]
[]
[]
[]
[null,null,null,null,null,null,null,null,null,"โมเมนต์บวก span 1",null,null,"โมเมนต์ลบ span 1  ขวา",null,null,"โมเมนต์ลบ span 1 ซ้าย",null,null,null,null,null,"โมเมนต์บวก span 2",null,null,"โมเมนต์ลบ span 2  ซ้าย",null,null,"โมเมนต์ลบspan 2 ขวา",null,null,null,null,null,"โมเมนต์บวกสแปน 3",null,null,"โมเมนต์ลบspan 3 ซ้าย",null,null,"โมเมนต์ลบspan 3 ขวา",null,null,null,null,null,"โมเมนต์บวกสแปน 4",null,null,"โมเมนต์ลบสแปน 4 ซ้าย",null,null,"โมเมนต์ลบสแปน 4 ขวา",null,null,null,null,null,"โมเมนต์บวกสแปน 5",null,null,"โมเมนต์ลบ span 5 ซ้าย",null,null,"โมเมนต์ลบ span 5 ขวา"]
[null,null,null,null,null,null,null,null,null,"M 1l =",{"$f":"(K46+AI46+BG46+BS46)*-1","v":9084.581075571472},null,"M 1l =",{"$f":"(K46+W46+AU46+BS46)*-1","v":8673.8282409879575},null,"M- max span1l =",{"$f":"-K105+0.5*K107*Sheet1!D9-0.25*'r1'!E2*('r1'!B7+'r1'!E7)*Sheet1!D9^2","v":-5553.8439956502871},null,null,null,null,"M 2l =",{"$f":"(Y46+AW46+BU46)*-1","v":20144.486170768771},null,"M 2l =",{"$f":"(M46+Y46+AW46+BU46)*-1","v":20873.422476304513},null,"M 2l =",{"$f":"(Y46+AK46+BU46+BI46)*-1","v":19837.604731596934},null,null,null,null,"M 3l =",{"$f":"(AM46+O46+BK46+BW46)*-1","v":17107.339477147769},null,"M3l =",{"$f":"(AM46+AA46+BW46+BK46)*-1","v":18309.142651985323},null,"M3l =",{"$f":"(AM46+AY46+O46+BW46)*-1","v":17107.339477147769},null,null,null,null,"m 4l =",{"$f":"(BA46+AC46+BY46)*-1","v":0},null,"m4l =",{"$f":"(BA46+AO46+Q46+BY46)*-1","v":0},null," m4l =",{"$f":"(BA46+BM46+AC46+BY46)*-1","v":0},null,null,null,null,"m5l =",{"$f":"(BO46+AQ46+S46+CA46)*-1","v":0},null,"m5l =",{"$f":"(BO46+BC46+AE46+CA46)*-1","v":0},null,"m5l =",{"$f":"(BO46+AQ46+S46+CA46)*-1","v":0}]
[null,null,null,null,null,null,null,null,null,"M 1r =",{"$f":"(L46+AJ46+BH46+BT46)","v":17107.339477147769},null,"M 1r =",{"$f":"(L46+X46+AV46+BT46)","v":18309.142651985323},null,null,null,null,null,null,null,"M 2r =",{"$f":"(Z46+AX46+BV46)","v":20144.486170768771},null,"M 2r =",{"$f":"Z46+N46+AX46+BV46","v":19837.604731596934},null,"M 2r =",{"$f":"(Z46+AL46+BV46)+BJ46","v":20873.422476304513},null,null,null,null,"M 3r =",{"$f":"(AN46+P46+BL46+BX46)","v":9084.581075571472},null,"M3r =",{"$f":"AN46+AB46+BL46+BX46","v":8673.8282409879575},null,"M3r =",{"$f":"AN46+AZ46+P46+BX46","v":9084.581075571472},null,null,null,null,"m 4r =",{"$f":"(BB46+AD46+BZ46)","v":0},null,"m4r =",{"$f":"BB46+AP46+R46+BZ46","v":0},null,"m4r =",{"$f":"(BB46+BN46+BZ46+AD46)","v":0},null,null,null,null,"m5r =",{"$f":"(BP46+AR46+T46+CB46)","v":0},null,"m5r =",{"$f":"BP46+CB46+BD46+AF46","v":0},null,"m5r =",{"$f":"BP46+CB46+AR46+T46","v":0}]
[null,null,null,null,null,null,null,null,null,"V1l =",{"$f":"IF(K105=0,(0),((-K106+K105+(0.5*(B7+E7)*E2*Sheet1!F9^2))/Sheet1!F9))","v":15870.44831968474},null,"V 1r =",{"$f":"IF(N105=0,(0),((N106-N105+0.5*(B7+E7)*E2*Sheet1!$F$9^2)/Sheet1!$F$9))","v":19402.062882199472},null,null,null,null,null,null,null,"V2l =",{"$f":"IF(W105=0,(0),((-W106+W105+0.5*(B8+E8)*E2*Sheet1!F10^2)/Sheet1!F10))","v":20970},null,"V2l  =",{"$f":"IF(Z105=0,(0),((-Z106+Z105+0.5*(B8+E8)*E2*Sheet1!F10^2)/Sheet1!F10))","v":21142.636290784594},null,"V2l =",{"$f":"IF(AC105=0,(0),((-AC106+AC105+0.5*(B8+E8)*E2*Sheet1!F10^2)/Sheet1!F10))","v":20797.363709215406},null,null,null,null,"V3l =",{"$f":"IF(AI105=0,(0),((-AI106+AI105+0.5*(B9+E9)*E2*Sheet1!F11^2)/Sheet1!F11))","v":19079.55168031526},null,"V3l =",{"$f":"IF(AL105=0,(0),((-AL106+AL105+0.5*(B9+E9)*Sheet1!F11^2*E2)/Sheet1!F11))","v":19402.062882199472},null,"V3r =",{"$f":"IF(AO105=0,(0),((AO106-AO105+0.5*(B9+E9)*E2*Sheet1!F11^2)/Sheet1!F11))","v":15870.44831968474},null,null,null,null,"v4l =",{"$f":"IF(AU105=0,(0),((-AU106+AU105+0.5*(B10+E10)*E2*Sheet1!F12^2)/Sheet1!F12))","v":0},null,"V4l =",{"$f":"IF(AX105=0,(0),((-AX106+AX105+0.5*(B10+E10)*Sheet1!F12^2*E2)/Sheet1!F12))","v":0},null,"v4r =",{"$f":"IF(BA105=0,(0),((BA106-BA105+0.5*(B10+E10)*E2*Sheet1!F12^2)/Sheet1!F12))","v":0},null,null,null,null,"v5l =",{"$f":"IF(BG105=0,(0),((-BG106+BG105+0.5*(B11+E11)*E2*Sheet1!F13^2)/Sheet1!F13))","v":0},null,"v5l =",{"$f":"IF(BJ105=0,(0),((-BJ106+BJ105+0.5*(B11+E11)*E2*Sheet1!F13^2)/Sheet1!F13))","v":0},null,"v5r =",{"$f":"IF(BM105=0,(0),((BM106-BM105+0.5*(B11+E11)*E2*Sheet1!F13^2)/Sheet1!F13))","v":0}]
[null,null,null,null,null,null,null,null,null,"ระยะที่ V=0",{"$f":"K107/((B7+E7)*E2)","v":2.2704504033883746},null,"M- max span1r =",{"$f":"0.5*Sheet1!$D$9*'r1'!N107-'r1'!N106-0.25*('r1'!B7+'r1'!E7)*'r1'!E2*Sheet1!$D$9^2","v":-13895.501931435454},null,null,null,null,null,null,null,"ระยะที่ V=0",{"$f":"W107/((B8+E8)*E2)","v":3},null,"V2 r =",{"$f":"IF(Z105=0,(0),((Z106-Z105+0.5*(B8+E8)*E2*Sheet1!F10^2)/Sheet1!F10))","v":20797.363709215406},null,"v2r =",{"$f":"IF(AC105=0,(0),((AC106-AC105+0.5*(B8+E8)*E2*Sheet1!F10^2)/Sheet1!F10))","v":21142.636290784594},null,null,null,null,"ระยะที่ V=0",{"$f":"AI107/((B9+E9)*E2)","v":2.7295495966116254},null,"M- max span3l =",{"$f":"-AL105+0.5*AL107*Sheet1!D9-0.25*Sheet1!D9^2*'r1'!E2*('r1'!B9+'r1'!E9)","v":-13895.501931435454},null,"M- max span3r =",{"$f":"0.5*AO107*Sheet1!D9-'r1'!AO106-0.25*('r1'!B9+'r1'!E9)*'r1'!E2*Sheet1!D9^2","v":-5553.8439956502871},null,null,null,null,"ระยะที่ v=0",{"$f":"AU107/((B10+E10)*E2)","v":{"$error":"#DIV/0!"}},null,"M- max span4l =",{"$f":"-AX105+0.5*AX107*Sheet1!D9-0.25*Sheet1!D9^2*'r1'!E2*('r1'!B10+'r1'!E10)","v":0},null,"M- max span4r =",{"$f":"0.5*BA107*Sheet1!D9-'r1'!BA106-0.25*('r1'!B10+'r1'!E10)*'r1'!E2*Sheet1!D9^2","v":0},null,null,null,null,"ระยะที่ v=0",{"$f":"IF(BG107=0,(0),(BG107/((B11+E11)*E2)))","v":0},null,"M- max span 5l =",{"$f":"-BJ105+0.5*BJ107*Sheet1!D9-0.25*Sheet1!D9^2*'r1'!E2*('r1'!B11+'r1'!E11)","v":0},null,"M- max span 5r =",{"$f":"0.5*BM107*Sheet1!D9-'r1'!BM106-0.25*('r1'!B11+'r1'!E11)*'r1'!E2*Sheet1!D9^2","v":0}]
[null,null,null,null,null,null,null,null,null,"M1+max=",{"$f":"K107*K108-0.5*(B7+E7)*K108^2*E2-K105","v":8931.9518191198131},null,"V1l =",{"$f":"(B7+E7)*E2*Sheet1!$F$9-'r1'!N107","v":15547.937117800528},null,null,null,null,null,null,null,"M2+max=",{"$f":"(W107*W108)-0.5*(B8+E8)*E2*W108^2-W105","v":11310.513829231229},null,"M- max span2l =",{"$f":"-Z105+0.5*Z107*Sheet1!D9-0.25*(B8+E8)*E2*Sheet1!D9^2","v":-16024.638403608365},null,"M- max span2r =",{"$f":"0.5*AC108*Sheet1!D9-'r1'!AC106-0.25*('r1'!B8+'r1'!E8)*'r1'!E2*Sheet1!D9^2","v":-16024.638403608365},null,null,null,null,"M3+ max =",{"$f":"IF(AI105=0,(0),(AI107*AI108-0.5*(B9+E9)*E2*AI108^2-AI105))","v":8931.9518191198222},null,null,null,null,null,null,null,null,null,null,"M4+ max =",{"$f":"IF(AU105=0,(0),(AU107*AU108-0.5*(B10+E10)*AU108^2*E2-AU105))","v":0},null,null,null,null,null,null,null,null,null,null,"M5+ max =",{"$f":"IF(BG105=0,(0),(BG107*BG108-0.5*(B11+E11)*E2*BG108^2-BG105))","v":0},null,null,null,null,null,null,null,null,null,null,null,null,null,null,null,null,null,null,null,null,null,null,null,null,null,null," "]

{"sheet":"r2","index":2,"n_rows":110,"n_cols":86,"rows_kept":110,"cut":false,"hidden":false,"merged":[[81,9,81,11],[76,9,76,11],[73,9,73,11],[82,13,82,14],[83,13,83,14],[84,13,84,14],[85,13,85,14],[86,13,86,14],[71,13,72,16],[74,13,74,14],[75,13,75,14],[76,13,76,14],[77,13,77,14],[78,13,78,14],[79,13,79,14],[80,13,80,14],[81,13,81,14],[91,9,91,11],[91,12,91,13],[91,14,91,15],[91,16,91,17],[91,18,91,19],[91,20,91,21],[90,9,90,11],[90,12,90,13],[90,14,90,15],[90,16,90,17],[76,6,76,7],[90,18,90,19],[90,20,90,21],[85,6,85,7],[85,9,85,11],[86,6,86,7],[73,6,73,7],[80,6,80,7],[81,6,81,7],[82,6,82,7],[83,6,83,7],[84,6,84,7],[77,6,77,7],[78,6,78,7],[75,6,75,7],[75,9,75,11],[79,6,79,7],[84,9,84,11],[83,9,83,11],[78,9,78,11],[77,9,77,11],[80,9,80,11],[79,9,79,11],[82,9,82,11],[69,10,69,11],[64,10,64,11],[65,10,65,11],[66,10,66,11],[67,10,67,11],[68,10,68,11],[74,9,74,11],[62,10,62,11],[71,6,72,11],[74,6,74,7],[55,16,55,17],[55,9,55,11],[50,10,50,11],[55,12,55,13],[55,14,55,15],[49,12,49,13],[49,14,49,15],[49,16,49,17],[55,6,55,8],[20,69,20,79],[20,57,20,67],[20,9,20,19],[20,21,20,31],[20,33,20,43],[20,45,20,55],[46,10,46,11],[47,10,47,11],[48,10,48,11],[104,60,104,61],[104,63,104,64],[104,9,104,10],[104,21,104,22],[104,33,104,34],[104,45,104,46],[104,57,104,58],[104,12,104,13],[104,24,104,25],[104,36,104,37],[104,27,104,28],[104,15,104,16],[104,39,104,40],[104,48,104,49],[104,51,104,52],[0,0,0,4],[5,0,5,1],[5,3,5,4],[12,0,12,1],[12,3,12,4],[86,18,86,19],[86,20,86,21],[87,10,87,11],[88,10,88,11],[86,9,86,11],[49,18,49,19],[63,10,63,11],[59,10,59,11],[56,10,56,11],[57,10,57,11],[58,10,58,11],[61,10,61,11],[60,10,60,11],[51,10,51,11],[52,10,52,11],[53,10,53,11],[54,10,54,11],[55,18,55,19],[49,9,49,11]]}
["รายการคำนวณโมเมนต์แถบในและกลางตามแกน x"]
["ระยะช่วงพื้น (unit: m)",{"$f":"MAX(Sheet1!F9,Sheet1!F10,Sheet1!F11,Sheet1!F12,Sheet1!F13,Sheet1!L9,Sheet1!L10,Sheet1!L11,Sheet1!L12,Sheet1!F13)","v":6},null,"ความกว้างแถบ =",{"$f":"(Sheet1!L9+Sheet1!L10)/2","v":5.5}]
["ตัวคูณหาความหนาพื้นขั้นต่ำ",{"$f":"0.01*LN(Sheet1!B9)-0.05","v":3.0255163864890078E-2}]
[]
["ความหนาพื้น (unit:m)",{"$f":"IF((B2*B3)>0.12,(B2*B3),(0.12))","v":0.18153098318934047}]
["น้ำหนัก DL+WDS",null,null,"น้ำหนัก LL"]
["Wdl1+Wsd1 (unit:KG/m^2) =",{"$f":"((Sheet1!$B$16*Sheet1!$B$11)+Sheet1!$J$9)*1.4","v":1819.9999999999998},null,"Wtl1 (unit:kg/m^2) =",{"$f":"(1.7*Sheet1!H9)","v":510}]
["Wdl2+Wsd2 (unit:KG/m^2) =",{"$f":"((Sheet1!$B$16*Sheet1!$B$11)+Sheet1!$J$10)*1.4","v":1819.9999999999998},null,"Wtl2 (unit:kg/m^2) =",{"$f":"1.7*Sheet1!H10","v":510}]
[{"$f":"IF(Sheet1!B3>2,(\"Wdl3+Wsd3 (unit:KG/m^2) =\"),(\"\"))","v":"Wdl3+Wsd3 (unit:KG/m^2) ="},{"$f":"IF(Sheet1!$B$3>=3,(((Sheet1!$B$16*Sheet1!$B$11)+Sheet1!$J$11)*1.4),(0))","v":1819.9999999999998},null,{"$f":"IF(Sheet1!B3>2,(\"Wtl3 (unit:KG/m^2) =\"),(\"\"))","v":"Wtl3 (unit:KG/m^2) ="},{"$f":"(1.7*Sheet1!H11)","v":510}]
[{"$f":"IF(Sheet1!B3>3,(\"Wdl4+Wsd4 (unit:KG/m^2) =\"),(\"\"))","v":""},{"$f":"IF(Sheet1!$B$3>=4,(((Sheet1!$B$16*Sheet1!$B$11)+Sheet1!$J$12)*1.4),(0))","v":0},null,{"$f":"IF(Sheet1!B3>3,(\"Wtl4 (unit:KG/m^2) =\"),(\"\"))","v":""},{"$f":"1.7*Sheet1!H12","v":0}]
[{"$f":"IF(Sheet1!B3>4,(\"Wdl5+Wsd5 (unit:KG/m^2) =\"),(\"\"))","v":""},{"$f":"IF(Sheet1!$B$3>=5,(((Sheet1!$B$16*Sheet1!$B$11)+Sheet1!$J$13)*1.4),(0))","v":0},null,{"$f":"IF(Sheet1!B3>4,(\"Wtl5 (unit:KG/m^2) =\"),(\"\"))","v":""},{"$f":"(1.7*Sheet1!H13)","v":0}]
[]
["โมเมนต์ DL+WSD",null,null,"โมเมนต LL"]
["FEM.DL1 (unit:kg*m) =",{"$f":"B7*E2*Sheet1!F9^2/12","v":20854.166666666661},null,"FEM.TL1 (unit:kg*m) =",{"$f":"E7*E2*Sheet1!F9^2/12","v":5843.75}]
["FEM.DL2 (unit:kg*m) =",{"$f":"B8*E2*Sheet1!F10^2/12","v":30029.999999999996},null,"FEM.TL2 (unit:kg*m) =",{"$f":"E8*E2*Sheet1!F10^2/12","v":8415}]
[{"$f":"IF(Sheet1!B3>=3,(\"FEM.DL3 (unit:kg*m) =\"),(\"\"))","v":"FEM.DL3 (unit:kg*m) ="},{"$f":"IF(Sheet1!B3>=3,('r2'!B9*'r2'!E2*Sheet1!F11^2/12),(0))","v":20854.166666666661},null,{"$f":"IF(Sheet1!B3>=3,(\"FEM.TL3 (unit:kg*m) =\"),(\"\"))","v":"FEM.TL3 (unit:kg*m) ="},{"$f":"IF(Sheet1!B3>=3,('r2'!E9*'r2'!E2*Sheet1!F11^2/12),(0))","v":5843.75}]
[{"$f":"IF(Sheet1!B3>=4,(\"FEM.DL4 (unit:kg*m) =\"),(\"\"))","v":""},{"$f":"IF(Sheet1!B3>=4,('r2'!B10*'r2'!E2*Sheet1!F12^2/12),(0))","v":0},null,{"$f":"IF(Sheet1!B3>=4,(\"FEM.TL4 (unit:kg*m) =\"),(\"\"))","v":""},{"$f":"IF(Sheet1!B3>=4,('r2'!E10*'r2'!E2*Sheet1!F12^2/12),(0))","v":0}]
[{"$f":"IF(Sheet1!B3>=5,(\"FEM.DL5 (unit:kg*m) =\"),(\"\"))","v":""},{"$f":"IF(Sheet1!B3>=5,('r2'!B11*'r2'!E2*Sheet1!F13^2/12),(0))","v":0},null,{"$f":"IF(Sheet1!B3>=5,(\"FEM.TL5 (unit:kg*m) =\"),(\"\"))","v":""},{"$f":"IF(Sheet1!B3>=5,('r2'!E11*'r2'!E2*Sheet1!F13^2/12),(0))","v":0}]
[]
[]
[null,null,null,null,null,null,null,null,null,"วางน้ำหนัก LL    สแปน 1",null,null,null,null,null,null,null,null,null,null,null,"วางน้ำหนัก LL  สแปน 2",null,null,null,null,null,null,null,null,null,null,null,"วางน้ำหนัก LL สแปน 3",null,null,null,null,null,null,null,null,null,null,null,"วางน้ำหนัก LL สแปน 4",null,null,null,null,null,null,null,null,null,null,null,"วางน้ำหนัก LL  สแปน 5",null,null,null,null,null,null,null,null,null,null,null,"วางน้ำหนัก DL ทุกสแปน"]
[null,null,null,null,null,null,null,null,null,null,"1r","2l","2r","3l","3r","4l","4r","5l","5r","6l",null,null,"1r","2l","2r","3l","3r","4l","4r","5l","5r","6l",null,null,"1r","2l","2r","3l","3r","4l","4r","5l","5r","6l",null,null,"1r","2l","2r","3l","3r","4l","4r","5l","5r","6l",null,null,"1r","2l","2r","3l","3r","4l","4r","5l","5r","6l",null,null,"1r","2l","2r","3l","3r","4l","4r","5l","5r","6l"]
[null,null,null,null,null,null,null,null,null,"D.o.f",0.67161914908898346,0.37812018596258579,0.31236015362126651,0.31236015362126651,0.37812018596258579,0.67161914908898346,null,null,null,null,null,"D.o.f",0.67161914908898346,0.37812018596258579,0.31236015362126651,0.31236015362126651,0.37812018596258579,0.67161914908898346,null,null,null,null,null,"D.o.f",0.67161914908898346,0.37812018596258579,0.31236015362126651,0.31236015362126651,0.37812018596258579,0.67161914908898346,null,null,null,null,null,"D.o.f",0.67161914908898346,0.37812018596258579,0.31236015362126651,0.31236015362126651,0.37812018596258579,0.67161914908898346,null,null,null,null,null,"D.o.f",0.67161914908898346,0.37812018596258579,0.31236015362126651,0.31236015362126651,0.37812018596258579,0.67161914908898346,null,null,null,null,null,"D.o.f",0.67161914908898346,0.37812018596258579,0.31236015362126651,0.31236015362126651,0.37812018596258579,0.67161914908898346]
[null,null,null,null,null,null,null,null,null,"FEM",{"$f":"E14*-1","v":-5843.75},{"$f":"E14","v":5843.75},null,null,null,null,null,null,null,null,null,"FEM",null,null,{"$f":"-E15","v":-8415},{"$f":"E15","v":8415},null,null,null,null,null,null,null,"FEM",null,null,null,null,{"$f":"-E16","v":-5843.75},{"$f":"E16","v":5843.75},null,null,null,null,null,"FEM",null,null,null,null,null,null,{"$f":"-E17","v":0},{"$f":"E17","v":0},null,null,null,"FEM",null,null,null,null,null,null,null,null,{"$f":"-E18","v":0},{"$f":"E18","v":0},null,"FEM",{"$f":"-B14","v":-20854.166666666661},{"$f":"B14","v":20854.166666666661},{"$f":"-B15","v":-30029.999999999996},{"$f":"B15","v":30029.999999999996},{"$f":"-B16","v":-20854.166666666661},{"$f":"B16","v":20854.166666666661},{"$f":"-B17","v":0},{"$f":"B17","v":0},{"$f":"-B18","v":0},{"$f":"B18","v":0}]
[null,null,null,null,null,null,null,null,null,"Dis",{"$f":"(K24)*K23*-1","v":3924.774402488747},{"$f":"(L24+M24)*L23*-1","v":-2209.6398367188608},{"$f":"(M24+L24)*M23*-1","v":-1825.3546477242762},{"$f":"(N24+O24)*N23*-1","v":0},{"$f":"(O24+N24)*O23*-1","v":0},{"$f":"(P24+Q24)*P23*-1","v":0},{"$f":"(Q24+P24)*Q23*-1","v":0},{"$f":"(R24+S24)*R23*-1","v":0},{"$f":"(S24+R24)*S23*-1","v":0},{"$f":"(T24+U24)*T23*-1","v":0},null,"Dis",{"$f":"(W24)*W23*-1","v":0},{"$f":"(X24+Y24)*X23*-1","v":3181.8813648751593},{"$f":"(Y24+X24)*Y23*-1","v":2628.5106927229576},{"$f":"(Z24+AA24)*Z23*-1","v":-2628.5106927229576},{"$f":"(AA24+Z24)*AA23*-1","v":-3181.8813648751593},{"$f":"(AB24+AC24)*AB23*-1","v":0},{"$f":"(AC24+AB24)*AC23*-1","v":0},{"$f":"(AD24+AE24)*AD23*-1","v":0},{"$f":"(AE24+AD24)*AE23*-1","v":0},{"$f":"(AF24+AG24)*AF23*-1","v":0},null,"Dis",{"$f":"(AI24)*AI23*-1","v":0},{"$f":"(AJ24+AK24)*AJ23*-1","v":0},{"$f":"(AK24+AJ24)*AK23*-1","v":0},{"$f":"(AL24+AM24)*AL23*-1","v":1825.3546477242762},{"$f":"(AM24+AL24)*AM23*-1","v":2209.6398367188608},{"$f":"(AN24+AO24)*AN23*-1","v":-3924.774402488747},{"$f":"(AO24+AN24)*AO23*-1","v":0},{"$f":"(AP24+AQ24)*AP23*-1","v":0},{"$f":"(AQ24+AP24)*AQ23*-1","v":0},{"$f":"(AR24+AS24)*AR23*-1","v":0},null,"Dis",{"$f":"(AU24)*AU23*-1","v":0},{"$f":"(AV24+AW24)*AV23*-1","v":0},{"$f":"(AW24+AV24)*AW23*-1","v":0},{"$f":"(AX24+AY24)*AX23*-1","v":0},{"$f":"(AY24+AX24)*AY23*-1","v":0},{"$f":"(AZ24+BA24)*AZ23*-1","v":0},{"$f":"(BA24+AZ24)*BA23*-1","v":0},{"$f":"(BB24+BC24)*BB23*-1","v":0},{"$f":"(BC24+BB24)*BC23*-1","v":0},{"$f":"(BD24+BE24)*BD23*-1","v":0},null,"Dis",{"$f":"(BG24)*BG23*-1","v":0},{"$f":"(BH24+BI24)*BH23*-1","v":0},{"$f":"(BI24+BH24)*BI23*-1","v":0},{"$f":"(BJ24+BK24)*BJ23*-1","v":0},{"$f":"(BK24+BJ24)*BK23*-1","v":0},{"$f":"(BL24+BM24)*BL23*-1","v":0},{"$f":"(BM24+BL24)*BM23*-1","v":0},{"$f":"(BN24+BO24)*BN23*-1","v":0},{"$f":"(BO24+BN24)*BO23*-1","v":0},{"$f":"(BP24+BQ24)*BP23*-1","v":0},null,"Dis",{"$f":"(BS24)*BS23*-1","v":14006.057671626506},{"$f":"(BT24+BU24)*BT23*-1","v":3469.5678063616942},{"$f":"(BU24+BT24)*BU23*-1","v":2866.1647096031388},{"$f":"(BV24+BW24)*BV23*-1","v":-2866.1647096031388},{"$f":"(BW24+BV24)*BW23*-1","v":-3469.5678063616942},{"$f":"(BX24+BY24)*BX23*-1","v":-14006.057671626506},{"$f":"(BY24+BX24)*BY23*-1","v":0},{"$f":"(BZ24+CA24)*BZ23*-1","v":0},{"$f":"(CA24+BZ24)*CA23*-1","v":0},{"$f":"(CB24+CC24)*CB23*-1","v":0}]
[null,null,null,null,null,null,null,null,null,"Co",{"$f":"L25/2","v":-1104.8199183594304},{"$f":"K25/2","v":1962.3872012443735},{"$f":"N25/2","v":0},{"$f":"M25/2","v":-912.67732386213811},{"$f":"P25/2","v":0},{"$f":"O25/2","v":0},{"$f":"R25/2","v":0},{"$f":"Q25/2","v":0},{"$f":"T25/2","v":0},{"$f":"S25/2","v":0},null,"Co",{"$f":"X25/2","v":1590.9406824375797},{"$f":"W25/2","v":0},{"$f":"Z25/2","v":-1314.2553463614788},{"$f":"Y25/2","v":1314.2553463614788},{"$f":"AB25/2","v":0},{"$f":"AA25/2","v":-1590.9406824375797},{"$f":"AD25/2","v":0},{"$f":"AC25/2","v":0},{"$f":"AF25/2","v":0},{"$f":"AE25/2","v":0},null,"Co",{"$f":"AJ25/2","v":0},{"$f":"AI25/2","v":0},{"$f":"AL25/2","v":912.67732386213811},{"$f":"AK25/2","v":0},{"$f":"AN25/2","v":-1962.3872012443735},{"$f":"AM25/2","v":1104.8199183594304},{"$f":"AP25/2","v":0},{"$f":"AO25/2","v":0},{"$f":"AR25/2","v":0},{"$f":"AQ25/2","v":0},null,"Co",{"$f":"AV25/2","v":0},{"$f":"AU25/2","v":0},{"$f":"AX25/2","v":0},{"$f":"AW25/2","v":0},{"$f":"AZ25/2","v":0},{"$f":"AY25/2","v":0},{"$f":"BB25/2","v":0},{"$f":"BA25/2","v":0},{"$f":"BD25/2","v":0},{"$f":"BC25/2","v":0},null,"Co",{"$f":"BH25/2","v":0},{"$f":"BG25/2","v":0},{"$f":"BJ25/2","v":0},{"$f":"BI25/2","v":0},{"$f":"BL25/2","v":0},{"$f":"BK25/2","v":0},{"$f":"BN25/2","v":0},{"$f":"BM25/2","v":0},{"$f":"BP25/2","v":0},{"$f":"BO25/2","v":0},null,"Co",{"$f":"BT25/2","v":1734.7839031808471},{"$f":"BS25/2","v":7003.028835813253},{"$f":"BV25/2","v":-1433.0823548015694},{"$f":"BU25/2","v":1433.0823548015694},{"$f":"BX25/2","v":-7003.028835813253},{"$f":"BW25/2","v":-1734.7839031808471},{"$f":"BZ25/2","v":0},{"$f":"BY25/2","v":0},{"$f":"CB25/2","v":0},{"$f":"CA25/2","v":0}]
[null,null,null,null,null,null,null,null,null,"dis",{"$f":"(K26)*K23*-1","v":742.01821346512077},{"$f":"(L26+M26)*L23*-1","v":-742.01821346512077},{"$f":"(M26+L26)*M23*-1","v":-612.97156764509975},{"$f":"(N26+O26)*N23*-1","v":285.08402908822387},{"$f":"(O26+N26)*O23*-1","v":345.10171942258677},{"$f":"(P26+Q26)*P23*-1","v":0},{"$f":"(Q26+P26)*Q23*-1","v":0},{"$f":"(R26+S26)*R23*-1","v":0},{"$f":"(S26+R26)*S23*-1","v":0},{"$f":"(T26+U26)*T23*-1","v":0},null,"dis",{"$f":"(W26)*W23*-1","v":-1068.5062273897738},{"$f":"(X26+Y26)*X23*-1","v":496.94647596852496},{"$f":"(Y26+X26)*Y23*-1","v":410.52100188704236},{"$f":"(Z26+AA26)*Z23*-1","v":-410.52100188704236},{"$f":"(AA26+Z26)*AA23*-1","v":-496.94647596852496},{"$f":"(AB26+AC26)*AB23*-1","v":1068.5062273897738},{"$f":"(AC26+AB26)*AC23*-1","v":0},{"$f":"(AD26+AE26)*AD23*-1","v":0},{"$f":"(AE26+AD26)*AE23*-1","v":0},{"$f":"(AF26+AG26)*AF23*-1","v":0},null,"dis",{"$f":"(AI26)*AI23*-1","v":0},{"$f":"(AJ26+AK26)*AJ23*-1","v":-345.10171942258677},{"$f":"(AK26+AJ26)*AK23*-1","v":-285.08402908822387},{"$f":"(AL26+AM26)*AL23*-1","v":612.97156764509975},{"$f":"(AM26+AL26)*AM23*-1","v":742.01821346512077},{"$f":"(AN26+AO26)*AN23*-1","v":-742.01821346512077},{"$f":"(AO26+AN26)*AO23*-1","v":0},{"$f":"(AP26+AQ26)*AP23*-1","v":0},{"$f":"(AQ26+AP26)*AQ23*-1","v":0},{"$f":"(AR26+AS26)*AR23*-1","v":0},null,"dis",{"$f":"(AU26)*AU23*-1","v":0},{"$f":"(AV26+AW26)*AV23*-1","v":0},{"$f":"(AW26+AV26)*AW23*-1","v":0},{"$f":"(AX26+AY26)*AX23*-1","v":0},{"$f":"(AY26+AX26)*AY23*-1","v":0},{"$f":"(AZ26+BA26)*AZ23*-1","v":0},{"$f":"(BA26+AZ26)*BA23*-1","v":0},{"$f":"(BB26+BC26)*BB23*-1","v":0},{"$f":"(BC26+BB26)*BC23*-1","v":0},{"$f":"(BD26+BE26)*BD23*-1","v":0},null,"dis",{"$f":"(BG26)*BG23*-1","v":0},{"$f":"(BH26+BI26)*BH23*-1","v":0},{"$f":"(BI26+BH26)*BI23*-1","v":0},{"$f":"(BJ26+BK26)*BJ23*-1","v":0},{"$f":"(BK26+BJ26)*BK23*-1","v":0},{"$f":"(BL26+BM26)*BL23*-1","v":0},{"$f":"(BM26+BL26)*BM23*-1","v":0},{"$f":"(BN26+BO26)*BN23*-1","v":0},{"$f":"(BO26+BN26)*BO23*-1","v":0},{"$f":"(BP26+BQ26)*BP23*-1","v":0},null,"dis",{"$f":"(BS26)*BS23*-1","v":-1165.1140889075859},{"$f":"(BT26+BU26)*BT23*-1","v":-2106.1091992017882},{"$f":"(BU26+BT26)*BU23*-1","v":-1739.8293384710423},{"$f":"(BV26+BW26)*BV23*-1","v":1739.8293384710423},{"$f":"(BW26+BV26)*BW23*-1","v":2106.1091992017882},{"$f":"(BX26+BY26)*BX23*-1","v":1165.1140889075859},{"$f":"(BY26+BX26)*BY23*-1","v":0},{"$f":"(BZ26+CA26)*BZ23*-1","v":0},{"$f":"(CA26+BZ26)*CA23*-1","v":0},{"$f":"(CB26+CC26)*CB23*-1","v":0}]
[null,null,null,null,null,null,null,null,null,"co",{"$f":"L27/2","v":-371.00910673256038},{"$f":"K27/2","v":371.00910673256038},{"$f":"N27/2","v":142.54201454411194},{"$f":"M27/2","v":-306.48578382254988},{"$f":"P27/2","v":0},{"$f":"O27/2","v":172.55085971129338},{"$f":"R27/2","v":0},{"$f":"Q27/2","v":0},{"$f":"T27/2","v":0},{"$f":"S27/2","v":0},null,"co",{"$f":"X27/2","v":248.47323798426248},{"$f":"W27/2","v":-534.25311369488691},{"$f":"Z27/2","v":-205.26050094352118},{"$f":"Y27/2","v":205.26050094352118},{"$f":"AB27/2","v":534.25311369488691},{"$f":"AA27/2","v":-248.47323798426248},{"$f":"AD27/2","v":0},{"$f":"AC27/2","v":0},{"$f":"AF27/2","v":0},{"$f":"AE27/2","v":0},null,"co",{"$f":"AJ27/2","v":-172.55085971129338},{"$f":"AI27/2","v":0},{"$f":"AL27/2","v":306.48578382254988},{"$f":"AK27/2","v":-142.54201454411194},{"$f":"AN27/2","v":-371.00910673256038},{"$f":"AM27/2","v":371.00910673256038},{"$f":"AP27/2","v":0},{"$f":"AO27/2","v":0},{"$f":"AR27/2","v":0},{"$f":"AQ27/2","v":0},null,"co",{"$f":"AV27/2","v":0},{"$f":"AU27/2","v":0},{"$f":"AX27/2","v":0},{"$f":"AW27/2","v":0},{"$f":"AZ27/2","v":0},{"$f":"AY27/2","v":0},{"$f":"BB27/2","v":0},{"$f":"BA27/2","v":0},{"$f":"BD27/2","v":0},{"$f":"BC27/2","v":0},null,"co",{"$f":"BH27/2","v":0},{"$f":"BG27/2","v":0},{"$f":"BJ27/2","v":0},{"$f":"BI27/2","v":0},{"$f":"BL27/2","v":0},{"$f":"BK27/2","v":0},{"$f":"BN27/2","v":0},{"$f":"BM27/2","v":0},{"$f":"BP27/2","v":0},{"$f":"BO27/2","v":0},null,"co",{"$f":"BT27/2","v":-1053.0545996008941},{"$f":"BS27/2","v":-582.55704445379297},{"$f":"BV27/2","v":869.91466923552116},{"$f":"BU27/2","v":-869.91466923552116},{"$f":"BX27/2","v":582.55704445379297},{"$f":"BW27/2","v":1053.0545996008941},{"$f":"BZ27/2","v":0},{"$f":"BY27/2","v":0},{"$f":"CB27/2","v":0},{"$f":"CA27/2","v":0}]
[null,null,null,null,null,null,null,null,null,"dis",{"$f":"(K28)*K23*-1","v":249.17682056798606},{"$f":"(L28+M28)*L23*-1","v":-194.18404547842979},{"$f":"(M28+L28)*M23*-1","v":-160.41290713435504},{"$f":"(N28+O28)*N23*-1","v":95.733946517545959},{"$f":"(O28+N28)*O23*-1","v":115.88846157387142},{"$f":"(P28+Q28)*P23*-1","v":-115.88846157387142},{"$f":"(Q28+P28)*Q23*-1","v":0},{"$f":"(R28+S28)*R23*-1","v":0},{"$f":"(S28+R28)*S23*-1","v":0},{"$f":"(T28+U28)*T23*-1","v":0},null,"dis",{"$f":"(W28)*W23*-1","v":-166.87938466637485},{"$f":"(X28+Y28)*X23*-1","v":279.62502548893883},{"$f":"(Y28+X28)*Y23*-1","v":230.99458627347121},{"$f":"(Z28+AA28)*Z23*-1","v":-230.99458627347121},{"$f":"(AA28+Z28)*AA23*-1","v":-279.62502548893883},{"$f":"(AB28+AC28)*AB23*-1","v":166.87938466637485},{"$f":"(AC28+AB28)*AC23*-1","v":0},{"$f":"(AD28+AE28)*AD23*-1","v":0},{"$f":"(AE28+AD28)*AE23*-1","v":0},{"$f":"(AF28+AG28)*AF23*-1","v":0},null,"dis",{"$f":"(AI28)*AI23*-1","v":115.88846157387142},{"$f":"(AJ28+AK28)*AJ23*-1","v":-115.88846157387142},{"$f":"(AK28+AJ28)*AK23*-1","v":-95.733946517545959},{"$f":"(AL28+AM28)*AL23*-1","v":160.41290713435504},{"$f":"(AM28+AL28)*AM23*-1","v":194.18404547842979},{"$f":"(AN28+AO28)*AN23*-1","v":-249.17682056798606},{"$f":"(AO28+AN28)*AO23*-1","v":0},{"$f":"(AP28+AQ28)*AP23*-1","v":0},{"$f":"(AQ28+AP28)*AQ23*-1","v":0},{"$f":"(AR28+AS28)*AR23*-1","v":0},null,"dis",{"$f":"(AU28)*AU23*-1","v":0},{"$f":"(AV28+AW28)*AV23*-1","v":0},{"$f":"(AW28+AV28)*AW23*-1","v":0},{"$f":"(AX28+AY28)*AX23*-1","v":0},{"$f":"(AY28+AX28)*AY23*-1","v":0},{"$f":"(AZ28+BA28)*AZ23*-1","v":0},{"$f":"(BA28+AZ28)*BA23*-1","v":0},{"$f":"(BB28+BC28)*BB23*-1","v":0},{"$f":"(BC28+BB28)*BC23*-1","v":0},{"$f":"(BD28+BE28)*BD23*-1","v":0},null,"dis",{"$f":"(BG28)*BG23*-1","v":0},{"$f":"(BH28+BI28)*BH23*-1","v":0},{"$f":"(BI28+BH28)*BI23*-1","v":0},{"$f":"(BJ28+BK28)*BJ23*-1","v":0},{"$f":"(BK28+BJ28)*BK23*-1","v":0},{"$f":"(BL28+BM28)*BL23*-1","v":0},{"$f":"(BM28+BL28)*BM23*-1","v":0},{"$f":"(BN28+BO28)*BN23*-1","v":0},{"$f":"(BO28+BN28)*BO23*-1","v":0},{"$f":"(BP28+BQ28)*BP23*-1","v":0},null,"dis",{"$f":"(BS28)*BS23*-1","v":707.25163412819268},{"$f":"(BT28+BU28)*BT23*-1","v":-108.65571852023402},{"$f":"(BU28+BT28)*BU23*-1","v":-89.759071821062875},{"$f":"(BV28+BW28)*BV23*-1","v":89.759071821062875},{"$f":"(BW28+BV28)*BW23*-1","v":108.65571852023402},{"$f":"(BX28+BY28)*BX23*-1","v":-707.25163412819268},{"$f":"(BY28+BX28)*BY23*-1","v":0},{"$f":"(BZ28+CA28)*BZ23*-1","v":0},{"$f":"(CA28+BZ28)*CA23*-1","v":0},{"$f":"(CB28+CC28)*CB23*-1","v":0}]
[null,null,null,null,null,null,null,null,null,"co",{"$f":"L29/2","v":-97.092022739214897},{"$f":"K29/2","v":124.58841028399303},{"$f":"N29/2","v":47.86697325877298},{"$f":"M29/2","v":-80.206453567177519},{"$f":"P29/2","v":-57.944230786935712},{"$f":"O29/2","v":57.944230786935712},{"$f":"R29/2","v":0},{"$f":"Q29/2","v":0},{"$f":"T29/2","v":0},{"$f":"S29/2","v":0},null,"co",{"$f":"X29/2","v":139.81251274446942},-83.439692333187423,{"$f":"Z29/2","v":-115.49729313673561},{"$f":"Y29/2","v":115.49729313673561},{"$f":"AB29/2","v":83.439692333187423},{"$f":"AA29/2","v":-139.81251274446942},{"$f":"AD29/2","v":0},{"$f":"AC29/2","v":0},{"$f":"AF29/2","v":0},{"$f":"AE29/2","v":0},null,"co",{"$f":"AJ29/2","v":-57.944230786935712},{"$f":"AI29/2","v":57.944230786935712},{"$f":"AL29/2","v":80.206453567177519},{"$f":"AK29/2","v":-47.86697325877298},{"$f":"AN29/2","v":-124.58841028399303},{"$f":"AM29/2","v":97.092022739214897},{"$f":"AP29/2","v":0},{"$f":"AO29/2","v":0},{"$f":"AR29/2","v":0},{"$f":"AQ29/2","v":0},null,"co",{"$f":"AV29/2","v":0},{"$f":"AU29/2","v":0},{"$f":"AX29/2","v":0},{"$f":"AW29/2","v":0},{"$f":"AZ29/2","v":0},{"$f":"AY29/2","v":0},{"$f":"BB29/2","v":0},{"$f":"BA29/2","v":0},{"$f":"BD29/2","v":0},{"$f":"BC29/2","v":0},null,"co",{"$f":"BH29/2","v":0},{"$f":"BG29/2","v":0},{"$f":"BJ29/2","v":0},{"$f":"BI29/2","v":0},{"$f":"BL29/2","v":0},{"$f":"BK29/2","v":0},{"$f":"BN29/2","v":0},{"$f":"BM29/2","v":0},{"$f":"BP29/2","v":0},{"$f":"BO29/2","v":0},null,"co",{"$f":"BT29/2","v":-54.327859260117009},{"$f":"BS29/2","v":353.62581706409634},{"$f":"BV29/2","v":44.879535910531438},{"$f":"BU29/2","v":-44.879535910531438},{"$f":"BX29/2","v":-353.62581706409634},{"$f":"BW29/2","v":54.327859260117009},{"$f":"BZ29/2","v":0},{"$f":"BY29/2","v":0},{"$f":"CB29/2","v":0},{"$f":"CA29/2","v":0}]
[null,null,null,null,null,null,null,null,null,"dis",{"$f":"(K30)*K23*-1","v":65.208861695439737},{"$f":"(L30+M30)*L23*-1","v":-65.208861695439737},{"$f":"(M30+L30)*M23*-1","v":-53.86819009623283},{"$f":"(N30+O30)*N23*-1","v":43.152768987733907},{"$f":"(O30+N30)*O23*-1","v":52.237562458835782},{"$f":"(P30+Q30)*P23*-1","v":-38.916454975737444},{"$f":"(Q30+P30)*Q23*-1","v":0},{"$f":"(R30+S30)*R23*-1","v":0},{"$f":"(S30+R30)*S23*-1","v":0},{"$f":"(T30+U30)*T23*-1","v":0},null,"dis",{"$f":"(W30)*W23*-1","v":-93.900760841433211},{"$f":"(X30+Y30)*X23*-1","v":75.222089940723521},{"$f":"(Y30+X30)*Y23*-1","v":62.139987342336823},{"$f":"(Z30+AA30)*Z23*-1","v":-62.139987342336823},{"$f":"(AA30+Z30)*AA23*-1","v":-75.222089940723521},{"$f":"(AB30+AC30)*AB23*-1","v":93.900760841433211},{"$f":"(AC30+AB30)*AC23*-1","v":0},{"$f":"(AD30+AE30)*AD23*-1","v":0},{"$f":"(AE30+AD30)*AE23*-1","v":0},{"$f":"(AF30+AG30)*AF23*-1","v":0},null,"dis",{"$f":"(AI30)*AI23*-1","v":38.916454975737444},{"$f":"(AJ30+AK30)*AJ23*-1","v":-52.237562458835782},{"$f":"(AK30+AJ30)*AK23*-1","v":-43.152768987733907},{"$f":"(AL30+AM30)*AL23*-1","v":53.86819009623283},{"$f":"(AM30+AL30)*AM23*-1","v":65.208861695439737},{"$f":"(AN30+AO30)*AN23*-1","v":-65.208861695439737},{"$f":"(AO30+AN30)*AO23*-1","v":0},{"$f":"(AP30+AQ30)*AP23*-1","v":0},{"$f":"(AQ30+AP30)*AQ23*-1","v":0},{"$f":"(AR30+AS30)*AR23*-1","v":0},null,"dis",{"$f":"(AU30)*AU23*-1","v":0},{"$f":"(AV30+AW30)*AV23*-1","v":0},{"$f":"(AW30+AV30)*AW23*-1","v":0},{"$f":"(AX30+AY30)*AX23*-1","v":0},{"$f":"(AY30+AX30)*AY23*-1","v":0},{"$f":"(AZ30+BA30)*AZ23*-1","v":0},{"$f":"(BA30+AZ30)*BA23*-1","v":0},{"$f":"(BB30+BC30)*BB23*-1","v":0},{"$f":"(BC30+BB30)*BC23*-1","v":0},{"$f":"(BD30+BE30)*BD23*-1","v":0},null,"dis",{"$f":"(BG30)*BG23*-1","v":0},{"$f":"(BH30+BI30)*BH23*-1","v":0},{"$f":"(BI30+BH30)*BI23*-1","v":0},{"$f":"(BJ30+BK30)*BJ23*-1","v":0},{"$f":"(BK30+BJ30)*BK23*-1","v":0},{"$f":"(BL30+BM30)*BL23*-1","v":0},{"$f":"(BM30+BL30)*BM23*-1","v":0},{"$f":"(BN30+BO30)*BN23*-1","v":0},{"$f":"(BO30+BN30)*BO23*-1","v":0},{"$f":"(BP30+BQ30)*BP23*-1","v":0},null,"dis",{"$f":"(BS30)*BS23*-1","v":36.487630608105839},{"$f":"(BT30+BU30)*BT23*-1","v":-150.68291817385216},{"$f":"(BU30+BT30)*BU23*-1","v":-124.47719327405177},{"$f":"(BV30+BW30)*BV23*-1","v":124.47719327405177},{"$f":"(BW30+BV30)*BW23*-1","v":150.68291817385216},{"$f":"(BX30+BY30)*BX23*-1","v":-36.487630608105839},{"$f":"(BY30+BX30)*BY23*-1","v":0},{"$f":"(BZ30+CA30)*BZ23*-1","v":0},{"$f":"(CA30+BZ30)*CA23*-1","v":0},{"$f":"(CB30+CC30)*CB23*-1","v":0}]
[null,null,null,null,null,null,null,null,null,"co",{"$f":"L31/2","v":-32.604430847719868},{"$f":"K31/2","v":32.604430847719868},{"$f":"N31/2","v":21.576384493866954},{"$f":"M31/2","v":-26.934095048116415},{"$f":"P31/2","v":-19.458227487868722},{"$f":"O31/2","v":26.118781229417891},{"$f":"R31/2","v":0},{"$f":"Q31/2","v":0},{"$f":"T31/2","v":0},{"$f":"S31/2","v":0},null,"co",{"$f":"X31/2","v":37.61104497036176},{"$f":"W31/2","v":-46.950380420716606},{"$f":"Z31/2","v":-31.069993671168412},{"$f":"Y31/2","v":31.069993671168412},{"$f":"AB31/2","v":46.950380420716606},{"$f":"AA31/2","v":-37.61104497036176},{"$f":"AD31/2","v":0},{"$f":"AC31/2","v":0},{"$f":"AF31/2","v":0},{"$f":"AE31/2","v":0},null,"co",{"$f":"AJ31/2","v":-26.118781229417891},{"$f":"AI31/2","v":19.458227487868722},{"$f":"AL31/2","v":26.934095048116415},{"$f":"AK31/2","v":-21.576384493866954},{"$f":"AN31/2","v":-32.604430847719868},{"$f":"AM31/2","v":32.604430847719868},{"$f":"AP31/2","v":0},{"$f":"AO31/2","v":0},{"$f":"AR31/2","v":0},{"$f":"AQ31/2","v":0},null,"co",{"$f":"AV31/2","v":0},{"$f":"AU31/2","v":0},{"$f":"AX31/2","v":0},{"$f":"AW31/2","v":0},{"$f":"AZ31/2","v":0},{"$f":"AY31/2","v":0},{"$f":"BB31/2","v":0},{"$f":"BA31/2","v":0},{"$f":"BD31/2","v":0},{"$f":"BC31/2","v":0},null,"co",{"$f":"BH31/2","v":0},{"$f":"BG31/2","v":0},{"$f":"BJ31/2","v":0},{"$f":"BI31/2","v":0},{"$f":"BL31/2","v":0},{"$f":"BK31/2","v":0},{"$f":"BN31/2","v":0},{"$f":"BM31/2","v":0},{"$f":"BP31/2","v":0},{"$f":"BO31/2","v":0},null,"co",{"$f":"BT31/2","v":-75.341459086926079},{"$f":"BS31/2","v":18.243815304052919},{"$f":"BV31/2","v":62.238596637025886},{"$f":"BU31/2","v":-62.238596637025886},{"$f":"BX31/2","v":-18.243815304052919},{"$f":"BW31/2","v":75.341459086926079},{"$f":"BZ31/2","v":0},{"$f":"BY31/2","v":0},{"$f":"CB31/2","v":0},{"$f":"CA31/2","v":0}]
[null,null,null,null,null,null,null,null,null,"dis",{"$f":"(K32)*K23*-1","v":21.897760102476223},{"$f":"(L32+M32)*L23*-1","v":-20.48685997256533},{"$f":"(M32+L32)*M23*-1","v":-16.923927803423535},{"$f":"(N32+O32)*N23*-1","v":14.491112994187661},{"$f":"(O32+N32)*O23*-1","v":17.541873624542959},{"$f":"(P32+Q32)*P23*-1","v":-17.541873624542959},{"$f":"(Q32+P32)*Q23*-1","v":0},{"$f":"(R32+S32)*R23*-1","v":0},{"$f":"(S32+R32)*S23*-1","v":0},{"$f":"(T32+U32)*T23*-1","v":0},null,"dis",{"$f":"(W32)*W23*-1","v":-25.260298019341857},{"$f":"(X32+Y32)*X23*-1","v":29.501078360494073},{"$f":"(Y32+X32)*Y23*-1","v":24.370456036929887},{"$f":"(Z32+AA32)*Z23*-1","v":-24.370456036929887},{"$f":"(AA32+Z32)*AA23*-1","v":-29.501078360494073},{"$f":"(AB32+AC32)*AB23*-1","v":25.260298019341857},{"$f":"(AC32+AB32)*AC23*-1","v":0},{"$f":"(AD32+AE32)*AD23*-1","v":0},{"$f":"(AE32+AD32)*AE23*-1","v":0},{"$f":"(AF32+AG32)*AF23*-1","v":0},null,"dis",{"$f":"(AI32)*AI23*-1","v":17.541873624542959},{"$f":"(AJ32+AK32)*AJ23*-1","v":-17.541873624542959},{"$f":"(AK32+AJ32)*AK23*-1","v":-14.491112994187661},{"$f":"(AL32+AM32)*AL23*-1","v":16.923927803423535},{"$f":"(AM32+AL32)*AM23*-1","v":20.48685997256533},{"$f":"(AN32+AO32)*AN23*-1","v":-21.897760102476223},{"$f":"(AO32+AN32)*AO23*-1","v":0},{"$f":"(AP32+AQ32)*AP23*-1","v":0},{"$f":"(AQ32+AP32)*AQ23*-1","v":0},{"$f":"(AR32+AS32)*AR23*-1","v":0},null,"dis",{"$f":"(AU32)*AU23*-1","v":0},{"$f":"(AV32+AW32)*AV23*-1","v":0},{"$f":"(AW32+AV32)*AW23*-1","v":0},{"$f":"(AX32+AY32)*AX23*-1","v":0},{"$f":"(AY32+AX32)*AY23*-1","v":0},{"$f":"(AZ32+BA32)*AZ23*-1","v":0},{"$f":"(BA32+AZ32)*BA23*-1","v":0},{"$f":"(BB32+BC32)*BB23*-1","v":0},{"$f":"(BC32+BB32)*BC23*-1","v":0},{"$f":"(BD32+BE32)*BD23*-1","v":0},null,"dis",{"$f":"(BG32)*BG23*-1","v":0},{"$f":"(BH32+BI32)*BH23*-1","v":0},{"$f":"(BI32+BH32)*BI23*-1","v":0},{"$f":"(BJ32+BK32)*BJ23*-1","v":0},{"$f":"(BK32+BJ32)*BK23*-1","v":0},{"$f":"(BL32+BM32)*BL23*-1","v":0},{"$f":"(BM32+BL32)*BM23*-1","v":0},{"$f":"(BN32+BO32)*BN23*-1","v":0},{"$f":"(BO32+BN32)*BO23*-1","v":0},{"$f":"(BP32+BQ32)*BP23*-1","v":0},null,"dis",{"$f":"(BS32)*BS23*-1","v":50.600766643083752},{"$f":"(BT32+BU32)*BT23*-1","v":-30.432024569878156},{"$f":"(BU32+BT32)*BU23*-1","v":-25.139498557725432},{"$f":"(BV32+BW32)*BV23*-1","v":25.139498557725432},{"$f":"(BW32+BV32)*BW23*-1","v":30.432024569878156},{"$f":"(BX32+BY32)*BX23*-1","v":-50.600766643083752},{"$f":"(BY32+BX32)*BY23*-1","v":0},{"$f":"(BZ32+CA32)*BZ23*-1","v":0},{"$f":"(CA32+BZ32)*CA23*-1","v":0},{"$f":"(CB32+CC32)*CB23*-1","v":0}]
[null,null,null,null,null,null,null,null,null,"co",{"$f":"L33/2","v":-10.243429986282665},{"$f":"K33/2","v":10.948880051238111},{"$f":"N33/2","v":7.2455564970938307},{"$f":"M33/2","v":-8.4619639017117674},{"$f":"P33/2","v":-8.7709368122714793},{"$f":"O33/2","v":8.7709368122714793},{"$f":"R33/2","v":0},{"$f":"Q33/2","v":0},{"$f":"T33/2","v":0},{"$f":"S33/2","v":0},null,"co",{"$f":"X33/2","v":14.750539180247037},{"$f":"W33/2","v":-12.630149009670928},{"$f":"Z33/2","v":-12.185228018464944},{"$f":"Y33/2","v":12.185228018464944},{"$f":"AB33/2","v":12.630149009670928},{"$f":"AA33/2","v":-14.750539180247037},{"$f":"AD33/2","v":0},{"$f":"AC33/2","v":0},{"$f":"AF33/2","v":0},{"$f":"AE33/2","v":0},null,"co",{"$f":"AJ33/2","v":-8.7709368122714793},{"$f":"AI33/2","v":8.7709368122714793},{"$f":"AL33/2","v":8.4619639017117674},{"$f":"AK33/2","v":-7.2455564970938307},{"$f":"AN33/2","v":-10.948880051238111},{"$f":"AM33/2","v":10.243429986282665},{"$f":"AP33/2","v":0},{"$f":"AO33/2","v":0},{"$f":"AR33/2","v":0},{"$f":"AQ33/2","v":0},null,"co",{"$f":"AV33/2","v":0},{"$f":"AU33/2","v":0},{"$f":"AX33/2","v":0},{"$f":"AW33/2","v":0},{"$f":"AZ33/2","v":0},{"$f":"AY33/2","v":0},{"$f":"BB33/2","v":0},{"$f":"BA33/2","v":0},{"$f":"BD33/2","v":0},{"$f":"BC33/2","v":0},null,"co",{"$f":"BH33/2","v":0},{"$f":"BG33/2","v":0},{"$f":"BJ33/2","v":0},{"$f":"BI33/2","v":0},{"$f":"BL33/2","v":0},{"$f":"BK33/2","v":0},{"$f":"BN33/2","v":0},{"$f":"BM33/2","v":0},{"$f":"BP33/2","v":0},{"$f":"BO33/2","v":0},null,"co",{"$f":"BT33/2","v":-15.216012284939078},{"$f":"BS33/2","v":25.300383321541876},{"$f":"BV33/2","v":12.569749278862716},{"$f":"BU33/2","v":-12.569749278862716},{"$f":"BX33/2","v":-25.300383321541876},{"$f":"BW33/2","v":15.216012284939078},{"$f":"BZ33/2","v":0},{"$f":"BY33/2","v":0},{"$f":"CB33/2","v":0},{"$f":"CA33/2","v":0}]
[null,null,null,null,null,null,null,null,null,"dis",{"$f":"(K34)*K23*-1","v":6.8796837311397407},{"$f":"(L34+M34)*L23*-1","v":-6.8796837311397416},{"$f":"(M34+L34)*M23*-1","v":-5.6832169952893521},{"$f":"(N34+O34)*N23*-1","v":5.3828715143598407},{"$f":"(O34+N34)*O23*-1","v":6.516107622646123},{"$f":"(P34+Q34)*P23*-1","v":-5.890729118571012},{"$f":"(Q34+P34)*Q23*-1","v":0},{"$f":"(R34+S34)*R23*-1","v":0},{"$f":"(S34+R34)*S23*-1","v":0},{"$f":"(T34+U34)*T23*-1","v":0},null,"dis",{"$f":"(W34)*W23*-1","v":-9.9067445728412267},{"$f":"(X34+Y34)*X23*-1","v":9.3831949766104152},{"$f":"(Y34+X34)*Y23*-1","v":7.7513349806781688},{"$f":"(Z34+AA34)*Z23*-1","v":-7.7513349806781688},{"$f":"(AA34+Z34)*AA23*-1","v":-9.3831949766104152},{"$f":"(AB34+AC34)*AB23*-1","v":9.9067445728412267},{"$f":"(AC34+AB34)*AC23*-1","v":0},{"$f":"(AD34+AE34)*AD23*-1","v":0},{"$f":"(AE34+AD34)*AE23*-1","v":0},{"$f":"(AF34+AG34)*AF23*-1","v":0},null,"dis",{"$f":"(AI34)*AI23*-1","v":5.890729118571012},{"$f":"(AJ34+AK34)*AJ23*-1","v":-6.516107622646123},{"$f":"(AK34+AJ34)*AK23*-1","v":-5.3828715143598407},{"$f":"(AL34+AM34)*AL23*-1","v":5.6832169952893521},{"$f":"(AM34+AL34)*AM23*-1","v":6.8796837311397416},{"$f":"(AN34+AO34)*AN23*-1","v":-6.8796837311397407},{"$f":"(AO34+AN34)*AO23*-1","v":0},{"$f":"(AP34+AQ34)*AP23*-1","v":0},{"$f":"(AQ34+AP34)*AQ23*-1","v":0},{"$f":"(AR34+AS34)*AR23*-1","v":0},null,"dis",{"$f":"(AU34)*AU23*-1","v":0},{"$f":"(AV34+AW34)*AV23*-1","v":0},{"$f":"(AW34+AV34)*AW23*-1","v":0},{"$f":"(AX34+AY34)*AX23*-1","v":0},{"$f":"(AY34+AX34)*AY23*-1","v":0},{"$f":"(AZ34+BA34)*AZ23*-1","v":0},{"$f":"(BA34+AZ34)*BA23*-1","v":0},{"$f":"(BB34+BC34)*BB23*-1","v":0},{"$f":"(BC34+BB34)*BC23*-1","v":0},{"$f":"(BD34+BE34)*BD23*-1","v":0},null,"dis",{"$f":"(BG34)*BG23*-1","v":0},{"$f":"(BH34+BI34)*BH23*-1","v":0},{"$f":"(BI34+BH34)*BI23*-1","v":0},{"$f":"(BJ34+BK34)*BJ23*-1","v":0},{"$f":"(BK34+BJ34)*BK23*-1","v":0},{"$f":"(BL34+BM34)*BL23*-1","v":0},{"$f":"(BM34+BL34)*BM23*-1","v":0},{"$f":"(BN34+BO34)*BN23*-1","v":0},{"$f":"(BO34+BN34)*BO23*-1","v":0},{"$f":"(BP34+BQ34)*BP23*-1","v":0},null,"dis",{"$f":"(BS34)*BS23*-1","v":10.219365223338302},{"$f":"(BT34+BU34)*BT23*-1","v":-14.319461581292765},{"$f":"(BU34+BT34)*BU23*-1","v":-11.82912043672011},{"$f":"(BV34+BW34)*BV23*-1","v":11.82912043672011},{"$f":"(BW34+BV34)*BW23*-1","v":14.319461581292765},{"$f":"(BX34+BY34)*BX23*-1","v":-10.219365223338302},{"$f":"(BY34+BX34)*BY23*-1","v":0},{"$f":"(BZ34+CA34)*BZ23*-1","v":0},{"$f":"(CA34+BZ34)*CA23*-1","v":0},{"$f":"(CB34+CC34)*CB23*-1","v":0}]
[null,null,null,null,null,null,null,null,null,"co",{"$f":"L35/2","v":-3.4398418655698708},{"$f":"K35/2","v":3.4398418655698704},{"$f":"N35/2","v":2.6914357571799203},{"$f":"M35/2","v":-2.841608497644676},{"$f":"P35/2","v":-2.945364559285506},{"$f":"O35/2","v":3.2580538113230615},{"$f":"R35/2","v":0},{"$f":"Q35/2","v":0},{"$f":"T35/2","v":0},{"$f":"S35/2","v":0},null,"co",{"$f":"X35/2","v":4.6915974883052076},-4.9533722864206133,{"$f":"Z35/2","v":-3.8756674903390844},{"$f":"Y35/2","v":3.8756674903390844},{"$f":"AB35/2","v":4.9533722864206133},{"$f":"AA35/2","v":-4.6915974883052076},{"$f":"AD35/2","v":0},{"$f":"AC35/2","v":0},{"$f":"AF35/2","v":0},{"$f":"AE35/2","v":0},null,"co",{"$f":"AJ35/2","v":-3.2580538113230615},{"$f":"AI35/2","v":2.945364559285506},{"$f":"AL35/2","v":2.841608497644676},{"$f":"AK35/2","v":-2.6914357571799203},{"$f":"AN35/2","v":-3.4398418655698704},{"$f":"AM35/2","v":3.4398418655698708},{"$f":"AP35/2","v":0},{"$f":"AO35/2","v":0},{"$f":"AR35/2","v":0},{"$f":"AQ35/2","v":0},null,"co",{"$f":"AV35/2","v":0},{"$f":"AU35/2","v":0},{"$f":"AX35/2","v":0},{"$f":"AW35/2","v":0},{"$f":"AZ35/2","v":0},{"$f":"AY35/2","v":0},{"$f":"BB35/2","v":0},{"$f":"BA35/2","v":0},{"$f":"BD35/2","v":0},{"$f":"BC35/2","v":0},null,"co",{"$f":"BH35/2","v":0},{"$f":"BG35/2","v":0},{"$f":"BJ35/2","v":0},{"$f":"BI35/2","v":0},{"$f":"BL35/2","v":0},{"$f":"BK35/2","v":0},{"$f":"BN35/2","v":0},{"$f":"BM35/2","v":0},{"$f":"BP35/2","v":0},{"$f":"BO35/2","v":0},null,"co",{"$f":"BT35/2","v":-7.1597307906463827},{"$f":"BS35/2","v":5.1096826116691512},{"$f":"BV35/2","v":5.9145602183600552},{"$f":"BU35/2","v":-5.9145602183600552},{"$f":"BX35/2","v":-5.1096826116691512},{"$f":"BW35/2","v":7.1597307906463827},{"$f":"BZ35/2","v":0},{"$f":"BY35/2","v":0},{"$f":"CB35/2","v":0},{"$f":"CA35/2","v":0}]
[null,null,null,null,null,null,null,null,null,"dis",{"$f":"(K36)*K23*-1","v":2.3102636667546981},{"$f":"(L36+M36)*L23*-1","v":-2.3183598349023917},{"$f":"(M36+L36)*M23*-1","v":-1.9151668201367582},{"$f":"(N36+O36)*N23*-1","v":1.8076197930648419},{"$f":"(O36+N36)*O23*-1","v":2.1881713284469142},{"$f":"(P36+Q36)*P23*-1","v":-2.1881713284469142},{"$f":"(Q36+P36)*Q23*-1","v":0},{"$f":"(R36+S36)*R23*-1","v":0},{"$f":"(S36+R36)*S23*-1","v":0},{"$f":"(T36+U36)*T23*-1","v":0},null,"dis",{"$f":"(W36)*W23*-1","v":-3.1509667129635557},{"$f":"(X36+Y36)*X23*-1","v":3.3384381622594441},{"$f":"(Y36+X36)*Y23*-1","v":2.7578402209969317},{"$f":"(Z36+AA36)*Z23*-1","v":-2.7578402209969317},{"$f":"(AA36+Z36)*AA23*-1","v":-3.3384381622594441},{"$f":"(AB36+AC36)*AB23*-1","v":3.1509667129635557},{"$f":"(AC36+AB36)*AC23*-1","v":0},{"$f":"(AD36+AE36)*AD23*-1","v":0},{"$f":"(AE36+AD36)*AE23*-1","v":0},{"$f":"(AF36+AG36)*AF23*-1","v":0},null,"dis",{"$f":"(AI36)*AI23*-1","v":2.1881713284469142},{"$f":"(AJ36+AK36)*AJ23*-1","v":-2.1881713284469142},{"$f":"(AK36+AJ36)*AK23*-1","v":-1.8076197930648419},{"$f":"(AL36+AM36)*AL23*-1","v":1.9151668201367582},{"$f":"(AM36+AL36)*AM23*-1","v":2.3183598349023917},{"$f":"(AN36+AO36)*AN23*-1","v":-2.3102636667546981},{"$f":"(AO36+AN36)*AO23*-1","v":0},{"$f":"(AP36+AQ36)*AP23*-1","v":0},{"$f":"(AQ36+AP36)*AQ23*-1","v":0},{"$f":"(AR36+AS36)*AR23*-1","v":0},null,"dis",{"$f":"(AU36)*AU23*-1","v":0},{"$f":"(AV36+AW36)*AV23*-1","v":0},{"$f":"(AW36+AV36)*AW23*-1","v":0},{"$f":"(AX36+AY36)*AX23*-1","v":0},{"$f":"(AY36+AX36)*AY23*-1","v":0},{"$f":"(AZ36+BA36)*AZ23*-1","v":0},{"$f":"(BA36+AZ36)*BA23*-1","v":0},{"$f":"(BB36+BC36)*BB23*-1","v":0},{"$f":"(BC36+BB36)*BC23*-1","v":0},{"$f":"(BD36+BE36)*BD23*-1","v":0},null,"dis",{"$f":"(BG36)*BG23*-1","v":0},{"$f":"(BH36+BI36)*BH23*-1","v":0},{"$f":"(BI36+BH36)*BI23*-1","v":0},{"$f":"(BJ36+BK36)*BJ23*-1","v":0},{"$f":"(BK36+BJ36)*BK23*-1","v":0},{"$f":"(BL36+BM36)*BL23*-1","v":0},{"$f":"(BM36+BL36)*BM23*-1","v":0},{"$f":"(BN36+BO36)*BN23*-1","v":0},{"$f":"(BO36+BN36)*BO23*-1","v":0},{"$f":"(BP36+BQ36)*BP23*-1","v":0},null,"dis",{"$f":"(BS36)*BS23*-1","v":4.8086123013201183},{"$f":"(BT36+BU36)*BT23*-1","v":-4.1684887489873459},{"$f":"(BU36+BT36)*BU23*-1","v":-3.4435341839460687},{"$f":"(BV36+BW36)*BV23*-1","v":3.4435341839460687},{"$f":"(BW36+BV36)*BW23*-1","v":4.1684887489873459},{"$f":"(BX36+BY36)*BX23*-1","v":-4.8086123013201183},{"$f":"(BY36+BX36)*BY23*-1","v":0},{"$f":"(BZ36+CA36)*BZ23*-1","v":0},{"$f":"(CA36+BZ36)*CA23*-1","v":0},{"$f":"(CB36+CC36)*CB23*-1","v":0}]
[null,null,null,null,null,null,null,null,null,"co",{"$f":"L37/2","v":-1.1591799174511959},{"$f":"K37/2","v":1.155131833377349},{"$f":"N37/2","v":0.90380989653242094},{"$f":"M37/2","v":-0.9575834100683791},{"$f":"P37/2","v":-1.0940856642234571},{"$f":"O37/2","v":1.0940856642234571},{"$f":"R37/2","v":0},{"$f":"Q37/2","v":0},{"$f":"T37/2","v":0},{"$f":"S37/2","v":0},null,"co",{"$f":"X37/2","v":1.6692190811297221},{"$f":"W37/2","v":-1.5754833564817778},{"$f":"Z37/2","v":-1.3789201104984659},{"$f":"Y37/2","v":1.3789201104984659},{"$f":"AB37/2","v":1.5754833564817778},{"$f":"AA37/2","v":-1.6692190811297221},{"$f":"AD37/2","v":0},{"$f":"AC37/2","v":0},{"$f":"AF37/2","v":0},{"$f":"AE37/2","v":0},null,"co",{"$f":"AJ37/2","v":-1.0940856642234571},{"$f":"AI37/2","v":1.0940856642234571},{"$f":"AL37/2","v":0.9575834100683791},{"$f":"AK37/2","v":-0.90380989653242094},{"$f":"AN37/2","v":-1.155131833377349},{"$f":"AM37/2","v":1.1591799174511959},{"$f":"AP37/2","v":0},{"$f":"AO37/2","v":0},{"$f":"AR37/2","v":0},{"$f":"AQ37/2","v":0},null,"co",{"$f":"AV37/2","v":0},{"$f":"AU37/2","v":0},{"$f":"AX37/2","v":0},{"$f":"AW37/2","v":0},{"$f":"AZ37/2","v":0},{"$f":"AY37/2","v":0},{"$f":"BB37/2","v":0},{"$f":"BA37/2","v":0},{"$f":"BD37/2","v":0},{"$f":"BC37/2","v":0},null,"co",{"$f":"BH37/2","v":0},{"$f":"BG37/2","v":0},{"$f":"BJ37/2","v":0},{"$f":"BI37/2","v":0},{"$f":"BL37/2","v":0},{"$f":"BK37/2","v":0},{"$f":"BN37/2","v":0},{"$f":"BM37/2","v":0},{"$f":"BP37/2","v":0},{"$f":"BO37/2","v":0},null,"co",{"$f":"BT37/2","v":-2.0842443744936729},{"$f":"BS37/2","v":2.4043061506600591},{"$f":"BV37/2","v":1.7217670919730343},{"$f":"BU37/2","v":-1.7217670919730343},{"$f":"BX37/2","v":-2.4043061506600591},{"$f":"BW37/2","v":2.0842443744936729},{"$f":"BZ37/2","v":0},{"$f":"BY37/2","v":0},{"$f":"CB37/2","v":0},{"$f":"CA37/2","v":0}]
[null,null,null,null,null,null,null,null,null,"dis",{"$f":"(K38)*K23*-1","v":0.7785274297996102},{"$f":"(L38+M38)*L23*-1","v":-0.77852742979961032},{"$f":"(M38+L38)*M23*-1","v":-0.64313135505185193},{"$f":"(N38+O38)*N23*-1","v":0.64085966722579957},{"$f":"(O38+N38)*O23*-1","v":0.7757774919049153},{"$f":"(P38+Q38)*P23*-1","v":-0.73480888283621348},{"$f":"(Q38+P38)*Q23*-1","v":0},{"$f":"(R38+S38)*R23*-1","v":0},{"$f":"(S38+R38)*S23*-1","v":0},{"$f":"(T38+U38)*T23*-1","v":0},null,"dis",{"$f":"(W38)*W23*-1","v":-1.1210794989114388},{"$f":"(X38+Y38)*X23*-1","v":1.117119588343078},{"$f":"(Y38+X38)*Y23*-1","v":0.92283792080515137},{"$f":"(Z38+AA38)*Z23*-1","v":-0.92283792080515137},{"$f":"(AA38+Z38)*AA23*-1","v":-1.117119588343078},{"$f":"(AB38+AC38)*AB23*-1","v":1.1210794989114388},{"$f":"(AC38+AB38)*AC23*-1","v":0},{"$f":"(AD38+AE38)*AD23*-1","v":0},{"$f":"(AE38+AD38)*AE23*-1","v":0},{"$f":"(AF38+AG38)*AF23*-1","v":0},null,"dis",{"$f":"(AI38)*AI23*-1","v":0.73480888283621348},{"$f":"(AJ38+AK38)*AJ23*-1","v":-0.7757774919049153},{"$f":"(AK38+AJ38)*AK23*-1","v":-0.64085966722579957},{"$f":"(AL38+AM38)*AL23*-1","v":0.64313135505185193},{"$f":"(AM38+AL38)*AM23*-1","v":0.77852742979961032},{"$f":"(AN38+AO38)*AN23*-1","v":-0.7785274297996102},{"$f":"(AO38+AN38)*AO23*-1","v":0},{"$f":"(AP38+AQ38)*AP23*-1","v":0},{"$f":"(AQ38+AP38)*AQ23*-1","v":0},{"$f":"(AR38+AS38)*AR23*-1","v":0},null,"dis",{"$f":"(AU38)*AU23*-1","v":0},{"$f":"(AV38+AW38)*AV23*-1","v":0},{"$f":"(AW38+AV38)*AW23*-1","v":0},{"$f":"(AX38+AY38)*AX23*-1","v":0},{"$f":"(AY38+AX38)*AY23*-1","v":0},{"$f":"(AZ38+BA38)*AZ23*-1","v":0},{"$f":"(BA38+AZ38)*BA23*-1","v":0},{"$f":"(BB38+BC38)*BB23*-1","v":0},{"$f":"(BC38+BB38)*BC23*-1","v":0},{"$f":"(BD38+BE38)*BD23*-1","v":0},null,"dis",{"$f":"(BG38)*BG23*-1","v":0},{"$f":"(BH38+BI38)*BH23*-1","v":0},{"$f":"(BI38+BH38)*BI23*-1","v":0},{"$f":"(BJ38+BK38)*BJ23*-1","v":0},{"$f":"(BK38+BJ38)*BK23*-1","v":0},{"$f":"(BL38+BM38)*BL23*-1","v":0},{"$f":"(BM38+BL38)*BM23*-1","v":0},{"$f":"(BN38+BO38)*BN23*-1","v":0},{"$f":"(BO38+BN38)*BO23*-1","v":0},{"$f":"(BP38+BQ38)*BP23*-1","v":0},null,"dis",{"$f":"(BS38)*BS23*-1","v":1.3998184332909411},{"$f":"(BT38+BU38)*BT23*-1","v":-1.5601515817996747},{"$f":"(BU38+BT38)*BU23*-1","v":-1.2888208719214704},{"$f":"(BV38+BW38)*BV23*-1","v":1.2888208719214704},{"$f":"(BW38+BV38)*BW23*-1","v":1.5601515817996747},{"$f":"(BX38+BY38)*BX23*-1","v":-1.3998184332909411},{"$f":"(BY38+BX38)*BY23*-1","v":0},{"$f":"(BZ38+CA38)*BZ23*-1","v":0},{"$f":"(CA38+BZ38)*CA23*-1","v":0},{"$f":"(CB38+CC38)*CB23*-1","v":0}]
[null,null,null,null,null,null,null,null,null,"co",{"$f":"L39/2","v":-0.38926371489980516},{"$f":"K39/2","v":0.3892637148998051},{"$f":"N39/2","v":0.32042983361289978},{"$f":"M39/2","v":-0.32156567752592596},{"$f":"P39/2","v":-0.36740444141810674},{"$f":"O39/2","v":0.38788874595245765},{"$f":"R39/2","v":0},{"$f":"Q39/2","v":0},{"$f":"T39/2","v":0},{"$f":"S39/2","v":0},null,"co",{"$f":"X39/2","v":0.558559794171539},{"$f":"W39/2","v":-0.56053974945571938},{"$f":"Z39/2","v":-0.46141896040257568},{"$f":"Y39/2","v":0.46141896040257568},{"$f":"AB39/2","v":0.56053974945571938},{"$f":"AA39/2","v":-0.558559794171539},{"$f":"AD39/2","v":0},{"$f":"AC39/2","v":0},{"$f":"AF39/2","v":0},{"$f":"AE39/2","v":0},null,"co",{"$f":"AJ39/2","v":-0.38788874595245765},{"$f":"AI39/2","v":0.36740444141810674},{"$f":"AL39/2","v":0.32156567752592596},{"$f":"AK39/2","v":-0.32042983361289978},{"$f":"AN39/2","v":-0.3892637148998051},{"$f":"AM39/2","v":0.38926371489980516},{"$f":"AP39/2","v":0},{"$f":"AO39/2","v":0},{"$f":"AR39/2","v":0},{"$f":"AQ39/2","v":0},null,"co",{"$f":"AV39/2","v":0},{"$f":"AU39/2","v":0},{"$f":"AX39/2","v":0},{"$f":"AW39/2","v":0},{"$f":"AZ39/2","v":0},{"$f":"AY39/2","v":0},{"$f":"BB39/2","v":0},{"$f":"BA39/2","v":0},{"$f":"BD39/2","v":0},{"$f":"BC39/2","v":0},null,"co",{"$f":"BH39/2","v":0},{"$f":"BG39/2","v":0},{"$f":"BJ39/2","v":0},{"$f":"BI39/2","v":0},{"$f":"BL39/2","v":0},{"$f":"BK39/2","v":0},{"$f":"BN39/2","v":0},{"$f":"BM39/2","v":0},{"$f":"BP39/2","v":0},{"$f":"BO39/2","v":0},null,"co",{"$f":"BT39/2","v":-0.78007579089983736},{"$f":"BS39/2","v":0.69990921664547057},{"$f":"BV39/2","v":0.64441043596073522},{"$f":"BU39/2","v":-0.64441043596073522},{"$f":"BX39/2","v":-0.69990921664547057},{"$f":"BW39/2","v":0.78007579089983736},{"$f":"BZ39/2","v":0},{"$f":"BY39/2","v":0},{"$f":"CB39/2","v":0},{"$f":"CA39/2","v":0}]
[null,null,null,null,null,null,null,null,null,"dis",{"$f":"(K40)*K23*-1","v":0.2614369649722238},{"$f":"(L40+M40)*L23*-1","v":-0.26834945654007136},{"$f":"(M40+L40)*M23*-1","v":-0.22167998583745027},{"$f":"(N40+O40)*N23*-1","v":0.21520681219382032},{"$f":"(O40+N40)*O23*-1","v":0.26051350949778251},{"$f":"(P40+Q40)*P23*-1","v":-0.26051350949778246},{"$f":"(Q40+P40)*Q23*-1","v":0},{"$f":"(R40+S40)*R23*-1","v":0},{"$f":"(S40+R40)*S23*-1","v":0},{"$f":"(T40+U40)*T23*-1","v":0},null,"dis",{"$f":"(W40)*W23*-1","v":-0.37513945367680679},{"$f":"(X40+Y40)*X23*-1","v":0.38642321741770275},{"$f":"(Y40+X40)*Y23*-1","v":0.31921917960592833},{"$f":"(Z40+AA40)*Z23*-1","v":-0.31921917960592833},{"$f":"(AA40+Z40)*AA23*-1","v":-0.38642321741770275},{"$f":"(AB40+AC40)*AB23*-1","v":0.37513945367680679},{"$f":"(AC40+AB40)*AC23*-1","v":0},{"$f":"(AD40+AE40)*AD23*-1","v":0},{"$f":"(AE40+AD40)*AE23*-1","v":0},{"$f":"(AF40+AG40)*AF23*-1","v":0},null,"dis",{"$f":"(AI40)*AI23*-1","v":0.26051350949778246},{"$f":"(AJ40+AK40)*AJ23*-1","v":-0.26051350949778251},{"$f":"(AK40+AJ40)*AK23*-1","v":-0.21520681219382032},{"$f":"(AL40+AM40)*AL23*-1","v":0.22167998583745027},{"$f":"(AM40+AL40)*AM23*-1","v":0.26834945654007136},{"$f":"(AN40+AO40)*AN23*-1","v":-0.2614369649722238},{"$f":"(AO40+AN40)*AO23*-1","v":0},{"$f":"(AP40+AQ40)*AP23*-1","v":0},{"$f":"(AQ40+AP40)*AQ23*-1","v":0},{"$f":"(AR40+AS40)*AR23*-1","v":0},null,"dis",{"$f":"(AU40)*AU23*-1","v":0},{"$f":"(AV40+AW40)*AV23*-1","v":0},{"$f":"(AW40+AV40)*AW23*-1","v":0},{"$f":"(AX40+AY40)*AX23*-1","v":0},{"$f":"(AY40+AX40)*AY23*-1","v":0},{"$f":"(AZ40+BA40)*AZ23*-1","v":0},{"$f":"(BA40+AZ40)*BA23*-1","v":0},{"$f":"(BB40+BC40)*BB23*-1","v":0},{"$f":"(BC40+BB40)*BC23*-1","v":0},{"$f":"(BD40+BE40)*BD23*-1","v":0},null,"dis",{"$f":"(BG40)*BG23*-1","v":0},{"$f":"(BH40+BI40)*BH23*-1","v":0},{"$f":"(BI40+BH40)*BI23*-1","v":0},{"$f":"(BJ40+BK40)*BJ23*-1","v":0},{"$f":"(BK40+BJ40)*BK23*-1","v":0},{"$f":"(BL40+BM40)*BL23*-1","v":0},{"$f":"(BM40+BL40)*BM23*-1","v":0},{"$f":"(BN40+BO40)*BN23*-1","v":0},{"$f":"(BO40+BN40)*BO23*-1","v":0},{"$f":"(BP40+BQ40)*BP23*-1","v":0},null,"dis",{"$f":"(BS40)*BS23*-1","v":0.52391383890906451},{"$f":"(BT40+BU40)*BT23*-1","v":-0.50831439703661729},{"$f":"(BU40+BT40)*BU23*-1","v":-0.41991189320416206},{"$f":"(BV40+BW40)*BV23*-1","v":0.41991189320416206},{"$f":"(BW40+BV40)*BW23*-1","v":0.50831439703661729},{"$f":"(BX40+BY40)*BX23*-1","v":-0.52391383890906451},{"$f":"(BY40+BX40)*BY23*-1","v":0},{"$f":"(BZ40+CA40)*BZ23*-1","v":0},{"$f":"(CA40+BZ40)*CA23*-1","v":0},{"$f":"(CB40+CC40)*CB23*-1","v":0}]
[null,null,null,null,null,null,null,null,null,"co",{"$f":"L41/2","v":-0.13417472827003568},{"$f":"K41/2","v":0.1307184824861119},{"$f":"N41/2","v":0.10760340609691016},{"$f":"M41/2","v":-0.11083999291872514},{"$f":"P41/2","v":-0.13025675474889123},{"$f":"O41/2","v":0.13025675474889126},{"$f":"R41/2","v":0},{"$f":"Q41/2","v":0},{"$f":"T41/2","v":0},{"$f":"S41/2","v":0},null,"co",{"$f":"X41/2","v":0.19321160870885137},{"$f":"W41/2","v":-0.18756972683840339},{"$f":"Z41/2","v":-0.15960958980296416},{"$f":"Y41/2","v":0.15960958980296416},{"$f":"AB41/2","v":0.18756972683840339},{"$f":"AA41/2","v":-0.19321160870885137},{"$f":"AD41/2","v":0},{"$f":"AC41/2","v":0},{"$f":"AF41/2","v":0},{"$f":"AE41/2","v":0},null,"co",{"$f":"AJ41/2","v":-0.13025675474889126},{"$f":"AI41/2","v":0.13025675474889123},{"$f":"AL41/2","v":0.11083999291872514},{"$f":"AK41/2","v":-0.10760340609691016},{"$f":"AN41/2","v":-0.1307184824861119},{"$f":"AM41/2","v":0.13417472827003568},{"$f":"AP41/2","v":0},{"$f":"AO41/2","v":0},{"$f":"AR41/2","v":0},{"$f":"AQ41/2","v":0},null,"co",{"$f":"AV41/2","v":0},{"$f":"AU41/2","v":0},{"$f":"AX41/2","v":0},{"$f":"AW41/2","v":0},{"$f":"AZ41/2","v":0},{"$f":"AY41/2","v":0},{"$f":"BB41/2","v":0},{"$f":"BA41/2","v":0},{"$f":"BD41/2","v":0},{"$f":"BC41/2","v":0},null,"co",{"$f":"BH41/2","v":0},{"$f":"BG41/2","v":0},{"$f":"BJ41/2","v":0},{"$f":"BI41/2","v":0},{"$f":"BL41/2","v":0},{"$f":"BK41/2","v":0},{"$f":"BN41/2","v":0},{"$f":"BM41/2","v":0},{"$f":"BP41/2","v":0},{"$f":"BO41/2","v":0},null,"co",{"$f":"BT41/2","v":-0.25415719851830865},{"$f":"BS41/2","v":0.26195691945453226},{"$f":"BV41/2","v":0.20995594660208103},{"$f":"BU41/2","v":-0.20995594660208103},{"$f":"BX41/2","v":-0.26195691945453226},{"$f":"BW41/2","v":0.25415719851830865},{"$f":"BZ41/2","v":0},{"$f":"BY41/2","v":0},{"$f":"CB41/2","v":0},{"$f":"CA41/2","v":0}]
[null,null,null,null,null,null,null,null,null,"dis",{"$f":"(K42)*K23*-1","v":9.0114316829966942E-2},{"$f":"(L42+M42)*L23*-1","v":-9.0114316829966956E-2},{"$f":"(M42+L42)*M23*-1","v":-7.4442261729103135E-2},{"$f":"(N42+O42)*N23*-1","v":7.5309017139044365E-2},{"$f":"(O42+N42)*O23*-1","v":9.1163547063053713E-2},{"$f":"(P42+Q42)*P23*-1","v":-8.7482930787542754E-2},{"$f":"(Q42+P42)*Q23*-1","v":0},{"$f":"(R42+S42)*R23*-1","v":0},{"$f":"(S42+R42)*S23*-1","v":0},{"$f":"(T42+U42)*T23*-1","v":0},null,"dis",{"$f":"(W42)*W23*-1","v":-0.1297646162351524},{"$f":"(X42+Y42)*X23*-1","v":0.13127550777079736},{"$f":"(Y42+X42)*Y23*-1","v":0.10844498468022391},{"$f":"(Z42+AA42)*Z23*-1","v":-0.10844498468022391},{"$f":"(AA42+Z42)*AA23*-1","v":-0.13127550777079736},{"$f":"(AB42+AC42)*AB23*-1","v":0.1297646162351524},{"$f":"(AC42+AB42)*AC23*-1","v":0},{"$f":"(AD42+AE42)*AD23*-1","v":0},{"$f":"(AE42+AD42)*AE23*-1","v":0},{"$f":"(AF42+AG42)*AF23*-1","v":0},null,"dis",{"$f":"(AI42)*AI23*-1","v":8.7482930787542754E-2},{"$f":"(AJ42+AK42)*AJ23*-1","v":-9.1163547063053713E-2},{"$f":"(AK42+AJ42)*AK23*-1","v":-7.5309017139044365E-2},{"$f":"(AL42+AM42)*AL23*-1","v":7.4442261729103135E-2},{"$f":"(AM42+AL42)*AM23*-1","v":9.0114316829966956E-2},{"$f":"(AN42+AO42)*AN23*-1","v":-9.0114316829966942E-2},{"$f":"(AO42+AN42)*AO23*-1","v":0},{"$f":"(AP42+AQ42)*AP23*-1","v":0},{"$f":"(AQ42+AP42)*AQ23*-1","v":0},{"$f":"(AR42+AS42)*AR23*-1","v":0},null,"dis",{"$f":"(AU42)*AU23*-1","v":0},{"$f":"(AV42+AW42)*AV23*-1","v":0},{"$f":"(AW42+AV42)*AW23*-1","v":0},{"$f":"(AX42+AY42)*AX23*-1","v":0},{"$f":"(AY42+AX42)*AY23*-1","v":0},{"$f":"(AZ42+BA42)*AZ23*-1","v":0},{"$f":"(BA42+AZ42)*BA23*-1","v":0},{"$f":"(BB42+BC42)*BB23*-1","v":0},{"$f":"(BC42+BB42)*BC23*-1","v":0},{"$f":"(BD42+BE42)*BD23*-1","v":0},null,"dis",{"$f":"(BG42)*BG23*-1","v":0},{"$f":"(BH42+BI42)*BH23*-1","v":0},{"$f":"(BI42+BH42)*BI23*-1","v":0},{"$f":"(BJ42+BK42)*BJ23*-1","v":0},{"$f":"(BK42+BJ42)*BK23*-1","v":0},{"$f":"(BL42+BM42)*BL23*-1","v":0},{"$f":"(BM42+BL42)*BM23*-1","v":0},{"$f":"(BN42+BO42)*BN23*-1","v":0},{"$f":"(BO42+BN42)*BO23*-1","v":0},{"$f":"(BP42+BQ42)*BP23*-1","v":0},null,"dis",{"$f":"(BS42)*BS23*-1","v":0.17069684140370631},{"$f":"(BT42+BU42)*BT23*-1","v":-0.17843978067146346},{"$f":"(BU42+BT42)*BU23*-1","v":-0.1474067753372959},{"$f":"(BV42+BW42)*BV23*-1","v":0.1474067753372959},{"$f":"(BW42+BV42)*BW23*-1","v":0.17843978067146346},{"$f":"(BX42+BY42)*BX23*-1","v":-0.17069684140370631},{"$f":"(BY42+BX42)*BY23*-1","v":0},{"$f":"(BZ42+CA42)*BZ23*-1","v":0},{"$f":"(CA42+BZ42)*CA23*-1","v":0},{"$f":"(CB42+CC42)*CB23*-1","v":0}]
[null,null,null,null,null,null,null,null,null,"co",{"$f":"L43/2","v":-4.5057158414983478E-2},{"$f":"K43/2","v":4.5057158414983471E-2},{"$f":"N43/2","v":3.7654508569522183E-2},{"$f":"M43/2","v":-3.7221130864551567E-2},{"$f":"P43/2","v":-4.3741465393771377E-2},{"$f":"O43/2","v":4.5581773531526856E-2},{"$f":"R43/2","v":0},{"$f":"Q43/2","v":0},{"$f":"T43/2","v":0},{"$f":"S43/2","v":0},null,"co",{"$f":"X43/2","v":6.5637753885398678E-2},{"$f":"W43/2","v":-6.4882308117576198E-2},{"$f":"Z43/2","v":-5.4222492340111957E-2},{"$f":"Y43/2","v":5.4222492340111957E-2},{"$f":"AB43/2","v":6.4882308117576198E-2},{"$f":"AA43/2","v":-6.5637753885398678E-2},{"$f":"AD43/2","v":0},{"$f":"AC43/2","v":0},{"$f":"AF43/2","v":0},{"$f":"AE43/2","v":0},null,"co",{"$f":"AJ43/2","v":-4.5581773531526856E-2},{"$f":"AI43/2","v":4.3741465393771377E-2},{"$f":"AL43/2","v":3.7221130864551567E-2},{"$f":"AK43/2","v":-3.7654508569522183E-2},{"$f":"AN43/2","v":-4.5057158414983471E-2},{"$f":"AM43/2","v":4.5057158414983478E-2},{"$f":"AP43/2","v":0},{"$f":"AO43/2","v":0},{"$f":"AR43/2","v":0},{"$f":"AQ43/2","v":0},null,"co",{"$f":"AV43/2","v":0},{"$f":"AU43/2","v":0},{"$f":"AX43/2","v":0},{"$f":"AW43/2","v":0},{"$f":"AZ43/2","v":0},{"$f":"AY43/2","v":0},{"$f":"BB43/2","v":0},{"$f":"BA43/2","v":0},{"$f":"BD43/2","v":0},{"$f":"BC43/2","v":0},null,"co",{"$f":"BH43/2","v":0},{"$f":"BG43/2","v":0},{"$f":"BJ43/2","v":0},{"$f":"BI43/2","v":0},{"$f":"BL43/2","v":0},{"$f":"BK43/2","v":0},{"$f":"BN43/2","v":0},{"$f":"BM43/2","v":0},{"$f":"BP43/2","v":0},{"$f":"BO43/2","v":0},null,"co",{"$f":"BT43/2","v":-8.921989033573173E-2},{"$f":"BS43/2","v":8.5348420701853153E-2},{"$f":"BV43/2","v":7.3703387668647952E-2},{"$f":"BU43/2","v":-7.3703387668647952E-2},{"$f":"BX43/2","v":-8.5348420701853153E-2},{"$f":"BW43/2","v":8.921989033573173E-2},{"$f":"BZ43/2","v":0},{"$f":"BY43/2","v":0},{"$f":"CB43/2","v":0},{"$f":"CA43/2","v":0}]
[null,null,null,null,null,null,null,null,null,"dis",{"$f":"(K44)*K23*-1","v":3.0261250395038734E-2},{"$f":"(L44+M44)*L23*-1","v":-3.1274950901456745E-2},{"$f":"(M44+L44)*M23*-1","v":-2.5835829005551227E-2},{"$f":"(N44+O44)*N23*-1","v":2.5289489004826332E-2},{"$f":"(O44+N44)*O23*-1","v":3.0613591953210825E-2},{"$f":"(P44+Q44)*P23*-1","v":-3.0613591953210815E-2},{"$f":"(Q44+P44)*Q23*-1","v":0},{"$f":"(R44+S44)*R23*-1","v":0},{"$f":"(S44+R44)*S23*-1","v":0},{"$f":"(T44+U44)*T23*-1","v":0},null,"dis",{"$f":"(W44)*W23*-1","v":-4.4083572412623576E-2},{"$f":"(X44+Y44)*X23*-1","v":4.5035929298097716E-2},{"$f":"(Y44+X44)*Y23*-1","v":3.7203593767993766E-2},{"$f":"(Z44+AA44)*Z23*-1","v":-3.7203593767993766E-2},{"$f":"(AA44+Z44)*AA23*-1","v":-4.5035929298097716E-2},{"$f":"(AB44+AC44)*AB23*-1","v":4.4083572412623576E-2},{"$f":"(AC44+AB44)*AC23*-1","v":0},{"$f":"(AD44+AE44)*AD23*-1","v":0},{"$f":"(AE44+AD44)*AE23*-1","v":0},{"$f":"(AF44+AG44)*AF23*-1","v":0},null,"dis",{"$f":"(AI44)*AI23*-1","v":3.0613591953210815E-2},{"$f":"(AJ44+AK44)*AJ23*-1","v":-3.0613591953210825E-2},{"$f":"(AK44+AJ44)*AK23*-1","v":-2.5289489004826332E-2},{"$f":"(AL44+AM44)*AL23*-1","v":2.5835829005551227E-2},{"$f":"(AM44+AL44)*AM23*-1","v":3.1274950901456745E-2},{"$f":"(AN44+AO44)*AN23*-1","v":-3.0261250395038734E-2},{"$f":"(AO44+AN44)*AO23*-1","v":0},{"$f":"(AP44+AQ44)*AP23*-1","v":0},{"$f":"(AQ44+AP44)*AQ23*-1","v":0},{"$f":"(AR44+AS44)*AR23*-1","v":0},null,"dis",{"$f":"(AU44)*AU23*-1","v":0},{"$f":"(AV44+AW44)*AV23*-1","v":0},{"$f":"(AW44+AV44)*AW23*-1","v":0},{"$f":"(AX44+AY44)*AX23*-1","v":0},{"$f":"(AY44+AX44)*AY23*-1","v":0},{"$f":"(AZ44+BA44)*AZ23*-1","v":0},{"$f":"(BA44+AZ44)*BA23*-1","v":0},{"$f":"(BB44+BC44)*BB23*-1","v":0},{"$f":"(BC44+BB44)*BC23*-1","v":0},{"$f":"(BD44+BE44)*BD23*-1","v":0},null,"dis",{"$f":"(BG44)*BG23*-1","v":0},{"$f":"(BH44+BI44)*BH23*-1","v":0},{"$f":"(BI44+BH44)*BI23*-1","v":0},{"$f":"(BJ44+BK44)*BJ23*-1","v":0},{"$f":"(BK44+BJ44)*BK23*-1","v":0},{"$f":"(BL44+BM44)*BL23*-1","v":0},{"$f":"(BM44+BL44)*BM23*-1","v":0},{"$f":"(BN44+BO44)*BN23*-1","v":0},{"$f":"(BO44+BN44)*BO23*-1","v":0},{"$f":"(BP44+BQ44)*BP23*-1","v":0},null,"dis",{"$f":"(BS44)*BS23*-1","v":5.992178682909656E-2},{"$f":"(BT44+BU44)*BT23*-1","v":-6.0140699358739433E-2},{"$f":"(BU44+BT44)*BU23*-1","v":-4.9681447296349962E-2},{"$f":"(BV44+BW44)*BV23*-1","v":4.9681447296349962E-2},{"$f":"(BW44+BV44)*BW23*-1","v":6.0140699358739433E-2},{"$f":"(BX44+BY44)*BX23*-1","v":-5.992178682909656E-2},{"$f":"(BY44+BX44)*BY23*-1","v":0},{"$f":"(BZ44+CA44)*BZ23*-1","v":0},{"$f":"(CA44+BZ44)*CA23*-1","v":0},{"$f":"(CB44+CC44)*CB23*-1","v":0}]
[null,null,null,null,null,null,null,null,null,"sum",{"$f":"SUM(K24:K45)","v":-2451.2600803701534},{"$f":"SUM(L24:L45)","v":5108.543915164104},{"$f":"SUM(M24:M45)","v":-2454.8028514545999},{"$f":"SUM(N24:N45)","v":-892.42542503003619},{"$f":"SUM(O24:O45)","v":449.87771619920335},88.761565753453311,0,0,0,0,null,"sum",{"$f":"SUM(W24:W45)","v":669.49179369915657},3392.9623391297646,-6730.7645956314791,6730.7645956314791,-3392.9623391297646,-669.49179369915657,0,0,0,0,null,"sum",{"$f":"SUM(AI24:AI45)","v":-88.761565753453311},-449.87771619920335,892.42542503003619,2454.8028514545999,-5108.543915164104,2451.2600803701534,0,0,0,0,null,"sum",{"$f":"SUM(AU24:AU45)","v":0},0,0,0,0,0,0,0,0,0,null,"sum",{"$f":"SUM(BG24:BG45)","v":0},0,0,0,0,0,0,0,0,0,null,"sum",{"$f":"SUM(BS24:BS45)","v":-6675.224179240191},28733.262626141746,-29595.134274788226,29595.134274788226,-28733.262626141746,6675.224179240191,0,0,0,0]
[null,null,null,null,null,null,null,null,null,"โมเมนต์บวก span 1 =",{"$f":"K110","v":19655.518655443746},null,"โมเมนต์บวก span 2 =",{"$f":"W110","v":21341.601129580296},"โมเมนต์บวก span 3 =",{"$f":"AI110","v":19655.518655443746},"โมเมนต์บวก span 4 =",{"$f":"AU110","v":0},"โมเมนต์บวก span 5 =",{"$f":"BG110","v":0}]
[null,null,null,null,null,null,null,null,null,"โมเมนต์ลบ span 1 ขวา =",{"$f":"N109","v":-28587.442559709394},null,"โมเมนต์ลบ span 2 ขวา =",{"$f":"AC110","v":-29830.921377020779},"โมเมนต์ลบ span 3 ขวา =",{"$f":"AO109","v":-3215.6424753509409},"โมเมนต์ลบ span 4 ขวา =",{"$f":"BA109","v":0},"โมเมนต์ลบ span 5 ขวา =",{"$f":"BM109","v":0}]
[null,null,null,null,null,null,null,null,null,"โมเมนต์ลบ span 1 ซ้าย =",{"$f":"-K106+0.5*K108*Sheet1!D9-0.25*'r2'!E2*('r2'!B7+'r2'!E7)*Sheet1!D9^2","v":-3215.6424753509409},null,"โมเมนต์ลบ span 2 ซ้าย =",{"$f":"Z110","v":-29830.921377020779},"โมเมนต์ลบ span 3 ซ้าย =",{"$f":"AL109","v":-28587.442559709394},"โมเมนต์ลบ span 4 ซ้าย =",{"$f":"AX109","v":0},"โมเมนต์ลบ span 5 ซ้าย =",{"$f":"BJ109","v":0}]
[null,null,null,null,null,null,null,null,null,"span1",null,null,"span2",null,"span3",null,"span4",null,"span5"]
[null,null,null,null,null,null,"ทิศทาง","ช่วงเสา","สัมประสิทธ์ร้อยละ","แถบเสา","แถบกลาง",null,"แถบเสา","แถบกลาง","แถบเสา","แถบกลาง","แถบเสา","แถบกลาง","แถบเสา","แถบกลาง"]
[null,null,null,null,null,null,null,"โมเมนต์ลบขวา",0.75,{"$f":"IF((-K48>-N49),(K48),(N49))*I52","v":-22373.191032765586},{"$f":"IF((-K48>-N49),(K48),(N49))-J52","v":-7457.7303442551929},null,{"$f":"IF((-N48>-P49),(N48),(P49))*IF(Sheet1!$B$3=2,(I54),(I52))","v":-22373.191032765586},{"$f":"IF((-N48>-P49),(N48),(P49))-M52","v":-7457.7303442551929},{"$f":"IF(-P48>-R49,(P48),(R49))*IF(Sheet1!$B$3=3,(1),(0.75))","v":-3215.6424753509409},{"$f":"IF(-P48>-R49,(P48),(R49))*IF(Sheet1!$B$3=3,(1),(0.75))-O52","v":0},{"$f":"IF(-R48>-T49,(R48),(T49))*IF(Sheet1!$B$3=4,(1),(0.75))","v":0},{"$f":"IF(-R48>-T49,(R48),(T49))*IF(Sheet1!$B$3=4,(1),(0.75))-Q52","v":0},{"$f":"IF(-T48>-T48,(T48),(V49))*IF(Sheet1!$B$3=5,(1),(0.75))","v":0},{"$f":"IF(-T48>-V49,(T48),(V49))*IF(Sheet1!$B$3=5,(1),(0.75))-S52","v":0}]
[null,null,null,null,null,null,null,"โมเมนต์กลางช่วงโมเมนต์บวก",0.6,{"$f":"K47*$I$53","v":11793.311193266247},{"$f":"K47-J53","v":7862.2074621774991},null,{"$f":"N47*$I$53","v":12804.960677748177},{"$f":"N47-M53","v":8536.6404518321197},{"$f":"P47*$I$53","v":11793.311193266247},{"$f":"P47-O53","v":7862.2074621774991},{"$f":"R47*$I$53","v":0},{"$f":"R47-Q53","v":0},{"$f":"T47*$I$53","v":0},{"$f":"T47-S53","v":0}]
[null,null,null,null,null,null,null,"โมเมนต์ลบซ้าย",1,{"$f":"K49*I54","v":-3215.6424753509409},{"$f":"K49-J54","v":0},null,{"$f":"IF((-K48>-N49),(K48),(N49))*I52","v":-22373.191032765586},{"$f":"IF((-K48>-N49),(K48),(N49))-M54","v":-7457.7303442551929},{"$f":"IF((-N48>-P49),(N48),(P49))*IF(Sheet1!$B$3<3,(0),(0.75))","v":-22373.191032765586},{"$f":"IF(O54=0,(0),(IF((-N48>-P49),(N48),(P49))-O54))","v":-7457.7303442551929},{"$f":"IF((-P48>-R49),(P48),(R49))*IF(Sheet1!$B$3<4,(0),(0.75))","v":0},{"$f":"IF(Q54=0,(0),(IF((-P48>-R49),(P48),(R49))-Q54))","v":0},{"$f":"IF((-R48>-T49),(R48),(T49))*IF(Sheet1!$B$3<5,(0),(0.75))","v":0},{"$f":"IF(S54=0,(0),(IF((-R48>-T49),(R48),(T49))-S54))","v":0}]
[]
[null,null,null,null,null,null,"เหล็กเสริมในแผ่นพื้น",null,null,"span r1",null,null,"span r2",null,"span r3",null,"span r4",null,"span r5"]
[null,null,null,null,null,null,null,"รายการ","หน่วย","แถบเสา","แถบกลาง",null,"แถบเสา","แถบกลาง","แถบเสา","แถบกลาง","แถบเสา","แถบกลาง","แถบเสา","แถบกลาง"]
[null,null,null,null,null,null,null,"ความกว้าง","m",{"$f":"E2*0.5","v":2.75},{"$f":"MIN(Sheet1!L9,Sheet1!L10)-J58","v":2.25},null,{"$f":"J58","v":2.75},{"$f":"MIN(Sheet1!L9,Sheet1!L10)-M58","v":2.25},{"$f":"M58","v":2.75},{"$f":"MIN(Sheet1!L9,Sheet1!L10)-O58","v":2.25},{"$f":"O58","v":2.75},{"$f":"MIN(Sheet1!L9,Sheet1!L10)-Q58","v":2.25},{"$f":"Q58","v":2.75},{"$f":"MIN(Sheet1!L9,Sheet1!L10)-S58","v":2.25}]
[null,null,null,null,null,null,null,"โมเมนต์ลบขวา","kg-m/m",{"$f":"J52/(0.9*J58)","v":-9039.6731445517507},{"$f":"K52/(K58*0.9)","v":-3682.8297996321944},null,{"$f":"M52/(0.9*M58)","v":-9039.6731445517507},{"$f":"N52/(0.9*N58)","v":-3682.8297996321944},{"$f":"O52/(0.9*O58)","v":-1299.2494849902791},{"$f":"P52/(0.9*P58)","v":0},{"$f":"Q52/(0.9*Q58)","v":0},0,{"$f":"S52/(0.9*S58)","v":0},{"$f":"T52/(0.9*T58)","v":0}]
[null,null,null,null,null,null,null,"Rn","kg/m^2",{"$f":"J59/(((Sheet1!B16)-(Sheet1!B13/100))^2)","v":-178561.44483065186},{"$f":"K59/(((Sheet1!B16)-(Sheet1!B13/100))^2)","v":-72747.255301376674},null,{"$f":"M59/(((Sheet1!B16)-(Sheet1!B13/100))^2)","v":-178561.44483065186},{"$f":"N59/(((Sheet1!B16)-(Sheet1!B13/100))^2)","v":-72747.255301376674},{"$f":"O59/(((Sheet1!B16)-(Sheet1!B13/100))^2)","v":-25664.187357832674},{"$f":"P59/(((Sheet1!B16)-(Sheet1!B13/100))^2)","v":0},{"$f":"Q59/(((Sheet1!B16)-(Sheet1!B13/100))^2)","v":0},{"$f":"R59/(((Sheet1!B16)-(Sheet1!B13/100))^2)","v":0},{"$f":"S59/(((Sheet1!B16)-(Sheet1!B13/100))^2)","v":0},{"$f":"T59/(((Sheet1!B16)-(Sheet1!B13/100))^2)","v":0}]
[null,null,null,null,null,null,null,"p",null,{"$f":"ABS((0.85*Sheet1!B10/Sheet1!B9)*(1-(SQRT(1-(2*J60/(0.85*Sheet1!B10*100^2))))))","v":5.6591306224530883E-3},{"$f":"ABS((0.85*Sheet1!B10/Sheet1!B9)*(1-(SQRT(1-(2*K60/(0.85*Sheet1!B10*100^2))))))","v":2.3479271142568905E-3},null,{"$f":"ABS((0.85*Sheet1!B10/Sheet1!B9)*(1-(SQRT(1-(2*M60/(0.85*Sheet1!B10*100^2))))))","v":5.6591306224530883E-3},{"$f":"ABS((0.85*Sheet1!B10/Sheet1!B9)*(1-(SQRT(1-(2*N60/(0.85*Sheet1!B10*100^2))))))","v":2.3479271142568905E-3},{"$f":"ABS((0.85*Sheet1!B10/Sheet1!B9)*(1-(SQRT(1-(2*O60/(0.85*Sheet1!B10*100^2))))))","v":8.3532508138559145E-4},{"$f":"ABS((0.85*Sheet1!B10/Sheet1!B9)*(1-(SQRT(1-(2*P60/(0.85*Sheet1!B10*100^2))))))","v":0},{"$f":"ABS((0.85*Sheet1!B10/Sheet1!B9)*(1-(SQRT(1-(2*Q60/(0.85*Sheet1!B10*100^2))))))","v":0},{"$f":"ABS((0.85*Sheet1!B10/Sheet1!B9)*(1-(SQRT(1-(2*R60/(0.85*Sheet1!B10*100^2))))))","v":0},{"$f":"ABS((0.85*Sheet1!B10/Sheet1!B9)*(1-(SQRT(1-(2*S60/(0.85*Sheet1!B10*100^2))))))","v":0},{"$f":"ABS((0.85*Sheet1!B10/Sheet1!B9)*(1-(SQRT(1-(2*T60/(0.85*Sheet1!B10*100^2))))))","v":0}]
[null,null,null,null,null,null,null,"As-","mm^2/m",{"$f":"IF(J59=0,(0),(IF(J61>(0.0018*4000/Sheet1!$B$9),(ABS(J61*1000*(Sheet1!$B$16*1000-Sheet1!$B$13*10)*-1)),(ABS((0.0018*4000/Sheet1!$B$9)*1000*(Sheet1!$B$16*1000-Sheet1!$B$13*10)*-1)))))","v":1273.3043900519449},{"$f":"IF(J59=0,(0),(IF(K61>(0.0018*4000/Sheet1!$B$9),(ABS(K61*1000*(Sheet1!$B$16*1000-Sheet1!$B$13*10)*-1)),(ABS((0.0018*4000/Sheet1!$B$9)*1000*(Sheet1!$B$16*1000-Sheet1!$B$13*10)*-1)))))","v":529.75801177240021},null,{"$f":"IF(M59=0,(0),(IF(M61>(0.0018*4000/Sheet1!$B$9),(ABS(M61*1000*(Sheet1!$B$16*1000-Sheet1!$B$13*10)*-1)),(ABS((0.0018*4000/Sheet1!$B$9)*1000*(Sheet1!$B$16*1000-Sheet1!$B$13*10)*-1)))))","v":1273.3043900519449},{"$f":"IF(M59=0,(0),(IF(N61>(0.0018*4000/Sheet1!$B$9),(ABS(N61*1000*(Sheet1!$B$16*1000-Sheet1!$B$13*10)*-1)),(ABS((0.0018*4000/Sheet1!$B$9)*1000*(Sheet1!$B$16*1000-Sheet1!$B$13*10)*-1)))))","v":529.75801177240021},{"$f":"IF(O59=0,(0),(IF(O61>(0.0018*4000/Sheet1!$B$9),(ABS(O61*1000*(Sheet1!$B$16*1000-Sheet1!$B$13*10)*-1)),(ABS((0.0018*4000/Sheet1!$B$9)*1000*(Sheet1!$B$16*1000-Sheet1!$B$13*10)*-1)))))","v":529.75801177240021},{"$f":"IF(O59=0,(0),(IF(P61>(0.0018*4000/Sheet1!$B$9),(ABS(P61*1000*(Sheet1!$B$16*1000-Sheet1!$B$13*10)*-1)),(ABS((0.0018*4000/Sheet1!$B$9)*1000*(Sheet1!$B$16*1000-Sheet1!$B$13*10)*-1)))))","v":529.75801177240021},{"$f":"IF(Q59=0,(0),(IF(Q61>(0.0018*4000/Sheet1!$B$9),(ABS(Q61*1000*(Sheet1!$B$16*1000-Sheet1!$B$13*10)*-1)),(ABS((0.0018*4000/Sheet1!$B$9)*1000*(Sheet1!$B$16*1000-Sheet1!$B$13*10)*-1)))))","v":0},{"$f":"IF(Q59=0,(0),(IF(R61>(0.0018*4000/Sheet1!$B$9),(ABS(R61*1000*(Sheet1!$B$16*1000-Sheet1!$B$13*10)*-1)),(ABS((0.0018*4000/Sheet1!$B$9)*1000*(Sheet1!$B$16*1000-Sheet1!$B$13*10)*-1)))))","v":0},{"$f":"IF(S53=0,(0),(IF(S61>(0.0018*4000/Sheet1!$B$9),(ABS(S61*1000*(Sheet1!$B$16*1000-Sheet1!$B$13*10)*-1)),(ABS((0.0018*4000/Sheet1!$B$9)*1000*(Sheet1!$B$16*1000-Sheet1!$B$13*10)*-1)))))","v":0},{"$f":"IF(T53=0,(0),(IF(T61>(0.0018*4000/Sheet1!$B$9),(ABS(T61*1000*(Sheet1!$B$16*1000-Sheet1!$B$13*10)*-1)),(ABS((0.0018*4000/Sheet1!$B$9)*1000*(Sheet1!$B$16*1000-Sheet1!$B$13*10)*-1)))))","v":0}]
[null,null,null,null,null,null,null,"โมเมนต์บวกกลาง","kg-m/m",{"$f":"J53/(0.9*J58)","v":4764.9742195015133},{"$f":"K53/(0.9*K58)","v":3882.5715862604934},null,{"$f":"M53/(0.9*M58)","v":5173.7214859588594},{"$f":"N53/(0.9*N58)","v":4215.6249144849971},{"$f":"O53/(0.9*O58)","v":4764.9742195015133},{"$f":"P53/(0.9*P58)","v":3882.5715862604934},0,{"$f":"R53/(0.9*R58)","v":0},{"$f":"S53/(0.9*S58)","v":0},{"$f":"T53/(0.9*T58)","v":0}]
[null,null,null,null,null,null,null,"Rn","kg/m^2",{"$f":"J63/(((Sheet1!B16)-(Sheet1!B13/100))^2)","v":94122.947545708899},{"$f":"K63/(((Sheet1!B16)-(Sheet1!B13/100))^2)","v":76692.77207428134},null,{"$f":"M63/(((Sheet1!B16)-(Sheet1!B13/100))^2)","v":102196.96762387869},{"$f":"N63/(((Sheet1!B16)-(Sheet1!B13/100))^2)","v":83271.603249086358},{"$f":"O63/(((Sheet1!B16)-(Sheet1!B13/100))^2)","v":94122.947545708899},{"$f":"P63/(((Sheet1!B16)-(Sheet1!B13/100))^2)","v":76692.77207428134},{"$f":"Q63/(((Sheet1!B16)-(Sheet1!B13/100))^2)","v":0},{"$f":"R63/(((Sheet1!B16)-(Sheet1!B13/100))^2)","v":0},{"$f":"S63/(((Sheet1!B16)-(Sheet1!B13/100))^2)","v":0},{"$f":"T63/(((Sheet1!B16)-(Sheet1!B13/100))^2)","v":0}]
[null,null,null,null,null,null,null,"p",null,{"$f":"ABS((0.85*Sheet1!B10/Sheet1!B9)*(1-(SQRT(1-(2*J64/(0.85*Sheet1!B10*100^2))))))","v":3.1331059289499991E-3},{"$f":"(0.85*Sheet1!B10/Sheet1!B9)*(1-(SQRT(1-(2*K64/(0.85*Sheet1!B10*100^2)))))","v":2.5443291784073767E-3},null,{"$f":"ABS((0.85*Sheet1!B10/Sheet1!B9)*(1-(SQRT(1-(2*M64/(0.85*Sheet1!B10*100^2))))))","v":3.4072129762298667E-3},{"$f":"ABS((0.85*Sheet1!B10/Sheet1!B9)*(1-(SQRT(1-(2*N64/(0.85*Sheet1!B10*100^2))))))","v":2.7660839976089758E-3},{"$f":"ABS((0.85*Sheet1!B10/Sheet1!B9)*(1-(SQRT(1-(2*O64/(0.85*Sheet1!B10*100^2))))))","v":3.1331059289499991E-3},{"$f":"ABS((0.85*Sheet1!B10/Sheet1!B9)*(1-(SQRT(1-(2*P64/(0.85*Sheet1!B10*100^2))))))","v":2.5443291784073767E-3},{"$f":"ABS((0.85*Sheet1!B10/Sheet1!B9)*(1-(SQRT(1-(2*Q64/(0.85*Sheet1!B10*100^2))))))","v":0},{"$f":"ABS((0.85*Sheet1!B10/Sheet1!B9)*(1-(SQRT(1-(2*R64/(0.85*Sheet1!B10*100^2))))))","v":0},{"$f":"ABS((0.85*Sheet1!B10/Sheet1!B9)*(1-(SQRT(1-(2*S64/(0.85*Sheet1!B10*100^2))))))","v":0},{"$f":"ABS((0.85*Sheet1!B10/Sheet1!B9)*(1-(SQRT(1-(2*T64/(0.85*Sheet1!B10*100^2))))))","v":0}]
[null,null,null,null,null,null,null,"As+","mm^2/m",{"$f":"IF(J63=0,(0),(IF(J65>(0.0018*4000/Sheet1!$B$9),(ABS(J65*1000*(Sheet1!$B$16*1000-Sheet1!$B$13*10)*-1)),(ABS((0.0018*4000/Sheet1!$B$9)*1000*(Sheet1!$B$16*1000-Sheet1!$B$13*10)*-1)))))","v":704.94883401374977},{"$f":"IF(K63=0,(0),(IF(K65>(0.0018*4000/Sheet1!$B$9),(ABS(K65*1000*(Sheet1!$B$16*1000-Sheet1!$B$13*10)*-1)),(ABS((0.0018*4000/Sheet1!$B$9)*1000*(Sheet1!$B$16*1000-Sheet1!$B$13*10)*-1)))))","v":572.47406514165971},null,{"$f":"IF(M63=0,(0),(IF(M65>(0.0018*4000/Sheet1!$B$9),(ABS(M65*1000*(Sheet1!$B$16*1000-Sheet1!$B$13*10)*-1)),(ABS((0.0018*4000/Sheet1!$B$9)*1000*(Sheet1!$B$16*1000-Sheet1!$B$13*10)*-1)))))","v":766.62291965171994},{"$f":"IF(N63=0,(0),(IF(N65>(0.0018*4000/Sheet1!$B$9),(ABS(N65*1000*(Sheet1!$B$16*1000-Sheet1!$B$13*10)*-1)),(ABS((0.0018*4000/Sheet1!$B$9)*1000*(Sheet1!$B$16*1000-Sheet1!$B$13*10)*-1)))))","v":622.36889946201961},{"$f":"IF(O63=0,(0),(IF(O65>(0.0018*4000/Sheet1!$B$9),(ABS(O65*1000*(Sheet1!$B$16*1000-Sheet1!$B$13*10)*-1)),(ABS((0.0018*4000/Sheet1!$B$9)*1000*(Sheet1!$B$16*1000-Sheet1!$B$13*10)*-1)))))","v":704.94883401374977},{"$f":"IF(P63=0,(0),(IF(P65>(0.0018*4000/Sheet1!$B$9),(ABS(P65*1000*(Sheet1!$B$16*1000-Sheet1!$B$13*10)*-1)),(ABS((0.0018*4000/Sheet1!$B$9)*1000*(Sheet1!$B$16*1000-Sheet1!$B$13*10)*-1)))))","v":572.47406514165971},{"$f":"IF(Q63=0,(0),(IF(Q65>(0.0018*4000/Sheet1!$B$9),(ABS(Q65*1000*(Sheet1!$B$16*1000-Sheet1!$B$13*10)*-1)),(ABS((0.0018*4000/Sheet1!$B$9)*1000*(Sheet1!$B$16*1000-Sheet1!$B$13*10)*-1)))))","v":0},{"$f":"IF(R63=0,(0),(IF(R65>(0.0018*4000/Sheet1!$B$9),(ABS(R65*1000*(Sheet1!$B$16*1000-Sheet1!$B$13*10)*-1)),(ABS((0.0018*4000/Sheet1!$B$9)*1000*(Sheet1!$B$16*1000-Sheet1!$B$13*10)*-1)))))","v":0},{"$f":"IF(S63=0,(0),(IF(S65>(0.0018*4000/Sheet1!$B$9),(ABS(S65*1000*(Sheet1!$B$16*1000-Sheet1!$B$13*10)*-1)),(ABS((0.0018*4000/Sheet1!$B$9)*1000*(Sheet1!$B$16*1000-Sheet1!$B$13*10)*-1)))))","v":0},{"$f":"IF(T63=0,(0),(IF(T65>(0.0018*4000/Sheet1!$B$9),(ABS(T65*1000*(Sheet1!$B$16*1000-Sheet1!$B$13*10)*-1)),(ABS((0.0018*4000/Sheet1!$B$9)*1000*(Sheet1!$B$16*1000-Sheet1!$B$13*10)*-1)))))","v":0}]
[null,null,null,null,null,null,null,"โมเมนต์ลบซ้าย","kg-m/m",{"$f":"J54/(0.9*J58)","v":-1299.2494849902791},{"$f":"K54/(0.9*K58)","v":0},null,{"$f":"M54/(0.9*M58)","v":-9039.6731445517507},{"$f":"N54/(0.9*N58)","v":-3682.8297996321944},{"$f":"O54/(0.9*O58)","v":-9039.6731445517507},{"$f":"P54/(0.9*P58)","v":-3682.8297996321944},0,0,0,0]
[null,null,null,null,null,null,null,"Rn","kg/m^2",{"$f":"J67/(((Sheet1!B16)-(Sheet1!B13/100))^2)","v":-25664.187357832674},{"$f":"K67/(((Sheet1!B16)-(Sheet1!B13/100))^2)","v":0},null,{"$f":"M67/(((Sheet1!B16)-(Sheet1!B13/100))^2)","v":-178561.44483065186},{"$f":"N67/(((Sheet1!B16)-(Sheet1!B13/100))^2)","v":-72747.255301376674},{"$f":"O67/(((Sheet1!B16)-(Sheet1!B13/100))^2)","v":-178561.44483065186},{"$f":"P67/(((Sheet1!B16)-(Sheet1!B13/100))^2)","v":-72747.255301376674},{"$f":"Q67/(((Sheet1!B16)-(Sheet1!B13/100))^2)","v":0},{"$f":"R67/(((Sheet1!B16)-(Sheet1!B13/100))^2)","v":0},{"$f":"S67/(((Sheet1!B16)-(Sheet1!B13/100))^2)","v":0},{"$f":"T67/(((Sheet1!B16)-(Sheet1!B13/100))^2)","v":0}]
[null,null,null,null,null,null,null,"p",null,{"$f":"ABS((0.85*Sheet1!B10/Sheet1!B9)*(1-(SQRT(1-(2*J68/(0.85*Sheet1!B10*100^2))))))","v":8.3532508138559145E-4},{"$f":"(0.85*Sheet1!B10/Sheet1!B9)*(1-(SQRT(1-(2*K68/(0.85*Sheet1!B10*100^2)))))","v":0},null,{"$f":"ABS((0.85*Sheet1!B10/Sheet1!B9)*(1-(SQRT(1-(2*M68/(0.85*Sheet1!B10*100^2))))))","v":5.6591306224530883E-3},{"$f":"ABS((0.85*Sheet1!B10/Sheet1!B9)*(1-(SQRT(1-(2*N68/(0.85*Sheet1!B10*100^2))))))","v":2.3479271142568905E-3},{"$f":"ABS((0.85*Sheet1!B10/Sheet1!B9)*(1-(SQRT(1-(2*O68/(0.85*Sheet1!B10*100^2))))))","v":5.6591306224530883E-3},{"$f":"ABS((0.85*Sheet1!B10/Sheet1!B9)*(1-(SQRT(1-(2*P68/(0.85*Sheet1!B10*100^2))))))","v":2.3479271142568905E-3},{"$f":"ABS((0.85*Sheet1!B10/Sheet1!B9)*(1-(SQRT(1-(2*Q68/(0.85*Sheet1!B10*100^2))))))","v":0},{"$f":"ABS((0.85*Sheet1!B10/Sheet1!B9)*(1-(SQRT(1-(2*R68/(0.85*Sheet1!B10*100^2))))))","v":0},{"$f":"ABS((0.85*Sheet1!B10/Sheet1!B9)*(1-(SQRT(1-(2*S68/(0.85*Sheet1!B10*100^2))))))","v":0},{"$f":"ABS((0.85*Sheet1!B10/Sheet1!B9)*(1-(SQRT(1-(2*T68/(0.85*Sheet1!B10*100^2))))))","v":0}]
[null,null,null,null,null,null,null,"As-","mm^2/m",{"$f":"IF(J67=0,(0),(IF(J69>(0.0018*4000/Sheet1!$B$9),(ABS(J69*1000*(Sheet1!$B$16*1000-Sheet1!$B$13*10)*-1)),(ABS((0.0018*4000/Sheet1!$B$9)*1000*(Sheet1!$B$16*1000-Sheet1!$B$13*10)*-1)))))","v":529.75801177240021},{"$f":"IF(J67=0,(0),(IF(K69>(0.0018*4000/Sheet1!$B$9),(ABS(K69*1000*(Sheet1!$B$16*1000-Sheet1!$B$13*10)*-1)),(ABS((0.0018*4000/Sheet1!$B$9)*1000*(Sheet1!$B$16*1000-Sheet1!$B$13*10)*-1)))))","v":529.75801177240021},null,{"$f":"IF(M67=0,(0),(IF(M69>(0.0018*4000/Sheet1!$B$9),(ABS(M69*1000*(Sheet1!$B$16*1000-Sheet1!$B$13*10)*-1)),(ABS((0.0018*4000/Sheet1!$B$9)*1000*(Sheet1!$B$16*1000-Sheet1!$B$13*10)*-1)))))","v":1273.3043900519449},{"$f":"IF(M67=0,(0),(IF(N69>(0.0018*4000/Sheet1!$B$9),(ABS(N69*1000*(Sheet1!$B$16*1000-Sheet1!$B$13*10)*-1)),(ABS((0.0018*4000/Sheet1!$B$9)*1000*(Sheet1!$B$16*1000-Sheet1!$B$13*10)*-1)))))","v":529.75801177240021},{"$f":"IF(O67=0,(0),(IF(O69>(0.0018*4000/Sheet1!$B$9),(ABS(O69*1000*(Sheet1!$B$16*1000-Sheet1!$B$13*10)*-1)),(ABS((0.0018*4000/Sheet1!$B$9)*1000*(Sheet1!$B$16*1000-Sheet1!$B$13*10)*-1)))))","v":1273.3043900519449},{"$f":"IF(O67=0,(0),(IF(P69>(0.0018*4000/Sheet1!$B$9),(ABS(P69*1000*(Sheet1!$B$16*1000-Sheet1!$B$13*10)*-1)),(ABS((0.0018*4000/Sheet1!$B$9)*1000*(Sheet1!$B$16*1000-Sheet1!$B$13*10)*-1)))))","v":529.75801177240021},{"$f":"IF(Q67=0,(0),(IF(Q69>(0.0018*4000/Sheet1!$B$9),(ABS(Q69*1000*(Sheet1!$B$16*1000-Sheet1!$B$13*10)*-1)),(ABS((0.0018*4000/Sheet1!$B$9)*1000*(Sheet1!$B$16*1000-Sheet1!$B$13*10)*-1)))))","v":0},{"$f":"IF(Q67=0,(0),(IF(R69>(0.0018*4000/Sheet1!$B$9),(ABS(R69*1000*(Sheet1!$B$16*1000-Sheet1!$B$13*10)*-1)),(ABS((0.0018*4000/Sheet1!$B$9)*1000*(Sheet1!$B$16*1000-Sheet1!$B$13*10)*-1)))))","v":0},{"$f":"IF(S67=0,(0),(IF(S69>(0.0018*4000/Sheet1!$B$9),(ABS(S69*1000*(Sheet1!$B$16*1000-Sheet1!$B$13*10)*-1)),(ABS((0.0018*4000/Sheet1!$B$9)*1000*(Sheet1!$B$16*1000-Sheet1!$B$13*10)*-1)))))","v":0},{"$f":"IF(S67=0,(0),(IF(T69>(0.0018*4000/Sheet1!$B$9),(ABS(T69*1000*(Sheet1!$B$16*1000-Sheet1!$B$13*10)*-1)),(ABS((0.0018*4000/Sheet1!$B$9)*1000*(Sheet1!$B$16*1000-Sheet1!$B$13*10)*-1)))))","v":0}]
[]
[null,null,null,null,null,null,"เช็ค punching shear  ต้นใน",null,null,null,null,null,null,"เช็ค punching shear ต้นริม"]
[]
[null,null,null,null,null,null,"V",null,"kg",{"$f":"$K$108","v":27202.163400051428},null,null,{"$f":"$N$108+$Z$108","v":76795.926662318991},{"$f":"$AC$109+$AL$108","v":76795.926662318991},{"$f":"$AO$108+$AX$108","v":27202.163400051428},{"$f":"$BA$108+$BJ$108","v":0},{"$f":"$BM$108","v":0}]
[null,null,null,null,null,null,"V(max) ",null,"kg",{"$f":"MAX(J74,M74,N74,O74,P74,Q74)","v":76795.926662318991},null,null,null,"V(max) ",null,"kg",{"$f":"IF(Sheet1!$B$3=2,(MAX($J$74,$N$74)),(IF(Sheet1!$B$3=3,(MAX($J$74,$O$74)),(IF(Sheet1!$B$3=4,(MAX($J$74,$P$74)),(IF(Sheet1!$B$3=5,(MAX($J$74,$Q$74)),(0))))))))","v":27202.163400051428}]
[null,null,null,null,null,null,"Vc",null,"kg",{"$f":"1.06*SQRT(Sheet1!$B$10)","v":18.961856449198219},null,null,null,"Vc",null,"kg",{"$f":"1.06*SQRT(Sheet1!$B$10)","v":18.961856449198219}]
[null,null,null,null,null,null,"b1",null,"cm",{"$f":"(Sheet1!D9*100)+(Sheet1!$B$16*100)-Sheet1!$B$13","v":72.5},null,null,null,"b1",null,"cm",{"$f":"(Sheet1!$D$9*100)+((Sheet1!$B$16*100)-Sheet1!$B$13)/2","v":61.25}]
[null,null,null,null,null,null,"b2",null,"cm",{"$f":"(Sheet1!$D$10*100)+(Sheet1!$B$16*100)-Sheet1!$B$13","v":62.5},null,null,null,"b2",null,"cm",{"$f":"(Sheet1!$D$10*100)+(Sheet1!$B$16*100)-Sheet1!$B$13","v":62.5}]
[null,null,null,null,null,null,"d",null,"cm",{"$f":"((Sheet1!$B$16*100)-Sheet1!$B$13)","v":22.5},null,null,null,"d",null,"cm",{"$f":"((Sheet1!$B$16*100)-Sheet1!$B$13)","v":22.5}]
[null,null,null,null,null,null,"Ac",null,"cm^2",{"$f":"(J77*J79*2)+(J78*J79*2)","v":6075},null,null,null,"Ac",null,"cm^2",{"$f":"2*($Q$77*$Q$79)+($Q$78*$Q$79)","v":4162.5}]
[null,null,null,null,null,null,"X1",null,"cm",{"$f":"J77/2","v":36.25},null,null,null,"x2,x1",null,"cm",{"$f":"$Q$77^2*$Q$79/$Q$80","v":20.278716216216218},{"$f":"$Q$77-$Q$81","v":40.971283783783782}]
[null,null,null,null,null,null,"Jc",null,"cm^4",{"$f":"(J77^3*J79/6)+(J77*J79^3/6)+(J78*J77^2*J79/2)","v":5262480.46875},null,null,null,"Jc",null,"cm^4",{"$f":"(Q77*Q79^3/6)+(2/3*(R81^3+Q81^3)*Q79)+Q78*Q81^2*Q79","v":1851297.7393897802}]
[null,null,null,null,null,null,"Mu",null,"kg*m",{"$f":"IF(M74=J75,ABS(N107-Z106),(IF(N74=J75,ABS(AC107-AL106),(IF(O74=J75,ABS(AO107-AX106),(IF(P74=J75,ABS(BA107-BJ106),(0))))))))","v":1545.932841438691},null,null,null,"Mu",null,"kg*m",{"$f":"IF(Sheet1!$B$3=2,(MAX(K106,AC107)),(IF(Sheet1!$B$3=3,(MAX(K106,AO107)),(IF(Sheet1!$B$3=4,(MAX(K106,BA107)),(IF(Sheet1!$B$3=5,(MAX(K106,BM107)),(0))))))))","v":9215.2458253637978}]
[null,null,null,null,null,null,"Mub",null,"kg*m",{"$f":"J83/(1+(2/3)*SQRT(J77/J78))","v":899.83298501314641},null,null,null,"Mub",null,"kg*m",{"$f":"Q83/(1+2/3*SQRT(Q77/Q78))","v":5551.4655109412915}]
[null,null,null,null,null,null,"Muv",null,"kg*m",{"$f":"J83-J84","v":646.09985642554454},null,null,null,"Muv",null,"kg*m",{"$f":"Q83-Q84","v":3663.7803144225063}]
[null,null,null,null,null,null,"Vu2",null,"kg/cm^2",{"$f":"(J75/J80)+((J85*100)*J81/J82)","v":13.086363360399323},null,null,null,"Vu2",null,"kg/cm^2",{"$f":"Q75/Q80+(Q85*100*Q81/Q82)","v":10.548280219514483}]
[null,null,null,null,null,null,"Vc",null,"kg/cm^2",{"$f":"1.06*SQRT(Sheet1!$B$10)","v":18.961856449198219},null,null,null,"Vc",null,"kg/cm^2",{"$f":"1.06*SQRT(Sheet1!$B$10)","v":18.961856449198219}]
[]
[]
[]
[]
[]
[]
[]
[]
[]
[]
[]
[]
[]
[]
[]
[]
[]
[null,null,null,null,null,null,null,null,null,"โมเมนต์บวก span 1",null,null,"โมเมนต์ลบ span 1  ขวา",null,null,"โมเมนต์ลบ span 1 ซ้าย",null,null,null,null,null,"โมเมนต์บวก span 2",null,null,"โมเมนต์ลบ span 2  ซ้าย",null,null,"โมเมนต์ลบspan 2 ขวา",null,null,null,null,null,"โมเมนต์บวกสแปน 3",null,null,"โมเมนต์ลบspan 3 ซ้าย",null,null,"โมเมนต์ลบspan 3 ขวา",null,null,null,null,null,"โมเมนต์บวกสแปน 4",null,null,"โมเมนต์ลบสแปน 4 ซ้าย",null,null,"โมเมนต์ลบสแปน 4 ขวา",null,null,null,null,null,"โมเมนต์บวกสแปน 5",null,null,"โมเมนต์ลบ span 5 ซ้าย",null,null,"โมเมนต์ลบ span 5 ขวา"]
[null,null,null,null,null,null,null,null,null,"M 1l =",{"$f":"(K46+AI46+BG46+BS46)*-1","v":9215.2458253637978},null,"M 1l =",{"$f":"(K46+W46+AU46+BS46)*-1","v":8456.9924659111875},null,"M- max span1l =",{"$f":"-K106+0.5*K108*Sheet1!D9-0.25*'r2'!E2*('r2'!B7+'r2'!E7)*Sheet1!D9^2","v":-3215.6424753509409},null,null,null,null,"M 2l =",{"$f":"(Y46+AW46+BU46)*-1","v":36325.898870419704},null,"M 2l =",{"$f":"(M46+Y46+AW46+BU46)*-1","v":38780.701721874306},null,"M 2l =",{"$f":"(Y46+AK46+BU46+BI46)*-1","v":35433.473445389667},null,null,null,null,"M 3l =",{"$f":"(AM46+O46+BK46+BW46)*-1","v":33391.928825106646},null,"M3l =",{"$f":"(AM46+AA46+BW46+BK46)*-1","v":37234.768880435615},null,"M3l =",{"$f":"(AM46+AY46+O46+BW46)*-1","v":33391.928825106646},null,null,null,null,"m 4l =",{"$f":"(BA46+AC46+BY46)*-1","v":0},null,"m4l =",{"$f":"(BA46+AO46+Q46+BY46)*-1","v":0},null," m4l =",{"$f":"(BA46+BM46+AC46+BY46)*-1","v":0},null,null,null,null,"m5l =",{"$f":"(BO46+AQ46+S46+CA46)*-1","v":0},null,"m5l =",{"$f":"(BO46+BC46+AE46+CA46)*-1","v":0},null,"m5l =",{"$f":"(BO46+AQ46+S46+CA46)*-1","v":0}]
[null,null,null,null,null,null,null,null,null,"M 1r =",{"$f":"(L46+AJ46+BH46+BT46)","v":33391.928825106646},null,"M 1r =",{"$f":"(L46+X46+AV46+BT46)","v":37234.768880435615},null,null,null,null,null,null,null,"M 2r =",{"$f":"(Z46+AX46+BV46)","v":36325.898870419704},null,"M 2r =",{"$f":"Z46+N46+AX46+BV46","v":35433.473445389667},null,"M 2r =",{"$f":"(Z46+AL46+BV46)+BJ46","v":38780.701721874306},null,null,null,null,"M 3r =",{"$f":"(AN46+P46+BL46+BX46)","v":9215.2458253637978},null,"M3r =",{"$f":"AN46+AB46+BL46+BX46","v":8456.9924659111875},null,"M3r =",{"$f":"AN46+AZ46+P46+BX46","v":9215.2458253637978},null,null,null,null,"m 4r =",{"$f":"(BB46+AD46+BZ46)","v":0},null,"m4r =",{"$f":"BB46+AP46+R46+BZ46","v":0},null,"m4r =",{"$f":"(BB46+BN46+BZ46+AD46)","v":0},null,null,null,null,"m5r =",{"$f":"(BP46+AR46+T46+CB46)","v":0},null,"m5r =",{"$f":"BP46+CB46+BD46+AF46","v":0},null,"m5r =",{"$f":"BP46+CB46+AR46+T46","v":0}]
[null,null,null,null,null,null,null,null,null,"V1l =",{"$f":"IF(K106=0,(0),((-K107+K106+(0.5*(B7+E7)*E2*Sheet1!F9^2))/Sheet1!F9))","v":27202.163400051428},null,"V 1r =",{"$f":"IF(N106=0,(0),((N107-N106+0.5*(B7+E7)*E2*Sheet1!$F$9^2)/Sheet1!$F$9))","v":37793.055282904883},null,null,null,null,null,null,null,"V2l =",{"$f":"(-W107+W106+0.5*(B8+E8)*E2*Sheet1!F10^2)/Sheet1!F10","v":38445},null,"V2l  =",{"$f":"IF(Z106=0,(0),((-Z107+Z106+0.5*(B8+E8)*E2*Sheet1!F10^2)/Sheet1!F10))","v":39002.871379414108},null,"V2l =",{"$f":"(-AC107+AC106+0.5*(B8+E8)*E2*Sheet1!F10^2)/Sheet1!F10","v":37887.128620585892},null,null,null,null,"V3l =",{"$f":"(-AI107+AI106+0.5*(B9+E9)*E2*Sheet1!F11^2)/Sheet1!F11","v":36872.836599948569},null,"V3l =",{"$f":"IF(AL106=0,(0),((-AL107+AL106+0.5*(B9+E9)*Sheet1!F11^2*E2)/Sheet1!F11))","v":37793.055282904883},null,"V3r =",{"$f":"IF(AO106=0,(0),((AO107-AO106+0.5*(B9+E9)*E2*Sheet1!F11^2)/Sheet1!F11))","v":27202.163400051428},null,null,null,null,"v4l =",{"$f":"(-AU107+AU106+0.5*(B10+E10)*E2*Sheet1!F12^2)/Sheet1!F12","v":{"$error":"#DIV/0!"}},null,"V4l =",{"$f":"IF(AX106=0,(0),((-AX107+AX106+0.5*(B10+E10)*Sheet1!F12^2*E2)/Sheet1!F12))","v":0},null,"v4r =",{"$f":"IF(BA106=0,(0),((BA107-BA106+0.5*(B10+E10)*E2*Sheet1!F12^2)/Sheet1!F12))","v":0},null,null,null,null,"v5l =",{"$f":"(-BG107+BG106+0.5*(B11+E11)*E2*Sheet1!F13^2)/Sheet1!F13","v":{"$error":"#DIV/0!"}},null,"v5l =",{"$f":"IF(BJ106=0,(0),((-BJ107+BJ106+0.5*(B11+E11)*E2*Sheet1!F13^2)/Sheet1!F13))","v":0},null,"v5r =",{"$f":"IF(BM106=0,(0),((BM107-BM106+0.5*(B11+E11)*E2*Sheet1!F13^2)/Sheet1!F13))","v":0}]
[null,null,null,null,null,null,null,null,null,"ระยะที่ V=0",{"$f":"K108/((B7+E7)*E2)","v":2.1226814982482582},null,"M- max span1r =",{"$f":"0.5*Sheet1!$D$9*'r2'!N108-'r2'!N107-0.25*('r2'!B7+'r2'!E7)*'r2'!E2*Sheet1!$D$9^2","v":-28587.442559709394},null,null,null,null,null,null,null,"ระยะที่ V=0",{"$f":"W108/((B8+E8)*E2)","v":3},null,"V2 r =",{"$f":"(Z107-Z106+0.5*(B8+E8)*E2*Sheet1!F10^2)/Sheet1!F10","v":37887.128620585892},null,"v2r =",{"$f":"IF(AC106=0,(0),((AC107-AC106+0.5*(B8+E8)*E2*Sheet1!F10^2)/Sheet1!F10))","v":39002.871379414108},null,null,null,null,"ระยะที่ V=0",{"$f":"AI108/((B9+E9)*E2)","v":2.8773185017517418},null,"M- max span3l =",{"$f":"IF(AL106=0,(0),(-AL106+0.5*AL108*Sheet1!D9-0.25*Sheet1!D9^2*'r2'!E2*('r2'!B9+'r2'!E9)))","v":-28587.442559709394},null,"M- max span3r =",{"$f":"IF(AO106=0,(0),(0.5*AO108*Sheet1!D9-'r2'!AO107-0.25*('r2'!B9+'r2'!E9)*'r2'!E2*Sheet1!D9^2))","v":-3215.6424753509409},null,null,null,null,"ระยะที่ v=0",{"$f":"AU108/((B10+E10)*E2)","v":{"$error":"#DIV/0!"}},null,"M- max span4l =",{"$f":"IF(AX106=0,(0),(-AX106+0.5*AX108*Sheet1!D9-0.25*Sheet1!D9^2*'r2'!E2*('r2'!B10+'r2'!E10)))","v":0},null,"M- max span4r =",{"$f":"IF(BA107=0,(0),(0.5*BA108*Sheet1!D9-'r2'!BA107-0.25*('r2'!B10+'r2'!E10)*'r2'!E2*Sheet1!D9^2))","v":0},null,null,null,null,"ระยะที่ v=0",{"$f":"IF(BG108=0,(0),(BG108/((B11+E11)*E2)))","v":{"$error":"#DIV/0!"}},null,"M- max span 5l =",{"$f":"IF(BJ106=0,(0),(-BJ106+0.5*BJ108*Sheet1!D9-0.25*Sheet1!D9^2*'r2'!E2*('r2'!B11+'r2'!E11)))","v":0},null,"M- max span 5r =",{"$f":"IF(BM107=0,(0),(0.5*BM108*Sheet1!D9-'r2'!BM107-0.25*('r2'!B11+'r2'!E11)*'r2'!E2*Sheet1!D9^2))","v":0}]
[null,null,null,null,null,null,null,null,null,"M1+max=",{"$f":"K108*K109-0.5*(B7+E7)*K109^2*E2-K106","v":19655.518655443746},null,"V1l =",{"$f":"(B7+E7)*E2*Sheet1!$F$9-'r2'!N108","v":26281.944717095117},null,null,null,null,null,null,null,"M2+max=",{"$f":"(W108*W109)-0.5*(B8+E8)*E2*W109^2-W106","v":21341.601129580296},null,"M- max span2l =",{"$f":"-Z106+0.5*Z108*Sheet1!D9-0.25*(B8+E8)*E2*Sheet1!D9^2","v":-29830.921377020779},null,"M- max span2r =",{"$f":"0.5*AC109*Sheet1!D9-'r2'!AC107-0.25*('r2'!B8+'r2'!E8)*'r2'!E2*Sheet1!D9^2","v":-29830.921377020779},null,null,null,null,"M3+ max =",{"$f":"IF(AI106=0,(0),(AI108*AI109-0.5*(B9+E9)*E2*AI109^2-AI106))","v":19655.518655443746},null,null,null,null,null,null,null,null,null,null,"M4+ max =",{"$f":"IF(AU106=0,(0),(AU108*AU109-0.5*(B10+E10)*AU109^2*E2-AU106))","v":0},null,null,null,null,null,null,null,null,null,null,"M5+ max =",{"$f":"IF(BG106=0,(0),(BG108*BG109-0.5*(B11+E11)*E2*BG109^2-BG106))","v":0},null,null,null,null,null,null,null,null,null,null,null,null,null,null,null,null,null,null,null,null,null,null,null,null,null,null," "]

{"sheet":"r3","index":3,"n_rows":111,"n_cols":86,"rows_kept":111,"cut":false,"hidden":false,"merged":[[83,14,83,15],[84,14,84,15],[85,14,85,15],[86,14,86,15],[72,14,73,17],[75,14,75,15],[76,14,76,15],[77,14,77,15],[78,14,78,15],[79,14,79,15],[80,14,80,15],[81,14,81,15],[82,14,82,15],[87,6,87,7],[85,6,85,7],[86,6,86,7],[86,9,86,11],[72,6,73,11],[72,12,73,12],[80,6,80,7],[81,6,81,7],[82,6,82,7],[83,6,83,7],[84,6,84,7],[81,9,81,11],[80,9,80,11],[85,9,85,11],[84,9,84,11],[83,9,83,11],[82,9,82,11],[75,9,75,11],[74,9,74,11],[74,6,74,7],[75,6,75,7],[76,6,76,7],[77,6,77,7],[78,6,78,7],[79,6,79,7],[55,14,55,15],[55,16,55,17],[67,10,67,11],[76,9,76,11],[79,9,79,11],[78,9,78,11],[77,9,77,11],[56,10,56,11],[57,10,57,11],[58,10,58,11],[59,10,59,11],[60,10,60,11],[61,10,61,11],[62,10,62,11],[63,10,63,11],[64,10,64,11],[71,6,71,8],[71,9,71,11],[71,12,71,13],[71,14,71,15],[71,16,71,17],[46,10,46,11],[0,0,0,4],[5,0,5,1],[5,3,5,4],[12,0,12,1],[12,3,12,4],[20,9,20,19],[49,18,49,19],[49,16,49,17],[47,10,47,11],[48,10,48,11],[49,9,49,11],[49,12,49,13],[49,14,49,15],[55,18,55,19],[50,10,50,11],[51,10,51,11],[52,10,52,11],[53,10,53,11],[54,10,54,11],[55,6,55,8],[55,9,55,11],[55,12,55,13],[20,21,20,31],[20,33,20,43],[20,45,20,55],[20,57,20,67],[20,69,20,79],[65,10,65,11],[66,10,66,11],[105,45,105,46],[68,10,68,11],[69,10,69,11],[105,9,105,10],[105,12,105,13],[105,15,105,16],[105,21,105,22],[105,24,105,25],[105,27,105,28],[105,33,105,34],[105,36,105,37],[105,39,105,40],[71,18,71,19],[105,48,105,49],[105,51,105,52],[105,57,105,58],[105,60,105,61],[105,63,105,64],[87,18,87,19],[87,20,87,21],[88,10,88,11],[89,10,89,11],[87,9,87,11],[87,12,87,13],[87,14,87,15],[91,20,91,21],[92,9,92,11],[92,12,92,13],[92,14,92,15],[92,16,92,17],[92,18,92,19],[92,20,92,21],[91,9,91,11],[91,12,91,13],[91,14,91,15],[91,16,91,17],[91,18,91,19]]}
["รายการคำนวณโมเมนต์แถบในและกลางตามแกน x"]
["ระยะช่วงพื้น (unit: m)",{"$f":"MAX(Sheet1!F9,Sheet1!F10,Sheet1!F11,Sheet1!F12,Sheet1!F13,Sheet1!L9,Sheet1!L10,Sheet1!L11,Sheet1!L12,Sheet1!F13)","v":6},null,"ความกว้างแถบเสา =",{"$f":"(Sheet1!L10+Sheet1!L11)/2","v":2.5}]
["ตัวคูณหาความหนาพื้นขั้นต่ำ",{"$f":"0.01*LN(Sheet1!B9)-0.05","v":3.0255163864890078E-2},null,"DL+SDL (unit:KG/m^2) =",{"$f":"IF(Sheet1!B4<3,(0),(Sheet1!B16*Sheet1!B11))","v":0}]
[]
["ความหนาพื้น (unit:m)",{"$f":"IF((B2*B3)>0.12,(B2*B3),(0.12))","v":0.18153098318934047}]
["น้ำหนัก DL+WDS",null,null,"น้ำหนัก LL"]
["Wdl1+Wsd1 (unit:KG/m^2) =",{"$f":"((Sheet1!$B$16*Sheet1!$B$11)+Sheet1!$J$9)*1.4","v":1819.9999999999998},null,"Wtl1 (unit:kg/m^2) =",{"$f":"(1.7*Sheet1!H9)","v":510}]
["Wdl2+Wsd2 (unit:KG/m^2) =",{"$f":"((Sheet1!$B$16*Sheet1!$B$11)+Sheet1!$J$10)*1.4","v":1819.9999999999998},null,"Wtl2 (unit:kg/m^2) =",{"$f":"1.7*Sheet1!H10","v":510}]
[{"$f":"IF(Sheet1!B3>2,(\"Wdl3+Wsd3 (unit:KG/m^2) =\"),(\"\"))","v":"Wdl3+Wsd3 (unit:KG/m^2) ="},{"$f":"IF(Sheet1!$B$3>=3,(((Sheet1!$B$16*Sheet1!$B$11)+Sheet1!$J$11)*1.4),(0))","v":1819.9999999999998},null,{"$f":"IF(Sheet1!B3>2,(\"Wtl3 (unit:KG/m^2) =\"),(\"\"))","v":"Wtl3 (unit:KG/m^2) ="},{"$f":"IF(Sheet1!B3>=3,(1.7*Sheet1!H11),(0))","v":510}]
[{"$f":"IF(Sheet1!B3>3,(\"Wdl4+Wsd4 (unit:KG/m^2) =\"),(\"\"))","v":""},{"$f":"IF(Sheet1!$B$3>=4,(((Sheet1!$B$16*Sheet1!$B$11)+Sheet1!$J$12)*1.4),(0))","v":0},null,{"$f":"IF(Sheet1!B3>3,(\"Wtl4 (unit:KG/m^2) =\"),(\"\"))","v":""},{"$f":"IF(Sheet1!B3>=4,(1.7*Sheet1!H12),(0))","v":0}]
[{"$f":"IF(Sheet1!B3>4,(\"Wdl5+Wsd5 (unit:KG/m^2) =\"),(\"\"))","v":""},{"$f":"IF(Sheet1!$B$3>=5,(((Sheet1!$B$16*Sheet1!$B$11)+Sheet1!$J$13)*1.4),(0))","v":0},null,{"$f":"IF(Sheet1!B3>4,(\"Wtl5 (unit:KG/m^2) =\"),(\"\"))","v":""},{"$f":"IF(Sheet1!B3=5,(1.7*Sheet1!H13),(0))","v":0}]
[]
["โมเมนต์ DL+WSD",null,null,"โมเมนต LL"]
["FEM.DL1 (unit:kg*m) =",{"$f":"B7*E2*Sheet1!F9^2/12","v":9479.1666666666642},null,"FEM.TL1 (unit:kg*m) =",{"$f":"E7*E2*Sheet1!F9^2/12","v":2656.25}]
["FEM.DL2 (unit:kg*m) =",{"$f":"B8*E2*Sheet1!F10^2/12","v":13649.999999999998},null,"FEM.TL2 (unit:kg*m) =",{"$f":"E8*E2*Sheet1!F10^2/12","v":3825}]
[{"$f":"IF(Sheet1!B3>=3,(\"FEM.DL3 (unit:kg*m) =\"),(\"\"))","v":"FEM.DL3 (unit:kg*m) ="},{"$f":"IF(Sheet1!B3>=3,('r3'!B9*'r3'!E2*Sheet1!F11^2/12),(0))","v":9479.1666666666642},null,{"$f":"IF(Sheet1!B3>=3,(\"FEM.TL3 (unit:kg*m) =\"),(\"\"))","v":"FEM.TL3 (unit:kg*m) ="},{"$f":"IF(Sheet1!B3>=3,('r3'!E9*'r3'!E2*Sheet1!F11^2/12),(0))","v":2656.25}]
[{"$f":"IF(Sheet1!B3>=4,(\"FEM.DL4 (unit:kg*m) =\"),(\"\"))","v":""},{"$f":"IF(Sheet1!B3>=4,('r3'!B10*'r3'!E2*Sheet1!F12^2/12),(0))","v":0},null,{"$f":"IF(Sheet1!B3>=4,(\"FEM.TL4 (unit:kg*m) =\"),(\"\"))","v":""},{"$f":"IF(Sheet1!B3>=4,('r3'!E10*'r3'!E2*Sheet1!F12^2/12),(0))","v":0}]
[{"$f":"IF(Sheet1!B3>=5,(\"FEM.DL5 (unit:kg*m) =\"),(\"\"))","v":""},{"$f":"IF(Sheet1!B3>=5,('r3'!B11*'r3'!E2*Sheet1!F13^2/12),(0))","v":0},null,{"$f":"IF(Sheet1!B3>=5,(\"FEM.TL5 (unit:kg*m) =\"),(\"\"))","v":""},{"$f":"IF(Sheet1!B3>=5,('r3'!E11*'r3'!E2*Sheet1!F13^2/12),(0))","v":0}]
[]
[]
[null,null,null,null,null,null,null,null,null,"วางน้ำหนัก LL    สแปน 1",null,null,null,null,null,null,null,null,null,null,null,"วางน้ำหนัก LL  สแปน 2",null,null,null,null,null,null,null,null,null,null,null,"วางน้ำหนัก LL สแปน 3",null,null,null,null,null,null,null,null,null,null,null,"วางน้ำหนัก LL สแปน 4",null,null,null,null,null,null,null,null,null,null,null,"วางน้ำหนัก LL  สแปน 5",null,null,null,null,null,null,null,null,null,null,null,"วางน้ำหนัก DL ทุกสแปน"]
[null,null,null,null,null,null,null,null,null,null,"1r","2l","2r","3l","3r","4l","4r","5l","5r","6l",null,null,"1r","2l","2r","3l","3r","4l","4r","5l","5r","6l",null,null,"1r","2l","2r","3l","3r","4l","4r","5l","5r","6l",null,null,"1r","2l","2r","3l","3r","4l","4r","5l","5r","6l",null,null,"1r","2l","2r","3l","3r","4l","4r","5l","5r","6l",null,null,"1r","2l","2r","3l","3r","4l","4r","5l","5r","6l"]
[null,null,null,null,null,null,null,null,null,"D.o.f",0.30261172311568857,0.19689098953461148,0.16264907831120076,0.16264907831120076,0.19689098953461148,0.30261172311568857,null,null,null,null,null,"D.o.f",0.30261172311568857,0.19689098953461148,0.16264907831120076,0.16264907831120076,0.19689098953461148,0.30261172311568857,null,null,null,null,null,"D.o.f",0.30261172311568857,0.19689098953461148,0.16264907831120076,0.16264907831120076,0.19689098953461148,0.30261172311568857,null,null,null,null,null,"D.o.f",0.30261172311568857,0.19689098953461148,0.16264907831120076,0.16264907831120076,0.19689098953461148,0.30261172311568857,null,null,null,null,null,"D.o.f",0.30261172311568857,0.19689098953461148,0.16264907831120076,0.16264907831120076,0.19689098953461148,0.30261172311568857,null,null,null,null,null,"D.o.f",0.30261172311568857,0.19689098953461148,0.16264907831120076,0.16264907831120076,0.19689098953461148,0.30261172311568857]
[null,null,null,null,null,null,null,null,null,"FEM",{"$f":"E14*-1","v":-2656.25},{"$f":"E14","v":2656.25},null,null,null,null,null,null,null,null,null,"FEM",null,null,{"$f":"-E15","v":-3825},{"$f":"E15","v":3825},null,null,null,null,null,null,null,"FEM",null,null,null,null,{"$f":"-E16","v":-2656.25},{"$f":"E16","v":2656.25},null,null,null,null,null,"FEM",null,null,null,null,null,null,{"$f":"-E17","v":0},{"$f":"E17","v":0},null,null,null,"FEM",null,null,null,null,null,null,null,null,{"$f":"-E18","v":0},{"$f":"E18","v":0},null,"FEM",{"$f":"-B14","v":-9479.1666666666642},{"$f":"B14","v":9479.1666666666642},{"$f":"-B15","v":-13649.999999999998},{"$f":"B15","v":13649.999999999998},{"$f":"-B16","v":-9479.1666666666642},{"$f":"B16","v":9479.1666666666642},{"$f":"-B17","v":0},{"$f":"B17","v":0},{"$f":"-B18","v":0},{"$f":"B18","v":0}]
[null,null,null,null,null,null,null,null,null,"Dis",{"$f":"(K24)*K23*-1","v":803.81238952604781},{"$f":"(L24+M24)*L23*-1","v":-522.99169095131174},{"$f":"(M24+L24)*M23*-1","v":-432.03661426412702},{"$f":"(N24+O24)*N23*-1","v":0},{"$f":"(O24+N24)*O23*-1","v":0},{"$f":"(P24+Q24)*P23*-1","v":0},{"$f":"(Q24+P24)*Q23*-1","v":0},{"$f":"(R24+S24)*R23*-1","v":0},{"$f":"(S24+R24)*S23*-1","v":0},{"$f":"(T24+U24)*T23*-1","v":0},null,"Dis",{"$f":"(W24)*W23*-1","v":0},{"$f":"(X24+Y24)*X23*-1","v":753.10803496988888},{"$f":"(Y24+X24)*Y23*-1","v":622.13272454034291},{"$f":"(Z24+AA24)*Z23*-1","v":-622.13272454034291},{"$f":"(AA24+Z24)*AA23*-1","v":-753.10803496988888},{"$f":"(AB24+AC24)*AB23*-1","v":0},{"$f":"(AC24+AB24)*AC23*-1","v":0},{"$f":"(AD24+AE24)*AD23*-1","v":0},{"$f":"(AE24+AD24)*AE23*-1","v":0},{"$f":"(AF24+AG24)*AF23*-1","v":0},null,"Dis",{"$f":"(AI24)*AI23*-1","v":0},{"$f":"(AJ24+AK24)*AJ23*-1","v":0},{"$f":"(AK24+AJ24)*AK23*-1","v":0},{"$f":"(AL24+AM24)*AL23*-1","v":432.03661426412702},{"$f":"(AM24+AL24)*AM23*-1","v":522.99169095131174},{"$f":"(AN24+AO24)*AN23*-1","v":-803.81238952604781},{"$f":"(AO24+AN24)*AO23*-1","v":0},{"$f":"(AP24+AQ24)*AP23*-1","v":0},{"$f":"(AQ24+AP24)*AQ23*-1","v":0},{"$f":"(AR24+AS24)*AR23*-1","v":0},null,"Dis",{"$f":"(AU24)*AU23*-1","v":0},{"$f":"(AV24+AW24)*AV23*-1","v":0},{"$f":"(AW24+AV24)*AW23*-1","v":0},{"$f":"(AX24+AY24)*AX23*-1","v":0},{"$f":"(AY24+AX24)*AY23*-1","v":0},{"$f":"(AZ24+BA24)*AZ23*-1","v":0},{"$f":"(BA24+AZ24)*BA23*-1","v":0},{"$f":"(BB24+BC24)*BB23*-1","v":0},{"$f":"(BC24+BB24)*BC23*-1","v":0},{"$f":"(BD24+BE24)*BD23*-1","v":0},null,"Dis",{"$f":"(BG24)*BG23*-1","v":0},{"$f":"(BH24+BI24)*BH23*-1","v":0},{"$f":"(BI24+BH24)*BI23*-1","v":0},{"$f":"(BJ24+BK24)*BJ23*-1","v":0},{"$f":"(BK24+BJ24)*BK23*-1","v":0},{"$f":"(BL24+BM24)*BL23*-1","v":0},{"$f":"(BM24+BL24)*BM23*-1","v":0},{"$f":"(BN24+BO24)*BN23*-1","v":0},{"$f":"(BO24+BN24)*BO23*-1","v":0},{"$f":"(BP24+BQ24)*BP23*-1","v":0},null,"Dis",{"$f":"(BS24)*BS23*-1","v":2868.506958700797},{"$f":"(BT24+BU24)*BT23*-1","v":821.19950218394217},{"$f":"(BU24+BT24)*BU23*-1","v":678.38219745629999},{"$f":"(BV24+BW24)*BV23*-1","v":-678.38219745629999},{"$f":"(BW24+BV24)*BW23*-1","v":-821.19950218394217},{"$f":"(BX24+BY24)*BX23*-1","v":-2868.506958700797},{"$f":"(BY24+BX24)*BY23*-1","v":0},{"$f":"(BZ24+CA24)*BZ23*-1","v":0},{"$f":"(CA24+BZ24)*CA23*-1","v":0},{"$f":"(CB24+CC24)*CB23*-1","v":0}]
[null,null,null,null,null,null,null,null,null,"Co",{"$f":"L25/2","v":-261.49584547565587},{"$f":"K25/2","v":401.9061947630239},{"$f":"N25/2","v":0},{"$f":"M25/2","v":-216.01830713206351},{"$f":"P25/2","v":0},{"$f":"O25/2","v":0},{"$f":"R25/2","v":0},{"$f":"Q25/2","v":0},{"$f":"T25/2","v":0},{"$f":"S25/2","v":0},null,"Co",{"$f":"X25/2","v":376.55401748494444},{"$f":"W25/2","v":0},{"$f":"Z25/2","v":-311.06636227017145},{"$f":"Y25/2","v":311.06636227017145},{"$f":"AB25/2","v":0},{"$f":"AA25/2","v":-376.55401748494444},{"$f":"AD25/2","v":0},{"$f":"AC25/2","v":0},{"$f":"AF25/2","v":0},{"$f":"AE25/2","v":0},null,"Co",{"$f":"AJ25/2","v":0},{"$f":"AI25/2","v":0},{"$f":"AL25/2","v":216.01830713206351},{"$f":"AK25/2","v":0},{"$f":"AN25/2","v":-401.9061947630239},{"$f":"AM25/2","v":261.49584547565587},{"$f":"AP25/2","v":0},{"$f":"AO25/2","v":0},{"$f":"AR25/2","v":0},{"$f":"AQ25/2","v":0},null,"Co",{"$f":"AV25/2","v":0},{"$f":"AU25/2","v":0},{"$f":"AX25/2","v":0},{"$f":"AW25/2","v":0},{"$f":"AZ25/2","v":0},{"$f":"AY25/2","v":0},{"$f":"BB25/2","v":0},{"$f":"BA25/2","v":0},{"$f":"BD25/2","v":0},{"$f":"BC25/2","v":0},null,"Co",{"$f":"BH25/2","v":0},{"$f":"BG25/2","v":0},{"$f":"BJ25/2","v":0},{"$f":"BI25/2","v":0},{"$f":"BL25/2","v":0},{"$f":"BK25/2","v":0},{"$f":"BN25/2","v":0},{"$f":"BM25/2","v":0},{"$f":"BP25/2","v":0},{"$f":"BO25/2","v":0},null,"Co",{"$f":"BT25/2","v":410.59975109197109},{"$f":"BS25/2","v":1434.2534793503985},{"$f":"BV25/2","v":-339.19109872815},{"$f":"BU25/2","v":339.19109872815},{"$f":"BX25/2","v":-1434.2534793503985},{"$f":"BW25/2","v":-410.59975109197109},{"$f":"BZ25/2","v":0},{"$f":"BY25/2","v":0},{"$f":"CB25/2","v":0},{"$f":"CA25/2","v":0}]
[null,null,null,null,null,null,null,null,null,"dis",{"$f":"(K26)*K23*-1","v":79.131708386982055},{"$f":"(L26+M26)*L23*-1","v":-79.131708386982069},{"$f":"(M26+L26)*M23*-1","v":-65.36967214576778},{"$f":"(N26+O26)*N23*-1","v":35.135178553376015},{"$f":"(O26+N26)*O23*-1","v":42.532058248823603},{"$f":"(P26+Q26)*P23*-1","v":0},{"$f":"(Q26+P26)*Q23*-1","v":0},{"$f":"(R26+S26)*R23*-1","v":0},{"$f":"(S26+R26)*S23*-1","v":0},{"$f":"(T26+U26)*T23*-1","v":0},null,"dis",{"$f":"(W26)*W23*-1","v":-113.94966007725417},{"$f":"(X26+Y26)*X23*-1","v":61.246163878305993},{"$f":"(Y26+X26)*Y23*-1","v":50.594657116861462},{"$f":"(Z26+AA26)*Z23*-1","v":-50.594657116861462},{"$f":"(AA26+Z26)*AA23*-1","v":-61.246163878305993},{"$f":"(AB26+AC26)*AB23*-1","v":113.94966007725417},{"$f":"(AC26+AB26)*AC23*-1","v":0},{"$f":"(AD26+AE26)*AD23*-1","v":0},{"$f":"(AE26+AD26)*AE23*-1","v":0},{"$f":"(AF26+AG26)*AF23*-1","v":0},null,"dis",{"$f":"(AI26)*AI23*-1","v":0},{"$f":"(AJ26+AK26)*AJ23*-1","v":-42.532058248823603},{"$f":"(AK26+AJ26)*AK23*-1","v":-35.135178553376015},{"$f":"(AL26+AM26)*AL23*-1","v":65.36967214576778},{"$f":"(AM26+AL26)*AM23*-1","v":79.131708386982069},{"$f":"(AN26+AO26)*AN23*-1","v":-79.131708386982055},{"$f":"(AO26+AN26)*AO23*-1","v":0},{"$f":"(AP26+AQ26)*AP23*-1","v":0},{"$f":"(AQ26+AP26)*AQ23*-1","v":0},{"$f":"(AR26+AS26)*AR23*-1","v":0},null,"dis",{"$f":"(AU26)*AU23*-1","v":0},{"$f":"(AV26+AW26)*AV23*-1","v":0},{"$f":"(AW26+AV26)*AW23*-1","v":0},{"$f":"(AX26+AY26)*AX23*-1","v":0},{"$f":"(AY26+AX26)*AY23*-1","v":0},{"$f":"(AZ26+BA26)*AZ23*-1","v":0},{"$f":"(BA26+AZ26)*BA23*-1","v":0},{"$f":"(BB26+BC26)*BB23*-1","v":0},{"$f":"(BC26+BB26)*BC23*-1","v":0},{"$f":"(BD26+BE26)*BD23*-1","v":0},null,"dis",{"$f":"(BG26)*BG23*-1","v":0},{"$f":"(BH26+BI26)*BH23*-1","v":0},{"$f":"(BI26+BH26)*BI23*-1","v":0},{"$f":"(BJ26+BK26)*BJ23*-1","v":0},{"$f":"(BK26+BJ26)*BK23*-1","v":0},{"$f":"(BL26+BM26)*BL23*-1","v":0},{"$f":"(BM26+BL26)*BM23*-1","v":0},{"$f":"(BN26+BO26)*BN23*-1","v":0},{"$f":"(BO26+BN26)*BO23*-1","v":0},{"$f":"(BP26+BQ26)*BP23*-1","v":0},null,"dis",{"$f":"(BS26)*BS23*-1","v":-124.25229818881419},{"$f":"(BT26+BU26)*BT23*-1","v":-215.60791572284185},{"$f":"(BU26+BT26)*BU23*-1","v":-178.11088690147801},{"$f":"(BV26+BW26)*BV23*-1","v":178.11088690147801},{"$f":"(BW26+BV26)*BW23*-1","v":215.60791572284185},{"$f":"(BX26+BY26)*BX23*-1","v":124.25229818881419},{"$f":"(BY26+BX26)*BY23*-1","v":0},{"$f":"(BZ26+CA26)*BZ23*-1","v":0},{"$f":"(CA26+BZ26)*CA23*-1","v":0},{"$f":"(CB26+CC26)*CB23*-1","v":0}]
[null,null,null,null,null,null,null,null,null,"co",{"$f":"L27/2","v":-39.565854193491035},{"$f":"K27/2","v":39.565854193491028},{"$f":"N27/2","v":17.567589276688008},{"$f":"M27/2","v":-32.68483607288389},{"$f":"P27/2","v":0},{"$f":"O27/2","v":21.266029124411801},{"$f":"R27/2","v":0},{"$f":"Q27/2","v":0},{"$f":"T27/2","v":0},{"$f":"S27/2","v":0},null,"co",{"$f":"X27/2","v":30.623081939152996},{"$f":"W27/2","v":-56.974830038627083},{"$f":"Z27/2","v":-25.297328558430731},{"$f":"Y27/2","v":25.297328558430731},{"$f":"AB27/2","v":56.974830038627083},{"$f":"AA27/2","v":-30.623081939152996},{"$f":"AD27/2","v":0},{"$f":"AC27/2","v":0},{"$f":"AF27/2","v":0},{"$f":"AE27/2","v":0},null,"co",{"$f":"AJ27/2","v":-21.266029124411801},{"$f":"AI27/2","v":0},{"$f":"AL27/2","v":32.68483607288389},{"$f":"AK27/2","v":-17.567589276688008},{"$f":"AN27/2","v":-39.565854193491028},{"$f":"AM27/2","v":39.565854193491035},{"$f":"AP27/2","v":0},{"$f":"AO27/2","v":0},{"$f":"AR27/2","v":0},{"$f":"AQ27/2","v":0},null,"co",{"$f":"AV27/2","v":0},{"$f":"AU27/2","v":0},{"$f":"AX27/2","v":0},{"$f":"AW27/2","v":0},{"$f":"AZ27/2","v":0},{"$f":"AY27/2","v":0},{"$f":"BB27/2","v":0},{"$f":"BA27/2","v":0},{"$f":"BD27/2","v":0},{"$f":"BC27/2","v":0},null,"co",{"$f":"BH27/2","v":0},{"$f":"BG27/2","v":0},{"$f":"BJ27/2","v":0},{"$f":"BI27/2","v":0},{"$f":"BL27/2","v":0},{"$f":"BK27/2","v":0},{"$f":"BN27/2","v":0},{"$f":"BM27/2","v":0},{"$f":"BP27/2","v":0},{"$f":"BO27/2","v":0},null,"co",{"$f":"BT27/2","v":-107.80395786142093},{"$f":"BS27/2","v":-62.126149094407097},{"$f":"BV27/2","v":89.055443450739006},{"$f":"BU27/2","v":-89.055443450739006},{"$f":"BX27/2","v":62.126149094407097},{"$f":"BW27/2","v":107.80395786142093},{"$f":"BZ27/2","v":0},{"$f":"BY27/2","v":0},{"$f":"CB27/2","v":0},{"$f":"CA27/2","v":0}]
[null,null,null,null,null,null,null,null,null,"dis",{"$f":"(K28)*K23*-1","v":11.973091314036415},{"$f":"(L28+M28)*L23*-1","v":-11.249060220363337},{"$f":"(M28+L28)*M23*-1","v":-9.2927019211697104},{"$f":"(N28+O28)*N23*-1","v":5.3161584620072517},{"$f":"(O28+N28)*O23*-1","v":6.435349717166674},{"$f":"(P28+Q28)*P23*-1","v":-6.4353497171666731},{"$f":"(Q28+P28)*Q23*-1","v":0},{"$f":"(R28+S28)*R23*-1","v":0},{"$f":"(S28+R28)*S23*-1","v":0},{"$f":"(T28+U28)*T23*-1","v":0},null,"dis",{"$f":"(W28)*W23*-1","v":-9.2669035927200092},{"$f":"(X28+Y28)*X23*-1","v":16.198646717323207},{"$f":"(Y28+X28)*Y23*-1","v":13.381490766484385},{"$f":"(Z28+AA28)*Z23*-1","v":-13.381490766484385},{"$f":"(AA28+Z28)*AA23*-1","v":-16.198646717323207},{"$f":"(AB28+AC28)*AB23*-1","v":9.2669035927200092},{"$f":"(AC28+AB28)*AC23*-1","v":0},{"$f":"(AD28+AE28)*AD23*-1","v":0},{"$f":"(AE28+AD28)*AE23*-1","v":0},{"$f":"(AF28+AG28)*AF23*-1","v":0},null,"dis",{"$f":"(AI28)*AI23*-1","v":6.4353497171666731},{"$f":"(AJ28+AK28)*AJ23*-1","v":-6.435349717166674},{"$f":"(AK28+AJ28)*AK23*-1","v":-5.3161584620072517},{"$f":"(AL28+AM28)*AL23*-1","v":9.2927019211697104},{"$f":"(AM28+AL28)*AM23*-1","v":11.249060220363337},{"$f":"(AN28+AO28)*AN23*-1","v":-11.973091314036415},{"$f":"(AO28+AN28)*AO23*-1","v":0},{"$f":"(AP28+AQ28)*AP23*-1","v":0},{"$f":"(AQ28+AP28)*AQ23*-1","v":0},{"$f":"(AR28+AS28)*AR23*-1","v":0},null,"dis",{"$f":"(AU28)*AU23*-1","v":0},{"$f":"(AV28+AW28)*AV23*-1","v":0},{"$f":"(AW28+AV28)*AW23*-1","v":0},{"$f":"(AX28+AY28)*AX23*-1","v":0},{"$f":"(AY28+AX28)*AY23*-1","v":0},{"$f":"(AZ28+BA28)*AZ23*-1","v":0},{"$f":"(BA28+AZ28)*BA23*-1","v":0},{"$f":"(BB28+BC28)*BB23*-1","v":0},{"$f":"(BC28+BB28)*BC23*-1","v":0},{"$f":"(BD28+BE28)*BD23*-1","v":0},null,"dis",{"$f":"(BG28)*BG23*-1","v":0},{"$f":"(BH28+BI28)*BH23*-1","v":0},{"$f":"(BI28+BH28)*BI23*-1","v":0},{"$f":"(BJ28+BK28)*BJ23*-1","v":0},{"$f":"(BK28+BJ28)*BK23*-1","v":0},{"$f":"(BL28+BM28)*BL23*-1","v":0},{"$f":"(BM28+BL28)*BM23*-1","v":0},{"$f":"(BN28+BO28)*BN23*-1","v":0},{"$f":"(BO28+BN28)*BO23*-1","v":0},{"$f":"(BP28+BQ28)*BP23*-1","v":0},null,"dis",{"$f":"(BS28)*BS23*-1","v":32.622741447135667},{"$f":"(BT28+BU28)*BT23*-1","v":-5.3021354132870178},{"$f":"(BU28+BT28)*BU23*-1","v":-4.3800249066284049},{"$f":"(BV28+BW28)*BV23*-1","v":4.3800249066284049},{"$f":"(BW28+BV28)*BW23*-1","v":5.3021354132870178},{"$f":"(BX28+BY28)*BX23*-1","v":-32.622741447135667},{"$f":"(BY28+BX28)*BY23*-1","v":0},{"$f":"(BZ28+CA28)*BZ23*-1","v":0},{"$f":"(CA28+BZ28)*CA23*-1","v":0},{"$f":"(CB28+CC28)*CB23*-1","v":0}]
[null,null,null,null,null,null,null,null,null,"co",{"$f":"L29/2","v":-5.6245301101816683},{"$f":"K29/2","v":5.9865456570182074},{"$f":"N29/2","v":2.6580792310036259},{"$f":"M29/2","v":-4.6463509605848552},{"$f":"P29/2","v":-3.2176748585833366},{"$f":"O29/2","v":3.217674858583337},{"$f":"R29/2","v":0},{"$f":"Q29/2","v":0},{"$f":"T29/2","v":0},{"$f":"S29/2","v":0},null,"co",{"$f":"X29/2","v":8.0993233586616036},-4.6334517963600046,{"$f":"Z29/2","v":-6.6907453832421924},{"$f":"Y29/2","v":6.6907453832421924},{"$f":"AB29/2","v":4.6334517963600046},{"$f":"AA29/2","v":-8.0993233586616036},{"$f":"AD29/2","v":0},{"$f":"AC29/2","v":0},{"$f":"AF29/2","v":0},{"$f":"AE29/2","v":0},null,"co",{"$f":"AJ29/2","v":-3.217674858583337},{"$f":"AI29/2","v":3.2176748585833366},{"$f":"AL29/2","v":4.6463509605848552},{"$f":"AK29/2","v":-2.6580792310036259},{"$f":"AN29/2","v":-5.9865456570182074},{"$f":"AM29/2","v":5.6245301101816683},{"$f":"AP29/2","v":0},{"$f":"AO29/2","v":0},{"$f":"AR29/2","v":0},{"$f":"AQ29/2","v":0},null,"co",{"$f":"AV29/2","v":0},{"$f":"AU29/2","v":0},{"$f":"AX29/2","v":0},{"$f":"AW29/2","v":0},{"$f":"AZ29/2","v":0},{"$f":"AY29/2","v":0},{"$f":"BB29/2","v":0},{"$f":"BA29/2","v":0},{"$f":"BD29/2","v":0},{"$f":"BC29/2","v":0},null,"co",{"$f":"BH29/2","v":0},{"$f":"BG29/2","v":0},{"$f":"BJ29/2","v":0},{"$f":"BI29/2","v":0},{"$f":"BL29/2","v":0},{"$f":"BK29/2","v":0},{"$f":"BN29/2","v":0},{"$f":"BM29/2","v":0},{"$f":"BP29/2","v":0},{"$f":"BO29/2","v":0},null,"co",{"$f":"BT29/2","v":-2.6510677066435089},{"$f":"BS29/2","v":16.311370723567833},{"$f":"BV29/2","v":2.1900124533142025},{"$f":"BU29/2","v":-2.1900124533142025},{"$f":"BX29/2","v":-16.311370723567833},{"$f":"BW29/2","v":2.6510677066435089},{"$f":"BZ29/2","v":0},{"$f":"BY29/2","v":0},{"$f":"CB29/2","v":0},{"$f":"CA29/2","v":0}]
[null,null,null,null,null,null,null,null,null,"dis",{"$f":"(K30)*K23*-1","v":1.7020487483581483},{"$f":"(L30+M30)*L23*-1","v":-1.702048748358149},{"$f":"(M30+L30)*M23*-1","v":-1.4060402703828183},{"$f":"(N30+O30)*N23*-1","v":1.2790765513031919},{"$f":"(O30+N30)*O23*-1","v":1.5483558252617589},{"$f":"(P30+Q30)*P23*-1","v":-0.97370613338193313},{"$f":"(Q30+P30)*Q23*-1","v":0},{"$f":"(R30+S30)*R23*-1","v":0},{"$f":"(S30+R30)*S23*-1","v":0},{"$f":"(T30+U30)*T23*-1","v":0},null,"dis",{"$f":"(W30)*W23*-1","v":-2.4509501976357337},{"$f":"(X30+Y30)*X23*-1","v":2.2296323883769333},{"$f":"(Y30+X30)*Y23*-1","v":1.8418702338765967},{"$f":"(Z30+AA30)*Z23*-1","v":-1.8418702338765967},{"$f":"(AA30+Z30)*AA23*-1","v":-2.2296323883769333},{"$f":"(AB30+AC30)*AB23*-1","v":2.4509501976357337},{"$f":"(AC30+AB30)*AC23*-1","v":0},{"$f":"(AD30+AE30)*AD23*-1","v":0},{"$f":"(AE30+AD30)*AE23*-1","v":0},{"$f":"(AF30+AG30)*AF23*-1","v":0},null,"dis",{"$f":"(AI30)*AI23*-1","v":0.97370613338193313},{"$f":"(AJ30+AK30)*AJ23*-1","v":-1.5483558252617589},{"$f":"(AK30+AJ30)*AK23*-1","v":-1.2790765513031919},{"$f":"(AL30+AM30)*AL23*-1","v":1.4060402703828183},{"$f":"(AM30+AL30)*AM23*-1","v":1.702048748358149},{"$f":"(AN30+AO30)*AN23*-1","v":-1.7020487483581483},{"$f":"(AO30+AN30)*AO23*-1","v":0},{"$f":"(AP30+AQ30)*AP23*-1","v":0},{"$f":"(AQ30+AP30)*AQ23*-1","v":0},{"$f":"(AR30+AS30)*AR23*-1","v":0},null,"dis",{"$f":"(AU30)*AU23*-1","v":0},{"$f":"(AV30+AW30)*AV23*-1","v":0},{"$f":"(AW30+AV30)*AW23*-1","v":0},{"$f":"(AX30+AY30)*AX23*-1","v":0},{"$f":"(AY30+AX30)*AY23*-1","v":0},{"$f":"(AZ30+BA30)*AZ23*-1","v":0},{"$f":"(BA30+AZ30)*BA23*-1","v":0},{"$f":"(BB30+BC30)*BB23*-1","v":0},{"$f":"(BC30+BB30)*BC23*-1","v":0},{"$f":"(BD30+BE30)*BD23*-1","v":0},null,"dis",{"$f":"(BG30)*BG23*-1","v":0},{"$f":"(BH30+BI30)*BH23*-1","v":0},{"$f":"(BI30+BH30)*BI23*-1","v":0},{"$f":"(BJ30+BK30)*BJ23*-1","v":0},{"$f":"(BK30+BJ30)*BK23*-1","v":0},{"$f":"(BL30+BM30)*BL23*-1","v":0},{"$f":"(BM30+BL30)*BM23*-1","v":0},{"$f":"(BN30+BO30)*BN23*-1","v":0},{"$f":"(BO30+BN30)*BO23*-1","v":0},{"$f":"(BP30+BQ30)*BP23*-1","v":0},null,"dis",{"$f":"(BS30)*BS23*-1","v":0.80224416680374899},{"$f":"(BT30+BU30)*BT23*-1","v":-3.6427556414553179},{"$f":"(BU30+BT30)*BU23*-1","v":-3.0092329212022189},{"$f":"(BV30+BW30)*BV23*-1","v":3.0092329212022189},{"$f":"(BW30+BV30)*BW23*-1","v":3.6427556414553179},{"$f":"(BX30+BY30)*BX23*-1","v":-0.80224416680374899},{"$f":"(BY30+BX30)*BY23*-1","v":0},{"$f":"(BZ30+CA30)*BZ23*-1","v":0},{"$f":"(CA30+BZ30)*CA23*-1","v":0},{"$f":"(CB30+CC30)*CB23*-1","v":0}]
[null,null,null,null,null,null,null,null,null,"co",{"$f":"L31/2","v":-0.85102437417907451},{"$f":"K31/2","v":0.85102437417907417},{"$f":"N31/2","v":0.63953827565159593},{"$f":"M31/2","v":-0.70302013519140916},{"$f":"P31/2","v":-0.48685306669096656},{"$f":"O31/2","v":0.77417791263087943},{"$f":"R31/2","v":0},{"$f":"Q31/2","v":0},{"$f":"T31/2","v":0},{"$f":"S31/2","v":0},null,"co",{"$f":"X31/2","v":1.1148161941884667},{"$f":"W31/2","v":-1.2254750988178669},{"$f":"Z31/2","v":-0.92093511693829833},{"$f":"Y31/2","v":0.92093511693829833},{"$f":"AB31/2","v":1.2254750988178669},{"$f":"AA31/2","v":-1.1148161941884667},{"$f":"AD31/2","v":0},{"$f":"AC31/2","v":0},{"$f":"AF31/2","v":0},{"$f":"AE31/2","v":0},null,"co",{"$f":"AJ31/2","v":-0.77417791263087943},{"$f":"AI31/2","v":0.48685306669096656},{"$f":"AL31/2","v":0.70302013519140916},{"$f":"AK31/2","v":-0.63953827565159593},{"$f":"AN31/2","v":-0.85102437417907417},{"$f":"AM31/2","v":0.85102437417907451},{"$f":"AP31/2","v":0},{"$f":"AO31/2","v":0},{"$f":"AR31/2","v":0},{"$f":"AQ31/2","v":0},null,"co",{"$f":"AV31/2","v":0},{"$f":"AU31/2","v":0},{"$f":"AX31/2","v":0},{"$f":"AW31/2","v":0},{"$f":"AZ31/2","v":0},{"$f":"AY31/2","v":0},{"$f":"BB31/2","v":0},{"$f":"BA31/2","v":0},{"$f":"BD31/2","v":0},{"$f":"BC31/2","v":0},null,"co",{"$f":"BH31/2","v":0},{"$f":"BG31/2","v":0},{"$f":"BJ31/2","v":0},{"$f":"BI31/2","v":0},{"$f":"BL31/2","v":0},{"$f":"BK31/2","v":0},{"$f":"BN31/2","v":0},{"$f":"BM31/2","v":0},{"$f":"BP31/2","v":0},{"$f":"BO31/2","v":0},null,"co",{"$f":"BT31/2","v":-1.821377820727659},{"$f":"BS31/2","v":0.4011220834018745},{"$f":"BV31/2","v":1.5046164606011094},{"$f":"BU31/2","v":-1.5046164606011094},{"$f":"BX31/2","v":-0.4011220834018745},{"$f":"BW31/2","v":1.821377820727659},{"$f":"BZ31/2","v":0},{"$f":"BY31/2","v":0},{"$f":"CB31/2","v":0},{"$f":"CA31/2","v":0}]
[null,null,null,null,null,null,null,null,null,"dis",{"$f":"(K32)*K23*-1","v":0.25752995228378023},{"$f":"(L32+M32)*L23*-1","v":-0.29347835508849324},{"$f":"(M32+L32)*M23*-1","v":-0.24243864116005959},{"$f":"(N32+O32)*N23*-1","v":0.1935317795933657},{"$f":"(O32+N32)*O23*-1","v":0.23427531213933747},{"$f":"(P32+Q32)*P23*-1","v":-0.23427531213933742},{"$f":"(Q32+P32)*Q23*-1","v":0},{"$f":"(R32+S32)*R23*-1","v":0},{"$f":"(S32+R32)*S23*-1","v":0},{"$f":"(T32+U32)*T23*-1","v":0},null,"dis",{"$f":"(W32)*W23*-1","v":-0.33735644948064597},{"$f":"(X32+Y32)*X23*-1","v":0.42260883132743032},{"$f":"(Y32+X32)*Y23*-1","v":0.34911164327048583},{"$f":"(Z32+AA32)*Z23*-1","v":-0.34911164327048583},{"$f":"(AA32+Z32)*AA23*-1","v":-0.42260883132743032},{"$f":"(AB32+AC32)*AB23*-1","v":0.33735644948064597},{"$f":"(AC32+AB32)*AC23*-1","v":0},{"$f":"(AD32+AE32)*AD23*-1","v":0},{"$f":"(AE32+AD32)*AE23*-1","v":0},{"$f":"(AF32+AG32)*AF23*-1","v":0},null,"dis",{"$f":"(AI32)*AI23*-1","v":0.23427531213933742},{"$f":"(AJ32+AK32)*AJ23*-1","v":-0.23427531213933747},{"$f":"(AK32+AJ32)*AK23*-1","v":-0.1935317795933657},{"$f":"(AL32+AM32)*AL23*-1","v":0.24243864116005959},{"$f":"(AM32+AL32)*AM23*-1","v":0.29347835508849324},{"$f":"(AN32+AO32)*AN23*-1","v":-0.25752995228378023},{"$f":"(AO32+AN32)*AO23*-1","v":0},{"$f":"(AP32+AQ32)*AP23*-1","v":0},{"$f":"(AQ32+AP32)*AQ23*-1","v":0},{"$f":"(AR32+AS32)*AR23*-1","v":0},null,"dis",{"$f":"(AU32)*AU23*-1","v":0},{"$f":"(AV32+AW32)*AV23*-1","v":0},{"$f":"(AW32+AV32)*AW23*-1","v":0},{"$f":"(AX32+AY32)*AX23*-1","v":0},{"$f":"(AY32+AX32)*AY23*-1","v":0},{"$f":"(AZ32+BA32)*AZ23*-1","v":0},{"$f":"(BA32+AZ32)*BA23*-1","v":0},{"$f":"(BB32+BC32)*BB23*-1","v":0},{"$f":"(BC32+BB32)*BC23*-1","v":0},{"$f":"(BD32+BE32)*BD23*-1","v":0},null,"dis",{"$f":"(BG32)*BG23*-1","v":0},{"$f":"(BH32+BI32)*BH23*-1","v":0},{"$f":"(BI32+BH32)*BI23*-1","v":0},{"$f":"(BJ32+BK32)*BJ23*-1","v":0},{"$f":"(BK32+BJ32)*BK23*-1","v":0},{"$f":"(BL32+BM32)*BL23*-1","v":0},{"$f":"(BM32+BL32)*BM23*-1","v":0},{"$f":"(BN32+BO32)*BN23*-1","v":0},{"$f":"(BO32+BN32)*BO23*-1","v":0},{"$f":"(BP32+BQ32)*BP23*-1","v":0},null,"dis",{"$f":"(BS32)*BS23*-1","v":0.55117028077509456},{"$f":"(BT32+BU32)*BT23*-1","v":-0.37522274772299724},{"$f":"(BU32+BT32)*BU23*-1","v":-0.30996661768421507},{"$f":"(BV32+BW32)*BV23*-1","v":0.30996661768421507},{"$f":"(BW32+BV32)*BW23*-1","v":0.37522274772299724},{"$f":"(BX32+BY32)*BX23*-1","v":-0.55117028077509456},{"$f":"(BY32+BX32)*BY23*-1","v":0},{"$f":"(BZ32+CA32)*BZ23*-1","v":0},{"$f":"(CA32+BZ32)*CA23*-1","v":0},{"$f":"(CB32+CC32)*CB23*-1","v":0}]
[null,null,null,null,null,null,null,null,null,"co",{"$f":"L33/2","v":-0.14673917754424662},{"$f":"K33/2","v":0.12876497614189011},{"$f":"N33/2","v":9.6765889796682852E-2},{"$f":"M33/2","v":-0.12121932058002979},{"$f":"P33/2","v":-0.11713765606966871},{"$f":"O33/2","v":0.11713765606966874},{"$f":"R33/2","v":0},{"$f":"Q33/2","v":0},{"$f":"T33/2","v":0},{"$f":"S33/2","v":0},null,"co",{"$f":"X33/2","v":0.21130441566371516},{"$f":"W33/2","v":-0.16867822474032299},{"$f":"Z33/2","v":-0.17455582163524291},{"$f":"Y33/2","v":0.17455582163524291},{"$f":"AB33/2","v":0.16867822474032299},{"$f":"AA33/2","v":-0.21130441566371516},{"$f":"AD33/2","v":0},{"$f":"AC33/2","v":0},{"$f":"AF33/2","v":0},{"$f":"AE33/2","v":0},null,"co",{"$f":"AJ33/2","v":-0.11713765606966874},{"$f":"AI33/2","v":0.11713765606966871},{"$f":"AL33/2","v":0.12121932058002979},{"$f":"AK33/2","v":-9.6765889796682852E-2},{"$f":"AN33/2","v":-0.12876497614189011},{"$f":"AM33/2","v":0.14673917754424662},{"$f":"AP33/2","v":0},{"$f":"AO33/2","v":0},{"$f":"AR33/2","v":0},{"$f":"AQ33/2","v":0},null,"co",{"$f":"AV33/2","v":0},{"$f":"AU33/2","v":0},{"$f":"AX33/2","v":0},{"$f":"AW33/2","v":0},{"$f":"AZ33/2","v":0},{"$f":"AY33/2","v":0},{"$f":"BB33/2","v":0},{"$f":"BA33/2","v":0},{"$f":"BD33/2","v":0},{"$f":"BC33/2","v":0},null,"co",{"$f":"BH33/2","v":0},{"$f":"BG33/2","v":0},{"$f":"BJ33/2","v":0},{"$f":"BI33/2","v":0},{"$f":"BL33/2","v":0},{"$f":"BK33/2","v":0},{"$f":"BN33/2","v":0},{"$f":"BM33/2","v":0},{"$f":"BP33/2","v":0},{"$f":"BO33/2","v":0},null,"co",{"$f":"BT33/2","v":-0.18761137386149862},{"$f":"BS33/2","v":0.27558514038754728},{"$f":"BV33/2","v":0.15498330884210754},{"$f":"BU33/2","v":-0.15498330884210754},{"$f":"BX33/2","v":-0.27558514038754728},{"$f":"BW33/2","v":0.18761137386149862},{"$f":"BZ33/2","v":0},{"$f":"BY33/2","v":0},{"$f":"CB33/2","v":0},{"$f":"CA33/2","v":0}]
[null,null,null,null,null,null,null,null,null,"dis",{"$f":"(K34)*K23*-1","v":4.4404995365243422E-2},{"$f":"(L34+M34)*L23*-1","v":-4.4404995365243435E-2},{"$f":"(M34+L34)*M23*-1","v":-3.6682387475635875E-2},{"$f":"(N34+O34)*N23*-1","v":3.8768542561117864E-2},{"$f":"(O34+N34)*O23*-1","v":4.6930340995037421E-2},{"$f":"(P34+Q34)*P23*-1","v":-3.5447227944975353E-2},{"$f":"(Q34+P34)*Q23*-1","v":0},{"$f":"(R34+S34)*R23*-1","v":0},{"$f":"(S34+R34)*S23*-1","v":0},{"$f":"(T34+U34)*T23*-1","v":0},null,"dis",{"$f":"(W34)*W23*-1","v":-6.394319332595054E-2},{"$f":"(X34+Y34)*X23*-1","v":6.7579691032853897E-2},{"$f":"(Y34+X34)*Y23*-1","v":5.5826701288009727E-2},{"$f":"(Z34+AA34)*Z23*-1","v":-5.5826701288009727E-2},{"$f":"(AA34+Z34)*AA23*-1","v":-6.7579691032853897E-2},{"$f":"(AB34+AC34)*AB23*-1","v":6.394319332595054E-2},{"$f":"(AC34+AB34)*AC23*-1","v":0},{"$f":"(AD34+AE34)*AD23*-1","v":0},{"$f":"(AE34+AD34)*AE23*-1","v":0},{"$f":"(AF34+AG34)*AF23*-1","v":0},null,"dis",{"$f":"(AI34)*AI23*-1","v":3.5447227944975353E-2},{"$f":"(AJ34+AK34)*AJ23*-1","v":-4.6930340995037421E-2},{"$f":"(AK34+AJ34)*AK23*-1","v":-3.8768542561117864E-2},{"$f":"(AL34+AM34)*AL23*-1","v":3.6682387475635875E-2},{"$f":"(AM34+AL34)*AM23*-1","v":4.4404995365243435E-2},{"$f":"(AN34+AO34)*AN23*-1","v":-4.4404995365243422E-2},{"$f":"(AO34+AN34)*AO23*-1","v":0},{"$f":"(AP34+AQ34)*AP23*-1","v":0},{"$f":"(AQ34+AP34)*AQ23*-1","v":0},{"$f":"(AR34+AS34)*AR23*-1","v":0},null,"dis",{"$f":"(AU34)*AU23*-1","v":0},{"$f":"(AV34+AW34)*AV23*-1","v":0},{"$f":"(AW34+AV34)*AW23*-1","v":0},{"$f":"(AX34+AY34)*AX23*-1","v":0},{"$f":"(AY34+AX34)*AY23*-1","v":0},{"$f":"(AZ34+BA34)*AZ23*-1","v":0},{"$f":"(BA34+AZ34)*BA23*-1","v":0},{"$f":"(BB34+BC34)*BB23*-1","v":0},{"$f":"(BC34+BB34)*BC23*-1","v":0},{"$f":"(BD34+BE34)*BD23*-1","v":0},null,"dis",{"$f":"(BG34)*BG23*-1","v":0},{"$f":"(BH34+BI34)*BH23*-1","v":0},{"$f":"(BI34+BH34)*BI23*-1","v":0},{"$f":"(BJ34+BK34)*BJ23*-1","v":0},{"$f":"(BK34+BJ34)*BK23*-1","v":0},{"$f":"(BL34+BM34)*BL23*-1","v":0},{"$f":"(BM34+BL34)*BM23*-1","v":0},{"$f":"(BN34+BO34)*BN23*-1","v":0},{"$f":"(BO34+BN34)*BO23*-1","v":0},{"$f":"(BP34+BQ34)*BP23*-1","v":0},null,"dis",{"$f":"(BS34)*BS23*-1","v":5.6773401120329754E-2},{"$f":"(BT34+BU34)*BT23*-1","v":-8.477504803120986E-2},{"$f":"(BU34+BT34)*BU23*-1","v":-7.0031561417086399E-2},{"$f":"(BV34+BW34)*BV23*-1","v":7.0031561417086399E-2},{"$f":"(BW34+BV34)*BW23*-1","v":8.477504803120986E-2},{"$f":"(BX34+BY34)*BX23*-1","v":-5.6773401120329754E-2},{"$f":"(BY34+BX34)*BY23*-1","v":0},{"$f":"(BZ34+CA34)*BZ23*-1","v":0},{"$f":"(CA34+BZ34)*CA23*-1","v":0},{"$f":"(CB34+CC34)*CB23*-1","v":0}]
[null,null,null,null,null,null,null,null,null,"co",{"$f":"L35/2","v":-2.2202497682621718E-2},{"$f":"K35/2","v":2.2202497682621711E-2},{"$f":"N35/2","v":1.9384271280558932E-2},{"$f":"M35/2","v":-1.8341193737817937E-2},{"$f":"P35/2","v":-1.7723613972487676E-2},{"$f":"O35/2","v":2.3465170497518711E-2},{"$f":"R35/2","v":0},{"$f":"Q35/2","v":0},{"$f":"T35/2","v":0},{"$f":"S35/2","v":0},null,"co",{"$f":"X35/2","v":3.3789845516426949E-2},-3.197159666297527E-2,{"$f":"Z35/2","v":-2.7913350644004863E-2},{"$f":"Y35/2","v":2.7913350644004863E-2},{"$f":"AB35/2","v":3.197159666297527E-2},{"$f":"AA35/2","v":-3.3789845516426949E-2},{"$f":"AD35/2","v":0},{"$f":"AC35/2","v":0},{"$f":"AF35/2","v":0},{"$f":"AE35/2","v":0},null,"co",{"$f":"AJ35/2","v":-2.3465170497518711E-2},{"$f":"AI35/2","v":1.7723613972487676E-2},{"$f":"AL35/2","v":1.8341193737817937E-2},{"$f":"AK35/2","v":-1.9384271280558932E-2},{"$f":"AN35/2","v":-2.2202497682621711E-2},{"$f":"AM35/2","v":2.2202497682621718E-2},{"$f":"AP35/2","v":0},{"$f":"AO35/2","v":0},{"$f":"AR35/2","v":0},{"$f":"AQ35/2","v":0},null,"co",{"$f":"AV35/2","v":0},{"$f":"AU35/2","v":0},{"$f":"AX35/2","v":0},{"$f":"AW35/2","v":0},{"$f":"AZ35/2","v":0},{"$f":"AY35/2","v":0},{"$f":"BB35/2","v":0},{"$f":"BA35/2","v":0},{"$f":"BD35/2","v":0},{"$f":"BC35/2","v":0},null,"co",{"$f":"BH35/2","v":0},{"$f":"BG35/2","v":0},{"$f":"BJ35/2","v":0},{"$f":"BI35/2","v":0},{"$f":"BL35/2","v":0},{"$f":"BK35/2","v":0},{"$f":"BN35/2","v":0},{"$f":"BM35/2","v":0},{"$f":"BP35/2","v":0},{"$f":"BO35/2","v":0},null,"co",{"$f":"BT35/2","v":-4.238752401560493E-2},{"$f":"BS35/2","v":2.8386700560164877E-2},{"$f":"BV35/2","v":3.50157807085432E-2},{"$f":"BU35/2","v":-3.50157807085432E-2},{"$f":"BX35/2","v":-2.8386700560164877E-2},{"$f":"BW35/2","v":4.238752401560493E-2},{"$f":"BZ35/2","v":0},{"$f":"BY35/2","v":0},{"$f":"CB35/2","v":0},{"$f":"CA35/2","v":0}]
[null,null,null,null,null,null,null,null,null,"dis",{"$f":"(K36)*K23*-1","v":6.7187360812102402E-3},{"$f":"(L36+M36)*L23*-1","v":-8.1880600927079061E-3},{"$f":"(M36+L36)*M23*-1","v":-6.764049641802182E-3},{"$f":"(N36+O36)*N23*-1","v":5.8659077335518946E-3},{"$f":"(O36+N36)*O23*-1","v":7.1008356774575577E-3},{"$f":"(P36+Q36)*P23*-1","v":-7.100835677457556E-3},{"$f":"(Q36+P36)*Q23*-1","v":0},{"$f":"(R36+S36)*R23*-1","v":0},{"$f":"(S36+R36)*S23*-1","v":0},{"$f":"(T36+U36)*T23*-1","v":0},null,"dis",{"$f":"(W36)*W23*-1","v":-1.0225203375538883E-2},{"$f":"(X36+Y36)*X23*-1","v":1.1790806533499384E-2},{"$f":"(Y36+X36)*Y23*-1","v":9.7402314841951426E-3},{"$f":"(Z36+AA36)*Z23*-1","v":-9.7402314841951426E-3},{"$f":"(AA36+Z36)*AA23*-1","v":-1.1790806533499384E-2},{"$f":"(AB36+AC36)*AB23*-1","v":1.0225203375538883E-2},{"$f":"(AC36+AB36)*AC23*-1","v":0},{"$f":"(AD36+AE36)*AD23*-1","v":0},{"$f":"(AE36+AD36)*AE23*-1","v":0},{"$f":"(AF36+AG36)*AF23*-1","v":0},null,"dis",{"$f":"(AI36)*AI23*-1","v":7.100835677457556E-3},{"$f":"(AJ36+AK36)*AJ23*-1","v":-7.1008356774575577E-3},{"$f":"(AK36+AJ36)*AK23*-1","v":-5.8659077335518946E-3},{"$f":"(AL36+AM36)*AL23*-1","v":6.764049641802182E-3},{"$f":"(AM36+AL36)*AM23*-1","v":8.1880600927079061E-3},{"$f":"(AN36+AO36)*AN23*-1","v":-6.7187360812102402E-3},{"$f":"(AO36+AN36)*AO23*-1","v":0},{"$f":"(AP36+AQ36)*AP23*-1","v":0},{"$f":"(AQ36+AP36)*AQ23*-1","v":0},{"$f":"(AR36+AS36)*AR23*-1","v":0},null,"dis",{"$f":"(AU36)*AU23*-1","v":0},{"$f":"(AV36+AW36)*AV23*-1","v":0},{"$f":"(AW36+AV36)*AW23*-1","v":0},{"$f":"(AX36+AY36)*AX23*-1","v":0},{"$f":"(AY36+AX36)*AY23*-1","v":0},{"$f":"(AZ36+BA36)*AZ23*-1","v":0},{"$f":"(BA36+AZ36)*BA23*-1","v":0},{"$f":"(BB36+BC36)*BB23*-1","v":0},{"$f":"(BC36+BB36)*BC23*-1","v":0},{"$f":"(BD36+BE36)*BD23*-1","v":0},null,"dis",{"$f":"(BG36)*BG23*-1","v":0},{"$f":"(BH36+BI36)*BH23*-1","v":0},{"$f":"(BI36+BH36)*BI23*-1","v":0},{"$f":"(BJ36+BK36)*BJ23*-1","v":0},{"$f":"(BK36+BJ36)*BK23*-1","v":0},{"$f":"(BL36+BM36)*BL23*-1","v":0},{"$f":"(BM36+BL36)*BM23*-1","v":0},{"$f":"(BN36+BO36)*BN23*-1","v":0},{"$f":"(BO36+BN36)*BO23*-1","v":0},{"$f":"(BP36+BQ36)*BP23*-1","v":0},null,"dis",{"$f":"(BS36)*BS23*-1","v":1.2826961680969839E-2},{"$f":"(BT36+BU36)*BT23*-1","v":-1.2483377275945604E-2},{"$f":"(BU36+BT36)*BU23*-1","v":-1.031235514099854E-2},{"$f":"(BV36+BW36)*BV23*-1","v":1.031235514099854E-2},{"$f":"(BW36+BV36)*BW23*-1","v":1.2483377275945604E-2},{"$f":"(BX36+BY36)*BX23*-1","v":-1.2826961680969839E-2},{"$f":"(BY36+BX36)*BY23*-1","v":0},{"$f":"(BZ36+CA36)*BZ23*-1","v":0},{"$f":"(CA36+BZ36)*CA23*-1","v":0},{"$f":"(CB36+CC36)*CB23*-1","v":0}]
[null,null,null,null,null,null,null,null,null,"co",{"$f":"L37/2","v":-4.094030046353953E-3},{"$f":"K37/2","v":3.3593680406051201E-3},{"$f":"N37/2","v":2.9329538667759473E-3},{"$f":"M37/2","v":-3.382024820901091E-3},{"$f":"P37/2","v":-3.550417838728778E-3},{"$f":"O37/2","v":3.5504178387287789E-3},{"$f":"R37/2","v":0},{"$f":"Q37/2","v":0},{"$f":"T37/2","v":0},{"$f":"S37/2","v":0},null,"co",{"$f":"X37/2","v":5.8954032667496922E-3},{"$f":"W37/2","v":-5.1126016877694417E-3},{"$f":"Z37/2","v":-4.8701157420975713E-3},{"$f":"Y37/2","v":4.8701157420975713E-3},{"$f":"AB37/2","v":5.1126016877694417E-3},{"$f":"AA37/2","v":-5.8954032667496922E-3},{"$f":"AD37/2","v":0},{"$f":"AC37/2","v":0},{"$f":"AF37/2","v":0},{"$f":"AE37/2","v":0},null,"co",{"$f":"AJ37/2","v":-3.5504178387287789E-3},{"$f":"AI37/2","v":3.550417838728778E-3},{"$f":"AL37/2","v":3.382024820901091E-3},{"$f":"AK37/2","v":-2.9329538667759473E-3},{"$f":"AN37/2","v":-3.3593680406051201E-3},{"$f":"AM37/2","v":4.094030046353953E-3},{"$f":"AP37/2","v":0},{"$f":"AO37/2","v":0},{"$f":"AR37/2","v":0},{"$f":"AQ37/2","v":0},null,"co",{"$f":"AV37/2","v":0},{"$f":"AU37/2","v":0},{"$f":"AX37/2","v":0},{"$f":"AW37/2","v":0},{"$f":"AZ37/2","v":0},{"$f":"AY37/2","v":0},{"$f":"BB37/2","v":0},{"$f":"BA37/2","v":0},{"$f":"BD37/2","v":0},{"$f":"BC37/2","v":0},null,"co",{"$f":"BH37/2","v":0},{"$f":"BG37/2","v":0},{"$f":"BJ37/2","v":0},{"$f":"BI37/2","v":0},{"$f":"BL37/2","v":0},{"$f":"BK37/2","v":0},{"$f":"BN37/2","v":0},{"$f":"BM37/2","v":0},{"$f":"BP37/2","v":0},{"$f":"BO37/2","v":0},null,"co",{"$f":"BT37/2","v":-6.2416886379728018E-3},{"$f":"BS37/2","v":6.4134808404849196E-3},{"$f":"BV37/2","v":5.1561775704992699E-3},{"$f":"BU37/2","v":-5.1561775704992699E-3},{"$f":"BX37/2","v":-6.4134808404849196E-3},{"$f":"BW37/2","v":6.2416886379728018E-3},{"$f":"BZ37/2","v":0},{"$f":"BY37/2","v":0},{"$f":"CB37/2","v":0},{"$f":"CA37/2","v":0}]
[null,null,null,null,null,null,null,null,null,"dis",{"$f":"(K38)*K23*-1","v":1.2389014868145721E-3},{"$f":"(L38+M38)*L23*-1","v":-1.2389014868145723E-3},{"$f":"(M38+L38)*M23*-1","v":-1.0234403586729074E-3},{"$f":"(N38+O38)*N23*-1","v":1.1275554090340474E-3},{"$f":"(O38+N38)*O23*-1","v":1.3649354951464786E-3},{"$f":"(P38+Q38)*P23*-1","v":-1.0743980599583946E-3},{"$f":"(Q38+P38)*Q23*-1","v":0},{"$f":"(R38+S38)*R23*-1","v":0},{"$f":"(S38+R38)*S23*-1","v":0},{"$f":"(T38+U38)*T23*-1","v":0},null,"dis",{"$f":"(W38)*W23*-1","v":-1.7840181410129837E-3},{"$f":"(X38+Y38)*X23*-1","v":1.9655071130109296E-3},{"$f":"(Y38+X38)*Y23*-1","v":1.6236797890090285E-3},{"$f":"(Z38+AA38)*Z23*-1","v":-1.6236797890090285E-3},{"$f":"(AA38+Z38)*AA23*-1","v":-1.9655071130109296E-3},{"$f":"(AB38+AC38)*AB23*-1","v":1.7840181410129837E-3},{"$f":"(AC38+AB38)*AC23*-1","v":0},{"$f":"(AD38+AE38)*AD23*-1","v":0},{"$f":"(AE38+AD38)*AE23*-1","v":0},{"$f":"(AF38+AG38)*AF23*-1","v":0},null,"dis",{"$f":"(AI38)*AI23*-1","v":1.0743980599583946E-3},{"$f":"(AJ38+AK38)*AJ23*-1","v":-1.3649354951464786E-3},{"$f":"(AK38+AJ38)*AK23*-1","v":-1.1275554090340474E-3},{"$f":"(AL38+AM38)*AL23*-1","v":1.0234403586729074E-3},{"$f":"(AM38+AL38)*AM23*-1","v":1.2389014868145723E-3},{"$f":"(AN38+AO38)*AN23*-1","v":-1.2389014868145721E-3},{"$f":"(AO38+AN38)*AO23*-1","v":0},{"$f":"(AP38+AQ38)*AP23*-1","v":0},{"$f":"(AQ38+AP38)*AQ23*-1","v":0},{"$f":"(AR38+AS38)*AR23*-1","v":0},null,"dis",{"$f":"(AU38)*AU23*-1","v":0},{"$f":"(AV38+AW38)*AV23*-1","v":0},{"$f":"(AW38+AV38)*AW23*-1","v":0},{"$f":"(AX38+AY38)*AX23*-1","v":0},{"$f":"(AY38+AX38)*AY23*-1","v":0},{"$f":"(AZ38+BA38)*AZ23*-1","v":0},{"$f":"(BA38+AZ38)*BA23*-1","v":0},{"$f":"(BB38+BC38)*BB23*-1","v":0},{"$f":"(BC38+BB38)*BC23*-1","v":0},{"$f":"(BD38+BE38)*BD23*-1","v":0},null,"dis",{"$f":"(BG38)*BG23*-1","v":0},{"$f":"(BH38+BI38)*BH23*-1","v":0},{"$f":"(BI38+BH38)*BI23*-1","v":0},{"$f":"(BJ38+BK38)*BJ23*-1","v":0},{"$f":"(BK38+BJ38)*BK23*-1","v":0},{"$f":"(BL38+BM38)*BL23*-1","v":0},{"$f":"(BM38+BL38)*BM23*-1","v":0},{"$f":"(BN38+BO38)*BN23*-1","v":0},{"$f":"(BO38+BN38)*BO23*-1","v":0},{"$f":"(BP38+BQ38)*BP23*-1","v":0},null,"dis",{"$f":"(BS38)*BS23*-1","v":1.8888081538885647E-3},{"$f":"(BT38+BU38)*BT23*-1","v":-2.2779614931161176E-3},{"$f":"(BU38+BT38)*BU23*-1","v":-1.8817942769220101E-3},{"$f":"(BV38+BW38)*BV23*-1","v":1.8817942769220101E-3},{"$f":"(BW38+BV38)*BW23*-1","v":2.2779614931161176E-3},{"$f":"(BX38+BY38)*BX23*-1","v":-1.8888081538885647E-3},{"$f":"(BY38+BX38)*BY23*-1","v":0},{"$f":"(BZ38+CA38)*BZ23*-1","v":0},{"$f":"(CA38+BZ38)*CA23*-1","v":0},{"$f":"(CB38+CC38)*CB23*-1","v":0}]
[null,null,null,null,null,null,null,null,null,"co",{"$f":"L39/2","v":-6.1945074340728616E-4},{"$f":"K39/2","v":6.1945074340728605E-4},{"$f":"N39/2","v":5.6377770451702372E-4},{"$f":"M39/2","v":-5.1172017933645369E-4},{"$f":"P39/2","v":-5.3719902997919732E-4},{"$f":"O39/2","v":6.8246774757323928E-4},{"$f":"R39/2","v":0},{"$f":"Q39/2","v":0},{"$f":"T39/2","v":0},{"$f":"S39/2","v":0},null,"co",{"$f":"X39/2","v":9.8275355650546481E-4},{"$f":"W39/2","v":-8.9200907050649184E-4},{"$f":"Z39/2","v":-8.1183989450451426E-4},{"$f":"Y39/2","v":8.1183989450451426E-4},{"$f":"AB39/2","v":8.9200907050649184E-4},{"$f":"AA39/2","v":-9.8275355650546481E-4},{"$f":"AD39/2","v":0},{"$f":"AC39/2","v":0},{"$f":"AF39/2","v":0},{"$f":"AE39/2","v":0},null,"co",{"$f":"AJ39/2","v":-6.8246774757323928E-4},{"$f":"AI39/2","v":5.3719902997919732E-4},{"$f":"AL39/2","v":5.1172017933645369E-4},{"$f":"AK39/2","v":-5.6377770451702372E-4},{"$f":"AN39/2","v":-6.1945074340728605E-4},{"$f":"AM39/2","v":6.1945074340728616E-4},{"$f":"AP39/2","v":0},{"$f":"AO39/2","v":0},{"$f":"AR39/2","v":0},{"$f":"AQ39/2","v":0},null,"co",{"$f":"AV39/2","v":0},{"$f":"AU39/2","v":0},{"$f":"AX39/2","v":0},{"$f":"AW39/2","v":0},{"$f":"AZ39/2","v":0},{"$f":"AY39/2","v":0},{"$f":"BB39/2","v":0},{"$f":"BA39/2","v":0},{"$f":"BD39/2","v":0},{"$f":"BC39/2","v":0},null,"co",{"$f":"BH39/2","v":0},{"$f":"BG39/2","v":0},{"$f":"BJ39/2","v":0},{"$f":"BI39/2","v":0},{"$f":"BL39/2","v":0},{"$f":"BK39/2","v":0},{"$f":"BN39/2","v":0},{"$f":"BM39/2","v":0},{"$f":"BP39/2","v":0},{"$f":"BO39/2","v":0},null,"co",{"$f":"BT39/2","v":-1.1389807465580588E-3},{"$f":"BS39/2","v":9.4440407694428236E-4},{"$f":"BV39/2","v":9.4089713846100503E-4},{"$f":"BU39/2","v":-9.4089713846100503E-4},{"$f":"BX39/2","v":-9.4440407694428236E-4},{"$f":"BW39/2","v":1.1389807465580588E-3},{"$f":"BZ39/2","v":0},{"$f":"BY39/2","v":0},{"$f":"CB39/2","v":0},{"$f":"CA39/2","v":0}]
[null,null,null,null,null,null,null,null,null,"dis",{"$f":"(K40)*K23*-1","v":1.8745305684777312E-4},{"$f":"(L40+M40)*L23*-1","v":-2.3296701995731986E-4},{"$f":"(M40+L40)*M23*-1","v":-1.9245101648648159E-4},{"$f":"(N40+O40)*N23*-1","v":1.7060574261810408E-4},{"$f":"(O40+N40)*O23*-1","v":2.0652274106402078E-4},{"$f":"(P40+Q40)*P23*-1","v":-2.0652274106402072E-4},{"$f":"(Q40+P40)*Q23*-1","v":0},{"$f":"(R40+S40)*R23*-1","v":0},{"$f":"(S40+R40)*S23*-1","v":0},{"$f":"(T40+U40)*T23*-1","v":0},null,"dis",{"$f":"(W40)*W23*-1","v":-2.9739274713218994E-4},{"$f":"(X40+Y40)*X23*-1","v":3.3547250873854057E-4},{"$f":"(Y40+X40)*Y23*-1","v":2.7712946374053348E-4},{"$f":"(Z40+AA40)*Z23*-1","v":-2.7712946374053348E-4},{"$f":"(AA40+Z40)*AA23*-1","v":-3.3547250873854057E-4},{"$f":"(AB40+AC40)*AB23*-1","v":2.9739274713218994E-4},{"$f":"(AC40+AB40)*AC23*-1","v":0},{"$f":"(AD40+AE40)*AD23*-1","v":0},{"$f":"(AE40+AD40)*AE23*-1","v":0},{"$f":"(AF40+AG40)*AF23*-1","v":0},null,"dis",{"$f":"(AI40)*AI23*-1","v":2.0652274106402072E-4},{"$f":"(AJ40+AK40)*AJ23*-1","v":-2.0652274106402078E-4},{"$f":"(AK40+AJ40)*AK23*-1","v":-1.7060574261810408E-4},{"$f":"(AL40+AM40)*AL23*-1","v":1.9245101648648159E-4},{"$f":"(AM40+AL40)*AM23*-1","v":2.3296701995731986E-4},{"$f":"(AN40+AO40)*AN23*-1","v":-1.8745305684777312E-4},{"$f":"(AO40+AN40)*AO23*-1","v":0},{"$f":"(AP40+AQ40)*AP23*-1","v":0},{"$f":"(AQ40+AP40)*AQ23*-1","v":0},{"$f":"(AR40+AS40)*AR23*-1","v":0},null,"dis",{"$f":"(AU40)*AU23*-1","v":0},{"$f":"(AV40+AW40)*AV23*-1","v":0},{"$f":"(AW40+AV40)*AW23*-1","v":0},{"$f":"(AX40+AY40)*AX23*-1","v":0},{"$f":"(AY40+AX40)*AY23*-1","v":0},{"$f":"(AZ40+BA40)*AZ23*-1","v":0},{"$f":"(BA40+AZ40)*BA23*-1","v":0},{"$f":"(BB40+BC40)*BB23*-1","v":0},{"$f":"(BC40+BB40)*BC23*-1","v":0},{"$f":"(BD40+BE40)*BD23*-1","v":0},null,"dis",{"$f":"(BG40)*BG23*-1","v":0},{"$f":"(BH40+BI40)*BH23*-1","v":0},{"$f":"(BI40+BH40)*BI23*-1","v":0},{"$f":"(BJ40+BK40)*BJ23*-1","v":0},{"$f":"(BK40+BJ40)*BK23*-1","v":0},{"$f":"(BL40+BM40)*BL23*-1","v":0},{"$f":"(BM40+BL40)*BM23*-1","v":0},{"$f":"(BN40+BO40)*BN23*-1","v":0},{"$f":"(BO40+BN40)*BO23*-1","v":0},{"$f":"(BP40+BQ40)*BP23*-1","v":0},null,"dis",{"$f":"(BS40)*BS23*-1","v":3.4466892631152755E-4},{"$f":"(BT40+BU40)*BT23*-1","v":-3.7119882187195276E-4},{"$f":"(BU40+BT40)*BU23*-1","v":-3.0664250502465657E-4},{"$f":"(BV40+BW40)*BV23*-1","v":3.0664250502465657E-4},{"$f":"(BW40+BV40)*BW23*-1","v":3.7119882187195276E-4},{"$f":"(BX40+BY40)*BX23*-1","v":-3.4466892631152755E-4},{"$f":"(BY40+BX40)*BY23*-1","v":0},{"$f":"(BZ40+CA40)*BZ23*-1","v":0},{"$f":"(CA40+BZ40)*CA23*-1","v":0},{"$f":"(CB40+CC40)*CB23*-1","v":0}]
[null,null,null,null,null,null,null,null,null,"co",{"$f":"L41/2","v":-1.1648350997865993E-4},{"$f":"K41/2","v":9.372652842388656E-5},{"$f":"N41/2","v":8.5302871309052039E-5},{"$f":"M41/2","v":-9.6225508243240795E-5},{"$f":"P41/2","v":-1.0326137053201036E-4},{"$f":"O41/2","v":1.0326137053201039E-4},{"$f":"R41/2","v":0},{"$f":"Q41/2","v":0},{"$f":"T41/2","v":0},{"$f":"S41/2","v":0},null,"co",{"$f":"X41/2","v":1.6773625436927028E-4},{"$f":"W41/2","v":-1.4869637356609497E-4},{"$f":"Z41/2","v":-1.3856473187026674E-4},{"$f":"Y41/2","v":1.3856473187026674E-4},{"$f":"AB41/2","v":1.4869637356609497E-4},{"$f":"AA41/2","v":-1.6773625436927028E-4},{"$f":"AD41/2","v":0},{"$f":"AC41/2","v":0},{"$f":"AF41/2","v":0},{"$f":"AE41/2","v":0},null,"co",{"$f":"AJ41/2","v":-1.0326137053201039E-4},{"$f":"AI41/2","v":1.0326137053201036E-4},{"$f":"AL41/2","v":9.6225508243240795E-5},{"$f":"AK41/2","v":-8.5302871309052039E-5},{"$f":"AN41/2","v":-9.372652842388656E-5},{"$f":"AM41/2","v":1.1648350997865993E-4},{"$f":"AP41/2","v":0},{"$f":"AO41/2","v":0},{"$f":"AR41/2","v":0},{"$f":"AQ41/2","v":0},null,"co",{"$f":"AV41/2","v":0},{"$f":"AU41/2","v":0},{"$f":"AX41/2","v":0},{"$f":"AW41/2","v":0},{"$f":"AZ41/2","v":0},{"$f":"AY41/2","v":0},{"$f":"BB41/2","v":0},{"$f":"BA41/2","v":0},{"$f":"BD41/2","v":0},{"$f":"BC41/2","v":0},null,"co",{"$f":"BH41/2","v":0},{"$f":"BG41/2","v":0},{"$f":"BJ41/2","v":0},{"$f":"BI41/2","v":0},{"$f":"BL41/2","v":0},{"$f":"BK41/2","v":0},{"$f":"BN41/2","v":0},{"$f":"BM41/2","v":0},{"$f":"BP41/2","v":0},{"$f":"BO41/2","v":0},null,"co",{"$f":"BT41/2","v":-1.8559941093597638E-4},{"$f":"BS41/2","v":1.7233446315576378E-4},{"$f":"BV41/2","v":1.5332125251232829E-4},{"$f":"BU41/2","v":-1.5332125251232829E-4},{"$f":"BX41/2","v":-1.7233446315576378E-4},{"$f":"BW41/2","v":1.8559941093597638E-4},{"$f":"BZ41/2","v":0},{"$f":"BY41/2","v":0},{"$f":"CB41/2","v":0},{"$f":"CA41/2","v":0}]
[null,null,null,null,null,null,null,null,null,"dis",{"$f":"(K42)*K23*-1","v":3.5249275669205786E-5},{"$f":"(L42+M42)*L23*-1","v":-3.5249275669205793E-5},{"$f":"(M42+L42)*M23*-1","v":-2.9118966857169994E-5},{"$f":"(N42+O42)*N23*-1","v":3.2446356967972841E-5},{"$f":"(O42+N42)*O23*-1","v":3.9277168961230285E-5},{"$f":"(P42+Q42)*P23*-1","v":-3.1248101267979248E-5},{"$f":"(Q42+P42)*Q23*-1","v":0},{"$f":"(R42+S42)*R23*-1","v":0},{"$f":"(S42+R42)*S23*-1","v":0},{"$f":"(T42+U42)*T23*-1","v":0},null,"dis",{"$f":"(W42)*W23*-1","v":-5.0758956963656326E-5},{"$f":"(X42+Y42)*X23*-1","v":5.655912330417162E-5},{"$f":"(Y42+X42)*Y23*-1","v":4.6722754033880891E-5},{"$f":"(Z42+AA42)*Z23*-1","v":-4.6722754033880891E-5},{"$f":"(AA42+Z42)*AA23*-1","v":-5.655912330417162E-5},{"$f":"(AB42+AC42)*AB23*-1","v":5.0758956963656326E-5},{"$f":"(AC42+AB42)*AC23*-1","v":0},{"$f":"(AD42+AE42)*AD23*-1","v":0},{"$f":"(AE42+AD42)*AE23*-1","v":0},{"$f":"(AF42+AG42)*AF23*-1","v":0},null,"dis",{"$f":"(AI42)*AI23*-1","v":3.1248101267979248E-5},{"$f":"(AJ42+AK42)*AJ23*-1","v":-3.9277168961230285E-5},{"$f":"(AK42+AJ42)*AK23*-1","v":-3.2446356967972841E-5},{"$f":"(AL42+AM42)*AL23*-1","v":2.9118966857169994E-5},{"$f":"(AM42+AL42)*AM23*-1","v":3.5249275669205793E-5},{"$f":"(AN42+AO42)*AN23*-1","v":-3.5249275669205786E-5},{"$f":"(AO42+AN42)*AO23*-1","v":0},{"$f":"(AP42+AQ42)*AP23*-1","v":0},{"$f":"(AQ42+AP42)*AQ23*-1","v":0},{"$f":"(AR42+AS42)*AR23*-1","v":0},null,"dis",{"$f":"(AU42)*AU23*-1","v":0},{"$f":"(AV42+AW42)*AV23*-1","v":0},{"$f":"(AW42+AV42)*AW23*-1","v":0},{"$f":"(AX42+AY42)*AX23*-1","v":0},{"$f":"(AY42+AX42)*AY23*-1","v":0},{"$f":"(AZ42+BA42)*AZ23*-1","v":0},{"$f":"(BA42+AZ42)*BA23*-1","v":0},{"$f":"(BB42+BC42)*BB23*-1","v":0},{"$f":"(BC42+BB42)*BC23*-1","v":0},{"$f":"(BD42+BE42)*BD23*-1","v":0},null,"dis",{"$f":"(BG42)*BG23*-1","v":0},{"$f":"(BH42+BI42)*BH23*-1","v":0},{"$f":"(BI42+BH42)*BI23*-1","v":0},{"$f":"(BJ42+BK42)*BJ23*-1","v":0},{"$f":"(BK42+BJ42)*BK23*-1","v":0},{"$f":"(BL42+BM42)*BL23*-1","v":0},{"$f":"(BM42+BL42)*BM23*-1","v":0},{"$f":"(BN42+BO42)*BN23*-1","v":0},{"$f":"(BO42+BN42)*BO23*-1","v":0},{"$f":"(BP42+BQ42)*BP23*-1","v":0},null,"dis",{"$f":"(BS42)*BS23*-1","v":5.6164557552592582E-5},{"$f":"(BT42+BU42)*BT23*-1","v":-6.411867610549273E-5},{"$f":"(BU42+BT42)*BU23*-1","v":-5.2967602000189637E-5},{"$f":"(BV42+BW42)*BV23*-1","v":5.2967602000189637E-5},{"$f":"(BW42+BV42)*BW23*-1","v":6.411867610549273E-5},{"$f":"(BX42+BY42)*BX23*-1","v":-5.6164557552592582E-5},{"$f":"(BY42+BX42)*BY23*-1","v":0},{"$f":"(BZ42+CA42)*BZ23*-1","v":0},{"$f":"(CA42+BZ42)*CA23*-1","v":0},{"$f":"(CB42+CC42)*CB23*-1","v":0}]
[null,null,null,null,null,null,null,null,null,"co",{"$f":"L43/2","v":-1.7624637834602896E-5},{"$f":"K43/2","v":1.7624637834602893E-5},{"$f":"N43/2","v":1.6223178483986421E-5},{"$f":"M43/2","v":-1.4559483428584997E-5},{"$f":"P43/2","v":-1.5624050633989624E-5},{"$f":"O43/2","v":1.9638584480615142E-5},{"$f":"R43/2","v":0},{"$f":"Q43/2","v":0},{"$f":"T43/2","v":0},{"$f":"S43/2","v":0},null,"co",{"$f":"X43/2","v":2.827956165208581E-5},{"$f":"W43/2","v":-2.5379478481828163E-5},{"$f":"Z43/2","v":-2.3361377016940446E-5},{"$f":"Y43/2","v":2.3361377016940446E-5},{"$f":"AB43/2","v":2.5379478481828163E-5},{"$f":"AA43/2","v":-2.827956165208581E-5},{"$f":"AD43/2","v":0},{"$f":"AC43/2","v":0},{"$f":"AF43/2","v":0},{"$f":"AE43/2","v":0},null,"co",{"$f":"AJ43/2","v":-1.9638584480615142E-5},{"$f":"AI43/2","v":1.5624050633989624E-5},{"$f":"AL43/2","v":1.4559483428584997E-5},{"$f":"AK43/2","v":-1.6223178483986421E-5},{"$f":"AN43/2","v":-1.7624637834602893E-5},{"$f":"AM43/2","v":1.7624637834602896E-5},{"$f":"AP43/2","v":0},{"$f":"AO43/2","v":0},{"$f":"AR43/2","v":0},{"$f":"AQ43/2","v":0},null,"co",{"$f":"AV43/2","v":0},{"$f":"AU43/2","v":0},{"$f":"AX43/2","v":0},{"$f":"AW43/2","v":0},{"$f":"AZ43/2","v":0},{"$f":"AY43/2","v":0},{"$f":"BB43/2","v":0},{"$f":"BA43/2","v":0},{"$f":"BD43/2","v":0},{"$f":"BC43/2","v":0},null,"co",{"$f":"BH43/2","v":0},{"$f":"BG43/2","v":0},{"$f":"BJ43/2","v":0},{"$f":"BI43/2","v":0},{"$f":"BL43/2","v":0},{"$f":"BK43/2","v":0},{"$f":"BN43/2","v":0},{"$f":"BM43/2","v":0},{"$f":"BP43/2","v":0},{"$f":"BO43/2","v":0},null,"co",{"$f":"BT43/2","v":-3.2059338052746365E-5},{"$f":"BS43/2","v":2.8082278776296291E-5},{"$f":"BV43/2","v":2.6483801000094818E-5},{"$f":"BU43/2","v":-2.6483801000094818E-5},{"$f":"BX43/2","v":-2.8082278776296291E-5},{"$f":"BW43/2","v":3.2059338052746365E-5},{"$f":"BZ43/2","v":0},{"$f":"BY43/2","v":0},{"$f":"CB43/2","v":0},{"$f":"CA43/2","v":0}]
[null,null,null,null,null,null,null,null,null,"dis",{"$f":"(K44)*K23*-1","v":5.3334220244191406E-6},{"$f":"(L44+M44)*L23*-1","v":-6.6643300485528207E-6},{"$f":"(M44+L44)*M23*-1","v":-5.5053161270653725E-6},{"$f":"(N44+O44)*N23*-1","v":4.9093239954524948E-6},{"$f":"(O44+N44)*O23*-1","v":5.942865889231969E-6},{"$f":"(P44+Q44)*P23*-1","v":-5.9428658892319682E-6},{"$f":"(Q44+P44)*Q23*-1","v":0},{"$f":"(R44+S44)*R23*-1","v":0},{"$f":"(S44+R44)*S23*-1","v":0},{"$f":"(T44+U44)*T23*-1","v":0},null,"dis",{"$f":"(W44)*W23*-1","v":-8.5577268804940357E-6},{"$f":"(X44+Y44)*X23*-1","v":9.5966352699160607E-6},{"$f":"(Y44+X44)*Y23*-1","v":7.9276552229741361E-6},{"$f":"(Z44+AA44)*Z23*-1","v":-7.9276552229741361E-6},{"$f":"(AA44+Z44)*AA23*-1","v":-9.5966352699160607E-6},{"$f":"(AB44+AC44)*AB23*-1","v":8.5577268804940357E-6},{"$f":"(AC44+AB44)*AC23*-1","v":0},{"$f":"(AD44+AE44)*AD23*-1","v":0},{"$f":"(AE44+AD44)*AE23*-1","v":0},{"$f":"(AF44+AG44)*AF23*-1","v":0},null,"dis",{"$f":"(AI44)*AI23*-1","v":5.9428658892319682E-6},{"$f":"(AJ44+AK44)*AJ23*-1","v":-5.942865889231969E-6},{"$f":"(AK44+AJ44)*AK23*-1","v":-4.9093239954524948E-6},{"$f":"(AL44+AM44)*AL23*-1","v":5.5053161270653725E-6},{"$f":"(AM44+AL44)*AM23*-1","v":6.6643300485528207E-6},{"$f":"(AN44+AO44)*AN23*-1","v":-5.3334220244191406E-6},{"$f":"(AO44+AN44)*AO23*-1","v":0},{"$f":"(AP44+AQ44)*AP23*-1","v":0},{"$f":"(AQ44+AP44)*AQ23*-1","v":0},{"$f":"(AR44+AS44)*AR23*-1","v":0},null,"dis",{"$f":"(AU44)*AU23*-1","v":0},{"$f":"(AV44+AW44)*AV23*-1","v":0},{"$f":"(AW44+AV44)*AW23*-1","v":0},{"$f":"(AX44+AY44)*AX23*-1","v":0},{"$f":"(AY44+AX44)*AY23*-1","v":0},{"$f":"(AZ44+BA44)*AZ23*-1","v":0},{"$f":"(BA44+AZ44)*BA23*-1","v":0},{"$f":"(BB44+BC44)*BB23*-1","v":0},{"$f":"(BC44+BB44)*BC23*-1","v":0},{"$f":"(BD44+BE44)*BD23*-1","v":0},null,"dis",{"$f":"(BG44)*BG23*-1","v":0},{"$f":"(BH44+BI44)*BH23*-1","v":0},{"$f":"(BI44+BH44)*BI23*-1","v":0},{"$f":"(BJ44+BK44)*BJ23*-1","v":0},{"$f":"(BK44+BJ44)*BK23*-1","v":0},{"$f":"(BL44+BM44)*BL23*-1","v":0},{"$f":"(BM44+BL44)*BM23*-1","v":0},{"$f":"(BN44+BO44)*BN23*-1","v":0},{"$f":"(BO44+BN44)*BO23*-1","v":0},{"$f":"(BP44+BQ44)*BP23*-1","v":0},null,"dis",{"$f":"(BS44)*BS23*-1","v":9.7015315300899405E-6},{"$f":"(BT44+BU44)*BT23*-1","v":-1.0743569442198197E-5},{"$f":"(BU44+BT44)*BU23*-1","v":-8.8751225826854647E-6},{"$f":"(BV44+BW44)*BV23*-1","v":8.8751225826854647E-6},{"$f":"(BW44+BV44)*BW23*-1","v":1.0743569442198197E-5},{"$f":"(BX44+BY44)*BX23*-1","v":-9.7015315300899405E-6},{"$f":"(BY44+BX44)*BY23*-1","v":0},{"$f":"(BZ44+CA44)*BZ23*-1","v":0},{"$f":"(CA44+BZ44)*CA23*-1","v":0},{"$f":"(CB44+CC44)*CB23*-1","v":0}]
[null,null,null,null,null,null,null,null,null,"sum",{"$f":"SUM(K24:K45)","v":-2067.0316848212751},{"$f":"SUM(L24:L45)","v":2489.2925831318112},{"$f":"SUM(M24:M45)","v":-487.40720899334138},{"$f":"SUM(N24:N45)","v":-212.2261640316263},{"$f":"SUM(O24:O45)","v":46.962091260728599},17.715643169655959,0,0,0,0,null,"sum",{"$f":"SUM(W24:W45)","v":290.56222796940301},770.2462389763507,-3480.8163076895371,3480.8163076895371,-770.2462389763507,-290.56222796940301,0,0,0,0,null,"sum",{"$f":"SUM(AI24:AI45)","v":-17.715643169655959},-46.962091260728599,212.2261640316263,487.40720899334138,-2489.2925831318112,2067.0316848212751,0,0,0,0,null,"sum",{"$f":"SUM(AU24:AU45)","v":0},0,0,0,0,0,0,0,0,0,null,"sum",{"$f":"SUM(BG24:BG45)","v":0},0,0,0,0,0,0,0,0,0,null,"sum",{"$f":"SUM(BS24:BS45)","v":-6402.7782000768275},11464.489510083,-13403.755258480936,13403.755258480936,-11464.489510083,6402.7782000768275,0,0,0,0]
[null,null,null,null,null,null,null,null,null,"โมเมนต์บวก span 1 =",{"$f":"K111","v":7106.7891537691521},null,"โมเมนต์บวก span 2 =",{"$f":"W111","v":9327.9284338295256},"โมเมนต์บวก span 3 =",{"$f":"AI111","v":7106.7891537691394},"โมเมนต์บวก span 4 =",{"$f":"AU111","v":0},"โมเมนต์บวก span 5 =",{"$f":"BG111","v":0}]
[null,null,null,null,null,null,null,null,null,"โมเมนต์ลบ span 1 ขวา =",{"$f":"N110","v":-11120.226798428041},null,"โมเมนต์ลบ span 2 ขวา =",{"$f":"AC111","v":-13338.139884621109},"โมเมนต์ลบ span 3 ขวา =",{"$f":"AO110","v":-5481.9277517620749},"โมเมนต์ลบ span 4 ขวา =",{"$f":"BA110","v":0},"โมเมนต์ลบ span 5 ขวา =",{"$f":"BM110","v":0}]
[null,null,null,null,null,null,null,null,null,"โมเมนต์ลบ span 1 ซ้าย =",{"$f":"-K107+0.5*K109*Sheet1!D9-0.25*'r3'!E2*('r3'!B7+'r3'!E7)*Sheet1!D9^2","v":-5481.9277517620749},null,"โมเมนต์ลบ span 2 ซ้าย =",{"$f":"Z111","v":-13338.139884621109},"โมเมนต์ลบ span 3 ซ้าย =",{"$f":"AL110","v":-11120.226798428041},"โมเมนต์ลบ span 4 ซ้าย =",{"$f":"AX110","v":0},"โมเมนต์ลบ span 5 ซ้าย =",{"$f":"BJ110","v":0}]
[null,null,null,null,null,null,null,null,null,"span1",null,null,"span2",null,"span3",null,"span4",null,"span5"]
[null,null,null,null,null,null,"ทิศทาง","ช่วงเสา","สัมประสิทธ์ร้อยละ","แถบเสา","แถบกลาง",null,"แถบเสา","แถบกลาง","แถบเสา","แถบกลาง","แถบเสา","แถบกลาง","แถบเสา","แถบกลาง"]
[null,null,null,null,null,null,null,"โมเมนต์ลบขวา",0.75,{"$f":"IF((-K48>-N49),(K48),(N49))*I52","v":-10003.604913465831},{"$f":"IF((-K48>-N49),(K48),(N49))-J52","v":-3334.5349711552772},null,{"$f":"IF((-N48>-P49),(N48),(P49))*IF(Sheet1!$B$3=2,(I54),(I52))","v":-10003.604913465831},{"$f":"IF((-N48>-P49),(N48),(P49))-M52","v":-3334.5349711552772},{"$f":"IF(-P48>-R49,(P48),(R49))*IF(Sheet1!$B$3=3,(1),(0.75))","v":-5481.9277517620749},{"$f":"IF(-P48>-R49,(P48),(R49))*IF(Sheet1!$B$3=3,(1),(0.75))-O52","v":0},{"$f":"IF(-R48>-T49,(R48),(T49))*IF(Sheet1!$B$3=4,(1),(0.75))","v":0},{"$f":"IF(-R48>-T49,(R48),(T49))*IF(Sheet1!$B$3=4,(1),(0.75))-Q52","v":0},{"$f":"IF(-T48>-V49,(T48),(V49))*IF(Sheet1!$B$3=5,(1),(0.75))","v":0},{"$f":"IF(-T48>-V49,(T48),(V49))*IF(Sheet1!$B$3=5,(1),(0.75))-S52","v":0}]
[null,null,null,null,null,null,null,"โมเมนต์กลางช่วงโมเมนต์บวก",0.6,{"$f":"K47*$I$53","v":4264.0734922614911},{"$f":"K47-J53","v":2842.715661507661},null,{"$f":"N47*$I$53","v":5596.7570602977148},{"$f":"N47-M53","v":3731.1713735318108},{"$f":"P47*$I$53","v":4264.0734922614838},{"$f":"P47-O53","v":2842.7156615076556},{"$f":"R47*$I$53","v":0},{"$f":"R47-Q53","v":0},{"$f":"T47*$I$53","v":0},{"$f":"T47-S53","v":0}]
[null,null,null,null,null,null,null,"โมเมนต์ลบซ้าย",1,{"$f":"K49*I54","v":-5481.9277517620749},{"$f":"K49-J54","v":0},null,{"$f":"IF((-K48>-N49),(K48),(N49))*I52","v":-10003.604913465831},{"$f":"IF((-K48>-N49),(K48),(N49))-M54","v":-3334.5349711552772},{"$f":"IF((-N48>-P49),(N48),(P49))*IF(Sheet1!$B$3<3,(0),(0.75))","v":-10003.604913465831},{"$f":"IF(O54=0,(0),(IF((-N48>-P49),(N48),(P49))-O54))","v":-3334.5349711552772},{"$f":"IF((-P48>-R49),(P48),(R49))*IF(Sheet1!$B$3<4,(0),(0.75))","v":0},{"$f":"IF(Q54=0,(0),(IF((-P48>-R49),(P48),(R49))-Q54))","v":0},{"$f":"IF((-R48>-T49),(R48),(T49))*IF(Sheet1!$B$3<5,(0),(0.75))","v":0},{"$f":"IF(S54=0,(0),(IF((-R48>-T49),(R48),(T49))-S54))","v":0}]
[]
[null,null,null,null,null,null,"เหล็กเสริมในแผ่นพื้น",null,null,"span r1",null,null,"span r2",null,"span r3",null,"span r4",null,"span r5"]
[null,null,null,null,null,null,null,"รายการ","หน่วย","แถบเสา","แถบกลาง",null,"แถบเสา","แถบกลาง","แถบเสา","แถบกลาง","แถบเสา","แถบกลาง","แถบเสา","แถบกลาง"]
[null,null,null,null,null,null,null,"ความกว้าง","m",{"$f":"IF(Sheet1!B4=2,(0.25*Sheet1!L10),(Sheet1!L11+Sheet1!L10)/4)","v":1.25},{"$f":"IF(Sheet1!B4=2,(0.5*Sheet1!L10-'r3'!J58),('r3'!E2)/2)","v":1.25},null,{"$f":"IF(Sheet1!B4=2,(0.25*Sheet1!L10),(Sheet1!L11+Sheet1!L10)/4)","v":1.25},{"$f":"K58","v":1.25},{"$f":"M58","v":1.25},1.25,1.25,1.25,1.25,1.25]
[null,null,null,null,null,null,null,"โมเมนต์ลบขวา","kg-m/m",{"$f":"J52/(0.9*J58)","v":-8892.093256414073},{"$f":"K52/(K58*0.9)","v":-2964.0310854713575},null,{"$f":"M52/(0.9*M58)","v":-8892.093256414073},{"$f":"N52/(0.9*N58)","v":-2964.0310854713575},{"$f":"O52/(0.9*O58)","v":-4872.8246682329554},{"$f":"P52/(0.9*P58)","v":0},{"$f":"Q52/(0.9*Q58)","v":0},0,{"$f":"S52/(0.9*S58)","v":0},{"$f":"T52/(0.9*T58)","v":0}]
[null,null,null,null,null,null,null,"Rn","kg/m^2",{"$f":"J59/(((Sheet1!B16)-(Sheet1!B13/100))^2)","v":-175646.28654645081},{"$f":"K59/(((Sheet1!B16)-(Sheet1!B13/100))^2)","v":-58548.762182150269},null,{"$f":"M59/(((Sheet1!B16)-(Sheet1!B13/100))^2)","v":-175646.28654645081},{"$f":"N59/(((Sheet1!B16)-(Sheet1!B13/100))^2)","v":-58548.762182150269},{"$f":"O59/(((Sheet1!B16)-(Sheet1!B13/100))^2)","v":-96253.326779910218},{"$f":"P59/(((Sheet1!B16)-(Sheet1!B13/100))^2)","v":0},{"$f":"Q59/(((Sheet1!B16)-(Sheet1!B13/100))^2)","v":0},{"$f":"R59/(((Sheet1!B16)-(Sheet1!B13/100))^2)","v":0},{"$f":"S59/(((Sheet1!B16)-(Sheet1!B13/100))^2)","v":0},{"$f":"T59/(((Sheet1!B16)-(Sheet1!B13/100))^2)","v":0}]
[null,null,null,null,null,null,null,"p",null,{"$f":"ABS((0.85*Sheet1!B10/Sheet1!B9)*(1-(SQRT(1-(2*J60/(0.85*Sheet1!B10*100^2))))))","v":5.5694615752426109E-3},{"$f":"ABS((0.85*Sheet1!B10/Sheet1!B9)*(1-(SQRT(1-(2*K60/(0.85*Sheet1!B10*100^2))))))","v":1.8944353350468805E-3},null,{"$f":"ABS((0.85*Sheet1!B10/Sheet1!B9)*(1-(SQRT(1-(2*M60/(0.85*Sheet1!B10*100^2))))))","v":5.5694615752426109E-3},{"$f":"ABS((0.85*Sheet1!B10/Sheet1!B9)*(1-(SQRT(1-(2*N60/(0.85*Sheet1!B10*100^2))))))","v":1.8944353350468805E-3},{"$f":"ABS((0.85*Sheet1!B10/Sheet1!B9)*(1-(SQRT(1-(2*O60/(0.85*Sheet1!B10*100^2))))))","v":3.0937862311785328E-3},{"$f":"ABS((0.85*Sheet1!B10/Sheet1!B9)*(1-(SQRT(1-(2*P60/(0.85*Sheet1!B10*100^2))))))","v":0},{"$f":"ABS((0.85*Sheet1!B10/Sheet1!B9)*(1-(SQRT(1-(2*Q60/(0.85*Sheet1!B10*100^2))))))","v":0},{"$f":"ABS((0.85*Sheet1!B10/Sheet1!B9)*(1-(SQRT(1-(2*R60/(0.85*Sheet1!B10*100^2))))))","v":0},{"$f":"ABS((0.85*Sheet1!B10/Sheet1!B9)*(1-(SQRT(1-(2*S60/(0.85*Sheet1!B10*100^2))))))","v":0},{"$f":"ABS((0.85*Sheet1!B10/Sheet1!B9)*(1-(SQRT(1-(2*T60/(0.85*Sheet1!B10*100^2))))))","v":0}]
[null,null,null,null,null,null,null,"As-","mm^2/m",{"$f":"IF(J59=0,(0),(IF(J61>(0.0018*4000/Sheet1!$B$9),(ABS(J61*1000*(Sheet1!$B$16*1000-Sheet1!$B$13*10)*-1)),(ABS((0.0018*4000/Sheet1!$B$9)*1000*(Sheet1!$B$16*1000-Sheet1!$B$13*10)*-1)))))","v":1253.1288544295874},{"$f":"IF(J59=0,(0),(IF(K61>(0.0018*4000/Sheet1!$B$9),(ABS(K61*1000*(Sheet1!$B$16*1000-Sheet1!$B$13*10)*-1)),(ABS((0.0018*4000/Sheet1!$B$9)*1000*(Sheet1!$B$16*1000-Sheet1!$B$13*10)*-1)))))","v":529.75801177240021},null,{"$f":"IF(M59=0,(0),(IF(M61>(0.0018*4000/Sheet1!$B$9),(ABS(M61*1000*(Sheet1!$B$16*1000-Sheet1!$B$13*10)*-1)),(ABS((0.0018*4000/Sheet1!$B$9)*1000*(Sheet1!$B$16*1000-Sheet1!$B$13*10)*-1)))))","v":1253.1288544295874},{"$f":"IF(M59=0,(0),(IF(N61>(0.0018*4000/Sheet1!$B$9),(ABS(N61*1000*(Sheet1!$B$16*1000-Sheet1!$B$13*10)*-1)),(ABS((0.0018*4000/Sheet1!$B$9)*1000*(Sheet1!$B$16*1000-Sheet1!$B$13*10)*-1)))))","v":529.75801177240021},{"$f":"IF(O59=0,(0),(IF(O61>(0.0018*4000/Sheet1!$B$9),(ABS(O61*1000*(Sheet1!$B$16*1000-Sheet1!$B$13*10)*-1)),(ABS((0.0018*4000/Sheet1!$B$9)*1000*(Sheet1!$B$16*1000-Sheet1!$B$13*10)*-1)))))","v":696.10190201516991},{"$f":"IF(O59=0,(0),(IF(P61>(0.0018*4000/Sheet1!$B$9),(ABS(P61*1000*(Sheet1!$B$16*1000-Sheet1!$B$13*10)*-1)),(ABS((0.0018*4000/Sheet1!$B$9)*1000*(Sheet1!$B$16*1000-Sheet1!$B$13*10)*-1)))))","v":529.75801177240021},{"$f":"IF(Q59=0,(0),(IF(Q61>(0.0018*4000/Sheet1!$B$9),(ABS(Q61*1000*(Sheet1!$B$16*1000-Sheet1!$B$13*10)*-1)),(ABS((0.0018*4000/Sheet1!$B$9)*1000*(Sheet1!$B$16*1000-Sheet1!$B$13*10)*-1)))))","v":0},{"$f":"IF(Q59=0,(0),(IF(R61>(0.0018*4000/Sheet1!$B$9),(ABS(R61*1000*(Sheet1!$B$16*1000-Sheet1!$B$13*10)*-1)),(ABS((0.0018*4000/Sheet1!$B$9)*1000*(Sheet1!$B$16*1000-Sheet1!$B$13*10)*-1)))))","v":0},{"$f":"IF(S53=0,(0),(IF(S61>(0.0018*4000/Sheet1!$B$9),(ABS(S61*1000*(Sheet1!$B$16*1000-Sheet1!$B$13*10)*-1)),(ABS((0.0018*4000/Sheet1!$B$9)*1000*(Sheet1!$B$16*1000-Sheet1!$B$13*10)*-1)))))","v":0},{"$f":"IF(T53=0,(0),(IF(T61>(0.0018*4000/Sheet1!$B$9),(ABS(T61*1000*(Sheet1!$B$16*1000-Sheet1!$B$13*10)*-1)),(ABS((0.0018*4000/Sheet1!$B$9)*1000*(Sheet1!$B$16*1000-Sheet1!$B$13*10)*-1)))))","v":0}]
[null,null,null,null,null,null,null,"โมเมนต์บวกกลาง","kg-m/m",{"$f":"J53/(0.9*J58)","v":3790.2875486768808},{"$f":"K53/(0.9*K58)","v":2526.8583657845875},null,{"$f":"M53/(0.9*M58)","v":4974.8951647090798},{"$f":"N53/(0.9*N58)","v":3316.5967764727206},{"$f":"O53/(0.9*O58)","v":3790.2875486768744},2526.8583657845829,0,{"$f":"R53/(0.9*R58)","v":0},0,{"$f":"T53/(0.9*T58)","v":0}]
[null,null,null,null,null,null,null,"Rn","kg/m^2",{"$f":"J63/(((Sheet1!B16)-(Sheet1!B13/100))^2)","v":74869.877504728502},{"$f":"K63/(((Sheet1!B16)-(Sheet1!B13/100))^2)","v":49913.251669819008},null,{"$f":"M63/(((Sheet1!B16)-(Sheet1!B13/100))^2)","v":98269.534117710209},{"$f":"N63/(((Sheet1!B16)-(Sheet1!B13/100))^2)","v":65513.022745140159},{"$f":"O63/(((Sheet1!B16)-(Sheet1!B13/100))^2)","v":74869.877504728385},{"$f":"P63/(((Sheet1!B16)-(Sheet1!B13/100))^2)","v":49913.251669818921},{"$f":"Q63/(((Sheet1!B16)-(Sheet1!B13/100))^2)","v":0},{"$f":"R63/(((Sheet1!B16)-(Sheet1!B13/100))^2)","v":0},{"$f":"S63/(((Sheet1!B16)-(Sheet1!B13/100))^2)","v":0},{"$f":"T63/(((Sheet1!B16)-(Sheet1!B13/100))^2)","v":0}]
[null,null,null,null,null,null,null,"p",null,{"$f":"ABS((0.85*Sheet1!B10/Sheet1!B9)*(1-(SQRT(1-(2*J64/(0.85*Sheet1!B10*100^2))))))","v":2.4829849001680596E-3},{"$f":"(0.85*Sheet1!B10/Sheet1!B9)*(1-(SQRT(1-(2*K64/(0.85*Sheet1!B10*100^2)))))","v":1.6474760947907945E-3},null,{"$f":"ABS((0.85*Sheet1!B10/Sheet1!B9)*(1-(SQRT(1-(2*M64/(0.85*Sheet1!B10*100^2))))))","v":3.2737699521629376E-3},{"$f":"ABS((0.85*Sheet1!B10/Sheet1!B9)*(1-(SQRT(1-(2*N64/(0.85*Sheet1!B10*100^2))))))","v":2.1687894079652245E-3},{"$f":"ABS((0.85*Sheet1!B10/Sheet1!B9)*(1-(SQRT(1-(2*O64/(0.85*Sheet1!B10*100^2))))))","v":2.4829849001680496E-3},{"$f":"ABS((0.85*Sheet1!B10/Sheet1!B9)*(1-(SQRT(1-(2*P64/(0.85*Sheet1!B10*100^2))))))","v":1.6474760947907945E-3},{"$f":"ABS((0.85*Sheet1!B10/Sheet1!B9)*(1-(SQRT(1-(2*Q64/(0.85*Sheet1!B10*100^2))))))","v":0},{"$f":"ABS((0.85*Sheet1!B10/Sheet1!B9)*(1-(SQRT(1-(2*R64/(0.85*Sheet1!B10*100^2))))))","v":0},{"$f":"ABS((0.85*Sheet1!B10/Sheet1!B9)*(1-(SQRT(1-(2*S64/(0.85*Sheet1!B10*100^2))))))","v":0},{"$f":"ABS((0.85*Sheet1!B10/Sheet1!B9)*(1-(SQRT(1-(2*T64/(0.85*Sheet1!B10*100^2))))))","v":0}]
[null,null,null,null,null,null,null,"As+","mm^2/m",{"$f":"IF(J63=0,(0),(IF(J65>(0.0018*4000/Sheet1!$B$9),(ABS(J65*1000*(Sheet1!$B$16*1000-Sheet1!$B$13*10)*-1)),(ABS((0.0018*4000/Sheet1!$B$9)*1000*(Sheet1!$B$16*1000-Sheet1!$B$13*10)*-1)))))","v":558.67160253781344},{"$f":"IF(K63=0,(0),(IF(K65>(0.0018*4000/Sheet1!$B$9),(ABS(K65*1000*(Sheet1!$B$16*1000-Sheet1!$B$13*10)*-1)),(ABS((0.0018*4000/Sheet1!$B$9)*1000*(Sheet1!$B$16*1000-Sheet1!$B$13*10)*-1)))))","v":529.75801177240021},null,{"$f":"IF(M63=0,(0),(IF(M65>(0.0018*4000/Sheet1!$B$9),(ABS(M65*1000*(Sheet1!$B$16*1000-Sheet1!$B$13*10)*-1)),(ABS((0.0018*4000/Sheet1!$B$9)*1000*(Sheet1!$B$16*1000-Sheet1!$B$13*10)*-1)))))","v":736.5982392366609},{"$f":"IF(N63=0,(0),(IF(N65>(0.0018*4000/Sheet1!$B$9),(ABS(N65*1000*(Sheet1!$B$16*1000-Sheet1!$B$13*10)*-1)),(ABS((0.0018*4000/Sheet1!$B$9)*1000*(Sheet1!$B$16*1000-Sheet1!$B$13*10)*-1)))))","v":529.75801177240021},{"$f":"IF(O63=0,(0),(IF(O65>(0.0018*4000/Sheet1!$B$9),(ABS(O65*1000*(Sheet1!$B$16*1000-Sheet1!$B$13*10)*-1)),(ABS((0.0018*4000/Sheet1!$B$9)*1000*(Sheet1!$B$16*1000-Sheet1!$B$13*10)*-1)))))","v":558.67160253781117},{"$f":"IF(P63=0,(0),(IF(P65>(0.0018*4000/Sheet1!$B$9),(ABS(P65*1000*(Sheet1!$B$16*1000-Sheet1!$B$13*10)*-1)),(ABS((0.0018*4000/Sheet1!$B$9)*1000*(Sheet1!$B$16*1000-Sheet1!$B$13*10)*-1)))))","v":529.75801177240021},{"$f":"IF(Q63=0,(0),(IF(Q65>(0.0018*4000/Sheet1!$B$9),(ABS(Q65*1000*(Sheet1!$B$16*1000-Sheet1!$B$13*10)*-1)),(ABS((0.0018*4000/Sheet1!$B$9)*1000*(Sheet1!$B$16*1000-Sheet1!$B$13*10)*-1)))))","v":0},{"$f":"IF(R63=0,(0),(IF(R65>(0.0018*4000/Sheet1!$B$9),(ABS(R65*1000*(Sheet1!$B$16*1000-Sheet1!$B$13*10)*-1)),(ABS((0.0018*4000/Sheet1!$B$9)*1000*(Sheet1!$B$16*1000-Sheet1!$B$13*10)*-1)))))","v":0},{"$f":"IF(S63=0,(0),(IF(S65>(0.0018*4000/Sheet1!$B$9),(ABS(S65*1000*(Sheet1!$B$16*1000-Sheet1!$B$13*10)*-1)),(ABS((0.0018*4000/Sheet1!$B$9)*1000*(Sheet1!$B$16*1000-Sheet1!$B$13*10)*-1)))))","v":0},{"$f":"IF(T53=0,(0),(IF(T65>(0.0018*4000/Sheet1!$B$9),(ABS(T65*1000*(Sheet1!$B$16*1000-Sheet1!$B$13*10)*-1)),(ABS((0.0018*4000/Sheet1!$B$9)*1000*(Sheet1!$B$16*1000-Sheet1!$B$13*10)*-1)))))","v":0}]
[null,null,null,null,null,null,null,"โมเมนต์ลบซ้าย","kg-m/m",{"$f":"J54/(0.9*J58)","v":-4872.8246682329554},{"$f":"K54/(0.9*K58)","v":0},null,{"$f":"M54/(0.9*M58)","v":-8892.093256414073},{"$f":"N54/(0.9*N58)","v":-2964.0310854713575},{"$f":"O54/(0.9*O58)","v":-8892.093256414073},{"$f":"P54/(0.9*P58)","v":-2964.0310854713575},0,0,0,0]
[null,null,null,null,null,null,null,"Rn","kg/m^2",{"$f":"J67/(((Sheet1!B16)-(Sheet1!B13/100))^2)","v":-96253.326779910218},{"$f":"K67/(((Sheet1!B16)-(Sheet1!B13/100))^2)","v":0},null,{"$f":"M67/(((Sheet1!B16)-(Sheet1!B13/100))^2)","v":-175646.28654645081},{"$f":"N67/(((Sheet1!B16)-(Sheet1!B13/100))^2)","v":-58548.762182150269},{"$f":"O67/(((Sheet1!B16)-(Sheet1!B13/100))^2)","v":-175646.28654645081},{"$f":"P67/(((Sheet1!B16)-(Sheet1!B13/100))^2)","v":-58548.762182150269},{"$f":"Q67/(((Sheet1!B16)-(Sheet1!B13/100))^2)","v":0},{"$f":"R67/(((Sheet1!B16)-(Sheet1!B13/100))^2)","v":0},{"$f":"S67/(((Sheet1!B16)-(Sheet1!B13/100))^2)","v":0},{"$f":"T67/(((Sheet1!B16)-(Sheet1!B13/100))^2)","v":0}]
[null,null,null,null,null,null,null,"p",null,{"$f":"ABS((0.85*Sheet1!B10/Sheet1!B9)*(1-(SQRT(1-(2*J68/(0.85*Sheet1!B10*100^2))))))","v":3.0937862311785328E-3},{"$f":"(0.85*Sheet1!B10/Sheet1!B9)*(1-(SQRT(1-(2*K68/(0.85*Sheet1!B10*100^2)))))","v":0},null,{"$f":"ABS((0.85*Sheet1!B10/Sheet1!B9)*(1-(SQRT(1-(2*M68/(0.85*Sheet1!B10*100^2))))))","v":5.5694615752426109E-3},{"$f":"ABS((0.85*Sheet1!B10/Sheet1!B9)*(1-(SQRT(1-(2*N68/(0.85*Sheet1!B10*100^2))))))","v":1.8944353350468805E-3},{"$f":"ABS((0.85*Sheet1!B10/Sheet1!B9)*(1-(SQRT(1-(2*O68/(0.85*Sheet1!B10*100^2))))))","v":5.5694615752426109E-3},{"$f":"ABS((0.85*Sheet1!B10/Sheet1!B9)*(1-(SQRT(1-(2*P68/(0.85*Sheet1!B10*100^2))))))","v":1.8944353350468805E-3},{"$f":"ABS((0.85*Sheet1!B10/Sheet1!B9)*(1-(SQRT(1-(2*Q68/(0.85*Sheet1!B10*100^2))))))","v":0},{"$f":"ABS((0.85*Sheet1!B10/Sheet1!B9)*(1-(SQRT(1-(2*R68/(0.85*Sheet1!B10*100^2))))))","v":0},{"$f":"ABS((0.85*Sheet1!B10/Sheet1!B9)*(1-(SQRT(1-(2*S68/(0.85*Sheet1!B10*100^2))))))","v":0},{"$f":"ABS((0.85*Sheet1!B10/Sheet1!B9)*(1-(SQRT(1-(2*T68/(0.85*Sheet1!B10*100^2))))))","v":0}]
[null,null,null,null,null,null,null,"As-","mm^2/m",{"$f":"IF(J67=0,(0),(IF(J69>(0.0018*4000/Sheet1!$B$9),(ABS(J69*1000*(Sheet1!$B$16*1000-Sheet1!$B$13*10)*-1)),(ABS((0.0018*4000/Sheet1!$B$9)*1000*(Sheet1!$B$16*1000-Sheet1!$B$13*10)*-1)))))","v":696.10190201516991},{"$f":"IF(J67=0,(0),(IF(K69>(0.0018*4000/Sheet1!$B$9),(ABS(K69*1000*(Sheet1!$B$16*1000-Sheet1!$B$13*10)*-1)),(ABS((0.0018*4000/Sheet1!$B$9)*1000*(Sheet1!$B$16*1000-Sheet1!$B$13*10)*-1)))))","v":529.75801177240021},null,{"$f":"IF(M67=0,(0),(IF(M69>(0.0018*4000/Sheet1!$B$9),(ABS(M69*1000*(Sheet1!$B$16*1000-Sheet1!$B$13*10)*-1)),(ABS((0.0018*4000/Sheet1!$B$9)*1000*(Sheet1!$B$16*1000-Sheet1!$B$13*10)*-1)))))","v":1253.1288544295874},{"$f":"IF(M67=0,(0),(IF(N69>(0.0018*4000/Sheet1!$B$9),(ABS(N69*1000*(Sheet1!$B$16*1000-Sheet1!$B$13*10)*-1)),(ABS((0.0018*4000/Sheet1!$B$9)*1000*(Sheet1!$B$16*1000-Sheet1!$B$13*10)*-1)))))","v":529.75801177240021},{"$f":"IF(O67=0,(0),(IF(O69>(0.0018*4000/Sheet1!$B$9),(ABS(O69*1000*(Sheet1!$B$16*1000-Sheet1!$B$13*10)*-1)),(ABS((0.0018*4000/Sheet1!$B$9)*1000*(Sheet1!$B$16*1000-Sheet1!$B$13*10)*-1)))))","v":1253.1288544295874},{"$f":"IF(O67=0,(0),(IF(P69>(0.0018*4000/Sheet1!$B$9),(ABS(P69*1000*(Sheet1!$B$16*1000-Sheet1!$B$13*10)*-1)),(ABS((0.0018*4000/Sheet1!$B$9)*1000*(Sheet1!$B$16*1000-Sheet1!$B$13*10)*-1)))))","v":529.75801177240021},{"$f":"IF(Q67=0,(0),(IF(Q69>(0.0018*4000/Sheet1!$B$9),(ABS(Q69*1000*(Sheet1!$B$16*1000-Sheet1!$B$13*10)*-1)),(ABS((0.0018*4000/Sheet1!$B$9)*1000*(Sheet1!$B$16*1000-Sheet1!$B$13*10)*-1)))))","v":0},{"$f":"IF(Q67=0,(0),(IF(R69>(0.0018*4000/Sheet1!$B$9),(ABS(R69*1000*(Sheet1!$B$16*1000-Sheet1!$B$13*10)*-1)),(ABS((0.0018*4000/Sheet1!$B$9)*1000*(Sheet1!$B$16*1000-Sheet1!$B$13*10)*-1)))))","v":0},{"$f":"IF(S53=0,(0),(IF(S69>(0.0018*4000/Sheet1!$B$9),(ABS(S69*1000*(Sheet1!$B$16*1000-Sheet1!$B$13*10)*-1)),(ABS((0.0018*4000/Sheet1!$B$9)*1000*(Sheet1!$B$16*1000-Sheet1!$B$13*10)*-1)))))","v":0},{"$f":"IF(T53=0,(0),(IF(T69>(0.0018*4000/Sheet1!$B$9),(ABS(T69*1000*(Sheet1!$B$16*1000-Sheet1!$B$13*10)*-1)),(ABS((0.0018*4000/Sheet1!$B$9)*1000*(Sheet1!$B$16*1000-Sheet1!$B$13*10)*-1)))))","v":0}]
[]
[]
[null,null,null,null,null,null,"เช็ค punching shear  ",null,null,null,null,null,null,null,"เช็ค punching shear ต้นริม"]
[]
[null,null,null,null,null,null,"V",null,"kg",{"$f":"$K$109","v":13478.641105222738},null,null,{"$f":"$N$109+$Z$109","v":33463.061697223318},{"$f":"$AC$110+$AL$109","v":33463.061697223318},{"$f":"$AO$109+$AX$109","v":13478.641105222738},{"$f":"$BA$109+$BJ$109","v":0},{"$f":"$BM$109","v":0}]
[null,null,null,null,null,null,"V(max) ",null,"kg",{"$f":"MAX(J75,M75,N75,O75,P75,Q75)","v":33463.061697223318},null,null,null,null,"V(max) ",null,"kg",{"$f":"IF(Sheet1!$B$3=2,(MAX($J$75,$N$75)),(IF(Sheet1!$B$3=3,(MAX($J$75,$O$75)),(IF(Sheet1!$B$3=4,(MAX($J$75,$P$75)),(IF(Sheet1!$B$3=5,(MAX($J$75,$Q$75)),(0))))))))","v":13478.641105222738}]
[null,null,null,null,null,null,"Vc",null,"kg",{"$f":"1.06*SQRT(Sheet1!$B$10)","v":18.961856449198219},null,null,null,null,"Vc",null,"kg",{"$f":"1.06*SQRT(Sheet1!$B$10)","v":18.961856449198219}]
[null,null,null,null,null,null,"b1",null,"cm",{"$f":"(Sheet1!$D$9*100)+(Sheet1!$B$16*100)-Sheet1!$B$13","v":72.5},null,null,null,null,"b1",null,"cm",{"$f":"(Sheet1!$D$9*100)+((Sheet1!$B$16*100)-Sheet1!$B$13)/2","v":61.25}]
[null,null,null,null,null,null,"b2",null,"cm",{"$f":"(Sheet1!$D$10*100)+(Sheet1!$B$16*100)-Sheet1!$B$13","v":62.5},null,null,null,null,"b2",null,"cm",{"$f":"(Sheet1!$D$10*100)+(Sheet1!$B$16*100)-Sheet1!$B$13","v":62.5}]
[null,null,null,null,null,null,"d",null,"cm",{"$f":"((Sheet1!$B$16*100)-Sheet1!$B$13)","v":22.5},null,null,null,null,"d",null,"cm",{"$f":"((Sheet1!$B$16*100)-Sheet1!$B$13)","v":22.5}]
[null,null,null,null,null,null,"Ac",null,"cm^2",{"$f":"(J78*J80*2)+(J79*J80*2)","v":6075},null,null,null,null,"Ac",null,"cm^2",{"$f":"2*($R$78*$R$80)+($R$79*$R$80)","v":4162.5}]
[null,null,null,null,null,null,"X1",null,"cm",{"$f":"J78/2","v":36.25},null,null,null,null,"X2,X1",null,"cm",{"$f":"$R$78^2*$R$80/$R$81","v":20.278716216216218},{"$f":"R78-R82","v":40.971283783783782}]
[null,null,null,null,null,null,"Jc",null,"cm^4",{"$f":"(J78^3*J80/6)+(J78*J80^3/6)+(J79*J78^2*J80/2)","v":5262480.46875},null,null,null,null,"Jc",null,"cm^4",{"$f":"(R78*R80^3/6)+(2/3*(S82^3+R82^3)*R80)+R79*R82^2*R80","v":1851297.7393897802}]
[null,null,null,null,null,null,"Mu",null,"kg*m",{"$f":"IF(M75=J76,ABS(N108-Z107),(IF(N75=J76,ABS(AC108-AL107),(IF(O75=J76,ABS(AO108-AX107),(IF(P75=J76,ABS(BA108-BJ107),(0))))))))","v":2647.9504429726512},null,null,null,null,"Mu",null,"kg*m",{"$f":"IF(Sheet1!$B$3=2,(MAX(K107,AC108)),(IF(Sheet1!$B$3=3,(MAX(K107,AO108)),(IF(Sheet1!$B$3=4,(MAX(K107,BA108)),(IF(Sheet1!$B$3=5,(MAX(K107,BM108)),(0))))))))","v":8487.5255280677593}]
[null,null,null,null,null,null,"Mub",null,"kg*m",{"$f":"J84/(1+(2/3)*SQRT(J78/J79))","v":1541.2785648887182},null,null,null,null,"Mub",null,"kg*m",{"$f":"R84/(1+2/3*SQRT(R78/R79))","v":5113.0708974268537}]
[null,null,null,null,null,null,"Muv",null,"kg*m",{"$f":"J84-J85","v":1106.6718780839331},null,null,null,null,"Muv",null,"kg*m",{"$f":"R84-R85","v":3374.4546306409056}]
[null,null,null,null,null,null,"Vu2",null,"kg/cm^2",{"$f":"(J76/J81)+((J86*100)*J82/J83)","v":6.2706412878661757},null,null,null,null,"Vu2",null,"kg/cm^2",{"$f":"R76/R81+(R86*100*R82/R83)","v":6.9344168115799825}]
[null,null,null,null,null,null,"Vc",null,"kg/cm^2",{"$f":"1.06*SQRT(Sheet1!$B$10)","v":18.961856449198219},null,null,null,null,"Vc",null,"kg/cm^2",{"$f":"1.06*SQRT(Sheet1!$B$10)","v":18.961856449198219}]
[]
[]
[]
[]
[]
[]
[]
[]
[]
[]
[]
[]
[]
[]
[]
[]
[]
[null,null,null,null,null,null,null,null,null,"โมเมนต์บวก span 1",null,null,"โมเมนต์ลบ span 1  ขวา",null,null,"โมเมนต์ลบ span 1 ซ้าย",null,null,null,null,null,"โมเมนต์บวก span 2",null,null,"โมเมนต์ลบ span 2  ซ้าย",null,null,"โมเมนต์ลบspan 2 ขวา",null,null,null,null,null,"โมเมนต์บวกสแปน 3",null,null,"โมเมนต์ลบspan 3 ซ้าย",null,null,"โมเมนต์ลบspan 3 ขวา",null,null,null,null,null,"โมเมนต์บวกสแปน 4",null,null,"โมเมนต์ลบสแปน 4 ซ้าย",null,null,"โมเมนต์ลบสแปน 4 ขวา",null,null,null,null,null,"โมเมนต์บวกสแปน 5",null,null,"โมเมนต์ลบ span 5 ซ้าย",null,null,"โมเมนต์ลบ span 5 ขวา"]
[null,null,null,null,null,null,null,null,null,"M 1l =",{"$f":"(K46+AI46+BG46+BS46)*-1","v":8487.5255280677593},null,"M 1l =",{"$f":"(K46+W46+AU46+BS46)*-1","v":8179.2476569286991},null,"M- max span1l =",{"$f":"IF(K107=0,(0),(-K107+0.5*K109*Sheet1!D9-0.25*'r3'!E2*('r3'!B7+'r3'!E7)*Sheet1!D9^2))","v":-5481.9277517620749},null,null,null,null,"M 2l =",{"$f":"(Y46+AW46+BU46)*-1","v":16884.571566170474},null,"M 2l =",{"$f":"(M46+Y46+AW46+BU46)*-1","v":17371.978775163814},null,"M 2l =",{"$f":"(Y46+AK46+BU46+BI46)*-1","v":16672.345402138846},null,null,null,null,"M 3l =",{"$f":"(AM46+O46+BK46+BW46)*-1","v":13906.820001954082},null,"M3l =",{"$f":"(AM46+AA46+BW46+BK46)*-1","v":14724.028332191163},null,"M3l =",{"$f":"(AM46+AY46+O46+BW46)*-1","v":13906.820001954082},null,null,null,null,"m 4l =",{"$f":"(BA46+AC46+BY46)*-1","v":0},null,"m4l =",{"$f":"(BA46+AO46+Q46+BY46)*-1","v":0},null," m4l =",{"$f":"(BA46+BM46+AC46+BY46)*-1","v":0},null,null,null,null,"m5l =",{"$f":"(BO46+AQ46+S46+CA46)*-1","v":0},null,"m5l =",{"$f":"(BO46+BC46+AE46+CA46)*-1","v":0},null,"m5l =",{"$f":"(BO46+AQ46+S46+CA46)*-1","v":0}]
[null,null,null,null,null,null,null,null,null,"M 1r =",{"$f":"(L46+AJ46+BH46+BT46)","v":13906.820001954082},null,"M 1r =",{"$f":"(L46+X46+AV46+BT46)","v":14724.028332191163},null,null,null,null,null,null,null,"M 2r =",{"$f":"(Z46+AX46+BV46)","v":16884.571566170474},null,"M 2r =",{"$f":"Z46+N46+AX46+BV46","v":16672.345402138846},null,"M 2r =",{"$f":"(Z46+AL46+BV46)+BJ46","v":17371.978775163814},null,null,null,null,"M 3r =",{"$f":"(AN46+P46+BL46+BX46)","v":8487.5255280677593},null,"M3r =",{"$f":"AN46+AB46+BL46+BX46","v":8179.2476569286991},null,"M3r =",{"$f":"AN46+AZ46+P46+BX46","v":8487.5255280677593},null,null,null,null,"m 4r =",{"$f":"(BB46+AD46+BZ46)","v":0},null,"m4r =",{"$f":"BB46+AP46+R46+BZ46","v":0},null,"m4r =",{"$f":"(BB46+BN46+BZ46+AD46)","v":0},null,null,null,null,"m5r =",{"$f":"(BP46+AR46+T46+CB46)","v":0},null,"m5r =",{"$f":"BP46+CB46+BD46+AF46","v":0},null,"m5r =",{"$f":"BP46+CB46+AR46+T46","v":0}]
[null,null,null,null,null,null,null,null,null,"V1l =",{"$f":"IF(K107=0,(0),((-K108+K107+(0.5*(B7+E7)*E2*Sheet1!F9^2))/Sheet1!F9))","v":13478.641105222738},null,"V 1r =",{"$f":"IF(N107=0,(0),((N108-N107+0.5*(B7+E7)*E2*Sheet1!$F$9^2)/Sheet1!$F$9))","v":15871.456135052493},null,null,null,null,null,null,null,"V2l =",{"$f":"(-W108+W107+0.5*(B8+E8)*E2*Sheet1!F10^2)/Sheet1!F10","v":17475},null,"V2l  =",{"$f":"IF(Z107=0,(0),((-Z108+Z107+0.5*(B8+E8)*E2*Sheet1!F10^2)/Sheet1!F10))","v":17591.605562170826},null,"V2l =",{"$f":"(-AC108+AC107+0.5*(B8+E8)*E2*Sheet1!F10^2)/Sheet1!F10","v":17358.394437829174},null,null,null,null,"V3l =",{"$f":"(-AI108+AI107+0.5*(B9+E9)*E2*Sheet1!F11^2)/Sheet1!F11","v":15646.358894777262},null,"V3l =",{"$f":"IF(AL107=0,(0),((-AL108+AL107+0.5*(B9+E9)*Sheet1!F11^2*E2)/Sheet1!F11))","v":15871.456135052493},null,"V3r =",{"$f":"IF(AO107=0,(0),((AO108-AO107+0.5*(B9+E9)*E2*Sheet1!F11^2)/Sheet1!F11))","v":13478.641105222738},null,null,null,null,"v4l =",{"$f":"(-AU108+AU107+0.5*(B10+E10)*E2*Sheet1!F12^2)/Sheet1!F12","v":{"$error":"#DIV/0!"}},null,"V4l =",{"$f":"IF(AX107=0,(0),((-AX108+AX107+0.5*(B10+E10)*Sheet1!F12^2*E2)/Sheet1!F12))","v":0},null,"v4r =",{"$f":"IF(BA107=0,(0),((BA108-BA107+0.5*(B10+E10)*E2*Sheet1!F12^2)/Sheet1!F12))","v":0},null,null,null,null,"v5l =",{"$f":"(-BG108+BG107+0.5*(B11+E11)*E2*Sheet1!F13^2)/Sheet1!F13","v":{"$error":"#DIV/0!"}},null,"v5l =",{"$f":"IF(BJ107=0,(0),((-BJ108+BJ107+0.5*(B11+E11)*E2*Sheet1!F13^2)/Sheet1!F13))","v":0},null,"v5r =",{"$f":"IF(BM107=0,(0),((BM108-BM107+0.5*(B11+E11)*E2*Sheet1!F13^2)/Sheet1!F13))","v":0}]
[null,null,null,null,null,null,null,null,null,"ระยะที่ V=0",{"$f":"K109/((B7+E7)*E2)","v":2.3139298034717148},null,"M- max span1r =",{"$f":"IF(N108=0,(0),(0.5*Sheet1!$D$9*'r3'!N109-'r3'!N108-0.25*('r3'!B7+'r3'!E7)*'r3'!E2*Sheet1!$D$9^2))","v":-11120.226798428041},null,null,null,null,null,null,null,"ระยะที่ V=0",{"$f":"W109/((B8+E8)*E2)","v":3},null,"V2 r =",{"$f":"(Z108-Z107+0.5*(B8+E8)*E2*Sheet1!F10^2)/Sheet1!F10","v":17358.394437829174},null,"v2r =",{"$f":"IF(AC107=0,(0),((AC108-AC107+0.5*(B8+E8)*E2*Sheet1!F10^2)/Sheet1!F10))","v":17591.605562170826},null,null,null,null,"ระยะที่ V=0",{"$f":"AI109/((B9+E9)*E2)","v":2.6860701965282852},null,"M- max span3l =",{"$f":"IF(AL107=0,(0),(-AL107+0.5*AL109*Sheet1!D9-0.25*Sheet1!D9^2*'r3'!E2*('r3'!B9+'r3'!E9)))","v":-11120.226798428041},null,"M- max span3r =",{"$f":"IF(AO108=0,(0),(0.5*AO109*Sheet1!D9-'r3'!AO108-0.25*('r3'!B9+'r3'!E9)*'r3'!E2*Sheet1!D9^2))","v":-5481.9277517620749},null,null,null,null,"ระยะที่ v=0",{"$f":"AU109/((B10+E10)*E2)","v":{"$error":"#DIV/0!"}},null,"M- max span4l =",{"$f":"IF(AX107=0,(0),(-AX107+0.5*AX109*Sheet1!D9-0.25*Sheet1!D9^2*'r3'!E2*('r3'!B10+'r3'!E10)))","v":0},null,"M- max span4r =",{"$f":"IF(BA108=0,(0),(0.5*BA109*Sheet1!D9-'r3'!BA108-0.25*('r3'!B10+'r3'!E10)*'r3'!E2*Sheet1!D9^2))","v":0},null,null,null,null,"ระยะที่ v=0",{"$f":"BG109/((B11+E11)*E2)","v":{"$error":"#DIV/0!"}},null,"M- max span 5l =",{"$f":"IF(BJ107=0,(0),(-BJ107+0.5*BJ109*Sheet1!D9-0.25*Sheet1!D9^2*'r3'!E2*('r3'!B11+'r3'!E11)))","v":0},null,"M- max span 5r =",{"$f":"IF(BM108=0,(0),(0.5*BM109*Sheet1!D9-'r3'!BM108-0.25*('r3'!B11+'r3'!E11)*'r3'!E2*Sheet1!D9^2))","v":0}]
[null,null,null,null,null,null,null,null,null,"M1+max=",{"$f":"IF(K107=0,(0),(K109*K110-0.5*(B7+E7)*K110^2*E2-K107))","v":7106.7891537691521},null,"V1l =",{"$f":"(B7+E7)*E2*Sheet1!$F$9-'r3'!N109","v":13253.543864947507},null,null,null,null,null,null,null,"M2+max=",{"$f":"IF(W107=0,(0),((W109*W110)-0.5*(B8+E8)*E2*W110^2-W107))","v":9327.9284338295256},null,"M- max span2l =",{"$f":"IF(Z107=0,(0),(-Z107+0.5*Z109*Sheet1!D9-0.25*(B8+E8)*E2*Sheet1!D9^2))","v":-13338.139884621109},null,"M- max span2r =",{"$f":"IF(AC108=0,(0),(0.5*AC110*Sheet1!D9-'r3'!AC108-0.25*('r3'!B8+'r3'!E8)*'r3'!E2*Sheet1!D9^2))","v":-13338.139884621109},null,null,null,null,"M3+ max =",{"$f":"IF(AI107=0,(0),(AI109*AI110-0.5*(B9+E9)*E2*AI110^2-AI107))","v":7106.7891537691394},null,null,null,null,null,null,null,null,null,null,"M4+ max =",{"$f":"IF(AU107=0,(0),(AU109*AU110-0.5*(B10+E10)*AU110^2*E2-AU107))","v":0},null,null,null,null,null,null,null,null,null,null,"M5+ max =",{"$f":"IF(BG107=0,(0),(BG109*BG110-0.5*(B11+E11)*E2*BG110^2-BG107))","v":0},null,null,null,null,null,null,null,null,null,null,null,null,null,null,null,null,null,null,null,null,null,null,null,null,null,null," "]

{"sheet":"r4","index":4,"n_rows":111,"n_cols":86,"rows_kept":111,"cut":false,"hidden":false,"merged":[[87,18,87,19],[72,15,73,17],[87,6,87,7],[82,6,82,7],[83,6,83,7],[84,6,84,7],[85,6,85,7],[86,6,86,7],[72,12,73,12],[72,13,73,13],[72,14,73,14],[81,6,81,7],[76,6,76,7],[77,6,77,7],[78,6,78,7],[79,6,79,7],[80,6,80,7],[74,9,74,11],[75,9,75,11],[72,6,73,11],[74,6,74,7],[75,6,75,7],[55,6,55,8],[55,9,55,11],[67,10,67,11],[56,10,56,11],[57,10,57,11],[58,10,58,11],[59,10,59,11],[60,10,60,11],[61,10,61,11],[62,10,62,11],[63,10,63,11],[64,10,64,11],[55,12,55,13],[46,10,46,11],[0,0,0,4],[5,0,5,1],[5,3,5,4],[12,0,12,1],[12,3,12,4],[20,9,20,19],[55,14,55,15],[55,16,55,17],[55,18,55,19],[50,10,50,11],[51,10,51,11],[52,10,52,11],[53,10,53,11],[54,10,54,11],[20,57,20,67],[20,69,20,79],[47,10,47,11],[48,10,48,11],[49,9,49,11],[49,12,49,13],[49,14,49,15],[49,18,49,19],[49,16,49,17],[20,21,20,31],[20,33,20,43],[20,45,20,55],[105,60,105,61],[105,63,105,64],[65,10,65,11],[66,10,66,11],[105,45,105,46],[68,10,68,11],[69,10,69,11],[105,9,105,10],[105,12,105,13],[105,15,105,16],[105,21,105,22],[105,24,105,25],[105,27,105,28],[105,33,105,34],[105,36,105,37],[105,39,105,40],[105,48,105,49],[105,51,105,52],[105,57,105,58],[76,9,76,11],[79,9,79,11],[78,9,78,11],[77,9,77,11],[81,9,81,11],[80,9,80,11],[87,12,87,13],[85,9,85,11],[84,9,84,11],[86,9,86,11],[87,9,87,11],[83,9,83,11],[82,9,82,11]]}
["รายการคำนวณโมเมนต์แถบในและกลางตามแกน x"]
["ระยะช่วงพื้น (unit: m)",{"$f":"MAX(Sheet1!F9,Sheet1!F10,Sheet1!F11,Sheet1!F12,Sheet1!F13,Sheet1!L9,Sheet1!L10,Sheet1!L11,Sheet1!L12,Sheet1!F13)","v":6},null,"ความกว้างแถบเสา =",{"$f":"(Sheet1!L11+Sheet1!L12)/2","v":0}]
["ตัวคูณหาความหนาพื้นขั้นต่ำ",{"$f":"0.01*LN(Sheet1!B9)-0.05","v":3.0255163864890078E-2}]
[]
["ความหนาพื้น (unit:m)",{"$f":"IF((B2*B3)>0.12,(B2*B3),(0.12))","v":0.18153098318934047}]
["น้ำหนัก DL+WDS",null,null,"น้ำหนัก LL"]
["Wdl1+Wsd1 (unit:KG/m^2) =",{"$f":"IF(Sheet1!$B$4<=2,(0),(IF(Sheet1!$B$3>=2,(((Sheet1!$B$16*Sheet1!$B$11)+Sheet1!$J$9)*1.4),(0))))","v":0},null,"Wtl1 (unit:kg/m^2) =",{"$f":"IF(Sheet1!$B$4<=2,(0),(IF(Sheet1!$B$3>=2,(1.7*Sheet1!H9),(0))))","v":0}]
["Wdl2+Wsd2 (unit:KG/m^2) =",{"$f":"IF(Sheet1!$B$4<=2,(0),(IF(Sheet1!$B$3>=2,(((Sheet1!$B$16*Sheet1!$B$11)+Sheet1!$J$10)*1.4),(0))))","v":0},null,"Wtl2 (unit:kg/m^2) =",{"$f":"IF(Sheet1!$B$4<=2,(0),(IF(Sheet1!$B$3>=2,(1.7*Sheet1!H10),(0))))","v":0}]
[{"$f":"IF(Sheet1!B3>2,(\"Wdl3+Wsd3 (unit:KG/m^2) =\"),(\"\"))","v":"Wdl3+Wsd3 (unit:KG/m^2) ="},{"$f":"IF(Sheet1!$B$4<=2,(0),(IF(Sheet1!$B$3>=3,(((Sheet1!$B$16*Sheet1!$B$11)+Sheet1!$J$11)*1.4),(0))))","v":0},null,{"$f":"IF(Sheet1!B3>2,(\"Wtl3 (unit:KG/m^2) =\"),(\"\"))","v":"Wtl3 (unit:KG/m^2) ="},{"$f":"IF(Sheet1!$B$4<=2,(0),(IF(Sheet1!$B$3>=2,(1.7*Sheet1!H11),(0))))","v":0}]
[{"$f":"IF(Sheet1!B3>3,(\"Wdl4+Wsd4 (unit:KG/m^2) =\"),(\"\"))","v":""},{"$f":"IF(Sheet1!$B$4<=2,(0),(IF(Sheet1!$B$3>=4,(((Sheet1!$B$16*Sheet1!$B$11)+Sheet1!$J$12)*1.4),(0))))","v":0},null,{"$f":"IF(Sheet1!B3>3,(\"Wtl4 (unit:KG/m^2) =\"),(\"\"))","v":""},{"$f":"IF(Sheet1!$B$4<=2,(0),(IF(Sheet1!$B$3>=2,(1.7*Sheet1!H12),(0))))","v":0}]
[{"$f":"IF(Sheet1!B3>4,(\"Wdl5+Wsd5 (unit:KG/m^2) =\"),(\"\"))","v":""},{"$f":"IF(Sheet1!$B$4<=2,(0),(IF(Sheet1!$B$3>=5,(((Sheet1!$B$16*Sheet1!$B$11)+Sheet1!$J$13)*1.4),(0))))","v":0},null,{"$f":"IF(Sheet1!B3>4,(\"Wtl5 (unit:KG/m^2) =\"),(\"\"))","v":""},{"$f":"IF(Sheet1!$B$4<=2,(0),(IF(Sheet1!$B$3>=2,(1.7*Sheet1!H13),(0))))","v":0}]
[]
["โมเมนต์ DL+WSD",null,null,"โมเมนต LL"]
["FEM.DL1 (unit:kg*m) =",{"$f":"B7*E2*Sheet1!F9^2/12","v":0},null,"FEM.TL1 (unit:kg*m) =",{"$f":"E7*E2*Sheet1!F9^2/12","v":0}]
["FEM.DL2 (unit:kg*m) =",{"$f":"B8*E2*Sheet1!F10^2/12","v":0},null,"FEM.TL2 (unit:kg*m) =",{"$f":"E8*E2*Sheet1!F10^2/12","v":0}]
[{"$f":"IF(Sheet1!B3>=3,(\"FEM.DL3 (unit:kg*m) =\"),(\"\"))","v":"FEM.DL3 (unit:kg*m) ="},{"$f":"IF(Sheet1!B3>=3,('r4'!B9*'r4'!E2*Sheet1!F11^2/12),(0))","v":0},null,{"$f":"IF(Sheet1!B3>=3,(\"FEM.TL3 (unit:kg*m) =\"),(\"\"))","v":"FEM.TL3 (unit:kg*m) ="},{"$f":"IF(Sheet1!B3>=3,('r4'!E9*'r4'!E2*Sheet1!F11^2/12),(0))","v":0}]
[{"$f":"IF(Sheet1!B3>=4,(\"FEM.DL4 (unit:kg*m) =\"),(\"\"))","v":""},{"$f":"IF(Sheet1!B3>=4,('r4'!B10*'r4'!E2*Sheet1!F12^2/12),(0))","v":0},null,{"$f":"IF(Sheet1!B3>=4,(\"FEM.TL4 (unit:kg*m) =\"),(\"\"))","v":""},{"$f":"IF(Sheet1!B3>=4,('r4'!E10*'r4'!E2*Sheet1!F12^2/12),(0))","v":0}]
[{"$f":"IF(Sheet1!B3>=5,(\"FEM.DL5 (unit:kg*m) =\"),(\"\"))","v":""},{"$f":"IF(Sheet1!B3>=5,('r4'!B11*'r4'!E2*Sheet1!F13^2/12),(0))","v":0},null,{"$f":"IF(Sheet1!B3>=5,(\"FEM.TL5 (unit:kg*m) =\"),(\"\"))","v":""},{"$f":"IF(Sheet1!B3>=5,('r4'!E11*'r4'!E2*Sheet1!F13^2/12),(0))","v":0}]
[]
[]
[null,null,null,null,null,null,null,null,null,"วางน้ำหนัก LL    สแปน 1",null,null,null,null,null,null,null,null,null,null,null,"วางน้ำหนัก LL  สแปน 2",null,null,null,null,null,null,null,null,null,null,null,"วางน้ำหนัก LL สแปน 3",null,null,null,null,null,null,null,null,null,null,null,"วางน้ำหนัก LL สแปน 4",null,null,null,null,null,null,null,null,null,null,null,"วางน้ำหนัก LL  สแปน 5",null,null,null,null,null,null,null,null,null,null,null,"วางน้ำหนัก DL ทุกสแปน"]
[null,null,null,null,null,null,null,null,null,null,"1r","2l","2r","3l","3r","4l","4r","5l","5r","6l",null,null,"1r","2l","2r","3l","3r","4l","4r","5l","5r","6l",null,null,"1r","2l","2r","3l","3r","4l","4r","5l","5r","6l",null,null,"1r","2l","2r","3l","3r","4l","4r","5l","5r","6l",null,null,"1r","2l","2r","3l","3r","4l","4r","5l","5r","6l",null,null,"1r","2l","2r","3l","3r","4l","4r","5l","5r","6l"]
[null,null,null,null,null,null,null,null,null,"D.o.f",0.74061988768869502,0.41195377835207719,0.34030964298649852,0.38762306058143758,0.3301974219767802,0.3301974219767802,0.38762306058143758,0.34030964298649852,0.41195377835207719,0.74061988768869502,null,"D.o.f",0.74061988768869502,0.41195377835207719,0.34030964298649852,0.38762306058143758,0.3301974219767802,0.3301974219767802,0.38762306058143758,0.34030964298649852,0.41195377835207719,0.74061988768869502,null,"D.o.f",0.74061988768869502,0.41195377835207719,0.34030964298649852,0.38762306058143758,0.3301974219767802,0.3301974219767802,0.38762306058143758,0.34030964298649852,0.41195377835207719,0.74061988768869502,null,"D.o.f",0.74061988768869502,0.41195377835207719,0.34030964298649852,0.38762306058143758,0.3301974219767802,0.3301974219767802,0.38762306058143758,0.34030964298649852,0.41195377835207719,0.74061988768869502,null,"D.o.f",0.74061988768869502,0.41195377835207719,0.34030964298649852,0.38762306058143758,0.3301974219767802,0.3301974219767802,0.38762306058143758,0.34030964298649852,0.41195377835207719,0.74061988768869502,null,"D.o.f",0.74061988768869502,0.41195377835207719,0.34030964298649852,0.38762306058143758,0.3301974219767802,0.3301974219767802,0.38762306058143758,0.34030964298649852,0.41195377835207719,0.74061988768869502]
[null,null,null,null,null,null,null,null,null,"FEM",{"$f":"E14*-1","v":0},{"$f":"E14","v":0},null,null,null,null,null,null,null,null,null,"FEM",null,null,{"$f":"-E15","v":0},{"$f":"E15","v":0},null,null,null,null,null,null,null,"FEM",null,null,null,null,{"$f":"-E16","v":0},{"$f":"E16","v":0},null,null,null,null,null,"FEM",null,null,null,null,null,null,{"$f":"-E17","v":0},{"$f":"E17","v":0},null,null,null,"FEM",null,null,null,null,null,null,null,null,{"$f":"-E18","v":0},{"$f":"E18","v":0},null,"FEM",{"$f":"-B14","v":0},{"$f":"B14","v":0},{"$f":"-B15","v":0},{"$f":"B15","v":0},{"$f":"-B16","v":0},{"$f":"B16","v":0},{"$f":"-B17","v":0},{"$f":"B17","v":0},{"$f":"-B18","v":0},{"$f":"B18","v":0}]
[null,null,null,null,null,null,null,null,null,"Dis",{"$f":"(K24)*K23*-1","v":0},{"$f":"(L24+M24)*L23*-1","v":0},{"$f":"(M24+L24)*M23*-1","v":0},{"$f":"(N24+O24)*N23*-1","v":0},{"$f":"(O24+N24)*O23*-1","v":0},{"$f":"(P24+Q24)*P23*-1","v":0},{"$f":"(Q24+P24)*Q23*-1","v":0},{"$f":"(R24+S24)*R23*-1","v":0},{"$f":"(S24+R24)*S23*-1","v":0},{"$f":"(T24+U24)*T23*-1","v":0},null,"Dis",{"$f":"(W24)*W23*-1","v":0},{"$f":"(X24+Y24)*X23*-1","v":0},{"$f":"(Y24+X24)*Y23*-1","v":0},{"$f":"(Z24+AA24)*Z23*-1","v":0},{"$f":"(AA24+Z24)*AA23*-1","v":0},{"$f":"(AB24+AC24)*AB23*-1","v":0},{"$f":"(AC24+AB24)*AC23*-1","v":0},{"$f":"(AD24+AE24)*AD23*-1","v":0},{"$f":"(AE24+AD24)*AE23*-1","v":0},{"$f":"(AF24+AG24)*AF23*-1","v":0},null,"Dis",{"$f":"(AI24)*AI23*-1","v":0},{"$f":"(AJ24+AK24)*AJ23*-1","v":0},{"$f":"(AK24+AJ24)*AK23*-1","v":0},{"$f":"(AL24+AM24)*AL23*-1","v":0},{"$f":"(AM24+AL24)*AM23*-1","v":0},{"$f":"(AN24+AO24)*AN23*-1","v":0},{"$f":"(AO24+AN24)*AO23*-1","v":0},{"$f":"(AP24+AQ24)*AP23*-1","v":0},{"$f":"(AQ24+AP24)*AQ23*-1","v":0},{"$f":"(AR24+AS24)*AR23*-1","v":0},null,"Dis",{"$f":"(AU24)*AU23*-1","v":0},{"$f":"(AV24+AW24)*AV23*-1","v":0},{"$f":"(AW24+AV24)*AW23*-1","v":0},{"$f":"(AX24+AY24)*AX23*-1","v":0},{"$f":"(AY24+AX24)*AY23*-1","v":0},{"$f":"(AZ24+BA24)*AZ23*-1","v":0},{"$f":"(BA24+AZ24)*BA23*-1","v":0},{"$f":"(BB24+BC24)*BB23*-1","v":0},{"$f":"(BC24+BB24)*BC23*-1","v":0},{"$f":"(BD24+BE24)*BD23*-1","v":0},null,"Dis",{"$f":"(BG24)*BG23*-1","v":0},{"$f":"(BH24+BI24)*BH23*-1","v":0},{"$f":"(BI24+BH24)*BI23*-1","v":0},{"$f":"(BJ24+BK24)*BJ23*-1","v":0},{"$f":"(BK24+BJ24)*BK23*-1","v":0},{"$f":"(BL24+BM24)*BL23*-1","v":0},{"$f":"(BM24+BL24)*BM23*-1","v":0},{"$f":"(BN24+BO24)*BN23*-1","v":0},{"$f":"(BO24+BN24)*BO23*-1","v":0},{"$f":"(BP24+BQ24)*BP23*-1","v":0},null,"Dis",{"$f":"(BS24)*BS23*-1","v":0},{"$f":"(BT24+BU24)*BT23*-1","v":0},{"$f":"(BU24+BT24)*BU23*-1","v":0},{"$f":"(BV24+BW24)*BV23*-1","v":0},{"$f":"(BW24+BV24)*BW23*-1","v":0},{"$f":"(BX24+BY24)*BX23*-1","v":0},{"$f":"(BY24+BX24)*BY23*-1","v":0},{"$f":"(BZ24+CA24)*BZ23*-1","v":0},{"$f":"(CA24+BZ24)*CA23*-1","v":0},{"$f":"(CB24+CC24)*CB23*-1","v":0}]
[null,null,null,null,null,null,null,null,null,"Co",{"$f":"L25/2","v":0},{"$f":"K25/2","v":0},{"$f":"N25/2","v":0},{"$f":"M25/2","v":0},{"$f":"P25/2","v":0},{"$f":"O25/2","v":0},{"$f":"R25/2","v":0},{"$f":"Q25/2","v":0},{"$f":"T25/2","v":0},{"$f":"S25/2","v":0},null,"Co",{"$f":"X25/2","v":0},{"$f":"W25/2","v":0},{"$f":"Z25/2","v":0},{"$f":"Y25/2","v":0},{"$f":"AB25/2","v":0},{"$f":"AA25/2","v":0},{"$f":"AD25/2","v":0},{"$f":"AC25/2","v":0},{"$f":"AF25/2","v":0},{"$f":"AE25/2","v":0},null,"Co",{"$f":"AJ25/2","v":0},{"$f":"AI25/2","v":0},{"$f":"AL25/2","v":0},{"$f":"AK25/2","v":0},{"$f":"AN25/2","v":0},{"$f":"AM25/2","v":0},{"$f":"AP25/2","v":0},{"$f":"AO25/2","v":0},{"$f":"AR25/2","v":0},{"$f":"AQ25/2","v":0},null,"Co",{"$f":"AV25/2","v":0},{"$f":"AU25/2","v":0},{"$f":"AX25/2","v":0},{"$f":"AW25/2","v":0},{"$f":"AZ25/2","v":0},{"$f":"AY25/2","v":0},{"$f":"BB25/2","v":0},{"$f":"BA25/2","v":0},{"$f":"BD25/2","v":0},{"$f":"BC25/2","v":0},null,"Co",{"$f":"BH25/2","v":0},{"$f":"BG25/2","v":0},{"$f":"BJ25/2","v":0},{"$f":"BI25/2","v":0},{"$f":"BL25/2","v":0},{"$f":"BK25/2","v":0},{"$f":"BN25/2","v":0},{"$f":"BM25/2","v":0},{"$f":"BP25/2","v":0},{"$f":"BO25/2","v":0},null,"Co",{"$f":"BT25/2","v":0},{"$f":"BS25/2","v":0},{"$f":"BV25/2","v":0},{"$f":"BU25/2","v":0},{"$f":"BX25/2","v":0},{"$f":"BW25/2","v":0},{"$f":"BZ25/2","v":0},{"$f":"BY25/2","v":0},{"$f":"CB25/2","v":0},{"$f":"CA25/2","v":0}]
[null,null,null,null,null,null,null,null,null,"dis",{"$f":"(K26)*K23*-1","v":0},{"$f":"(L26+M26)*L23*-1","v":0},{"$f":"(M26+L26)*M23*-1","v":0},{"$f":"(N26+O26)*N23*-1","v":0},{"$f":"(O26+N26)*O23*-1","v":0},{"$f":"(P26+Q26)*P23*-1","v":0},{"$f":"(Q26+P26)*Q23*-1","v":0},{"$f":"(R26+S26)*R23*-1","v":0},{"$f":"(S26+R26)*S23*-1","v":0},{"$f":"(T26+U26)*T23*-1","v":0},null,"dis",{"$f":"(W26)*W23*-1","v":0},{"$f":"(X26+Y26)*X23*-1","v":0},{"$f":"(Y26+X26)*Y23*-1","v":0},{"$f":"(Z26+AA26)*Z23*-1","v":0},{"$f":"(AA26+Z26)*AA23*-1","v":0},{"$f":"(AB26+AC26)*AB23*-1","v":0},{"$f":"(AC26+AB26)*AC23*-1","v":0},{"$f":"(AD26+AE26)*AD23*-1","v":0},{"$f":"(AE26+AD26)*AE23*-1","v":0},{"$f":"(AF26+AG26)*AF23*-1","v":0},null,"dis",{"$f":"(AI26)*AI23*-1","v":0},{"$f":"(AJ26+AK26)*AJ23*-1","v":0},{"$f":"(AK26+AJ26)*AK23*-1","v":0},{"$f":"(AL26+AM26)*AL23*-1","v":0},{"$f":"(AM26+AL26)*AM23*-1","v":0},{"$f":"(AN26+AO26)*AN23*-1","v":0},{"$f":"(AO26+AN26)*AO23*-1","v":0},{"$f":"(AP26+AQ26)*AP23*-1","v":0},{"$f":"(AQ26+AP26)*AQ23*-1","v":0},{"$f":"(AR26+AS26)*AR23*-1","v":0},null,"dis",{"$f":"(AU26)*AU23*-1","v":0},{"$f":"(AV26+AW26)*AV23*-1","v":0},{"$f":"(AW26+AV26)*AW23*-1","v":0},{"$f":"(AX26+AY26)*AX23*-1","v":0},{"$f":"(AY26+AX26)*AY23*-1","v":0},{"$f":"(AZ26+BA26)*AZ23*-1","v":0},{"$f":"(BA26+AZ26)*BA23*-1","v":0},{"$f":"(BB26+BC26)*BB23*-1","v":0},{"$f":"(BC26+BB26)*BC23*-1","v":0},{"$f":"(BD26+BE26)*BD23*-1","v":0},null,"dis",{"$f":"(BG26)*BG23*-1","v":0},{"$f":"(BH26+BI26)*BH23*-1","v":0},{"$f":"(BI26+BH26)*BI23*-1","v":0},{"$f":"(BJ26+BK26)*BJ23*-1","v":0},{"$f":"(BK26+BJ26)*BK23*-1","v":0},{"$f":"(BL26+BM26)*BL23*-1","v":0},{"$f":"(BM26+BL26)*BM23*-1","v":0},{"$f":"(BN26+BO26)*BN23*-1","v":0},{"$f":"(BO26+BN26)*BO23*-1","v":0},{"$f":"(BP26+BQ26)*BP23*-1","v":0},null,"dis",{"$f":"(BS26)*BS23*-1","v":0},{"$f":"(BT26+BU26)*BT23*-1","v":0},{"$f":"(BU26+BT26)*BU23*-1","v":0},{"$f":"(BV26+BW26)*BV23*-1","v":0},{"$f":"(BW26+BV26)*BW23*-1","v":0},{"$f":"(BX26+BY26)*BX23*-1","v":0},{"$f":"(BY26+BX26)*BY23*-1","v":0},{"$f":"(BZ26+CA26)*BZ23*-1","v":0},{"$f":"(CA26+BZ26)*CA23*-1","v":0},{"$f":"(CB26+CC26)*CB23*-1","v":0}]
[null,null,null,null,null,null,null,null,null,"co",{"$f":"L27/2","v":0},{"$f":"K27/2","v":0},{"$f":"N27/2","v":0},{"$f":"M27/2","v":0},{"$f":"P27/2","v":0},{"$f":"O27/2","v":0},{"$f":"R27/2","v":0},{"$f":"Q27/2","v":0},{"$f":"T27/2","v":0},{"$f":"S27/2","v":0},null,"co",{"$f":"X27/2","v":0},{"$f":"W27/2","v":0},{"$f":"Z27/2","v":0},{"$f":"Y27/2","v":0},{"$f":"AB27/2","v":0},{"$f":"AA27/2","v":0},{"$f":"AD27/2","v":0},{"$f":"AC27/2","v":0},{"$f":"AF27/2","v":0},{"$f":"AE27/2","v":0},null,"co",{"$f":"AJ27/2","v":0},{"$f":"AI27/2","v":0},{"$f":"AL27/2","v":0},{"$f":"AK27/2","v":0},{"$f":"AN27/2","v":0},{"$f":"AM27/2","v":0},{"$f":"AP27/2","v":0},{"$f":"AO27/2","v":0},{"$f":"AR27/2","v":0},{"$f":"AQ27/2","v":0},null,"co",{"$f":"AV27/2","v":0},{"$f":"AU27/2","v":0},{"$f":"AX27/2","v":0},{"$f":"AW27/2","v":0},{"$f":"AZ27/2","v":0},{"$f":"AY27/2","v":0},{"$f":"BB27/2","v":0},{"$f":"BA27/2","v":0},{"$f":"BD27/2","v":0},{"$f":"BC27/2","v":0},null,"co",{"$f":"BH27/2","v":0},{"$f":"BG27/2","v":0},{"$f":"BJ27/2","v":0},{"$f":"BI27/2","v":0},{"$f":"BL27/2","v":0},{"$f":"BK27/2","v":0},{"$f":"BN27/2","v":0},{"$f":"BM27/2","v":0},{"$f":"BP27/2","v":0},{"$f":"BO27/2","v":0},null,"co",{"$f":"BT27/2","v":0},{"$f":"BS27/2","v":0},{"$f":"BV27/2","v":0},{"$f":"BU27/2","v":0},{"$f":"BX27/2","v":0},{"$f":"BW27/2","v":0},{"$f":"BZ27/2","v":0},{"$f":"BY27/2","v":0},{"$f":"CB27/2","v":0},{"$f":"CA27/2","v":0}]
[null,null,null,null,null,null,null,null,null,"dis",{"$f":"(K28)*K23*-1","v":0},{"$f":"(L28+M28)*L23*-1","v":0},{"$f":"(M28+L28)*M23*-1","v":0},{"$f":"(N28+O28)*N23*-1","v":0},{"$f":"(O28+N28)*O23*-1","v":0},{"$f":"(P28+Q28)*P23*-1","v":0},{"$f":"(Q28+P28)*Q23*-1","v":0},{"$f":"(R28+S28)*R23*-1","v":0},{"$f":"(S28+R28)*S23*-1","v":0},{"$f":"(T28+U28)*T23*-1","v":0},null,"dis",{"$f":"(W28)*W23*-1","v":0},{"$f":"(X28+Y28)*X23*-1","v":0},{"$f":"(Y28+X28)*Y23*-1","v":0},{"$f":"(Z28+AA28)*Z23*-1","v":0},{"$f":"(AA28+Z28)*AA23*-1","v":0},{"$f":"(AB28+AC28)*AB23*-1","v":0},{"$f":"(AC28+AB28)*AC23*-1","v":0},{"$f":"(AD28+AE28)*AD23*-1","v":0},{"$f":"(AE28+AD28)*AE23*-1","v":0},{"$f":"(AF28+AG28)*AF23*-1","v":0},null,"dis",{"$f":"(AI28)*AI23*-1","v":0},{"$f":"(AJ28+AK28)*AJ23*-1","v":0},{"$f":"(AK28+AJ28)*AK23*-1","v":0},{"$f":"(AL28+AM28)*AL23*-1","v":0},{"$f":"(AM28+AL28)*AM23*-1","v":0},{"$f":"(AN28+AO28)*AN23*-1","v":0},{"$f":"(AO28+AN28)*AO23*-1","v":0},{"$f":"(AP28+AQ28)*AP23*-1","v":0},{"$f":"(AQ28+AP28)*AQ23*-1","v":0},{"$f":"(AR28+AS28)*AR23*-1","v":0},null,"dis",{"$f":"(AU28)*AU23*-1","v":0},{"$f":"(AV28+AW28)*AV23*-1","v":0},{"$f":"(AW28+AV28)*AW23*-1","v":0},{"$f":"(AX28+AY28)*AX23*-1","v":0},{"$f":"(AY28+AX28)*AY23*-1","v":0},{"$f":"(AZ28+BA28)*AZ23*-1","v":0},{"$f":"(BA28+AZ28)*BA23*-1","v":0},{"$f":"(BB28+BC28)*BB23*-1","v":0},{"$f":"(BC28+BB28)*BC23*-1","v":0},{"$f":"(BD28+BE28)*BD23*-1","v":0},null,"dis",{"$f":"(BG28)*BG23*-1","v":0},{"$f":"(BH28+BI28)*BH23*-1","v":0},{"$f":"(BI28+BH28)*BI23*-1","v":0},{"$f":"(BJ28+BK28)*BJ23*-1","v":0},{"$f":"(BK28+BJ28)*BK23*-1","v":0},{"$f":"(BL28+BM28)*BL23*-1","v":0},{"$f":"(BM28+BL28)*BM23*-1","v":0},{"$f":"(BN28+BO28)*BN23*-1","v":0},{"$f":"(BO28+BN28)*BO23*-1","v":0},{"$f":"(BP28+BQ28)*BP23*-1","v":0},null,"dis",{"$f":"(BS28)*BS23*-1","v":0},{"$f":"(BT28+BU28)*BT23*-1","v":0},{"$f":"(BU28+BT28)*BU23*-1","v":0},{"$f":"(BV28+BW28)*BV23*-1","v":0},{"$f":"(BW28+BV28)*BW23*-1","v":0},{"$f":"(BX28+BY28)*BX23*-1","v":0},{"$f":"(BY28+BX28)*BY23*-1","v":0},{"$f":"(BZ28+CA28)*BZ23*-1","v":0},{"$f":"(CA28+BZ28)*CA23*-1","v":0},{"$f":"(CB28+CC28)*CB23*-1","v":0}]
[null,null,null,null,null,null,null,null,null,"co",{"$f":"L29/2","v":0},{"$f":"K29/2","v":0},{"$f":"N29/2","v":0},{"$f":"M29/2","v":0},{"$f":"P29/2","v":0},{"$f":"O29/2","v":0},{"$f":"R29/2","v":0},{"$f":"Q29/2","v":0},{"$f":"T29/2","v":0},{"$f":"S29/2","v":0},null,"co",{"$f":"X29/2","v":0},0,{"$f":"Z29/2","v":0},{"$f":"Y29/2","v":0},{"$f":"AB29/2","v":0},{"$f":"AA29/2","v":0},{"$f":"AD29/2","v":0},{"$f":"AC29/2","v":0},{"$f":"AF29/2","v":0},{"$f":"AE29/2","v":0},null,"co",{"$f":"AJ29/2","v":0},{"$f":"AI29/2","v":0},{"$f":"AL29/2","v":0},{"$f":"AK29/2","v":0},{"$f":"AN29/2","v":0},{"$f":"AM29/2","v":0},{"$f":"AP29/2","v":0},{"$f":"AO29/2","v":0},{"$f":"AR29/2","v":0},{"$f":"AQ29/2","v":0},null,"co",{"$f":"AV29/2","v":0},{"$f":"AU29/2","v":0},{"$f":"AX29/2","v":0},{"$f":"AW29/2","v":0},{"$f":"AZ29/2","v":0},{"$f":"AY29/2","v":0},{"$f":"BB29/2","v":0},{"$f":"BA29/2","v":0},{"$f":"BD29/2","v":0},{"$f":"BC29/2","v":0},null,"co",{"$f":"BH29/2","v":0},{"$f":"BG29/2","v":0},{"$f":"BJ29/2","v":0},{"$f":"BI29/2","v":0},{"$f":"BL29/2","v":0},{"$f":"BK29/2","v":0},{"$f":"BN29/2","v":0},{"$f":"BM29/2","v":0},{"$f":"BP29/2","v":0},{"$f":"BO29/2","v":0},null,"co",{"$f":"BT29/2","v":0},{"$f":"BS29/2","v":0},{"$f":"BV29/2","v":0},{"$f":"BU29/2","v":0},{"$f":"BX29/2","v":0},{"$f":"BW29/2","v":0},{"$f":"BZ29/2","v":0},{"$f":"BY29/2","v":0},{"$f":"CB29/2","v":0},{"$f":"CA29/2","v":0}]
[null,null,null,null,null,null,null,null,null,"dis",{"$f":"(K30)*K23*-1","v":0},{"$f":"(L30+M30)*L23*-1","v":0},{"$f":"(M30+L30)*M23*-1","v":0},{"$f":"(N30+O30)*N23*-1","v":0},{"$f":"(O30+N30)*O23*-1","v":0},{"$f":"(P30+Q30)*P23*-1","v":0},{"$f":"(Q30+P30)*Q23*-1","v":0},{"$f":"(R30+S30)*R23*-1","v":0},{"$f":"(S30+R30)*S23*-1","v":0},{"$f":"(T30+U30)*T23*-1","v":0},null,"dis",{"$f":"(W30)*W23*-1","v":0},{"$f":"(X30+Y30)*X23*-1","v":0},{"$f":"(Y30+X30)*Y23*-1","v":0},{"$f":"(Z30+AA30)*Z23*-1","v":0},{"$f":"(AA30+Z30)*AA23*-1","v":0},{"$f":"(AB30+AC30)*AB23*-1","v":0},{"$f":"(AC30+AB30)*AC23*-1","v":0},{"$f":"(AD30+AE30)*AD23*-1","v":0},{"$f":"(AE30+AD30)*AE23*-1","v":0},{"$f":"(AF30+AG30)*AF23*-1","v":0},null,"dis",{"$f":"(AI30)*AI23*-1","v":0},{"$f":"(AJ30+AK30)*AJ23*-1","v":0},{"$f":"(AK30+AJ30)*AK23*-1","v":0},{"$f":"(AL30+AM30)*AL23*-1","v":0},{"$f":"(AM30+AL30)*AM23*-1","v":0},{"$f":"(AN30+AO30)*AN23*-1","v":0},{"$f":"(AO30+AN30)*AO23*-1","v":0},{"$f":"(AP30+AQ30)*AP23*-1","v":0},{"$f":"(AQ30+AP30)*AQ23*-1","v":0},{"$f":"(AR30+AS30)*AR23*-1","v":0},null,"dis",{"$f":"(AU30)*AU23*-1","v":0},{"$f":"(AV30+AW30)*AV23*-1","v":0},{"$f":"(AW30+AV30)*AW23*-1","v":0},{"$f":"(AX30+AY30)*AX23*-1","v":0},{"$f":"(AY30+AX30)*AY23*-1","v":0},{"$f":"(AZ30+BA30)*AZ23*-1","v":0},{"$f":"(BA30+AZ30)*BA23*-1","v":0},{"$f":"(BB30+BC30)*BB23*-1","v":0},{"$f":"(BC30+BB30)*BC23*-1","v":0},{"$f":"(BD30+BE30)*BD23*-1","v":0},null,"dis",{"$f":"(BG30)*BG23*-1","v":0},{"$f":"(BH30+BI30)*BH23*-1","v":0},{"$f":"(BI30+BH30)*BI23*-1","v":0},{"$f":"(BJ30+BK30)*BJ23*-1","v":0},{"$f":"(BK30+BJ30)*BK23*-1","v":0},{"$f":"(BL30+BM30)*BL23*-1","v":0},{"$f":"(BM30+BL30)*BM23*-1","v":0},{"$f":"(BN30+BO30)*BN23*-1","v":0},{"$f":"(BO30+BN30)*BO23*-1","v":0},{"$f":"(BP30+BQ30)*BP23*-1","v":0},null,"dis",{"$f":"(BS30)*BS23*-1","v":0},{"$f":"(BT30+BU30)*BT23*-1","v":0},{"$f":"(BU30+BT30)*BU23*-1","v":0},{"$f":"(BV30+BW30)*BV23*-1","v":0},{"$f":"(BW30+BV30)*BW23*-1","v":0},{"$f":"(BX30+BY30)*BX23*-1","v":0},{"$f":"(BY30+BX30)*BY23*-1","v":0},{"$f":"(BZ30+CA30)*BZ23*-1","v":0},{"$f":"(CA30+BZ30)*CA23*-1","v":0},{"$f":"(CB30+CC30)*CB23*-1","v":0}]
[null,null,null,null,null,null,null,null,null,"co",{"$f":"L31/2","v":0},{"$f":"K31/2","v":0},{"$f":"N31/2","v":0},{"$f":"M31/2","v":0},{"$f":"P31/2","v":0},{"$f":"O31/2","v":0},{"$f":"R31/2","v":0},{"$f":"Q31/2","v":0},{"$f":"T31/2","v":0},{"$f":"S31/2","v":0},null,"co",{"$f":"X31/2","v":0},{"$f":"W31/2","v":0},{"$f":"Z31/2","v":0},{"$f":"Y31/2","v":0},{"$f":"AB31/2","v":0},{"$f":"AA31/2","v":0},{"$f":"AD31/2","v":0},{"$f":"AC31/2","v":0},{"$f":"AF31/2","v":0},{"$f":"AE31/2","v":0},null,"co",{"$f":"AJ31/2","v":0},{"$f":"AI31/2","v":0},{"$f":"AL31/2","v":0},{"$f":"AK31/2","v":0},{"$f":"AN31/2","v":0},{"$f":"AM31/2","v":0},{"$f":"AP31/2","v":0},{"$f":"AO31/2","v":0},{"$f":"AR31/2","v":0},{"$f":"AQ31/2","v":0},null,"co",{"$f":"AV31/2","v":0},{"$f":"AU31/2","v":0},{"$f":"AX31/2","v":0},{"$f":"AW31/2","v":0},{"$f":"AZ31/2","v":0},{"$f":"AY31/2","v":0},{"$f":"BB31/2","v":0},{"$f":"BA31/2","v":0},{"$f":"BD31/2","v":0},{"$f":"BC31/2","v":0},null,"co",{"$f":"BH31/2","v":0},{"$f":"BG31/2","v":0},{"$f":"BJ31/2","v":0},{"$f":"BI31/2","v":0},{"$f":"BL31/2","v":0},{"$f":"BK31/2","v":0},{"$f":"BN31/2","v":0},{"$f":"BM31/2","v":0},{"$f":"BP31/2","v":0},{"$f":"BO31/2","v":0},null,"co",{"$f":"BT31/2","v":0},{"$f":"BS31/2","v":0},{"$f":"BV31/2","v":0},{"$f":"BU31/2","v":0},{"$f":"BX31/2","v":0},{"$f":"BW31/2","v":0},{"$f":"BZ31/2","v":0},{"$f":"BY31/2","v":0},{"$f":"CB31/2","v":0},{"$f":"CA31/2","v":0}]
[null,null,null,null,null,null,null,null,null,"dis",{"$f":"(K32)*K23*-1","v":0},{"$f":"(L32+M32)*L23*-1","v":0},{"$f":"(M32+L32)*M23*-1","v":0},{"$f":"(N32+O32)*N23*-1","v":0},{"$f":"(O32+N32)*O23*-1","v":0},{"$f":"(P32+Q32)*P23*-1","v":0},{"$f":"(Q32+P32)*Q23*-1","v":0},{"$f":"(R32+S32)*R23*-1","v":0},{"$f":"(S32+R32)*S23*-1","v":0},{"$f":"(T32+U32)*T23*-1","v":0},null,"dis",{"$f":"(W32)*W23*-1","v":0},{"$f":"(X32+Y32)*X23*-1","v":0},{"$f":"(Y32+X32)*Y23*-1","v":0},{"$f":"(Z32+AA32)*Z23*-1","v":0},{"$f":"(AA32+Z32)*AA23*-1","v":0},{"$f":"(AB32+AC32)*AB23*-1","v":0},{"$f":"(AC32+AB32)*AC23*-1","v":0},{"$f":"(AD32+AE32)*AD23*-1","v":0},{"$f":"(AE32+AD32)*AE23*-1","v":0},{"$f":"(AF32+AG32)*AF23*-1","v":0},null,"dis",{"$f":"(AI32)*AI23*-1","v":0},{"$f":"(AJ32+AK32)*AJ23*-1","v":0},{"$f":"(AK32+AJ32)*AK23*-1","v":0},{"$f":"(AL32+AM32)*AL23*-1","v":0},{"$f":"(AM32+AL32)*AM23*-1","v":0},{"$f":"(AN32+AO32)*AN23*-1","v":0},{"$f":"(AO32+AN32)*AO23*-1","v":0},{"$f":"(AP32+AQ32)*AP23*-1","v":0},{"$f":"(AQ32+AP32)*AQ23*-1","v":0},{"$f":"(AR32+AS32)*AR23*-1","v":0},null,"dis",{"$f":"(AU32)*AU23*-1","v":0},{"$f":"(AV32+AW32)*AV23*-1","v":0},{"$f":"(AW32+AV32)*AW23*-1","v":0},{"$f":"(AX32+AY32)*AX23*-1","v":0},{"$f":"(AY32+AX32)*AY23*-1","v":0},{"$f":"(AZ32+BA32)*AZ23*-1","v":0},{"$f":"(BA32+AZ32)*BA23*-1","v":0},{"$f":"(BB32+BC32)*BB23*-1","v":0},{"$f":"(BC32+BB32)*BC23*-1","v":0},{"$f":"(BD32+BE32)*BD23*-1","v":0},null,"dis",{"$f":"(BG32)*BG23*-1","v":0},{"$f":"(BH32+BI32)*BH23*-1","v":0},{"$f":"(BI32+BH32)*BI23*-1","v":0},{"$f":"(BJ32+BK32)*BJ23*-1","v":0},{"$f":"(BK32+BJ32)*BK23*-1","v":0},{"$f":"(BL32+BM32)*BL23*-1","v":0},{"$f":"(BM32+BL32)*BM23*-1","v":0},{"$f":"(BN32+BO32)*BN23*-1","v":0},{"$f":"(BO32+BN32)*BO23*-1","v":0},{"$f":"(BP32+BQ32)*BP23*-1","v":0},null,"dis",{"$f":"(BS32)*BS23*-1","v":0},{"$f":"(BT32+BU32)*BT23*-1","v":0},{"$f":"(BU32+BT32)*BU23*-1","v":0},{"$f":"(BV32+BW32)*BV23*-1","v":0},{"$f":"(BW32+BV32)*BW23*-1","v":0},{"$f":"(BX32+BY32)*BX23*-1","v":0},{"$f":"(BY32+BX32)*BY23*-1","v":0},{"$f":"(BZ32+CA32)*BZ23*-1","v":0},{"$f":"(CA32+BZ32)*CA23*-1","v":0},{"$f":"(CB32+CC32)*CB23*-1","v":0}]
[null,null,null,null,null,null,null,null,null,"co",{"$f":"L33/2","v":0},{"$f":"K33/2","v":0},{"$f":"N33/2","v":0},{"$f":"M33/2","v":0},{"$f":"P33/2","v":0},{"$f":"O33/2","v":0},{"$f":"R33/2","v":0},{"$f":"Q33/2","v":0},{"$f":"T33/2","v":0},{"$f":"S33/2","v":0},null,"co",{"$f":"X33/2","v":0},{"$f":"W33/2","v":0},{"$f":"Z33/2","v":0},{"$f":"Y33/2","v":0},{"$f":"AB33/2","v":0},{"$f":"AA33/2","v":0},{"$f":"AD33/2","v":0},{"$f":"AC33/2","v":0},{"$f":"AF33/2","v":0},{"$f":"AE33/2","v":0},null,"co",{"$f":"AJ33/2","v":0},{"$f":"AI33/2","v":0},{"$f":"AL33/2","v":0},{"$f":"AK33/2","v":0},{"$f":"AN33/2","v":0},{"$f":"AM33/2","v":0},{"$f":"AP33/2","v":0},{"$f":"AO33/2","v":0},{"$f":"AR33/2","v":0},{"$f":"AQ33/2","v":0},null,"co",{"$f":"AV33/2","v":0},{"$f":"AU33/2","v":0},{"$f":"AX33/2","v":0},{"$f":"AW33/2","v":0},{"$f":"AZ33/2","v":0},{"$f":"AY33/2","v":0},{"$f":"BB33/2","v":0},{"$f":"BA33/2","v":0},{"$f":"BD33/2","v":0},{"$f":"BC33/2","v":0},null,"co",{"$f":"BH33/2","v":0},{"$f":"BG33/2","v":0},{"$f":"BJ33/2","v":0},{"$f":"BI33/2","v":0},{"$f":"BL33/2","v":0},{"$f":"BK33/2","v":0},{"$f":"BN33/2","v":0},{"$f":"BM33/2","v":0},{"$f":"BP33/2","v":0},{"$f":"BO33/2","v":0},null,"co",{"$f":"BT33/2","v":0},{"$f":"BS33/2","v":0},{"$f":"BV33/2","v":0},{"$f":"BU33/2","v":0},{"$f":"BX33/2","v":0},{"$f":"BW33/2","v":0},{"$f":"BZ33/2","v":0},{"$f":"BY33/2","v":0},{"$f":"CB33/2","v":0},{"$f":"CA33/2","v":0}]
[null,null,null,null,null,null,null,null,null,"dis",{"$f":"(K34)*K23*-1","v":0},{"$f":"(L34+M34)*L23*-1","v":0},{"$f":"(M34+L34)*M23*-1","v":0},{"$f":"(N34+O34)*N23*-1","v":0},{"$f":"(O34+N34)*O23*-1","v":0},{"$f":"(P34+Q34)*P23*-1","v":0},{"$f":"(Q34+P34)*Q23*-1","v":0},{"$f":"(R34+S34)*R23*-1","v":0},{"$f":"(S34+R34)*S23*-1","v":0},{"$f":"(T34+U34)*T23*-1","v":0},null,"dis",{"$f":"(W34)*W23*-1","v":0},{"$f":"(X34+Y34)*X23*-1","v":0},{"$f":"(Y34+X34)*Y23*-1","v":0},{"$f":"(Z34+AA34)*Z23*-1","v":0},{"$f":"(AA34+Z34)*AA23*-1","v":0},{"$f":"(AB34+AC34)*AB23*-1","v":0},{"$f":"(AC34+AB34)*AC23*-1","v":0},{"$f":"(AD34+AE34)*AD23*-1","v":0},{"$f":"(AE34+AD34)*AE23*-1","v":0},{"$f":"(AF34+AG34)*AF23*-1","v":0},null,"dis",{"$f":"(AI34)*AI23*-1","v":0},{"$f":"(AJ34+AK34)*AJ23*-1","v":0},{"$f":"(AK34+AJ34)*AK23*-1","v":0},{"$f":"(AL34+AM34)*AL23*-1","v":0},{"$f":"(AM34+AL34)*AM23*-1","v":0},{"$f":"(AN34+AO34)*AN23*-1","v":0},{"$f":"(AO34+AN34)*AO23*-1","v":0},{"$f":"(AP34+AQ34)*AP23*-1","v":0},{"$f":"(AQ34+AP34)*AQ23*-1","v":0},{"$f":"(AR34+AS34)*AR23*-1","v":0},null,"dis",{"$f":"(AU34)*AU23*-1","v":0},{"$f":"(AV34+AW34)*AV23*-1","v":0},{"$f":"(AW34+AV34)*AW23*-1","v":0},{"$f":"(AX34+AY34)*AX23*-1","v":0},{"$f":"(AY34+AX34)*AY23*-1","v":0},{"$f":"(AZ34+BA34)*AZ23*-1","v":0},{"$f":"(BA34+AZ34)*BA23*-1","v":0},{"$f":"(BB34+BC34)*BB23*-1","v":0},{"$f":"(BC34+BB34)*BC23*-1","v":0},{"$f":"(BD34+BE34)*BD23*-1","v":0},null,"dis",{"$f":"(BG34)*BG23*-1","v":0},{"$f":"(BH34+BI34)*BH23*-1","v":0},{"$f":"(BI34+BH34)*BI23*-1","v":0},{"$f":"(BJ34+BK34)*BJ23*-1","v":0},{"$f":"(BK34+BJ34)*BK23*-1","v":0},{"$f":"(BL34+BM34)*BL23*-1","v":0},{"$f":"(BM34+BL34)*BM23*-1","v":0},{"$f":"(BN34+BO34)*BN23*-1","v":0},{"$f":"(BO34+BN34)*BO23*-1","v":0},{"$f":"(BP34+BQ34)*BP23*-1","v":0},null,"dis",{"$f":"(BS34)*BS23*-1","v":0},{"$f":"(BT34+BU34)*BT23*-1","v":0},{"$f":"(BU34+BT34)*BU23*-1","v":0},{"$f":"(BV34+BW34)*BV23*-1","v":0},{"$f":"(BW34+BV34)*BW23*-1","v":0},{"$f":"(BX34+BY34)*BX23*-1","v":0},{"$f":"(BY34+BX34)*BY23*-1","v":0},{"$f":"(BZ34+CA34)*BZ23*-1","v":0},{"$f":"(CA34+BZ34)*CA23*-1","v":0},{"$f":"(CB34+CC34)*CB23*-1","v":0}]
[null,null,null,null,null,null,null,null,null,"co",{"$f":"L35/2","v":0},{"$f":"K35/2","v":0},{"$f":"N35/2","v":0},{"$f":"M35/2","v":0},{"$f":"P35/2","v":0},{"$f":"O35/2","v":0},{"$f":"R35/2","v":0},{"$f":"Q35/2","v":0},{"$f":"T35/2","v":0},{"$f":"S35/2","v":0},null,"co",{"$f":"X35/2","v":0},0,{"$f":"Z35/2","v":0},{"$f":"Y35/2","v":0},{"$f":"AB35/2","v":0},{"$f":"AA35/2","v":0},{"$f":"AD35/2","v":0},{"$f":"AC35/2","v":0},{"$f":"AF35/2","v":0},{"$f":"AE35/2","v":0},null,"co",{"$f":"AJ35/2","v":0},{"$f":"AI35/2","v":0},{"$f":"AL35/2","v":0},{"$f":"AK35/2","v":0},{"$f":"AN35/2","v":0},{"$f":"AM35/2","v":0},{"$f":"AP35/2","v":0},{"$f":"AO35/2","v":0},{"$f":"AR35/2","v":0},{"$f":"AQ35/2","v":0},null,"co",{"$f":"AV35/2","v":0},{"$f":"AU35/2","v":0},{"$f":"AX35/2","v":0},{"$f":"AW35/2","v":0},{"$f":"AZ35/2","v":0},{"$f":"AY35/2","v":0},{"$f":"BB35/2","v":0},{"$f":"BA35/2","v":0},{"$f":"BD35/2","v":0},{"$f":"BC35/2","v":0},null,"co",{"$f":"BH35/2","v":0},{"$f":"BG35/2","v":0},{"$f":"BJ35/2","v":0},{"$f":"BI35/2","v":0},{"$f":"BL35/2","v":0},{"$f":"BK35/2","v":0},{"$f":"BN35/2","v":0},{"$f":"BM35/2","v":0},{"$f":"BP35/2","v":0},{"$f":"BO35/2","v":0},null,"co",{"$f":"BT35/2","v":0},{"$f":"BS35/2","v":0},{"$f":"BV35/2","v":0},{"$f":"BU35/2","v":0},{"$f":"BX35/2","v":0},{"$f":"BW35/2","v":0},{"$f":"BZ35/2","v":0},{"$f":"BY35/2","v":0},{"$f":"CB35/2","v":0},{"$f":"CA35/2","v":0}]
[null,null,null,null,null,null,null,null,null,"dis",{"$f":"(K36)*K23*-1","v":0},{"$f":"(L36+M36)*L23*-1","v":0},{"$f":"(M36+L36)*M23*-1","v":0},{"$f":"(N36+O36)*N23*-1","v":0},{"$f":"(O36+N36)*O23*-1","v":0},{"$f":"(P36+Q36)*P23*-1","v":0},{"$f":"(Q36+P36)*Q23*-1","v":0},{"$f":"(R36+S36)*R23*-1","v":0},{"$f":"(S36+R36)*S23*-1","v":0},{"$f":"(T36+U36)*T23*-1","v":0},null,"dis",{"$f":"(W36)*W23*-1","v":0},{"$f":"(X36+Y36)*X23*-1","v":0},{"$f":"(Y36+X36)*Y23*-1","v":0},{"$f":"(Z36+AA36)*Z23*-1","v":0},{"$f":"(AA36+Z36)*AA23*-1","v":0},{"$f":"(AB36+AC36)*AB23*-1","v":0},{"$f":"(AC36+AB36)*AC23*-1","v":0},{"$f":"(AD36+AE36)*AD23*-1","v":0},{"$f":"(AE36+AD36)*AE23*-1","v":0},{"$f":"(AF36+AG36)*AF23*-1","v":0},null,"dis",{"$f":"(AI36)*AI23*-1","v":0},{"$f":"(AJ36+AK36)*AJ23*-1","v":0},{"$f":"(AK36+AJ36)*AK23*-1","v":0},{"$f":"(AL36+AM36)*AL23*-1","v":0},{"$f":"(AM36+AL36)*AM23*-1","v":0},{"$f":"(AN36+AO36)*AN23*-1","v":0},{"$f":"(AO36+AN36)*AO23*-1","v":0},{"$f":"(AP36+AQ36)*AP23*-1","v":0},{"$f":"(AQ36+AP36)*AQ23*-1","v":0},{"$f":"(AR36+AS36)*AR23*-1","v":0},null,"dis",{"$f":"(AU36)*AU23*-1","v":0},{"$f":"(AV36+AW36)*AV23*-1","v":0},{"$f":"(AW36+AV36)*AW23*-1","v":0},{"$f":"(AX36+AY36)*AX23*-1","v":0},{"$f":"(AY36+AX36)*AY23*-1","v":0},{"$f":"(AZ36+BA36)*AZ23*-1","v":0},{"$f":"(BA36+AZ36)*BA23*-1","v":0},{"$f":"(BB36+BC36)*BB23*-1","v":0},{"$f":"(BC36+BB36)*BC23*-1","v":0},{"$f":"(BD36+BE36)*BD23*-1","v":0},null,"dis",{"$f":"(BG36)*BG23*-1","v":0},{"$f":"(BH36+BI36)*BH23*-1","v":0},{"$f":"(BI36+BH36)*BI23*-1","v":0},{"$f":"(BJ36+BK36)*BJ23*-1","v":0},{"$f":"(BK36+BJ36)*BK23*-1","v":0},{"$f":"(BL36+BM36)*BL23*-1","v":0},{"$f":"(BM36+BL36)*BM23*-1","v":0},{"$f":"(BN36+BO36)*BN23*-1","v":0},{"$f":"(BO36+BN36)*BO23*-1","v":0},{"$f":"(BP36+BQ36)*BP23*-1","v":0},null,"dis",{"$f":"(BS36)*BS23*-1","v":0},{"$f":"(BT36+BU36)*BT23*-1","v":0},{"$f":"(BU36+BT36)*BU23*-1","v":0},{"$f":"(BV36+BW36)*BV23*-1","v":0},{"$f":"(BW36+BV36)*BW23*-1","v":0},{"$f":"(BX36+BY36)*BX23*-1","v":0},{"$f":"(BY36+BX36)*BY23*-1","v":0},{"$f":"(BZ36+CA36)*BZ23*-1","v":0},{"$f":"(CA36+BZ36)*CA23*-1","v":0},{"$f":"(CB36+CC36)*CB23*-1","v":0}]
[null,null,null,null,null,null,null,null,null,"co",{"$f":"L37/2","v":0},{"$f":"K37/2","v":0},{"$f":"N37/2","v":0},{"$f":"M37/2","v":0},{"$f":"P37/2","v":0},{"$f":"O37/2","v":0},{"$f":"R37/2","v":0},{"$f":"Q37/2","v":0},{"$f":"T37/2","v":0},{"$f":"S37/2","v":0},null,"co",{"$f":"X37/2","v":0},{"$f":"W37/2","v":0},{"$f":"Z37/2","v":0},{"$f":"Y37/2","v":0},{"$f":"AB37/2","v":0},{"$f":"AA37/2","v":0},{"$f":"AD37/2","v":0},{"$f":"AC37/2","v":0},{"$f":"AF37/2","v":0},{"$f":"AE37/2","v":0},null,"co",{"$f":"AJ37/2","v":0},{"$f":"AI37/2","v":0},{"$f":"AL37/2","v":0},{"$f":"AK37/2","v":0},{"$f":"AN37/2","v":0},{"$f":"AM37/2","v":0},{"$f":"AP37/2","v":0},{"$f":"AO37/2","v":0},{"$f":"AR37/2","v":0},{"$f":"AQ37/2","v":0},null,"co",{"$f":"AV37/2","v":0},{"$f":"AU37/2","v":0},{"$f":"AX37/2","v":0},{"$f":"AW37/2","v":0},{"$f":"AZ37/2","v":0},{"$f":"AY37/2","v":0},{"$f":"BB37/2","v":0},{"$f":"BA37/2","v":0},{"$f":"BD37/2","v":0},{"$f":"BC37/2","v":0},null,"co",{"$f":"BH37/2","v":0},{"$f":"BG37/2","v":0},{"$f":"BJ37/2","v":0},{"$f":"BI37/2","v":0},{"$f":"BL37/2","v":0},{"$f":"BK37/2","v":0},{"$f":"BN37/2","v":0},{"$f":"BM37/2","v":0},{"$f":"BP37/2","v":0},{"$f":"BO37/2","v":0},null,"co",{"$f":"BT37/2","v":0},{"$f":"BS37/2","v":0},{"$f":"BV37/2","v":0},{"$f":"BU37/2","v":0},{"$f":"BX37/2","v":0},{"$f":"BW37/2","v":0},{"$f":"BZ37/2","v":0},{"$f":"BY37/2","v":0},{"$f":"CB37/2","v":0},{"$f":"CA37/2","v":0}]
[null,null,null,null,null,null,null,null,null,"dis",{"$f":"(K38)*K23*-1","v":0},{"$f":"(L38+M38)*L23*-1","v":0},{"$f":"(M38+L38)*M23*-1","v":0},{"$f":"(N38+O38)*N23*-1","v":0},{"$f":"(O38+N38)*O23*-1","v":0},{"$f":"(P38+Q38)*P23*-1","v":0},{"$f":"(Q38+P38)*Q23*-1","v":0},{"$f":"(R38+S38)*R23*-1","v":0},{"$f":"(S38+R38)*S23*-1","v":0},{"$f":"(T38+U38)*T23*-1","v":0},null,"dis",{"$f":"(W38)*W23*-1","v":0},{"$f":"(X38+Y38)*X23*-1","v":0},{"$f":"(Y38+X38)*Y23*-1","v":0},{"$f":"(Z38+AA38)*Z23*-1","v":0},{"$f":"(AA38+Z38)*AA23*-1","v":0},{"$f":"(AB38+AC38)*AB23*-1","v":0},{"$f":"(AC38+AB38)*AC23*-1","v":0},{"$f":"(AD38+AE38)*AD23*-1","v":0},{"$f":"(AE38+AD38)*AE23*-1","v":0},{"$f":"(AF38+AG38)*AF23*-1","v":0},null,"dis",{"$f":"(AI38)*AI23*-1","v":0},{"$f":"(AJ38+AK38)*AJ23*-1","v":0},{"$f":"(AK38+AJ38)*AK23*-1","v":0},{"$f":"(AL38+AM38)*AL23*-1","v":0},{"$f":"(AM38+AL38)*AM23*-1","v":0},{"$f":"(AN38+AO38)*AN23*-1","v":0},{"$f":"(AO38+AN38)*AO23*-1","v":0},{"$f":"(AP38+AQ38)*AP23*-1","v":0},{"$f":"(AQ38+AP38)*AQ23*-1","v":0},{"$f":"(AR38+AS38)*AR23*-1","v":0},null,"dis",{"$f":"(AU38)*AU23*-1","v":0},{"$f":"(AV38+AW38)*AV23*-1","v":0},{"$f":"(AW38+AV38)*AW23*-1","v":0},{"$f":"(AX38+AY38)*AX23*-1","v":0},{"$f":"(AY38+AX38)*AY23*-1","v":0},{"$f":"(AZ38+BA38)*AZ23*-1","v":0},{"$f":"(BA38+AZ38)*BA23*-1","v":0},{"$f":"(BB38+BC38)*BB23*-1","v":0},{"$f":"(BC38+BB38)*BC23*-1","v":0},{"$f":"(BD38+BE38)*BD23*-1","v":0},null,"dis",{"$f":"(BG38)*BG23*-1","v":0},{"$f":"(BH38+BI38)*BH23*-1","v":0},{"$f":"(BI38+BH38)*BI23*-1","v":0},{"$f":"(BJ38+BK38)*BJ23*-1","v":0},{"$f":"(BK38+BJ38)*BK23*-1","v":0},{"$f":"(BL38+BM38)*BL23*-1","v":0},{"$f":"(BM38+BL38)*BM23*-1","v":0},{"$f":"(BN38+BO38)*BN23*-1","v":0},{"$f":"(BO38+BN38)*BO23*-1","v":0},{"$f":"(BP38+BQ38)*BP23*-1","v":0},null,"dis",{"$f":"(BS38)*BS23*-1","v":0},{"$f":"(BT38+BU38)*BT23*-1","v":0},{"$f":"(BU38+BT38)*BU23*-1","v":0},{"$f":"(BV38+BW38)*BV23*-1","v":0},{"$f":"(BW38+BV38)*BW23*-1","v":0},{"$f":"(BX38+BY38)*BX23*-1","v":0},{"$f":"(BY38+BX38)*BY23*-1","v":0},{"$f":"(BZ38+CA38)*BZ23*-1","v":0},{"$f":"(CA38+BZ38)*CA23*-1","v":0},{"$f":"(CB38+CC38)*CB23*-1","v":0}]
[null,null,null,null,null,null,null,null,null,"co",{"$f":"L39/2","v":0},{"$f":"K39/2","v":0},{"$f":"N39/2","v":0},{"$f":"M39/2","v":0},{"$f":"P39/2","v":0},{"$f":"O39/2","v":0},{"$f":"R39/2","v":0},{"$f":"Q39/2","v":0},{"$f":"T39/2","v":0},{"$f":"S39/2","v":0},null,"co",{"$f":"X39/2","v":0},{"$f":"W39/2","v":0},{"$f":"Z39/2","v":0},{"$f":"Y39/2","v":0},{"$f":"AB39/2","v":0},{"$f":"AA39/2","v":0},{"$f":"AD39/2","v":0},{"$f":"AC39/2","v":0},{"$f":"AF39/2","v":0},{"$f":"AE39/2","v":0},null,"co",{"$f":"AJ39/2","v":0},{"$f":"AI39/2","v":0},{"$f":"AL39/2","v":0},{"$f":"AK39/2","v":0},{"$f":"AN39/2","v":0},{"$f":"AM39/2","v":0},{"$f":"AP39/2","v":0},{"$f":"AO39/2","v":0},{"$f":"AR39/2","v":0},{"$f":"AQ39/2","v":0},null,"co",{"$f":"AV39/2","v":0},{"$f":"AU39/2","v":0},{"$f":"AX39/2","v":0},{"$f":"AW39/2","v":0},{"$f":"AZ39/2","v":0},{"$f":"AY39/2","v":0},{"$f":"BB39/2","v":0},{"$f":"BA39/2","v":0},{"$f":"BD39/2","v":0},{"$f":"BC39/2","v":0},null,"co",{"$f":"BH39/2","v":0},{"$f":"BG39/2","v":0},{"$f":"BJ39/2","v":0},{"$f":"BI39/2","v":0},{"$f":"BL39/2","v":0},{"$f":"BK39/2","v":0},{"$f":"BN39/2","v":0},{"$f":"BM39/2","v":0},{"$f":"BP39/2","v":0},{"$f":"BO39/2","v":0},null,"co",{"$f":"BT39/2","v":0},{"$f":"BS39/2","v":0},{"$f":"BV39/2","v":0},{"$f":"BU39/2","v":0},{"$f":"BX39/2","v":0},{"$f":"BW39/2","v":0},{"$f":"BZ39/2","v":0},{"$f":"BY39/2","v":0},{"$f":"CB39/2","v":0},{"$f":"CA39/2","v":0}]
[null,null,null,null,null,null,null,null,null,"dis",{"$f":"(K40)*K23*-1","v":0},{"$f":"(L40+M40)*L23*-1","v":0},{"$f":"(M40+L40)*M23*-1","v":0},{"$f":"(N40+O40)*N23*-1","v":0},{"$f":"(O40+N40)*O23*-1","v":0},{"$f":"(P40+Q40)*P23*-1","v":0},{"$f":"(Q40+P40)*Q23*-1","v":0},{"$f":"(R40+S40)*R23*-1","v":0},{"$f":"(S40+R40)*S23*-1","v":0},{"$f":"(T40+U40)*T23*-1","v":0},null,"dis",{"$f":"(W40)*W23*-1","v":0},{"$f":"(X40+Y40)*X23*-1","v":0},{"$f":"(Y40+X40)*Y23*-1","v":0},{"$f":"(Z40+AA40)*Z23*-1","v":0},{"$f":"(AA40+Z40)*AA23*-1","v":0},{"$f":"(AB40+AC40)*AB23*-1","v":0},{"$f":"(AC40+AB40)*AC23*-1","v":0},{"$f":"(AD40+AE40)*AD23*-1","v":0},{"$f":"(AE40+AD40)*AE23*-1","v":0},{"$f":"(AF40+AG40)*AF23*-1","v":0},null,"dis",{"$f":"(AI40)*AI23*-1","v":0},{"$f":"(AJ40+AK40)*AJ23*-1","v":0},{"$f":"(AK40+AJ40)*AK23*-1","v":0},{"$f":"(AL40+AM40)*AL23*-1","v":0},{"$f":"(AM40+AL40)*AM23*-1","v":0},{"$f":"(AN40+AO40)*AN23*-1","v":0},{"$f":"(AO40+AN40)*AO23*-1","v":0},{"$f":"(AP40+AQ40)*AP23*-1","v":0},{"$f":"(AQ40+AP40)*AQ23*-1","v":0},{"$f":"(AR40+AS40)*AR23*-1","v":0},null,"dis",{"$f":"(AU40)*AU23*-1","v":0},{"$f":"(AV40+AW40)*AV23*-1","v":0},{"$f":"(AW40+AV40)*AW23*-1","v":0},{"$f":"(AX40+AY40)*AX23*-1","v":0},{"$f":"(AY40+AX40)*AY23*-1","v":0},{"$f":"(AZ40+BA40)*AZ23*-1","v":0},{"$f":"(BA40+AZ40)*BA23*-1","v":0},{"$f":"(BB40+BC40)*BB23*-1","v":0},{"$f":"(BC40+BB40)*BC23*-1","v":0},{"$f":"(BD40+BE40)*BD23*-1","v":0},null,"dis",{"$f":"(BG40)*BG23*-1","v":0},{"$f":"(BH40+BI40)*BH23*-1","v":0},{"$f":"(BI40+BH40)*BI23*-1","v":0},{"$f":"(BJ40+BK40)*BJ23*-1","v":0},{"$f":"(BK40+BJ40)*BK23*-1","v":0},{"$f":"(BL40+BM40)*BL23*-1","v":0},{"$f":"(BM40+BL40)*BM23*-1","v":0},{"$f":"(BN40+BO40)*BN23*-1","v":0},{"$f":"(BO40+BN40)*BO23*-1","v":0},{"$f":"(BP40+BQ40)*BP23*-1","v":0},null,"dis",{"$f":"(BS40)*BS23*-1","v":0},{"$f":"(BT40+BU40)*BT23*-1","v":0},{"$f":"(BU40+BT40)*BU23*-1","v":0},{"$f":"(BV40+BW40)*BV23*-1","v":0},{"$f":"(BW40+BV40)*BW23*-1","v":0},{"$f":"(BX40+BY40)*BX23*-1","v":0},{"$f":"(BY40+BX40)*BY23*-1","v":0},{"$f":"(BZ40+CA40)*BZ23*-1","v":0},{"$f":"(CA40+BZ40)*CA23*-1","v":0},{"$f":"(CB40+CC40)*CB23*-1","v":0}]
[null,null,null,null,null,null,null,null,null,"co",{"$f":"L41/2","v":0},{"$f":"K41/2","v":0},{"$f":"N41/2","v":0},{"$f":"M41/2","v":0},{"$f":"P41/2","v":0},{"$f":"O41/2","v":0},{"$f":"R41/2","v":0},{"$f":"Q41/2","v":0},{"$f":"T41/2","v":0},{"$f":"S41/2","v":0},null,"co",{"$f":"X41/2","v":0},{"$f":"W41/2","v":0},{"$f":"Z41/2","v":0},{"$f":"Y41/2","v":0},{"$f":"AB41/2","v":0},{"$f":"AA41/2","v":0},{"$f":"AD41/2","v":0},{"$f":"AC41/2","v":0},{"$f":"AF41/2","v":0},{"$f":"AE41/2","v":0},null,"co",{"$f":"AJ41/2","v":0},{"$f":"AI41/2","v":0},{"$f":"AL41/2","v":0},{"$f":"AK41/2","v":0},{"$f":"AN41/2","v":0},{"$f":"AM41/2","v":0},{"$f":"AP41/2","v":0},{"$f":"AO41/2","v":0},{"$f":"AR41/2","v":0},{"$f":"AQ41/2","v":0},null,"co",{"$f":"AV41/2","v":0},{"$f":"AU41/2","v":0},{"$f":"AX41/2","v":0},{"$f":"AW41/2","v":0},{"$f":"AZ41/2","v":0},{"$f":"AY41/2","v":0},{"$f":"BB41/2","v":0},{"$f":"BA41/2","v":0},{"$f":"BD41/2","v":0},{"$f":"BC41/2","v":0},null,"co",{"$f":"BH41/2","v":0},{"$f":"BG41/2","v":0},{"$f":"BJ41/2","v":0},{"$f":"BI41/2","v":0},{"$f":"BL41/2","v":0},{"$f":"BK41/2","v":0},{"$f":"BN41/2","v":0},{"$f":"BM41/2","v":0},{"$f":"BP41/2","v":0},{"$f":"BO41/2","v":0},null,"co",{"$f":"BT41/2","v":0},{"$f":"BS41/2","v":0},{"$f":"BV41/2","v":0},{"$f":"BU41/2","v":0},{"$f":"BX41/2","v":0},{"$f":"BW41/2","v":0},{"$f":"BZ41/2","v":0},{"$f":"BY41/2","v":0},{"$f":"CB41/2","v":0},{"$f":"CA41/2","v":0}]
[null,null,null,null,null,null,null,null,null,"dis",{"$f":"(K42)*K23*-1","v":0},{"$f":"(L42+M42)*L23*-1","v":0},{"$f":"(M42+L42)*M23*-1","v":0},{"$f":"(N42+O42)*N23*-1","v":0},{"$f":"(O42+N42)*O23*-1","v":0},{"$f":"(P42+Q42)*P23*-1","v":0},{"$f":"(Q42+P42)*Q23*-1","v":0},{"$f":"(R42+S42)*R23*-1","v":0},{"$f":"(S42+R42)*S23*-1","v":0},{"$f":"(T42+U42)*T23*-1","v":0},null,"dis",{"$f":"(W42)*W23*-1","v":0},{"$f":"(X42+Y42)*X23*-1","v":0},{"$f":"(Y42+X42)*Y23*-1","v":0},{"$f":"(Z42+AA42)*Z23*-1","v":0},{"$f":"(AA42+Z42)*AA23*-1","v":0},{"$f":"(AB42+AC42)*AB23*-1","v":0},{"$f":"(AC42+AB42)*AC23*-1","v":0},{"$f":"(AD42+AE42)*AD23*-1","v":0},{"$f":"(AE42+AD42)*AE23*-1","v":0},{"$f":"(AF42+AG42)*AF23*-1","v":0},null,"dis",{"$f":"(AI42)*AI23*-1","v":0},{"$f":"(AJ42+AK42)*AJ23*-1","v":0},{"$f":"(AK42+AJ42)*AK23*-1","v":0},{"$f":"(AL42+AM42)*AL23*-1","v":0},{"$f":"(AM42+AL42)*AM23*-1","v":0},{"$f":"(AN42+AO42)*AN23*-1","v":0},{"$f":"(AO42+AN42)*AO23*-1","v":0},{"$f":"(AP42+AQ42)*AP23*-1","v":0},{"$f":"(AQ42+AP42)*AQ23*-1","v":0},{"$f":"(AR42+AS42)*AR23*-1","v":0},null,"dis",{"$f":"(AU42)*AU23*-1","v":0},{"$f":"(AV42+AW42)*AV23*-1","v":0},{"$f":"(AW42+AV42)*AW23*-1","v":0},{"$f":"(AX42+AY42)*AX23*-1","v":0},{"$f":"(AY42+AX42)*AY23*-1","v":0},{"$f":"(AZ42+BA42)*AZ23*-1","v":0},{"$f":"(BA42+AZ42)*BA23*-1","v":0},{"$f":"(BB42+BC42)*BB23*-1","v":0},{"$f":"(BC42+BB42)*BC23*-1","v":0},{"$f":"(BD42+BE42)*BD23*-1","v":0},null,"dis",{"$f":"(BG42)*BG23*-1","v":0},{"$f":"(BH42+BI42)*BH23*-1","v":0},{"$f":"(BI42+BH42)*BI23*-1","v":0},{"$f":"(BJ42+BK42)*BJ23*-1","v":0},{"$f":"(BK42+BJ42)*BK23*-1","v":0},{"$f":"(BL42+BM42)*BL23*-1","v":0},{"$f":"(BM42+BL42)*BM23*-1","v":0},{"$f":"(BN42+BO42)*BN23*-1","v":0},{"$f":"(BO42+BN42)*BO23*-1","v":0},{"$f":"(BP42+BQ42)*BP23*-1","v":0},null,"dis",{"$f":"(BS42)*BS23*-1","v":0},{"$f":"(BT42+BU42)*BT23*-1","v":0},{"$f":"(BU42+BT42)*BU23*-1","v":0},{"$f":"(BV42+BW42)*BV23*-1","v":0},{"$f":"(BW42+BV42)*BW23*-1","v":0},{"$f":"(BX42+BY42)*BX23*-1","v":0},{"$f":"(BY42+BX42)*BY23*-1","v":0},{"$f":"(BZ42+CA42)*BZ23*-1","v":0},{"$f":"(CA42+BZ42)*CA23*-1","v":0},{"$f":"(CB42+CC42)*CB23*-1","v":0}]
[null,null,null,null,null,null,null,null,null,"co",{"$f":"L43/2","v":0},{"$f":"K43/2","v":0},{"$f":"N43/2","v":0},{"$f":"M43/2","v":0},{"$f":"P43/2","v":0},{"$f":"O43/2","v":0},{"$f":"R43/2","v":0},{"$f":"Q43/2","v":0},{"$f":"T43/2","v":0},{"$f":"S43/2","v":0},null,"co",{"$f":"X43/2","v":0},{"$f":"W43/2","v":0},{"$f":"Z43/2","v":0},{"$f":"Y43/2","v":0},{"$f":"AB43/2","v":0},{"$f":"AA43/2","v":0},{"$f":"AD43/2","v":0},{"$f":"AC43/2","v":0},{"$f":"AF43/2","v":0},{"$f":"AE43/2","v":0},null,"co",{"$f":"AJ43/2","v":0},{"$f":"AI43/2","v":0},{"$f":"AL43/2","v":0},{"$f":"AK43/2","v":0},{"$f":"AN43/2","v":0},{"$f":"AM43/2","v":0},{"$f":"AP43/2","v":0},{"$f":"AO43/2","v":0},{"$f":"AR43/2","v":0},{"$f":"AQ43/2","v":0},null,"co",{"$f":"AV43/2","v":0},{"$f":"AU43/2","v":0},{"$f":"AX43/2","v":0},{"$f":"AW43/2","v":0},{"$f":"AZ43/2","v":0},{"$f":"AY43/2","v":0},{"$f":"BB43/2","v":0},{"$f":"BA43/2","v":0},{"$f":"BD43/2","v":0},{"$f":"BC43/2","v":0},null,"co",{"$f":"BH43/2","v":0},{"$f":"BG43/2","v":0},{"$f":"BJ43/2","v":0},{"$f":"BI43/2","v":0},{"$f":"BL43/2","v":0},{"$f":"BK43/2","v":0},{"$f":"BN43/2","v":0},{"$f":"BM43/2","v":0},{"$f":"BP43/2","v":0},{"$f":"BO43/2","v":0},null,"co",{"$f":"BT43/2","v":0},{"$f":"BS43/2","v":0},{"$f":"BV43/2","v":0},{"$f":"BU43/2","v":0},{"$f":"BX43/2","v":0},{"$f":"BW43/2","v":0},{"$f":"BZ43/2","v":0},{"$f":"BY43/2","v":0},{"$f":"CB43/2","v":0},{"$f":"CA43/2","v":0}]
[null,null,null,null,null,null,null,null,null,"dis",{"$f":"(K44)*K23*-1","v":0},{"$f":"(L44+M44)*L23*-1","v":0},{"$f":"(M44+L44)*M23*-1","v":0},{"$f":"(N44+O44)*N23*-1","v":0},{"$f":"(O44+N44)*O23*-1","v":0},{"$f":"(P44+Q44)*P23*-1","v":0},{"$f":"(Q44+P44)*Q23*-1","v":0},{"$f":"(R44+S44)*R23*-1","v":0},{"$f":"(S44+R44)*S23*-1","v":0},{"$f":"(T44+U44)*T23*-1","v":0},null,"dis",{"$f":"(W44)*W23*-1","v":0},{"$f":"(X44+Y44)*X23*-1","v":0},{"$f":"(Y44+X44)*Y23*-1","v":0},{"$f":"(Z44+AA44)*Z23*-1","v":0},{"$f":"(AA44+Z44)*AA23*-1","v":0},{"$f":"(AB44+AC44)*AB23*-1","v":0},{"$f":"(AC44+AB44)*AC23*-1","v":0},{"$f":"(AD44+AE44)*AD23*-1","v":0},{"$f":"(AE44+AD44)*AE23*-1","v":0},{"$f":"(AF44+AG44)*AF23*-1","v":0},null,"dis",{"$f":"(AI44)*AI23*-1","v":0},{"$f":"(AJ44+AK44)*AJ23*-1","v":0},{"$f":"(AK44+AJ44)*AK23*-1","v":0},{"$f":"(AL44+AM44)*AL23*-1","v":0},{"$f":"(AM44+AL44)*AM23*-1","v":0},{"$f":"(AN44+AO44)*AN23*-1","v":0},{"$f":"(AO44+AN44)*AO23*-1","v":0},{"$f":"(AP44+AQ44)*AP23*-1","v":0},{"$f":"(AQ44+AP44)*AQ23*-1","v":0},{"$f":"(AR44+AS44)*AR23*-1","v":0},null,"dis",{"$f":"(AU44)*AU23*-1","v":0},{"$f":"(AV44+AW44)*AV23*-1","v":0},{"$f":"(AW44+AV44)*AW23*-1","v":0},{"$f":"(AX44+AY44)*AX23*-1","v":0},{"$f":"(AY44+AX44)*AY23*-1","v":0},{"$f":"(AZ44+BA44)*AZ23*-1","v":0},{"$f":"(BA44+AZ44)*BA23*-1","v":0},{"$f":"(BB44+BC44)*BB23*-1","v":0},{"$f":"(BC44+BB44)*BC23*-1","v":0},{"$f":"(BD44+BE44)*BD23*-1","v":0},null,"dis",{"$f":"(BG44)*BG23*-1","v":0},{"$f":"(BH44+BI44)*BH23*-1","v":0},{"$f":"(BI44+BH44)*BI23*-1","v":0},{"$f":"(BJ44+BK44)*BJ23*-1","v":0},{"$f":"(BK44+BJ44)*BK23*-1","v":0},{"$f":"(BL44+BM44)*BL23*-1","v":0},{"$f":"(BM44+BL44)*BM23*-1","v":0},{"$f":"(BN44+BO44)*BN23*-1","v":0},{"$f":"(BO44+BN44)*BO23*-1","v":0},{"$f":"(BP44+BQ44)*BP23*-1","v":0},null,"dis",{"$f":"(BS44)*BS23*-1","v":0},{"$f":"(BT44+BU44)*BT23*-1","v":0},{"$f":"(BU44+BT44)*BU23*-1","v":0},{"$f":"(BV44+BW44)*BV23*-1","v":0},{"$f":"(BW44+BV44)*BW23*-1","v":0},{"$f":"(BX44+BY44)*BX23*-1","v":0},{"$f":"(BY44+BX44)*BY23*-1","v":0},{"$f":"(BZ44+CA44)*BZ23*-1","v":0},{"$f":"(CA44+BZ44)*CA23*-1","v":0},{"$f":"(CB44+CC44)*CB23*-1","v":0}]
[null,null,null,null,null,null,null,null,null,"sum",{"$f":"SUM(K24:K45)","v":0},{"$f":"SUM(L24:L45)","v":0},{"$f":"SUM(M24:M45)","v":0},{"$f":"SUM(N24:N45)","v":0},{"$f":"SUM(O24:O45)","v":0},0,0,0,0,0,null,"sum",{"$f":"SUM(W24:W45)","v":0},0,0,0,0,0,0,0,0,0,null,"sum",{"$f":"SUM(AI24:AI45)","v":0},0,0,0,0,0,0,0,0,0,null,"sum",{"$f":"SUM(AU24:AU45)","v":0},0,0,0,0,0,0,0,0,0,null,"sum",{"$f":"SUM(BG24:BG45)","v":0},0,0,0,0,0,0,0,0,0,null,"sum",{"$f":"SUM(BS24:BS45)","v":0},0,0,0,0,0,0,0,0,0]
[null,null,null,null,null,null,null,null,null,"โมเมนต์บวก span 1 =",{"$f":"K111","v":0},null,"โมเมนต์บวก span 2 =",{"$f":"W111","v":0},"โมเมนต์บวก span 3 =",{"$f":"AI111","v":0},"โมเมนต์บวก span 4 =",{"$f":"AU111","v":0},"โมเมนต์บวก span 5 =",{"$f":"BG111","v":0}]
[null,null,null,null,null,null,null,null,null,"โมเมนต์ลบ span 1 ขวา =",{"$f":"N110","v":0},null,"โมเมนต์ลบ span 2 ขวา =",{"$f":"AC111","v":0},"โมเมนต์ลบ span 3 ขวา =",{"$f":"AO110","v":0},"โมเมนต์ลบ span 4 ขวา =",{"$f":"BA110","v":0},"โมเมนต์ลบ span 5 ขวา =",{"$f":"BM110","v":0}]
[null,null,null,null,null,null,null,null,null,"โมเมนต์ลบ span 1 ซ้าย =",{"$f":"-K107+0.5*K109*Sheet1!D9-0.25*'r4'!E2*('r4'!B7+'r4'!E7)*Sheet1!D9^2","v":0},null,"โมเมนต์ลบ span 2 ซ้าย =",{"$f":"Z111","v":0},"โมเมนต์ลบ span 3 ซ้าย =",{"$f":"AL110","v":0},"โมเมนต์ลบ span 4 ซ้าย =",{"$f":"AX110","v":0},"โมเมนต์ลบ span 5 ซ้าย =",{"$f":"BJ110","v":0}]
[null,null,null,null,null,null,null,null,null,"span1",null,null,"span2",null,"span3",null,"span4",null,"span5"]
[null,null,null,null,null,null,"ทิศทาง","ช่วงเสา","สัมประสิทธ์ร้อยละ","แถบเสา","แถบกลาง",null,"แถบเสา","แถบกลาง","แถบเสา","แถบกลาง","แถบเสา","แถบกลาง","แถบเสา","แถบกลาง"]
[null,null,null,null,null,null,null,"โมเมนต์ลบขวา",0.75,{"$f":"IF((-K48>-N49),(K48),(N49))*I52","v":0},{"$f":"IF((-K48>-N49),(K48),(N49))-J52","v":0},null,{"$f":"IF((-N48>-P49),(N48),(P49))*IF(Sheet1!$B$3=2,(I54),(I52))","v":0},{"$f":"IF((-N48>-P49),(N48),(P49))-M52","v":0},{"$f":"IF(-P48>-R49,(P48),(R49))*IF(Sheet1!$B$3=3,(1),(0.75))","v":0},{"$f":"IF(-P48>-R49,(P48),(R49))*IF(Sheet1!$B$3=3,(1),(0.75))-O52","v":0},{"$f":"IF(-R48>-T49,(R48),(T49))*IF(Sheet1!$B$3=4,(1),(0.75))","v":0},{"$f":"IF(-R48>-T49,(R48),(T49))*IF(Sheet1!$B$3=4,(1),(0.75))-Q52","v":0},{"$f":"IF(-T48>-V49,(T48),(V49))*IF(Sheet1!$B$3=5,(1),(0.75))","v":0},{"$f":"IF(-T48>-V49,(T48),(V49))*IF(Sheet1!$B$3=5,(1),(0.75))-S52","v":0}]
[null,null,null,null,null,null,null,"โมเมนต์กลางช่วงโมเมนต์บวก",0.6,{"$f":"K47*$I$53","v":0},{"$f":"K47-J53","v":0},null,{"$f":"N47*$I$53","v":0},{"$f":"N47-M53","v":0},{"$f":"P47*$I$53","v":0},{"$f":"P47-O53","v":0},{"$f":"R47*$I$53","v":0},{"$f":"R47-Q53","v":0},{"$f":"T47*$I$53","v":0},{"$f":"T47-S53","v":0}]
[null,null,null,null,null,null,null,"โมเมนต์ลบซ้าย",1,{"$f":"K49*I54","v":0},{"$f":"K49-J54","v":0},null,{"$f":"IF((-K48>-N49),(K48),(N49))*I52","v":0},{"$f":"IF((-K48>-N49),(K48),(N49))-M54","v":0},{"$f":"IF((-N48>-P49),(N48),(P49))*IF(Sheet1!$B$3<3,(0),(0.75))","v":0},{"$f":"IF(O54=0,(0),(IF((-N48>-P49),(N48),(P49))-O54))","v":0},{"$f":"IF((-P48>-R49),(P48),(R49))*IF(Sheet1!$B$3<4,(0),(0.75))","v":0},{"$f":"IF(Q54=0,(0),(IF((-P48>-R49),(P48),(R49))-Q54))","v":0},{"$f":"IF((-R48>-T49),(R48),(T49))*IF(Sheet1!$B$3<5,(0),(0.75))","v":0},{"$f":"IF(S54=0,(0),(IF((-R48>-T49),(R48),(T49))-S54))","v":0}]
[]
[null,null,null,null,null,null,"เหล็กเสริมในแผ่นพื้น",null,null,"span r1",null,null,"span r2",null,"span r3",null,"span r4",null,"span r5"]
[null,null,null,null,null,null,null,"รายการ","หน่วย","แถบเสา","แถบกลาง",null,"แถบเสา","แถบกลาง","แถบเสา","แถบกลาง","แถบเสา","แถบกลาง","แถบเสา","แถบกลาง"]
[null,null,null,null,null,null,null,"ความกว้าง","m",{"$f":"IF(Sheet1!B4=3,(0.25*Sheet1!L11),(Sheet1!L11+Sheet1!L12)/4)","v":0},{"$f":"IF(Sheet1!B4=3,(0.25*Sheet1!L11),('r4'!E2-'r4'!J58))","v":0},null,{"$f":"J58","v":0},{"$f":"K58","v":0},{"$f":"M58","v":0},0,0,0,0,0]
[null,null,null,null,null,null,null,"โมเมนต์ลบขวา","kg-m/m",{"$f":"J52/(0.9*J58)","v":{"$error":"#DIV/0!"}},{"$f":"K52/(K58*0.9)","v":{"$error":"#DIV/0!"}},null,{"$f":"M52/(0.9*M58)","v":{"$error":"#DIV/0!"}},{"$f":"N52/(0.9*N58)","v":{"$error":"#DIV/0!"}},{"$f":"O52/(0.9*O58)","v":{"$error":"#DIV/0!"}},{"$f":"P52/(0.9*P58)","v":{"$error":"#DIV/0!"}},{"$f":"Q52/(0.9*Q58)","v":{"$error":"#DIV/0!"}},{"$error":"#DIV/0!"},{"$f":"S52/(0.9*S58)","v":{"$error":"#DIV/0!"}},{"$f":"T52/(0.9*T58)","v":{"$error":"#DIV/0!"}}]
[null,null,null,null,null,null,null,"Rn","kg/m^2",{"$f":"J59/(((Sheet1!B16)-(Sheet1!B13/100))^2)","v":{"$error":"#DIV/0!"}},{"$f":"K59/(((Sheet1!B16)-(Sheet1!B13/100))^2)","v":{"$error":"#DIV/0!"}},null,{"$f":"M59/(((Sheet1!B16)-(Sheet1!B13/100))^2)","v":{"$error":"#DIV/0!"}},{"$f":"N59/(((Sheet1!B16)-(Sheet1!B13/100))^2)","v":{"$error":"#DIV/0!"}},{"$f":"O59/(((Sheet1!B16)-(Sheet1!B13/100))^2)","v":{"$error":"#DIV/0!"}},{"$f":"P59/(((Sheet1!B16)-(Sheet1!B13/100))^2)","v":{"$error":"#DIV/0!"}},{"$f":"Q59/(((Sheet1!B16)-(Sheet1!B13/100))^2)","v":{"$error":"#DIV/0!"}},{"$f":"R59/(((Sheet1!B16)-(Sheet1!B13/100))^2)","v":{"$error":"#DIV/0!"}},{"$f":"S59/(((Sheet1!B16)-(Sheet1!B13/100))^2)","v":{"$error":"#DIV/0!"}},{"$f":"T59/(((Sheet1!B16)-(Sheet1!B13/100))^2)","v":{"$error":"#DIV/0!"}}]
[null,null,null,null,null,null,null,"p",null,{"$f":"ABS((0.85*Sheet1!B10/Sheet1!B9)*(1-(SQRT(1-(2*J60/(0.85*Sheet1!B10*100^2))))))","v":{"$error":"#DIV/0!"}},{"$f":"ABS((0.85*Sheet1!B10/Sheet1!B9)*(1-(SQRT(1-(2*K60/(0.85*Sheet1!B10*100^2))))))","v":{"$error":"#DIV/0!"}},null,{"$f":"ABS((0.85*Sheet1!B10/Sheet1!B9)*(1-(SQRT(1-(2*M60/(0.85*Sheet1!B10*100^2))))))","v":{"$error":"#DIV/0!"}},{"$f":"ABS((0.85*Sheet1!B10/Sheet1!B9)*(1-(SQRT(1-(2*N60/(0.85*Sheet1!B10*100^2))))))","v":{"$error":"#DIV/0!"}},{"$f":"ABS((0.85*Sheet1!B10/Sheet1!B9)*(1-(SQRT(1-(2*O60/(0.85*Sheet1!B10*100^2))))))","v":{"$error":"#DIV/0!"}},{"$f":"ABS((0.85*Sheet1!B10/Sheet1!B9)*(1-(SQRT(1-(2*P60/(0.85*Sheet1!B10*100^2))))))","v":{"$error":"#DIV/0!"}},{"$f":"ABS((0.85*Sheet1!B10/Sheet1!B9)*(1-(SQRT(1-(2*Q60/(0.85*Sheet1!B10*100^2))))))","v":{"$error":"#DIV/0!"}},{"$f":"ABS((0.85*Sheet1!B10/Sheet1!B9)*(1-(SQRT(1-(2*R60/(0.85*Sheet1!B10*100^2))))))","v":{"$error":"#DIV/0!"}},{"$f":"ABS((0.85*Sheet1!B10/Sheet1!B9)*(1-(SQRT(1-(2*S60/(0.85*Sheet1!B10*100^2))))))","v":{"$error":"#DIV/0!"}},{"$f":"ABS((0.85*Sheet1!B10/Sheet1!B9)*(1-(SQRT(1-(2*T60/(0.85*Sheet1!B10*100^2))))))","v":{"$error":"#DIV/0!"}}]
[null,null,null,null,null,null,null,"As-","mm^2/m",{"$f":"IF(J53=0,(0),(IF(J61>(0.0018*4000/Sheet1!$B$9),(ABS(J61*1000*(Sheet1!$B$16*1000-Sheet1!$B$13*10)*-1)),(ABS((0.0018*4000/Sheet1!$B$9)*1000*(Sheet1!$B$16*1000-Sheet1!$B$13*10)*-1)))))","v":0},{"$f":"IF(K53=0,(0),(IF(K61>(0.0018*4000/Sheet1!$B$9),(ABS(K61*1000*(Sheet1!$B$16*1000-Sheet1!$B$13*10)*-1)),(ABS((0.0018*4000/Sheet1!$B$9)*1000*(Sheet1!$B$16*1000-Sheet1!$B$13*10)*-1)))))","v":0},null,{"$f":"IF(M53=0,(0),(IF(M61>(0.0018*4000/Sheet1!$B$9),(ABS(M61*1000*(Sheet1!$B$16*1000-Sheet1!$B$13*10)*-1)),(ABS((0.0018*4000/Sheet1!$B$9)*1000*(Sheet1!$B$16*1000-Sheet1!$B$13*10)*-1)))))","v":0},{"$f":"IF(N53=0,(0),(IF(N61>(0.0018*4000/Sheet1!$B$9),(ABS(N61*1000*(Sheet1!$B$16*1000-Sheet1!$B$13*10)*-1)),(ABS((0.0018*4000/Sheet1!$B$9)*1000*(Sheet1!$B$16*1000-Sheet1!$B$13*10)*-1)))))","v":0},{"$f":"IF(O53=0,(0),(IF(O61>(0.0018*4000/Sheet1!$B$9),(ABS(O61*1000*(Sheet1!$B$16*1000-Sheet1!$B$13*10)*-1)),(ABS((0.0018*4000/Sheet1!$B$9)*1000*(Sheet1!$B$16*1000-Sheet1!$B$13*10)*-1)))))","v":0},{"$f":"IF(P53=0,(0),(IF(P61>(0.0018*4000/Sheet1!$B$9),(ABS(P61*1000*(Sheet1!$B$16*1000-Sheet1!$B$13*10)*-1)),(ABS((0.0018*4000/Sheet1!$B$9)*1000*(Sheet1!$B$16*1000-Sheet1!$B$13*10)*-1)))))","v":0},{"$f":"IF(Q53=0,(0),(IF(Q61>(0.0018*4000/Sheet1!$B$9),(ABS(Q61*1000*(Sheet1!$B$16*1000-Sheet1!$B$13*10)*-1)),(ABS((0.0018*4000/Sheet1!$B$9)*1000*(Sheet1!$B$16*1000-Sheet1!$B$13*10)*-1)))))","v":0},{"$f":"IF(R53=0,(0),(IF(R61>(0.0018*4000/Sheet1!$B$9),(ABS(R61*1000*(Sheet1!$B$16*1000-Sheet1!$B$13*10)*-1)),(ABS((0.0018*4000/Sheet1!$B$9)*1000*(Sheet1!$B$16*1000-Sheet1!$B$13*10)*-1)))))","v":0},{"$f":"IF(S53=0,(0),(IF(S61>(0.0018*4000/Sheet1!$B$9),(ABS(S61*1000*(Sheet1!$B$16*1000-Sheet1!$B$13*10)*-1)),(ABS((0.0018*4000/Sheet1!$B$9)*1000*(Sheet1!$B$16*1000-Sheet1!$B$13*10)*-1)))))","v":0},{"$f":"IF(T53=0,(0),(IF(T61>(0.0018*4000/Sheet1!$B$9),(ABS(T61*1000*(Sheet1!$B$16*1000-Sheet1!$B$13*10)*-1)),(ABS((0.0018*4000/Sheet1!$B$9)*1000*(Sheet1!$B$16*1000-Sheet1!$B$13*10)*-1)))))","v":0}]
[null,null,null,null,null,null,null,"โมเมนต์บวกกลาง","kg-m/m",{"$f":"J53/(0.9*J58)","v":{"$error":"#DIV/0!"}},{"$f":"K53/(0.9*K58)","v":{"$error":"#DIV/0!"}},null,{"$f":"M53/(0.9*M58)","v":{"$error":"#DIV/0!"}},{"$f":"N53/(0.9*N58)","v":{"$error":"#DIV/0!"}},{"$f":"O53/(0.9*O58)","v":{"$error":"#DIV/0!"}},{"$error":"#DIV/0!"},{"$error":"#DIV/0!"},{"$f":"R53/(0.9*R58)","v":{"$error":"#DIV/0!"}},{"$error":"#DIV/0!"},{"$f":"T53/(0.9*T58)","v":{"$error":"#DIV/0!"}}]
[null,null,null,null,null,null,null,"Rn","kg/m^2",{"$f":"J63/(((Sheet1!B16)-(Sheet1!B13/100))^2)","v":{"$error":"#DIV/0!"}},{"$f":"K63/(((Sheet1!B16)-(Sheet1!B13/100))^2)","v":{"$error":"#DIV/0!"}},null,{"$f":"M63/(((Sheet1!B16)-(Sheet1!B13/100))^2)","v":{"$error":"#DIV/0!"}},{"$f":"N63/(((Sheet1!B16)-(Sheet1!B13/100))^2)","v":{"$error":"#DIV/0!"}},{"$f":"O63/(((Sheet1!B16)-(Sheet1!B13/100))^2)","v":{"$error":"#DIV/0!"}},{"$f":"P63/(((Sheet1!B16)-(Sheet1!B13/100))^2)","v":{"$error":"#DIV/0!"}},{"$f":"Q63/(((Sheet1!B16)-(Sheet1!B13/100))^2)","v":{"$error":"#DIV/0!"}},{"$f":"R63/(((Sheet1!B16)-(Sheet1!B13/100))^2)","v":{"$error":"#DIV/0!"}},{"$f":"S63/(((Sheet1!B16)-(Sheet1!B13/100))^2)","v":{"$error":"#DIV/0!"}},{"$f":"T63/(((Sheet1!B16)-(Sheet1!B13/100))^2)","v":{"$error":"#DIV/0!"}}]
[null,null,null,null,null,null,null,"p",null,{"$f":"ABS((0.85*Sheet1!B10/Sheet1!B9)*(1-(SQRT(1-(2*J64/(0.85*Sheet1!B10*100^2))))))","v":{"$error":"#DIV/0!"}},{"$f":"(0.85*Sheet1!B10/Sheet1!B9)*(1-(SQRT(1-(2*K64/(0.85*Sheet1!B10*100^2)))))","v":{"$error":"#DIV/0!"}},null,{"$f":"ABS((0.85*Sheet1!B10/Sheet1!B9)*(1-(SQRT(1-(2*M64/(0.85*Sheet1!B10*100^2))))))","v":{"$error":"#DIV/0!"}},{"$f":"ABS((0.85*Sheet1!B10/Sheet1!B9)*(1-(SQRT(1-(2*N64/(0.85*Sheet1!B10*100^2))))))","v":{"$error":"#DIV/0!"}},{"$f":"ABS((0.85*Sheet1!B10/Sheet1!B9)*(1-(SQRT(1-(2*O64/(0.85*Sheet1!B10*100^2))))))","v":{"$error":"#DIV/0!"}},{"$f":"ABS((0.85*Sheet1!B10/Sheet1!B9)*(1-(SQRT(1-(2*P64/(0.85*Sheet1!B10*100^2))))))","v":{"$error":"#DIV/0!"}},{"$f":"ABS((0.85*Sheet1!B10/Sheet1!B9)*(1-(SQRT(1-(2*Q64/(0.85*Sheet1!B10*100^2))))))","v":{"$error":"#DIV/0!"}},{"$f":"ABS((0.85*Sheet1!B10/Sheet1!B9)*(1-(SQRT(1-(2*R64/(0.85*Sheet1!B10*100^2))))))","v":{"$error":"#DIV/0!"}},{"$f":"ABS((0.85*Sheet1!B10/Sheet1!B9)*(1-(SQRT(1-(2*S64/(0.85*Sheet1!B10*100^2))))))","v":{"$error":"#DIV/0!"}},{"$f":"ABS((0.85*Sheet1!B10/Sheet1!B9)*(1-(SQRT(1-(2*T64/(0.85*Sheet1!B10*100^2))))))","v":{"$error":"#DIV/0!"}}]
[null,null,null,null,null,null,null,"As+","mm^2/m",{"$f":"IF(J53=0,(0),(IF(J65>(0.0018*4000/Sheet1!$B$9),(ABS(J65*1000*(Sheet1!$B$16*1000-Sheet1!$B$13*10)*-1)),(ABS((0.0018*4000/Sheet1!$B$9)*1000*(Sheet1!$B$16*1000-Sheet1!$B$13*10)*-1)))))","v":0},{"$f":"IF(K53=0,(0),(IF(K65>(0.0018*4000/Sheet1!$B$9),(ABS(K65*1000*(Sheet1!$B$16*1000-Sheet1!$B$13*10)*-1)),(ABS((0.0018*4000/Sheet1!$B$9)*1000*(Sheet1!$B$16*1000-Sheet1!$B$13*10)*-1)))))","v":0},null,{"$f":"IF(M53=0,(0),(IF(M65>(0.0018*4000/Sheet1!$B$9),(ABS(M65*1000*(Sheet1!$B$16*1000-Sheet1!$B$13*10)*-1)),(ABS((0.0018*4000/Sheet1!$B$9)*1000*(Sheet1!$B$16*1000-Sheet1!$B$13*10)*-1)))))","v":0},{"$f":"IF(N53=0,(0),(IF(N65>(0.0018*4000/Sheet1!$B$9),(ABS(N65*1000*(Sheet1!$B$16*1000-Sheet1!$B$13*10)*-1)),(ABS((0.0018*4000/Sheet1!$B$9)*1000*(Sheet1!$B$16*1000-Sheet1!$B$13*10)*-1)))))","v":0},{"$f":"IF(O53=0,(0),(IF(O65>(0.0018*4000/Sheet1!$B$9),(ABS(O65*1000*(Sheet1!$B$16*1000-Sheet1!$B$13*10)*-1)),(ABS((0.0018*4000/Sheet1!$B$9)*1000*(Sheet1!$B$16*1000-Sheet1!$B$13*10)*-1)))))","v":0},{"$f":"IF(P53=0,(0),(IF(P65>(0.0018*4000/Sheet1!$B$9),(ABS(P65*1000*(Sheet1!$B$16*1000-Sheet1!$B$13*10)*-1)),(ABS((0.0018*4000/Sheet1!$B$9)*1000*(Sheet1!$B$16*1000-Sheet1!$B$13*10)*-1)))))","v":0},{"$f":"IF(Q53=0,(0),(IF(Q65>(0.0018*4000/Sheet1!$B$9),(ABS(Q65*1000*(Sheet1!$B$16*1000-Sheet1!$B$13*10)*-1)),(ABS((0.0018*4000/Sheet1!$B$9)*1000*(Sheet1!$B$16*1000-Sheet1!$B$13*10)*-1)))))","v":0},{"$f":"IF(R53=0,(0),(IF(R65>(0.0018*4000/Sheet1!$B$9),(ABS(R65*1000*(Sheet1!$B$16*1000-Sheet1!$B$13*10)*-1)),(ABS((0.0018*4000/Sheet1!$B$9)*1000*(Sheet1!$B$16*1000-Sheet1!$B$13*10)*-1)))))","v":0},{"$f":"IF(S53=0,(0),(IF(S65>(0.0018*4000/Sheet1!$B$9),(ABS(S65*1000*(Sheet1!$B$16*1000-Sheet1!$B$13*10)*-1)),(ABS((0.0018*4000/Sheet1!$B$9)*1000*(Sheet1!$B$16*1000-Sheet1!$B$13*10)*-1)))))","v":0},{"$f":"IF(T53=0,(0),(IF(T65>(0.0018*4000/Sheet1!$B$9),(ABS(T65*1000*(Sheet1!$B$16*1000-Sheet1!$B$13*10)*-1)),(ABS((0.0018*4000/Sheet1!$B$9)*1000*(Sheet1!$B$16*1000-Sheet1!$B$13*10)*-1)))))","v":0}]
[null,null,null,null,null,null,null,"โมเมนต์ลบซ้าย","kg-m/m",{"$f":"J54/(0.9*J58)","v":{"$error":"#DIV/0!"}},{"$f":"K54/(0.9*K58)","v":{"$error":"#DIV/0!"}},null,{"$f":"M54/(0.9*M58)","v":{"$error":"#DIV/0!"}},{"$f":"N54/(0.9*N58)","v":{"$error":"#DIV/0!"}},{"$f":"O54/(0.9*O58)","v":{"$error":"#DIV/0!"}},{"$f":"P54/(0.9*P58)","v":{"$error":"#DIV/0!"}},{"$error":"#DIV/0!"},{"$error":"#DIV/0!"},{"$error":"#DIV/0!"},{"$error":"#DIV/0!"}]
[null,null,null,null,null,null,null,"Rn","kg/m^2",{"$f":"J67/(((Sheet1!B16)-(Sheet1!B13/100))^2)","v":{"$error":"#DIV/0!"}},{"$f":"K67/(((Sheet1!B16)-(Sheet1!B13/100))^2)","v":{"$error":"#DIV/0!"}},null,{"$f":"M67/(((Sheet1!B16)-(Sheet1!B13/100))^2)","v":{"$error":"#DIV/0!"}},{"$f":"N67/(((Sheet1!B16)-(Sheet1!B13/100))^2)","v":{"$error":"#DIV/0!"}},{"$f":"O67/(((Sheet1!B16)-(Sheet1!B13/100))^2)","v":{"$error":"#DIV/0!"}},{"$f":"P67/(((Sheet1!B16)-(Sheet1!B13/100))^2)","v":{"$error":"#DIV/0!"}},{"$f":"Q67/(((Sheet1!B16)-(Sheet1!B13/100))^2)","v":{"$error":"#DIV/0!"}},{"$f":"R67/(((Sheet1!B16)-(Sheet1!B13/100))^2)","v":{"$error":"#DIV/0!"}},{"$f":"S67/(((Sheet1!B16)-(Sheet1!B13/100))^2)","v":{"$error":"#DIV/0!"}},{"$f":"T67/(((Sheet1!B16)-(Sheet1!B13/100))^2)","v":{"$error":"#DIV/0!"}}]
[null,null,null,null,null,null,null,"p",null,{"$f":"ABS((0.85*Sheet1!B10/Sheet1!B9)*(1-(SQRT(1-(2*J68/(0.85*Sheet1!B10*100^2))))))","v":{"$error":"#DIV/0!"}},{"$f":"(0.85*Sheet1!B10/Sheet1!B9)*(1-(SQRT(1-(2*K68/(0.85*Sheet1!B10*100^2)))))","v":{"$error":"#DIV/0!"}},null,{"$f":"ABS((0.85*Sheet1!B10/Sheet1!B9)*(1-(SQRT(1-(2*M68/(0.85*Sheet1!B10*100^2))))))","v":{"$error":"#DIV/0!"}},{"$f":"ABS((0.85*Sheet1!B10/Sheet1!B9)*(1-(SQRT(1-(2*N68/(0.85*Sheet1!B10*100^2))))))","v":{"$error":"#DIV/0!"}},{"$f":"ABS((0.85*Sheet1!B10/Sheet1!B9)*(1-(SQRT(1-(2*O68/(0.85*Sheet1!B10*100^2))))))","v":{"$error":"#DIV/0!"}},{"$f":"ABS((0.85*Sheet1!B10/Sheet1!B9)*(1-(SQRT(1-(2*P68/(0.85*Sheet1!B10*100^2))))))","v":{"$error":"#DIV/0!"}},{"$f":"ABS((0.85*Sheet1!B10/Sheet1!B9)*(1-(SQRT(1-(2*Q68/(0.85*Sheet1!B10*100^2))))))","v":{"$error":"#DIV/0!"}},{"$f":"ABS((0.85*Sheet1!B10/Sheet1!B9)*(1-(SQRT(1-(2*R68/(0.85*Sheet1!B10*100^2))))))","v":{"$error":"#DIV/0!"}},{"$f":"ABS((0.85*Sheet1!B10/Sheet1!B9)*(1-(SQRT(1-(2*S68/(0.85*Sheet1!B10*100^2))))))","v":{"$error":"#DIV/0!"}},{"$f":"ABS((0.85*Sheet1!B10/Sheet1!B9)*(1-(SQRT(1-(2*T68/(0.85*Sheet1!B10*100^2))))))","v":{"$error":"#DIV/0!"}}]
[null,null,null,null,null,null,null,"As-","mm^2/m",{"$f":"IF(J53=0,(0),(IF(J69>(0.0018*4000/Sheet1!$B$9),(ABS(J69*1000*(Sheet1!$B$16*1000-Sheet1!$B$13*10)*-1)),(ABS((0.0018*4000/Sheet1!$B$9)*1000*(Sheet1!$B$16*1000-Sheet1!$B$13*10)*-1)))))","v":0},{"$f":"IF(K53=0,(0),(IF(K69>(0.0018*4000/Sheet1!$B$9),(ABS(K69*1000*(Sheet1!$B$16*1000-Sheet1!$B$13*10)*-1)),(ABS((0.0018*4000/Sheet1!$B$9)*1000*(Sheet1!$B$16*1000-Sheet1!$B$13*10)*-1)))))","v":0},null,{"$f":"IF(M53=0,(0),(IF(M69>(0.0018*4000/Sheet1!$B$9),(ABS(M69*1000*(Sheet1!$B$16*1000-Sheet1!$B$13*10)*-1)),(ABS((0.0018*4000/Sheet1!$B$9)*1000*(Sheet1!$B$16*1000-Sheet1!$B$13*10)*-1)))))","v":0},{"$f":"IF(N53=0,(0),(IF(N69>(0.0018*4000/Sheet1!$B$9),(ABS(N69*1000*(Sheet1!$B$16*1000-Sheet1!$B$13*10)*-1)),(ABS((0.0018*4000/Sheet1!$B$9)*1000*(Sheet1!$B$16*1000-Sheet1!$B$13*10)*-1)))))","v":0},{"$f":"IF(O53=0,(0),(IF(O69>(0.0018*4000/Sheet1!$B$9),(ABS(O69*1000*(Sheet1!$B$16*1000-Sheet1!$B$13*10)*-1)),(ABS((0.0018*4000/Sheet1!$B$9)*1000*(Sheet1!$B$16*1000-Sheet1!$B$13*10)*-1)))))","v":0},{"$f":"IF(P53=0,(0),(IF(P69>(0.0018*4000/Sheet1!$B$9),(ABS(P69*1000*(Sheet1!$B$16*1000-Sheet1!$B$13*10)*-1)),(ABS((0.0018*4000/Sheet1!$B$9)*1000*(Sheet1!$B$16*1000-Sheet1!$B$13*10)*-1)))))","v":0},{"$f":"IF(Q53=0,(0),(IF(Q69>(0.0018*4000/Sheet1!$B$9),(ABS(Q69*1000*(Sheet1!$B$16*1000-Sheet1!$B$13*10)*-1)),(ABS((0.0018*4000/Sheet1!$B$9)*1000*(Sheet1!$B$16*1000-Sheet1!$B$13*10)*-1)))))","v":0},{"$f":"IF(R53=0,(0),(IF(R69>(0.0018*4000/Sheet1!$B$9),(ABS(R69*1000*(Sheet1!$B$16*1000-Sheet1!$B$13*10)*-1)),(ABS((0.0018*4000/Sheet1!$B$9)*1000*(Sheet1!$B$16*1000-Sheet1!$B$13*10)*-1)))))","v":0},{"$f":"IF(S53=0,(0),(IF(S69>(0.0018*4000/Sheet1!$B$9),(ABS(S69*1000*(Sheet1!$B$16*1000-Sheet1!$B$13*10)*-1)),(ABS((0.0018*4000/Sheet1!$B$9)*1000*(Sheet1!$B$16*1000-Sheet1!$B$13*10)*-1)))))","v":0},{"$f":"IF(T53=0,(0),(IF(T69>(0.0018*4000/Sheet1!$B$9),(ABS(T69*1000*(Sheet1!$B$16*1000-Sheet1!$B$13*10)*-1)),(ABS((0.0018*4000/Sheet1!$B$9)*1000*(Sheet1!$B$16*1000-Sheet1!$B$13*10)*-1)))))","v":0}]
[]
[]
[null,null,null,null,null,null,"เช็ค punching shear  ",null,null,null,null,null,null,null,null,"เช็ค punching shear  "]
[]
[null,null,null,null,null,null,"V",null,"kg",{"$f":"$K$109","v":0},null,null,{"$f":"$N$109+$Z$109","v":0},{"$f":"$AC$110+$AL$109","v":0},{"$f":"$AO$109+$AX$109","v":0},{"$f":"$BA$109+$BJ$109","v":0},{"$f":"$BM$109","v":0}]
[null,null,null,null,null,null,"V(max) ",null,"kg",{"$f":"MAX(J75,M75,N75,O75,P75,Q75)","v":0},null,null,null,null,null,"Vmax","kg",{"$f":"IF(Sheet1!$B$3=2,(MAX($J$75,$N$75)),(IF(Sheet1!$B$3=3,(MAX($J$75,$O$75)),(IF(Sheet1!$B$3=4,(MAX($J$75,$P$75)),(IF(Sheet1!$B$3=5,(MAX($J$75,$Q$75)),(0))))))))","v":0}]
[null,null,null,null,null,null,"Vc",null,"kg",{"$f":"1.06*SQRT(Sheet1!$B$10)","v":18.961856449198219},null,null,null,null,null,"Vc","kg",{"$f":"1.06*SQRT(Sheet1!$B$10)","v":18.961856449198219}]
[null,null,null,null,null,null,"b1",null,"cm",{"$f":"(Sheet1!$D$9*100)+(Sheet1!$B$16*100)-Sheet1!$B$13","v":72.5},null,null,null,null,null,"b1","cm",{"$f":"(Sheet1!$D$9*100)+((Sheet1!$B$16*100)-Sheet1!$B$13)/2","v":61.25}]
[null,null,null,null,null,null,"b2",null,"cm",{"$f":"(Sheet1!$D$10*100)+(Sheet1!$B$16*100)-Sheet1!$B$13","v":62.5},null,null,null,null,null,"b2","cm",{"$f":"(Sheet1!$D$10*100)+(Sheet1!$B$16*100)-Sheet1!$B$13","v":62.5}]
[null,null,null,null,null,null,"d",null,"cm",{"$f":"((Sheet1!$B$16*100)-Sheet1!$B$13)","v":22.5},null,null,null,null,null,"d","cm",{"$f":"((Sheet1!$B$16*100)-Sheet1!$B$13)","v":22.5}]
[null,null,null,null,null,null,"Ac",null,"cm^2",{"$f":"(J78*J80*2)+(J79*J80*2)","v":6075},null,null,null,null,null,"Ac","cm^2",{"$f":"2*($R$78*$R$80)+($R$79*$R$80)","v":4162.5}]
[null,null,null,null,null,null,"X1",null,"cm",{"$f":"J78/2","v":36.25},null,null,null,null,null,"X2,X1","cm",{"$f":"$R$78^2*$R$80/$R$81","v":20.278716216216218},{"$f":"R78-R82","v":40.971283783783782}]
[null,null,null,null,null,null,"Jc",null,"cm^4",{"$f":"(J78^3*J80/6)+(J78*J80^3/6)+(J79*J78^2*J80/2)","v":5262480.46875},null,null,null,null,null,"J","cm^4",{"$f":"(R78*R80^3/6)+(2/3*(S82^3+R82^3)*R80)+R79*R82^2*R80","v":1851297.7393897802}]
[null,null,null,null,null,null,"Mu",null,"kg*m",{"$f":"IF(M75=J76,ABS(N108-Z107),(IF(N75=J76,ABS(AC108-AL107),(IF(O75=J76,ABS(AO108-AX107),(IF(P75=J76,ABS(BA108-BJ107),(0))))))))","v":0},null,null,null,null,null,"Mu","kg*m",{"$f":"IF(Sheet1!$B$3=2,(MAX(K107,AC108)),(IF(Sheet1!$B$3=3,(MAX(K107,AO108)),(IF(Sheet1!$B$3=4,(MAX(K107,BA108)),(IF(Sheet1!$B$3=5,(MAX(K107,BM108)),(0))))))))","v":0}]
[null,null,null,null,null,null,"Mub",null,"kg*m",{"$f":"J84/(1+(2/3)*SQRT(J78/J79))","v":0},null,null,null,null,null,"Mub","kg*m",{"$f":"R84/(1+2/3*SQRT(R78/R79))","v":0}]
[null,null,null,null,null,null,"Muv",null,"kg*m",{"$f":"J84-J85","v":0},null,null,null,null,null,"Muv","kg*m",{"$f":"R84-R85","v":0}]
[null,null,null,null,null,null,"Vu2",null,"kg/cm^2",{"$f":"(J76/J81)+((J86*100)*J82/J83)","v":0},null,null,null,null,null,"Vu","kg/cm^2",{"$f":"R76/R81+(R86*100*R82/R83)","v":0}]
[null,null,null,null,null,null,"Vc",null,"kg/cm^2",{"$f":"1.06*SQRT(Sheet1!$B$10)","v":18.961856449198219},null,null,null,null,null,"Vc","kg/cm^2",{"$f":"1.06*SQRT(Sheet1!$B$10)","v":18.961856449198219}]
[]
[]
[]
[]
[]
[]
[]
[]
[]
[]
[]
[]
[]
[]
[]
[]
[]
[null,null,null,null,null,null,null,null,null,"โมเมนต์บวก span 1",null,null,"โมเมนต์ลบ span 1  ขวา",null,null,"โมเมนต์ลบ span 1 ซ้าย",null,null,null,null,null,"โมเมนต์บวก span 2",null,null,"โมเมนต์ลบ span 2  ซ้าย",null,null,"โมเมนต์ลบspan 2 ขวา",null,null,null,null,null,"โมเมนต์บวกสแปน 3",null,null,"โมเมนต์ลบspan 3 ซ้าย",null,null,"โมเมนต์ลบspan 3 ขวา",null,null,null,null,null,"โมเมนต์บวกสแปน 4",null,null,"โมเมนต์ลบสแปน 4 ซ้าย",null,null,"โมเมนต์ลบสแปน 4 ขวา",null,null,null,null,null,"โมเมนต์บวกสแปน 5",null,null,"โมเมนต์ลบ span 5 ซ้าย",null,null,"โมเมนต์ลบ span 5 ขวา"]
[null,null,null,null,null,null,null,null,null,"M 1l =",{"$f":"(K46+AI46+BG46+BS46)*-1","v":0},null,"M 1l =",{"$f":"(K46+W46+AU46+BS46)*-1","v":0},null,"M- max span1l =",{"$f":"IF(K107=0,(0),(-K107+0.5*K109*Sheet1!D9-0.25*'r4'!E2*('r4'!B7+'r4'!E7)*Sheet1!D9^2))","v":0},null,null,null,null,"M 2l =",{"$f":"(Y46+AW46+BU46)*-1","v":0},null,"M 2l =",{"$f":"(M46+Y46+AW46+BU46)*-1","v":0},null,"M 2l =",{"$f":"(Y46+AK46+BU46+BI46)*-1","v":0},null,null,null,null,"M 3l =",{"$f":"(AM46+O46+BK46+BW46)*-1","v":0},null,"M3l =",{"$f":"(AM46+AA46+BW46+BK46)*-1","v":0},null,"M3l =",{"$f":"(AM46+AY46+O46+BW46)*-1","v":0},null,null,null,null,"m 4l =",{"$f":"(BA46+AC46+BY46)*-1","v":0},null,"m4l =",{"$f":"(BA46+AO46+Q46+BY46)*-1","v":0},null," m4l =",{"$f":"(BA46+BM46+AC46+BY46)*-1","v":0},null,null,null,null,"m5l =",{"$f":"(BO46+AQ46+S46+CA46)*-1","v":0},null,"m5l =",{"$f":"(BO46+BC46+AE46+CA46)*-1","v":0},null,"m5l =",{"$f":"(BO46+AQ46+S46+CA46)*-1","v":0}]
[null,null,null,null,null,null,null,null,null,"M 1r =",{"$f":"(L46+AJ46+BH46+BT46)","v":0},null,"M 1r =",{"$f":"(L46+X46+AV46+BT46)","v":0},null,null,null,null,null,null,null,"M 2r =",{"$f":"(Z46+AX46+BV46)","v":0},null,"M 2r =",{"$f":"Z46+N46+AX46+BV46","v":0},null,"M 2r =",{"$f":"(Z46+AL46+BV46)+BJ46","v":0},null,null,null,null,"M 3r =",{"$f":"(AN46+P46+BL46+BX46)","v":0},null,"M3r =",{"$f":"AN46+AB46+BL46+BX46","v":0},null,"M3r =",{"$f":"AN46+AZ46+P46+BX46","v":0},null,null,null,null,"m 4r =",{"$f":"(BB46+AD46+BZ46)","v":0},null,"m4r =",{"$f":"BB46+AP46+R46+BZ46","v":0},null,"m4r =",{"$f":"(BB46+BN46+BZ46+AD46)","v":0},null,null,null,null,"m5r =",{"$f":"(BP46+AR46+T46+CB46)","v":0},null,"m5r =",{"$f":"BP46+CB46+BD46+AF46","v":0},null,"m5r =",{"$f":"BP46+CB46+AR46+T46","v":0}]
[null,null,null,null,null,null,null,null,null,"V1l =",{"$f":"IF(K107=0,(0),((-K108+K107+(0.5*(B7+E7)*E2*Sheet1!F9^2))/Sheet1!F9))","v":0},null,"V 1r =",{"$f":"IF(N107=0,(0),((N108-N107+0.5*(B7+E7)*E2*Sheet1!$F$9^2)/Sheet1!$F$9))","v":0},null,null,null,null,null,null,null,"V2l =",{"$f":"(-W108+W107+0.5*(B8+E8)*E2*Sheet1!F10^2)/Sheet1!F10","v":0},null,"V2l  =",{"$f":"IF(Z107=0,(0),((-Z108+Z107+0.5*(B8+E8)*E2*Sheet1!F10^2)/Sheet1!F10))","v":0},null,"V2l =",{"$f":"(-AC108+AC107+0.5*(B8+E8)*E2*Sheet1!F10^2)/Sheet1!F10","v":0},null,null,null,null,"V3l =",{"$f":"(-AI108+AI107+0.5*(B9+E9)*E2*Sheet1!F11^2)/Sheet1!F11","v":0},null,"V3l =",{"$f":"IF(AL107=0,(0),((-AL108+AL107+0.5*(B9+E9)*Sheet1!F11^2*E2)/Sheet1!F11))","v":0},null,"V3r =",{"$f":"IF(AO107=0,(0),((AO108-AO107+0.5*(B9+E9)*E2*Sheet1!F11^2)/Sheet1!F11))","v":0},null,null,null,null,"v4l =",{"$f":"(-AU108+AU107+0.5*(B10+E10)*E2*Sheet1!F12^2)/Sheet1!F12","v":{"$error":"#DIV/0!"}},null,"V4l =",{"$f":"IF(AX107=0,(0),((-AX108+AX107+0.5*(B10+E10)*Sheet1!F12^2*E2)/Sheet1!F12))","v":0},null,"v4r =",{"$f":"IF(BA107=0,(0),((BA108-BA107+0.5*(B10+E10)*E2*Sheet1!F12^2)/Sheet1!F12))","v":0},null,null,null,null,"v5l =",{"$f":"(-BG108+BG107+0.5*(B11+E11)*E2*Sheet1!F13^2)/Sheet1!F13","v":{"$error":"#DIV/0!"}},null,"v5l =",{"$f":"IF(BJ107=0,(0),((-BJ108+BJ107+0.5*(B11+E11)*E2*Sheet1!F13^2)/Sheet1!F13))","v":0},null,"v5r =",{"$f":"IF(BM107=0,(0),((BM108-BM107+0.5*(B11+E11)*E2*Sheet1!F13^2)/Sheet1!F13))","v":0}]
[null,null,null,null,null,null,null,null,null,"ระยะที่ V=0",{"$f":"K109/((B7+E7)*E2)","v":{"$error":"#DIV/0!"}},null,"M- max span1r =",{"$f":"IF(N108=0,(0),(0.5*Sheet1!$D$9*'r4'!N109-'r4'!N108-0.25*('r4'!B7+'r4'!E7)*'r4'!E2*Sheet1!$D$9^2))","v":0},null,null,null,null,null,null,null,"ระยะที่ V=0",{"$f":"W109/((B8+E8)*E2)","v":{"$error":"#DIV/0!"}},null,"V2 r =",{"$f":"(Z108-Z107+0.5*(B8+E8)*E2*Sheet1!F10^2)/Sheet1!F10","v":0},null,"v2r =",{"$f":"IF(AC107=0,(0),((AC108-AC107+0.5*(B8+E8)*E2*Sheet1!F10^2)/Sheet1!F10))","v":0},null,null,null,null,"ระยะที่ V=0",{"$f":"AI109/((B9+E9)*E2)","v":{"$error":"#DIV/0!"}},null,"M- max span3l =",{"$f":"IF(AL107=0,(0),(-AL107+0.5*AL109*Sheet1!D9-0.25*Sheet1!D9^2*'r4'!E2*('r4'!B9+'r4'!E9)))","v":0},null,"M- max span3r =",{"$f":"IF(AO108=0,(0),(0.5*AO109*Sheet1!D9-'r4'!AO108-0.25*('r4'!B9+'r4'!E9)*'r4'!E2*Sheet1!D9^2))","v":0},null,null,null,null,"ระยะที่ v=0",{"$f":"AU109/((B10+E10)*E2)","v":{"$error":"#DIV/0!"}},null,"M- max span4l =",{"$f":"IF(AX107=0,(0),(-AX107+0.5*AX109*Sheet1!D9-0.25*Sheet1!D9^2*'r4'!E2*('r4'!B10+'r4'!E10)))","v":0},null,"M- max span4r =",{"$f":"IF(BA108=0,(0),(0.5*BA109*Sheet1!D9-'r4'!BA108-0.25*('r4'!B10+'r4'!E10)*'r4'!E2*Sheet1!D9^2))","v":0},null,null,null,null,"ระยะที่ v=0",{"$f":"BG109/((B11+E11)*E2)","v":{"$error":"#DIV/0!"}},null,"M- max span 5l =",{"$f":"IF(BJ107=0,(0),(-BJ107+0.5*BJ109*Sheet1!D9-0.25*Sheet1!D9^2*'r4'!E2*('r4'!B11+'r4'!E11)))","v":0},null,"M- max span 5r =",{"$f":"IF(BM108=0,(0),(0.5*BM109*Sheet1!D9-'r4'!BM108-0.25*('r4'!B11+'r4'!E11)*'r4'!E2*Sheet1!D9^2))","v":0}]
[null,null,null,null,null,null,null,null,null,"M1+max=",{"$f":"IF(K107=0,(0),(K109*K110-0.5*(B7+E7)*K110^2*E2-K107))","v":0},null,"V1l =",{"$f":"(B7+E7)*E2*Sheet1!$F$9-'r4'!N109","v":0},null,null,null,null,null,null,null,"M2+max=",{"$f":"IF(W107=0,(0),((W109*W110)-0.5*(B8+E8)*E2*W110^2-W107))","v":0},null,"M- max span2l =",{"$f":"IF(Z107=0,(0),(-Z107+0.5*Z109*Sheet1!D9-0.25*(B8+E8)*E2*Sheet1!D9^2))","v":0},null,"M- max span2r =",{"$f":"IF(AC108=0,(0),(0.5*AC110*Sheet1!D9-'r4'!AC108-0.25*('r4'!B8+'r4'!E8)*'r4'!E2*Sheet1!D9^2))","v":0},null,null,null,null,"M3+ max =",{"$f":"IF(AI107=0,(0),(AI109*AI110-0.5*(B9+E9)*E2*AI110^2-AI107))","v":0},null,null,null,null,null,null,null,null,null,null,"M4+ max =",{"$f":"IF(AU107=0,(0),(AU109*AU110-0.5*(B10+E10)*AU110^2*E2-AU107))","v":0},null,null,null,null,null,null,null,null,null,null,"M5+ max =",{"$f":"IF(BG107=0,(0),(BG109*BG110-0.5*(B11+E11)*E2*BG110^2-BG107))","v":0},null,null,null,null,null,null,null,null,null,null,null,null,null,null,null,null,null,null,null,null,null,null,null,null,null,null," "]

{"sheet":"r5","index":5,"n_rows":111,"n_cols":86,"rows_kept":111,"cut":false,"hidden":false,"merged":[[87,12,87,13],[84,9,84,11],[83,9,83,11],[77,6,77,7],[78,6,78,7],[79,6,79,7],[80,6,80,7],[81,6,81,7],[86,9,86,11],[87,6,87,7],[82,6,82,7],[83,6,83,7],[84,6,84,7],[85,6,85,7],[86,6,86,7],[87,9,87,11],[72,15,73,17],[72,12,73,12],[72,13,73,13],[72,14,73,14],[76,6,76,7],[82,9,82,11],[74,9,74,11],[75,9,75,11],[72,6,73,11],[74,6,74,7],[75,6,75,7],[76,9,76,11],[79,9,79,11],[78,9,78,11],[81,9,81,11],[80,9,80,11],[46,10,46,11],[0,0,0,4],[5,0,5,1],[5,3,5,4],[12,0,12,1],[12,3,12,4],[20,9,20,19],[55,6,55,8],[20,33,20,43],[20,45,20,55],[20,57,20,67],[20,69,20,79],[47,10,47,11],[20,21,20,31],[55,9,55,11],[55,12,55,13],[55,14,55,15],[55,16,55,17],[49,18,49,19],[49,16,49,17],[55,18,55,19],[50,10,50,11],[51,10,51,11],[56,10,56,11],[48,10,48,11],[49,9,49,11],[49,12,49,13],[49,14,49,15],[52,10,52,11],[53,10,53,11],[54,10,54,11],[57,10,57,11],[58,10,58,11],[59,10,59,11],[60,10,60,11],[65,10,65,11],[61,10,61,11],[62,10,62,11],[63,10,63,11],[64,10,64,11],[66,10,66,11],[105,45,105,46],[68,10,68,11],[69,10,69,11],[105,9,105,10],[105,12,105,13],[105,15,105,16],[105,21,105,22],[105,24,105,25],[105,27,105,28],[105,33,105,34],[105,36,105,37],[105,39,105,40],[77,9,77,11],[85,9,85,11],[67,10,67,11],[105,48,105,49],[105,51,105,52],[105,57,105,58],[105,60,105,61],[105,63,105,64]]}
["รายการคำนวณโมเมนต์แถบในและกลางตามแกน x"]
["ระยะช่วงพื้น (unit: m)",{"$f":"MAX(Sheet1!F9,Sheet1!F10,Sheet1!F11,Sheet1!F12,Sheet1!F13,Sheet1!L9,Sheet1!L10,Sheet1!L11,Sheet1!L12,Sheet1!F13)","v":6},null,"ความกว้างแถบเสา =",{"$f":"(Sheet1!L12+Sheet1!L13)/2","v":0}]
["ตัวคูณหาความหนาพื้นขั้นต่ำ",{"$f":"0.01*LN(Sheet1!B9)-0.05","v":3.0255163864890078E-2}]
[]
["ความหนาพื้น (unit:m)",{"$f":"IF((B2*B3)>0.12,(B2*B3),(0.12))","v":0.18153098318934047}]
["น้ำหนัก DL+WDS",null,null,"น้ำหนัก LL"]
["Wdl1+Wsd1 (unit:KG/m^2) =",{"$f":"IF(Sheet1!$B$4<=3,(0),(IF(Sheet1!$B$3>=2,(((Sheet1!$B$16*Sheet1!$B$11)+Sheet1!$J$9)*1.4),(0))))","v":0},null,"Wtl1 (unit:kg/m^2) =",{"$f":"IF(Sheet1!$B$4<=3,(0),(IF(Sheet1!$B$3>=2,(1.7*Sheet1!H9),(0))))","v":0}]
["Wdl2+Wsd2 (unit:KG/m^2) =",{"$f":"IF(Sheet1!$B$4<=3,(0),(IF(Sheet1!$B$3>=2,(((Sheet1!$B$16*Sheet1!$B$11)+Sheet1!$J$10)*1.4),(0))))","v":0},null,"Wtl2 (unit:kg/m^2) =",{"$f":"IF(Sheet1!$B$4<=3,(0),(IF(Sheet1!$B$3>=2,(1.7*Sheet1!H10),(0))))","v":0}]
[{"$f":"IF(Sheet1!B3>2,(\"Wdl3+Wsd3 (unit:KG/m^2) =\"),(\"\"))","v":"Wdl3+Wsd3 (unit:KG/m^2) ="},{"$f":"IF(Sheet1!$B$4<=3,(0),(IF(Sheet1!$B$3>=3,(((Sheet1!$B$16*Sheet1!$B$11)+Sheet1!$J$11)*1.4),(0))))","v":0},null,{"$f":"IF(Sheet1!B3>2,(\"Wtl3 (unit:KG/m^2) =\"),(\"\"))","v":"Wtl3 (unit:KG/m^2) ="},{"$f":"IF(Sheet1!$B$4<=3,(0),(IF(Sheet1!$B$3>=2,(1.7*Sheet1!H11),(0))))","v":0}]
[{"$f":"IF(Sheet1!B3>3,(\"Wdl4+Wsd4 (unit:KG/m^2) =\"),(\"\"))","v":""},{"$f":"IF(Sheet1!$B$4<=3,(0),(IF(Sheet1!$B$3>=4,(((Sheet1!$B$16*Sheet1!$B$11)+Sheet1!$J$12)*1.4),(0))))","v":0},null,{"$f":"IF(Sheet1!B3>3,(\"Wtl4 (unit:KG/m^2) =\"),(\"\"))","v":""},{"$f":"IF(Sheet1!$B$4<=3,(0),(IF(Sheet1!$B$3>=2,(1.7*Sheet1!H12),(0))))","v":0}]
[{"$f":"IF(Sheet1!B3>4,(\"Wdl5+Wsd5 (unit:KG/m^2) =\"),(\"\"))","v":""},{"$f":"IF(Sheet1!$B$4<=3,(0),(IF(Sheet1!$B$3>=5,(((Sheet1!$B$16*Sheet1!$B$11)+Sheet1!$J$13)*1.4),(0))))","v":0},null,{"$f":"IF(Sheet1!B3>4,(\"Wtl5 (unit:KG/m^2) =\"),(\"\"))","v":""},{"$f":"IF(Sheet1!$B$4<=3,(0),(IF(Sheet1!$B$3>=2,(1.7*Sheet1!H13),(0))))","v":0}]
[]
["โมเมนต์ DL+WSD",null,null,"โมเมนต LL"]
["FEM.DL1 (unit:kg*m) =",{"$f":"B7*E2*Sheet1!F9^2/12","v":0},null,"FEM.TL1 (unit:kg*m) =",{"$f":"E7*E2*Sheet1!F9^2/12","v":0}]
["FEM.DL2 (unit:kg*m) =",{"$f":"B8*E2*Sheet1!F10^2/12","v":0},null,"FEM.TL2 (unit:kg*m) =",{"$f":"E8*E2*Sheet1!F10^2/12","v":0}]
[{"$f":"IF(Sheet1!B3>=3,(\"FEM.DL3 (unit:kg*m) =\"),(\"\"))","v":"FEM.DL3 (unit:kg*m) ="},{"$f":"IF(Sheet1!B3>=3,('r5'!B9*'r5'!E2*Sheet1!F11^2/12),(0))","v":0},null,{"$f":"IF(Sheet1!B3>=3,(\"FEM.TL3 (unit:kg*m) =\"),(\"\"))","v":"FEM.TL3 (unit:kg*m) ="},{"$f":"IF(Sheet1!B3>=3,('r5'!E9*'r5'!E2*Sheet1!F11^2/12),(0))","v":0}]
[{"$f":"IF(Sheet1!B3>=4,(\"FEM.DL4 (unit:kg*m) =\"),(\"\"))","v":""},{"$f":"IF(Sheet1!B3>=4,('r5'!B10*'r5'!E2*Sheet1!F12^2/12),(0))","v":0},null,{"$f":"IF(Sheet1!B3>=4,(\"FEM.TL4 (unit:kg*m) =\"),(\"\"))","v":""},{"$f":"IF(Sheet1!B3>=4,('r5'!E10*'r5'!E2*Sheet1!F12^2/12),(0))","v":0}]
[{"$f":"IF(Sheet1!B3>=5,(\"FEM.DL5 (unit:kg*m) =\"),(\"\"))","v":""},{"$f":"IF(Sheet1!B3>=5,('r5'!B11*'r5'!E2*Sheet1!F13^2/12),(0))","v":0},null,{"$f":"IF(Sheet1!B3>=5,(\"FEM.TL5 (unit:kg*m) =\"),(\"\"))","v":""},{"$f":"IF(Sheet1!B3>=5,('r5'!E11*'r5'!E2*Sheet1!F13^2/12),(0))","v":0}]
[]
[]
[null,null,null,null,null,null,null,null,null,"วางน้ำหนัก LL    สแปน 1",null,null,null,null,null,null,null,null,null,null,null,"วางน้ำหนัก LL  สแปน 2",null,null,null,null,null,null,null,null,null,null,null,"วางน้ำหนัก LL สแปน 3",null,null,null,null,null,null,null,null,null,null,null,"วางน้ำหนัก LL สแปน 4",null,null,null,null,null,null,null,null,null,null,null,"วางน้ำหนัก LL  สแปน 5",null,null,null,null,null,null,null,null,null,null,null,"วางน้ำหนัก DL ทุกสแปน"]
[null,null,null,null,null,null,null,null,null,null,"1r","2l","2r","3l","3r","4l","4r","5l","5r","6l",null,null,"1r","2l","2r","3l","3r","4l","4r","5l","5r","6l",null,null,"1r","2l","2r","3l","3r","4l","4r","5l","5r","6l",null,null,"1r","2l","2r","3l","3r","4l","4r","5l","5r","6l",null,null,"1r","2l","2r","3l","3r","4l","4r","5l","5r","6l",null,null,"1r","2l","2r","3l","3r","4l","4r","5l","5r","6l"]
[null,null,null,null,null,null,null,null,null,"D.o.f",0.67161914908898346,0.37812018596258579,0.31236015362126651,0.35177103650730962,0.29965680887659707,0.29965680887659707,0.35177103650730962,0.31236015362126651,0.37812018596258579,0.67161914908898346,null,"D.o.f",0.67161914908898346,0.37812018596258579,0.31236015362126651,0.35177103650730962,0.29965680887659707,0.29965680887659707,0.35177103650730962,0.31236015362126651,0.37812018596258579,0.67161914908898346,null,"D.o.f",0.67161914908898346,0.37812018596258579,0.31236015362126651,0.35177103650730962,0.29965680887659707,0.29965680887659707,0.35177103650730962,0.31236015362126651,0.37812018596258579,0.67161914908898346,null,"D.o.f",0.67161914908898346,0.37812018596258579,0.31236015362126651,0.35177103650730962,0.29965680887659707,0.29965680887659707,0.35177103650730962,0.31236015362126651,0.37812018596258579,0.67161914908898346,null,"D.o.f",0.67161914908898346,0.37812018596258579,0.31236015362126651,0.35177103650730962,0.29965680887659707,0.29965680887659707,0.35177103650730962,0.31236015362126651,0.37812018596258579,0.67161914908898346,null,"D.o.f",0.67161914908898346,0.37812018596258579,0.31236015362126651,0.35177103650730962,0.29965680887659707,0.29965680887659707,0.35177103650730962,0.31236015362126651,0.37812018596258579,0.67161914908898346]
[null,null,null,null,null,null,null,null,null,"FEM",{"$f":"E14*-1","v":0},{"$f":"E14","v":0},null,null,null,null,null,null,null,null,null,"FEM",null,null,{"$f":"-E15","v":0},{"$f":"E15","v":0},null,null,null,null,null,null,null,"FEM",null,null,null,null,{"$f":"-E16","v":0},{"$f":"E16","v":0},null,null,null,null,null,"FEM",null,null,null,null,null,null,{"$f":"-E17","v":0},{"$f":"E17","v":0},null,null,null,"FEM",null,null,null,null,null,null,null,null,{"$f":"-E18","v":0},{"$f":"E18","v":0},null,"FEM",{"$f":"-B14","v":0},{"$f":"B14","v":0},{"$f":"-B15","v":0},{"$f":"B15","v":0},{"$f":"-B16","v":0},{"$f":"B16","v":0},{"$f":"-B17","v":0},{"$f":"B17","v":0},{"$f":"-B18","v":0},{"$f":"B18","v":0}]
[null,null,null,null,null,null,null,null,null,"Dis",{"$f":"(K24)*K23*-1","v":0},{"$f":"(L24+M24)*L23*-1","v":0},{"$f":"(M24+L24)*M23*-1","v":0},{"$f":"(N24+O24)*N23*-1","v":0},{"$f":"(O24+N24)*O23*-1","v":0},{"$f":"(P24+Q24)*P23*-1","v":0},{"$f":"(Q24+P24)*Q23*-1","v":0},{"$f":"(R24+S24)*R23*-1","v":0},{"$f":"(S24+R24)*S23*-1","v":0},{"$f":"(T24+U24)*T23*-1","v":0},null,"Dis",{"$f":"(W24)*W23*-1","v":0},{"$f":"(X24+Y24)*X23*-1","v":0},{"$f":"(Y24+X24)*Y23*-1","v":0},{"$f":"(Z24+AA24)*Z23*-1","v":0},{"$f":"(AA24+Z24)*AA23*-1","v":0},{"$f":"(AB24+AC24)*AB23*-1","v":0},{"$f":"(AC24+AB24)*AC23*-1","v":0},{"$f":"(AD24+AE24)*AD23*-1","v":0},{"$f":"(AE24+AD24)*AE23*-1","v":0},{"$f":"(AF24+AG24)*AF23*-1","v":0},null,"Dis",{"$f":"(AI24)*AI23*-1","v":0},{"$f":"(AJ24+AK24)*AJ23*-1","v":0},{"$f":"(AK24+AJ24)*AK23*-1","v":0},{"$f":"(AL24+AM24)*AL23*-1","v":0},{"$f":"(AM24+AL24)*AM23*-1","v":0},{"$f":"(AN24+AO24)*AN23*-1","v":0},{"$f":"(AO24+AN24)*AO23*-1","v":0},{"$f":"(AP24+AQ24)*AP23*-1","v":0},{"$f":"(AQ24+AP24)*AQ23*-1","v":0},{"$f":"(AR24+AS24)*AR23*-1","v":0},null,"Dis",{"$f":"(AU24)*AU23*-1","v":0},{"$f":"(AV24+AW24)*AV23*-1","v":0},{"$f":"(AW24+AV24)*AW23*-1","v":0},{"$f":"(AX24+AY24)*AX23*-1","v":0},{"$f":"(AY24+AX24)*AY23*-1","v":0},{"$f":"(AZ24+BA24)*AZ23*-1","v":0},{"$f":"(BA24+AZ24)*BA23*-1","v":0},{"$f":"(BB24+BC24)*BB23*-1","v":0},{"$f":"(BC24+BB24)*BC23*-1","v":0},{"$f":"(BD24+BE24)*BD23*-1","v":0},null,"Dis",{"$f":"(BG24)*BG23*-1","v":0},{"$f":"(BH24+BI24)*BH23*-1","v":0},{"$f":"(BI24+BH24)*BI23*-1","v":0},{"$f":"(BJ24+BK24)*BJ23*-1","v":0},{"$f":"(BK24+BJ24)*BK23*-1","v":0},{"$f":"(BL24+BM24)*BL23*-1","v":0},{"$f":"(BM24+BL24)*BM23*-1","v":0},{"$f":"(BN24+BO24)*BN23*-1","v":0},{"$f":"(BO24+BN24)*BO23*-1","v":0},{"$f":"(BP24+BQ24)*BP23*-1","v":0},null,"Dis",{"$f":"(BS24)*BS23*-1","v":0},{"$f":"(BT24+BU24)*BT23*-1","v":0},{"$f":"(BU24+BT24)*BU23*-1","v":0},{"$f":"(BV24+BW24)*BV23*-1","v":0},{"$f":"(BW24+BV24)*BW23*-1","v":0},{"$f":"(BX24+BY24)*BX23*-1","v":0},{"$f":"(BY24+BX24)*BY23*-1","v":0},{"$f":"(BZ24+CA24)*BZ23*-1","v":0},{"$f":"(CA24+BZ24)*CA23*-1","v":0},{"$f":"(CB24+CC24)*CB23*-1","v":0}]
[null,null,null,null,null,null,null,null,null,"Co",{"$f":"L25/2","v":0},{"$f":"K25/2","v":0},{"$f":"N25/2","v":0},{"$f":"M25/2","v":0},{"$f":"P25/2","v":0},{"$f":"O25/2","v":0},{"$f":"R25/2","v":0},{"$f":"Q25/2","v":0},{"$f":"T25/2","v":0},{"$f":"S25/2","v":0},null,"Co",{"$f":"X25/2","v":0},{"$f":"W25/2","v":0},{"$f":"Z25/2","v":0},{"$f":"Y25/2","v":0},{"$f":"AB25/2","v":0},{"$f":"AA25/2","v":0},{"$f":"AD25/2","v":0},{"$f":"AC25/2","v":0},{"$f":"AF25/2","v":0},{"$f":"AE25/2","v":0},null,"Co",{"$f":"AJ25/2","v":0},{"$f":"AI25/2","v":0},{"$f":"AL25/2","v":0},{"$f":"AK25/2","v":0},{"$f":"AN25/2","v":0},{"$f":"AM25/2","v":0},{"$f":"AP25/2","v":0},{"$f":"AO25/2","v":0},{"$f":"AR25/2","v":0},{"$f":"AQ25/2","v":0},null,"Co",{"$f":"AV25/2","v":0},{"$f":"AU25/2","v":0},{"$f":"AX25/2","v":0},{"$f":"AW25/2","v":0},{"$f":"AZ25/2","v":0},{"$f":"AY25/2","v":0},{"$f":"BB25/2","v":0},{"$f":"BA25/2","v":0},{"$f":"BD25/2","v":0},{"$f":"BC25/2","v":0},null,"Co",{"$f":"BH25/2","v":0},{"$f":"BG25/2","v":0},{"$f":"BJ25/2","v":0},{"$f":"BI25/2","v":0},{"$f":"BL25/2","v":0},{"$f":"BK25/2","v":0},{"$f":"BN25/2","v":0},{"$f":"BM25/2","v":0},{"$f":"BP25/2","v":0},{"$f":"BO25/2","v":0},null,"Co",{"$f":"BT25/2","v":0},{"$f":"BS25/2","v":0},{"$f":"BV25/2","v":0},{"$f":"BU25/2","v":0},{"$f":"BX25/2","v":0},{"$f":"BW25/2","v":0},{"$f":"BZ25/2","v":0},{"$f":"BY25/2","v":0},{"$f":"CB25/2","v":0},{"$f":"CA25/2","v":0}]
[null,null,null,null,null,null,null,null,null,"dis",{"$f":"(K26)*K23*-1","v":0},{"$f":"(L26+M26)*L23*-1","v":0},{"$f":"(M26+L26)*M23*-1","v":0},{"$f":"(N26+O26)*N23*-1","v":0},{"$f":"(O26+N26)*O23*-1","v":0},{"$f":"(P26+Q26)*P23*-1","v":0},{"$f":"(Q26+P26)*Q23*-1","v":0},{"$f":"(R26+S26)*R23*-1","v":0},{"$f":"(S26+R26)*S23*-1","v":0},{"$f":"(T26+U26)*T23*-1","v":0},null,"dis",{"$f":"(W26)*W23*-1","v":0},{"$f":"(X26+Y26)*X23*-1","v":0},{"$f":"(Y26+X26)*Y23*-1","v":0},{"$f":"(Z26+AA26)*Z23*-1","v":0},{"$f":"(AA26+Z26)*AA23*-1","v":0},{"$f":"(AB26+AC26)*AB23*-1","v":0},{"$f":"(AC26+AB26)*AC23*-1","v":0},{"$f":"(AD26+AE26)*AD23*-1","v":0},{"$f":"(AE26+AD26)*AE23*-1","v":0},{"$f":"(AF26+AG26)*AF23*-1","v":0},null,"dis",{"$f":"(AI26)*AI23*-1","v":0},{"$f":"(AJ26+AK26)*AJ23*-1","v":0},{"$f":"(AK26+AJ26)*AK23*-1","v":0},{"$f":"(AL26+AM26)*AL23*-1","v":0},{"$f":"(AM26+AL26)*AM23*-1","v":0},{"$f":"(AN26+AO26)*AN23*-1","v":0},{"$f":"(AO26+AN26)*AO23*-1","v":0},{"$f":"(AP26+AQ26)*AP23*-1","v":0},{"$f":"(AQ26+AP26)*AQ23*-1","v":0},{"$f":"(AR26+AS26)*AR23*-1","v":0},null,"dis",{"$f":"(AU26)*AU23*-1","v":0},{"$f":"(AV26+AW26)*AV23*-1","v":0},{"$f":"(AW26+AV26)*AW23*-1","v":0},{"$f":"(AX26+AY26)*AX23*-1","v":0},{"$f":"(AY26+AX26)*AY23*-1","v":0},{"$f":"(AZ26+BA26)*AZ23*-1","v":0},{"$f":"(BA26+AZ26)*BA23*-1","v":0},{"$f":"(BB26+BC26)*BB23*-1","v":0},{"$f":"(BC26+BB26)*BC23*-1","v":0},{"$f":"(BD26+BE26)*BD23*-1","v":0},null,"dis",{"$f":"(BG26)*BG23*-1","v":0},{"$f":"(BH26+BI26)*BH23*-1","v":0},{"$f":"(BI26+BH26)*BI23*-1","v":0},{"$f":"(BJ26+BK26)*BJ23*-1","v":0},{"$f":"(BK26+BJ26)*BK23*-1","v":0},{"$f":"(BL26+BM26)*BL23*-1","v":0},{"$f":"(BM26+BL26)*BM23*-1","v":0},{"$f":"(BN26+BO26)*BN23*-1","v":0},{"$f":"(BO26+BN26)*BO23*-1","v":0},{"$f":"(BP26+BQ26)*BP23*-1","v":0},null,"dis",{"$f":"(BS26)*BS23*-1","v":0},{"$f":"(BT26+BU26)*BT23*-1","v":0},{"$f":"(BU26+BT26)*BU23*-1","v":0},{"$f":"(BV26+BW26)*BV23*-1","v":0},{"$f":"(BW26+BV26)*BW23*-1","v":0},{"$f":"(BX26+BY26)*BX23*-1","v":0},{"$f":"(BY26+BX26)*BY23*-1","v":0},{"$f":"(BZ26+CA26)*BZ23*-1","v":0},{"$f":"(CA26+BZ26)*CA23*-1","v":0},{"$f":"(CB26+CC26)*CB23*-1","v":0}]
[null,null,null,null,null,null,null,null,null,"co",{"$f":"L27/2","v":0},{"$f":"K27/2","v":0},{"$f":"N27/2","v":0},{"$f":"M27/2","v":0},{"$f":"P27/2","v":0},{"$f":"O27/2","v":0},{"$f":"R27/2","v":0},{"$f":"Q27/2","v":0},{"$f":"T27/2","v":0},{"$f":"S27/2","v":0},null,"co",{"$f":"X27/2","v":0},{"$f":"W27/2","v":0},{"$f":"Z27/2","v":0},{"$f":"Y27/2","v":0},{"$f":"AB27/2","v":0},{"$f":"AA27/2","v":0},{"$f":"AD27/2","v":0},{"$f":"AC27/2","v":0},{"$f":"AF27/2","v":0},{"$f":"AE27/2","v":0},null,"co",{"$f":"AJ27/2","v":0},{"$f":"AI27/2","v":0},{"$f":"AL27/2","v":0},{"$f":"AK27/2","v":0},{"$f":"AN27/2","v":0},{"$f":"AM27/2","v":0},{"$f":"AP27/2","v":0},{"$f":"AO27/2","v":0},{"$f":"AR27/2","v":0},{"$f":"AQ27/2","v":0},null,"co",{"$f":"AV27/2","v":0},{"$f":"AU27/2","v":0},{"$f":"AX27/2","v":0},{"$f":"AW27/2","v":0},{"$f":"AZ27/2","v":0},{"$f":"AY27/2","v":0},{"$f":"BB27/2","v":0},{"$f":"BA27/2","v":0},{"$f":"BD27/2","v":0},{"$f":"BC27/2","v":0},null,"co",{"$f":"BH27/2","v":0},{"$f":"BG27/2","v":0},{"$f":"BJ27/2","v":0},{"$f":"BI27/2","v":0},{"$f":"BL27/2","v":0},{"$f":"BK27/2","v":0},{"$f":"BN27/2","v":0},{"$f":"BM27/2","v":0},{"$f":"BP27/2","v":0},{"$f":"BO27/2","v":0},null,"co",{"$f":"BT27/2","v":0},{"$f":"BS27/2","v":0},{"$f":"BV27/2","v":0},{"$f":"BU27/2","v":0},{"$f":"BX27/2","v":0},{"$f":"BW27/2","v":0},{"$f":"BZ27/2","v":0},{"$f":"BY27/2","v":0},{"$f":"CB27/2","v":0},{"$f":"CA27/2","v":0}]
[null,null,null,null,null,null,null,null,null,"dis",{"$f":"(K28)*K23*-1","v":0},{"$f":"(L28+M28)*L23*-1","v":0},{"$f":"(M28+L28)*M23*-1","v":0},{"$f":"(N28+O28)*N23*-1","v":0},{"$f":"(O28+N28)*O23*-1","v":0},{"$f":"(P28+Q28)*P23*-1","v":0},{"$f":"(Q28+P28)*Q23*-1","v":0},{"$f":"(R28+S28)*R23*-1","v":0},{"$f":"(S28+R28)*S23*-1","v":0},{"$f":"(T28+U28)*T23*-1","v":0},null,"dis",{"$f":"(W28)*W23*-1","v":0},{"$f":"(X28+Y28)*X23*-1","v":0},{"$f":"(Y28+X28)*Y23*-1","v":0},{"$f":"(Z28+AA28)*Z23*-1","v":0},{"$f":"(AA28+Z28)*AA23*-1","v":0},{"$f":"(AB28+AC28)*AB23*-1","v":0},{"$f":"(AC28+AB28)*AC23*-1","v":0},{"$f":"(AD28+AE28)*AD23*-1","v":0},{"$f":"(AE28+AD28)*AE23*-1","v":0},{"$f":"(AF28+AG28)*AF23*-1","v":0},null,"dis",{"$f":"(AI28)*AI23*-1","v":0},{"$f":"(AJ28+AK28)*AJ23*-1","v":0},{"$f":"(AK28+AJ28)*AK23*-1","v":0},{"$f":"(AL28+AM28)*AL23*-1","v":0},{"$f":"(AM28+AL28)*AM23*-1","v":0},{"$f":"(AN28+AO28)*AN23*-1","v":0},{"$f":"(AO28+AN28)*AO23*-1","v":0},{"$f":"(AP28+AQ28)*AP23*-1","v":0},{"$f":"(AQ28+AP28)*AQ23*-1","v":0},{"$f":"(AR28+AS28)*AR23*-1","v":0},null,"dis",{"$f":"(AU28)*AU23*-1","v":0},{"$f":"(AV28+AW28)*AV23*-1","v":0},{"$f":"(AW28+AV28)*AW23*-1","v":0},{"$f":"(AX28+AY28)*AX23*-1","v":0},{"$f":"(AY28+AX28)*AY23*-1","v":0},{"$f":"(AZ28+BA28)*AZ23*-1","v":0},{"$f":"(BA28+AZ28)*BA23*-1","v":0},{"$f":"(BB28+BC28)*BB23*-1","v":0},{"$f":"(BC28+BB28)*BC23*-1","v":0},{"$f":"(BD28+BE28)*BD23*-1","v":0},null,"dis",{"$f":"(BG28)*BG23*-1","v":0},{"$f":"(BH28+BI28)*BH23*-1","v":0},{"$f":"(BI28+BH28)*BI23*-1","v":0},{"$f":"(BJ28+BK28)*BJ23*-1","v":0},{"$f":"(BK28+BJ28)*BK23*-1","v":0},{"$f":"(BL28+BM28)*BL23*-1","v":0},{"$f":"(BM28+BL28)*BM23*-1","v":0},{"$f":"(BN28+BO28)*BN23*-1","v":0},{"$f":"(BO28+BN28)*BO23*-1","v":0},{"$f":"(BP28+BQ28)*BP23*-1","v":0},null,"dis",{"$f":"(BS28)*BS23*-1","v":0},{"$f":"(BT28+BU28)*BT23*-1","v":0},{"$f":"(BU28+BT28)*BU23*-1","v":0},{"$f":"(BV28+BW28)*BV23*-1","v":0},{"$f":"(BW28+BV28)*BW23*-1","v":0},{"$f":"(BX28+BY28)*BX23*-1","v":0},{"$f":"(BY28+BX28)*BY23*-1","v":0},{"$f":"(BZ28+CA28)*BZ23*-1","v":0},{"$f":"(CA28+BZ28)*CA23*-1","v":0},{"$f":"(CB28+CC28)*CB23*-1","v":0}]
[null,null,null,null,null,null,null,null,null,"co",{"$f":"L29/2","v":0},{"$f":"K29/2","v":0},{"$f":"N29/2","v":0},{"$f":"M29/2","v":0},{"$f":"P29/2","v":0},{"$f":"O29/2","v":0},{"$f":"R29/2","v":0},{"$f":"Q29/2","v":0},{"$f":"T29/2","v":0},{"$f":"S29/2","v":0},null,"co",{"$f":"X29/2","v":0},0,{"$f":"Z29/2","v":0},{"$f":"Y29/2","v":0},{"$f":"AB29/2","v":0},{"$f":"AA29/2","v":0},{"$f":"AD29/2","v":0},{"$f":"AC29/2","v":0},{"$f":"AF29/2","v":0},{"$f":"AE29/2","v":0},null,"co",{"$f":"AJ29/2","v":0},{"$f":"AI29/2","v":0},{"$f":"AL29/2","v":0},{"$f":"AK29/2","v":0},{"$f":"AN29/2","v":0},{"$f":"AM29/2","v":0},{"$f":"AP29/2","v":0},{"$f":"AO29/2","v":0},{"$f":"AR29/2","v":0},{"$f":"AQ29/2","v":0},null,"co",{"$f":"AV29/2","v":0},{"$f":"AU29/2","v":0},{"$f":"AX29/2","v":0},{"$f":"AW29/2","v":0},{"$f":"AZ29/2","v":0},{"$f":"AY29/2","v":0},{"$f":"BB29/2","v":0},{"$f":"BA29/2","v":0},{"$f":"BD29/2","v":0},{"$f":"BC29/2","v":0},null,"co",{"$f":"BH29/2","v":0},{"$f":"BG29/2","v":0},{"$f":"BJ29/2","v":0},{"$f":"BI29/2","v":0},{"$f":"BL29/2","v":0},{"$f":"BK29/2","v":0},{"$f":"BN29/2","v":0},{"$f":"BM29/2","v":0},{"$f":"BP29/2","v":0},{"$f":"BO29/2","v":0},null,"co",{"$f":"BT29/2","v":0},{"$f":"BS29/2","v":0},{"$f":"BV29/2","v":0},{"$f":"BU29/2","v":0},{"$f":"BX29/2","v":0},{"$f":"BW29/2","v":0},{"$f":"BZ29/2","v":0},{"$f":"BY29/2","v":0},{"$f":"CB29/2","v":0},{"$f":"CA29/2","v":0}]
[null,null,null,null,null,null,null,null,null,"dis",{"$f":"(K30)*K23*-1","v":0},{"$f":"(L30+M30)*L23*-1","v":0},{"$f":"(M30+L30)*M23*-1","v":0},{"$f":"(N30+O30)*N23*-1","v":0},{"$f":"(O30+N30)*O23*-1","v":0},{"$f":"(P30+Q30)*P23*-1","v":0},{"$f":"(Q30+P30)*Q23*-1","v":0},{"$f":"(R30+S30)*R23*-1","v":0},{"$f":"(S30+R30)*S23*-1","v":0},{"$f":"(T30+U30)*T23*-1","v":0},null,"dis",{"$f":"(W30)*W23*-1","v":0},{"$f":"(X30+Y30)*X23*-1","v":0},{"$f":"(Y30+X30)*Y23*-1","v":0},{"$f":"(Z30+AA30)*Z23*-1","v":0},{"$f":"(AA30+Z30)*AA23*-1","v":0},{"$f":"(AB30+AC30)*AB23*-1","v":0},{"$f":"(AC30+AB30)*AC23*-1","v":0},{"$f":"(AD30+AE30)*AD23*-1","v":0},{"$f":"(AE30+AD30)*AE23*-1","v":0},{"$f":"(AF30+AG30)*AF23*-1","v":0},null,"dis",{"$f":"(AI30)*AI23*-1","v":0},{"$f":"(AJ30+AK30)*AJ23*-1","v":0},{"$f":"(AK30+AJ30)*AK23*-1","v":0},{"$f":"(AL30+AM30)*AL23*-1","v":0},{"$f":"(AM30+AL30)*AM23*-1","v":0},{"$f":"(AN30+AO30)*AN23*-1","v":0},{"$f":"(AO30+AN30)*AO23*-1","v":0},{"$f":"(AP30+AQ30)*AP23*-1","v":0},{"$f":"(AQ30+AP30)*AQ23*-1","v":0},{"$f":"(AR30+AS30)*AR23*-1","v":0},null,"dis",{"$f":"(AU30)*AU23*-1","v":0},{"$f":"(AV30+AW30)*AV23*-1","v":0},{"$f":"(AW30+AV30)*AW23*-1","v":0},{"$f":"(AX30+AY30)*AX23*-1","v":0},{"$f":"(AY30+AX30)*AY23*-1","v":0},{"$f":"(AZ30+BA30)*AZ23*-1","v":0},{"$f":"(BA30+AZ30)*BA23*-1","v":0},{"$f":"(BB30+BC30)*BB23*-1","v":0},{"$f":"(BC30+BB30)*BC23*-1","v":0},{"$f":"(BD30+BE30)*BD23*-1","v":0},null,"dis",{"$f":"(BG30)*BG23*-1","v":0},{"$f":"(BH30+BI30)*BH23*-1","v":0},{"$f":"(BI30+BH30)*BI23*-1","v":0},{"$f":"(BJ30+BK30)*BJ23*-1","v":0},{"$f":"(BK30+BJ30)*BK23*-1","v":0},{"$f":"(BL30+BM30)*BL23*-1","v":0},{"$f":"(BM30+BL30)*BM23*-1","v":0},{"$f":"(BN30+BO30)*BN23*-1","v":0},{"$f":"(BO30+BN30)*BO23*-1","v":0},{"$f":"(BP30+BQ30)*BP23*-1","v":0},null,"dis",{"$f":"(BS30)*BS23*-1","v":0},{"$f":"(BT30+BU30)*BT23*-1","v":0},{"$f":"(BU30+BT30)*BU23*-1","v":0},{"$f":"(BV30+BW30)*BV23*-1","v":0},{"$f":"(BW30+BV30)*BW23*-1","v":0},{"$f":"(BX30+BY30)*BX23*-1","v":0},{"$f":"(BY30+BX30)*BY23*-1","v":0},{"$f":"(BZ30+CA30)*BZ23*-1","v":0},{"$f":"(CA30+BZ30)*CA23*-1","v":0},{"$f":"(CB30+CC30)*CB23*-1","v":0}]
[null,null,null,null,null,null,null,null,null,"co",{"$f":"L31/2","v":0},{"$f":"K31/2","v":0},{"$f":"N31/2","v":0},{"$f":"M31/2","v":0},{"$f":"P31/2","v":0},{"$f":"O31/2","v":0},{"$f":"R31/2","v":0},{"$f":"Q31/2","v":0},{"$f":"T31/2","v":0},{"$f":"S31/2","v":0},null,"co",{"$f":"X31/2","v":0},{"$f":"W31/2","v":0},{"$f":"Z31/2","v":0},{"$f":"Y31/2","v":0},{"$f":"AB31/2","v":0},{"$f":"AA31/2","v":0},{"$f":"AD31/2","v":0},{"$f":"AC31/2","v":0},{"$f":"AF31/2","v":0},{"$f":"AE31/2","v":0},null,"co",{"$f":"AJ31/2","v":0},{"$f":"AI31/2","v":0},{"$f":"AL31/2","v":0},{"$f":"AK31/2","v":0},{"$f":"AN31/2","v":0},{"$f":"AM31/2","v":0},{"$f":"AP31/2","v":0},{"$f":"AO31/2","v":0},{"$f":"AR31/2","v":0},{"$f":"AQ31/2","v":0},null,"co",{"$f":"AV31/2","v":0},{"$f":"AU31/2","v":0},{"$f":"AX31/2","v":0},{"$f":"AW31/2","v":0},{"$f":"AZ31/2","v":0},{"$f":"AY31/2","v":0},{"$f":"BB31/2","v":0},{"$f":"BA31/2","v":0},{"$f":"BD31/2","v":0},{"$f":"BC31/2","v":0},null,"co",{"$f":"BH31/2","v":0},{"$f":"BG31/2","v":0},{"$f":"BJ31/2","v":0},{"$f":"BI31/2","v":0},{"$f":"BL31/2","v":0},{"$f":"BK31/2","v":0},{"$f":"BN31/2","v":0},{"$f":"BM31/2","v":0},{"$f":"BP31/2","v":0},{"$f":"BO31/2","v":0},null,"co",{"$f":"BT31/2","v":0},{"$f":"BS31/2","v":0},{"$f":"BV31/2","v":0},{"$f":"BU31/2","v":0},{"$f":"BX31/2","v":0},{"$f":"BW31/2","v":0},{"$f":"BZ31/2","v":0},{"$f":"BY31/2","v":0},{"$f":"CB31/2","v":0},{"$f":"CA31/2","v":0}]
[null,null,null,null,null,null,null,null,null,"dis",{"$f":"(K32)*K23*-1","v":0},{"$f":"(L32+M32)*L23*-1","v":0},{"$f":"(M32+L32)*M23*-1","v":0},{"$f":"(N32+O32)*N23*-1","v":0},{"$f":"(O32+N32)*O23*-1","v":0},{"$f":"(P32+Q32)*P23*-1","v":0},{"$f":"(Q32+P32)*Q23*-1","v":0},{"$f":"(R32+S32)*R23*-1","v":0},{"$f":"(S32+R32)*S23*-1","v":0},{"$f":"(T32+U32)*T23*-1","v":0},null,"dis",{"$f":"(W32)*W23*-1","v":0},{"$f":"(X32+Y32)*X23*-1","v":0},{"$f":"(Y32+X32)*Y23*-1","v":0},{"$f":"(Z32+AA32)*Z23*-1","v":0},{"$f":"(AA32+Z32)*AA23*-1","v":0},{"$f":"(AB32+AC32)*AB23*-1","v":0},{"$f":"(AC32+AB32)*AC23*-1","v":0},{"$f":"(AD32+AE32)*AD23*-1","v":0},{"$f":"(AE32+AD32)*AE23*-1","v":0},{"$f":"(AF32+AG32)*AF23*-1","v":0},null,"dis",{"$f":"(AI32)*AI23*-1","v":0},{"$f":"(AJ32+AK32)*AJ23*-1","v":0},{"$f":"(AK32+AJ32)*AK23*-1","v":0},{"$f":"(AL32+AM32)*AL23*-1","v":0},{"$f":"(AM32+AL32)*AM23*-1","v":0},{"$f":"(AN32+AO32)*AN23*-1","v":0},{"$f":"(AO32+AN32)*AO23*-1","v":0},{"$f":"(AP32+AQ32)*AP23*-1","v":0},{"$f":"(AQ32+AP32)*AQ23*-1","v":0},{"$f":"(AR32+AS32)*AR23*-1","v":0},null,"dis",{"$f":"(AU32)*AU23*-1","v":0},{"$f":"(AV32+AW32)*AV23*-1","v":0},{"$f":"(AW32+AV32)*AW23*-1","v":0},{"$f":"(AX32+AY32)*AX23*-1","v":0},{"$f":"(AY32+AX32)*AY23*-1","v":0},{"$f":"(AZ32+BA32)*AZ23*-1","v":0},{"$f":"(BA32+AZ32)*BA23*-1","v":0},{"$f":"(BB32+BC32)*BB23*-1","v":0},{"$f":"(BC32+BB32)*BC23*-1","v":0},{"$f":"(BD32+BE32)*BD23*-1","v":0},null,"dis",{"$f":"(BG32)*BG23*-1","v":0},{"$f":"(BH32+BI32)*BH23*-1","v":0},{"$f":"(BI32+BH32)*BI23*-1","v":0},{"$f":"(BJ32+BK32)*BJ23*-1","v":0},{"$f":"(BK32+BJ32)*BK23*-1","v":0},{"$f":"(BL32+BM32)*BL23*-1","v":0},{"$f":"(BM32+BL32)*BM23*-1","v":0},{"$f":"(BN32+BO32)*BN23*-1","v":0},{"$f":"(BO32+BN32)*BO23*-1","v":0},{"$f":"(BP32+BQ32)*BP23*-1","v":0},null,"dis",{"$f":"(BS32)*BS23*-1","v":0},{"$f":"(BT32+BU32)*BT23*-1","v":0},{"$f":"(BU32+BT32)*BU23*-1","v":0},{"$f":"(BV32+BW32)*BV23*-1","v":0},{"$f":"(BW32+BV32)*BW23*-1","v":0},{"$f":"(BX32+BY32)*BX23*-1","v":0},{"$f":"(BY32+BX32)*BY23*-1","v":0},{"$f":"(BZ32+CA32)*BZ23*-1","v":0},{"$f":"(CA32+BZ32)*CA23*-1","v":0},{"$f":"(CB32+CC32)*CB23*-1","v":0}]
[null,null,null,null,null,null,null,null,null,"co",{"$f":"L33/2","v":0},{"$f":"K33/2","v":0},{"$f":"N33/2","v":0},{"$f":"M33/2","v":0},{"$f":"P33/2","v":0},{"$f":"O33/2","v":0},{"$f":"R33/2","v":0},{"$f":"Q33/2","v":0},{"$f":"T33/2","v":0},{"$f":"S33/2","v":0},null,"co",{"$f":"X33/2","v":0},{"$f":"W33/2","v":0},{"$f":"Z33/2","v":0},{"$f":"Y33/2","v":0},{"$f":"AB33/2","v":0},{"$f":"AA33/2","v":0},{"$f":"AD33/2","v":0},{"$f":"AC33/2","v":0},{"$f":"AF33/2","v":0},{"$f":"AE33/2","v":0},null,"co",{"$f":"AJ33/2","v":0},{"$f":"AI33/2","v":0},{"$f":"AL33/2","v":0},{"$f":"AK33/2","v":0},{"$f":"AN33/2","v":0},{"$f":"AM33/2","v":0},{"$f":"AP33/2","v":0},{"$f":"AO33/2","v":0},{"$f":"AR33/2","v":0},{"$f":"AQ33/2","v":0},null,"co",{"$f":"AV33/2","v":0},{"$f":"AU33/2","v":0},{"$f":"AX33/2","v":0},{"$f":"AW33/2","v":0},{"$f":"AZ33/2","v":0},{"$f":"AY33/2","v":0},{"$f":"BB33/2","v":0},{"$f":"BA33/2","v":0},{"$f":"BD33/2","v":0},{"$f":"BC33/2","v":0},null,"co",{"$f":"BH33/2","v":0},{"$f":"BG33/2","v":0},{"$f":"BJ33/2","v":0},{"$f":"BI33/2","v":0},{"$f":"BL33/2","v":0},{"$f":"BK33/2","v":0},{"$f":"BN33/2","v":0},{"$f":"BM33/2","v":0},{"$f":"BP33/2","v":0},{"$f":"BO33/2","v":0},null,"co",{"$f":"BT33/2","v":0},{"$f":"BS33/2","v":0},{"$f":"BV33/2","v":0},{"$f":"BU33/2","v":0},{"$f":"BX33/2","v":0},{"$f":"BW33/2","v":0},{"$f":"BZ33/2","v":0},{"$f":"BY33/2","v":0},{"$f":"CB33/2","v":0},{"$f":"CA33/2","v":0}]
[null,null,null,null,null,null,null,null,null,"dis",{"$f":"(K34)*K23*-1","v":0},{"$f":"(L34+M34)*L23*-1","v":0},{"$f":"(M34+L34)*M23*-1","v":0},{"$f":"(N34+O34)*N23*-1","v":0},{"$f":"(O34+N34)*O23*-1","v":0},{"$f":"(P34+Q34)*P23*-1","v":0},{"$f":"(Q34+P34)*Q23*-1","v":0},{"$f":"(R34+S34)*R23*-1","v":0},{"$f":"(S34+R34)*S23*-1","v":0},{"$f":"(T34+U34)*T23*-1","v":0},null,"dis",{"$f":"(W34)*W23*-1","v":0},{"$f":"(X34+Y34)*X23*-1","v":0},{"$f":"(Y34+X34)*Y23*-1","v":0},{"$f":"(Z34+AA34)*Z23*-1","v":0},{"$f":"(AA34+Z34)*AA23*-1","v":0},{"$f":"(AB34+AC34)*AB23*-1","v":0},{"$f":"(AC34+AB34)*AC23*-1","v":0},{"$f":"(AD34+AE34)*AD23*-1","v":0},{"$f":"(AE34+AD34)*AE23*-1","v":0},{"$f":"(AF34+AG34)*AF23*-1","v":0},null,"dis",{"$f":"(AI34)*AI23*-1","v":0},{"$f":"(AJ34+AK34)*AJ23*-1","v":0},{"$f":"(AK34+AJ34)*AK23*-1","v":0},{"$f":"(AL34+AM34)*AL23*-1","v":0},{"$f":"(AM34+AL34)*AM23*-1","v":0},{"$f":"(AN34+AO34)*AN23*-1","v":0},{"$f":"(AO34+AN34)*AO23*-1","v":0},{"$f":"(AP34+AQ34)*AP23*-1","v":0},{"$f":"(AQ34+AP34)*AQ23*-1","v":0},{"$f":"(AR34+AS34)*AR23*-1","v":0},null,"dis",{"$f":"(AU34)*AU23*-1","v":0},{"$f":"(AV34+AW34)*AV23*-1","v":0},{"$f":"(AW34+AV34)*AW23*-1","v":0},{"$f":"(AX34+AY34)*AX23*-1","v":0},{"$f":"(AY34+AX34)*AY23*-1","v":0},{"$f":"(AZ34+BA34)*AZ23*-1","v":0},{"$f":"(BA34+AZ34)*BA23*-1","v":0},{"$f":"(BB34+BC34)*BB23*-1","v":0},{"$f":"(BC34+BB34)*BC23*-1","v":0},{"$f":"(BD34+BE34)*BD23*-1","v":0},null,"dis",{"$f":"(BG34)*BG23*-1","v":0},{"$f":"(BH34+BI34)*BH23*-1","v":0},{"$f":"(BI34+BH34)*BI23*-1","v":0},{"$f":"(BJ34+BK34)*BJ23*-1","v":0},{"$f":"(BK34+BJ34)*BK23*-1","v":0},{"$f":"(BL34+BM34)*BL23*-1","v":0},{"$f":"(BM34+BL34)*BM23*-1","v":0},{"$f":"(BN34+BO34)*BN23*-1","v":0},{"$f":"(BO34+BN34)*BO23*-1","v":0},{"$f":"(BP34+BQ34)*BP23*-1","v":0},null,"dis",{"$f":"(BS34)*BS23*-1","v":0},{"$f":"(BT34+BU34)*BT23*-1","v":0},{"$f":"(BU34+BT34)*BU23*-1","v":0},{"$f":"(BV34+BW34)*BV23*-1","v":0},{"$f":"(BW34+BV34)*BW23*-1","v":0},{"$f":"(BX34+BY34)*BX23*-1","v":0},{"$f":"(BY34+BX34)*BY23*-1","v":0},{"$f":"(BZ34+CA34)*BZ23*-1","v":0},{"$f":"(CA34+BZ34)*CA23*-1","v":0},{"$f":"(CB34+CC34)*CB23*-1","v":0}]
[null,null,null,null,null,null,null,null,null,"co",{"$f":"L35/2","v":0},{"$f":"K35/2","v":0},{"$f":"N35/2","v":0},{"$f":"M35/2","v":0},{"$f":"P35/2","v":0},{"$f":"O35/2","v":0},{"$f":"R35/2","v":0},{"$f":"Q35/2","v":0},{"$f":"T35/2","v":0},{"$f":"S35/2","v":0},null,"co",{"$f":"X35/2","v":0},0,{"$f":"Z35/2","v":0},{"$f":"Y35/2","v":0},{"$f":"AB35/2","v":0},{"$f":"AA35/2","v":0},{"$f":"AD35/2","v":0},{"$f":"AC35/2","v":0},{"$f":"AF35/2","v":0},{"$f":"AE35/2","v":0},null,"co",{"$f":"AJ35/2","v":0},{"$f":"AI35/2","v":0},{"$f":"AL35/2","v":0},{"$f":"AK35/2","v":0},{"$f":"AN35/2","v":0},{"$f":"AM35/2","v":0},{"$f":"AP35/2","v":0},{"$f":"AO35/2","v":0},{"$f":"AR35/2","v":0},{"$f":"AQ35/2","v":0},null,"co",{"$f":"AV35/2","v":0},{"$f":"AU35/2","v":0},{"$f":"AX35/2","v":0},{"$f":"AW35/2","v":0},{"$f":"AZ35/2","v":0},{"$f":"AY35/2","v":0},{"$f":"BB35/2","v":0},{"$f":"BA35/2","v":0},{"$f":"BD35/2","v":0},{"$f":"BC35/2","v":0},null,"co",{"$f":"BH35/2","v":0},{"$f":"BG35/2","v":0},{"$f":"BJ35/2","v":0},{"$f":"BI35/2","v":0},{"$f":"BL35/2","v":0},{"$f":"BK35/2","v":0},{"$f":"BN35/2","v":0},{"$f":"BM35/2","v":0},{"$f":"BP35/2","v":0},{"$f":"BO35/2","v":0},null,"co",{"$f":"BT35/2","v":0},{"$f":"BS35/2","v":0},{"$f":"BV35/2","v":0},{"$f":"BU35/2","v":0},{"$f":"BX35/2","v":0},{"$f":"BW35/2","v":0},{"$f":"BZ35/2","v":0},{"$f":"BY35/2","v":0},{"$f":"CB35/2","v":0},{"$f":"CA35/2","v":0}]
[null,null,null,null,null,null,null,null,null,"dis",{"$f":"(K36)*K23*-1","v":0},{"$f":"(L36+M36)*L23*-1","v":0},{"$f":"(M36+L36)*M23*-1","v":0},{"$f":"(N36+O36)*N23*-1","v":0},{"$f":"(O36+N36)*O23*-1","v":0},{"$f":"(P36+Q36)*P23*-1","v":0},{"$f":"(Q36+P36)*Q23*-1","v":0},{"$f":"(R36+S36)*R23*-1","v":0},{"$f":"(S36+R36)*S23*-1","v":0},{"$f":"(T36+U36)*T23*-1","v":0},null,"dis",{"$f":"(W36)*W23*-1","v":0},{"$f":"(X36+Y36)*X23*-1","v":0},{"$f":"(Y36+X36)*Y23*-1","v":0},{"$f":"(Z36+AA36)*Z23*-1","v":0},{"$f":"(AA36+Z36)*AA23*-1","v":0},{"$f":"(AB36+AC36)*AB23*-1","v":0},{"$f":"(AC36+AB36)*AC23*-1","v":0},{"$f":"(AD36+AE36)*AD23*-1","v":0},{"$f":"(AE36+AD36)*AE23*-1","v":0},{"$f":"(AF36+AG36)*AF23*-1","v":0},null,"dis",{"$f":"(AI36)*AI23*-1","v":0},{"$f":"(AJ36+AK36)*AJ23*-1","v":0},{"$f":"(AK36+AJ36)*AK23*-1","v":0},{"$f":"(AL36+AM36)*AL23*-1","v":0},{"$f":"(AM36+AL36)*AM23*-1","v":0},{"$f":"(AN36+AO36)*AN23*-1","v":0},{"$f":"(AO36+AN36)*AO23*-1","v":0},{"$f":"(AP36+AQ36)*AP23*-1","v":0},{"$f":"(AQ36+AP36)*AQ23*-1","v":0},{"$f":"(AR36+AS36)*AR23*-1","v":0},null,"dis",{"$f":"(AU36)*AU23*-1","v":0},{"$f":"(AV36+AW36)*AV23*-1","v":0},{"$f":"(AW36+AV36)*AW23*-1","v":0},{"$f":"(AX36+AY36)*AX23*-1","v":0},{"$f":"(AY36+AX36)*AY23*-1","v":0},{"$f":"(AZ36+BA36)*AZ23*-1","v":0},{"$f":"(BA36+AZ36)*BA23*-1","v":0},{"$f":"(BB36+BC36)*BB23*-1","v":0},{"$f":"(BC36+BB36)*BC23*-1","v":0},{"$f":"(BD36+BE36)*BD23*-1","v":0},null,"dis",{"$f":"(BG36)*BG23*-1","v":0},{"$f":"(BH36+BI36)*BH23*-1","v":0},{"$f":"(BI36+BH36)*BI23*-1","v":0},{"$f":"(BJ36+BK36)*BJ23*-1","v":0},{"$f":"(BK36+BJ36)*BK23*-1","v":0},{"$f":"(BL36+BM36)*BL23*-1","v":0},{"$f":"(BM36+BL36)*BM23*-1","v":0},{"$f":"(BN36+BO36)*BN23*-1","v":0},{"$f":"(BO36+BN36)*BO23*-1","v":0},{"$f":"(BP36+BQ36)*BP23*-1","v":0},null,"dis",{"$f":"(BS36)*BS23*-1","v":0},{"$f":"(BT36+BU36)*BT23*-1","v":0},{"$f":"(BU36+BT36)*BU23*-1","v":0},{"$f":"(BV36+BW36)*BV23*-1","v":0},{"$f":"(BW36+BV36)*BW23*-1","v":0},{"$f":"(BX36+BY36)*BX23*-1","v":0},{"$f":"(BY36+BX36)*BY23*-1","v":0},{"$f":"(BZ36+CA36)*BZ23*-1","v":0},{"$f":"(CA36+BZ36)*CA23*-1","v":0},{"$f":"(CB36+CC36)*CB23*-1","v":0}]
[null,null,null,null,null,null,null,null,null,"co",{"$f":"L37/2","v":0},{"$f":"K37/2","v":0},{"$f":"N37/2","v":0},{"$f":"M37/2","v":0},{"$f":"P37/2","v":0},{"$f":"O37/2","v":0},{"$f":"R37/2","v":0},{"$f":"Q37/2","v":0},{"$f":"T37/2","v":0},{"$f":"S37/2","v":0},null,"co",{"$f":"X37/2","v":0},{"$f":"W37/2","v":0},{"$f":"Z37/2","v":0},{"$f":"Y37/2","v":0},{"$f":"AB37/2","v":0},{"$f":"AA37/2","v":0},{"$f":"AD37/2","v":0},{"$f":"AC37/2","v":0},{"$f":"AF37/2","v":0},{"$f":"AE37/2","v":0},null,"co",{"$f":"AJ37/2","v":0},{"$f":"AI37/2","v":0},{"$f":"AL37/2","v":0},{"$f":"AK37/2","v":0},{"$f":"AN37/2","v":0},{"$f":"AM37/2","v":0},{"$f":"AP37/2","v":0},{"$f":"AO37/2","v":0},{"$f":"AR37/2","v":0},{"$f":"AQ37/2","v":0},null,"co",{"$f":"AV37/2","v":0},{"$f":"AU37/2","v":0},{"$f":"AX37/2","v":0},{"$f":"AW37/2","v":0},{"$f":"AZ37/2","v":0},{"$f":"AY37/2","v":0},{"$f":"BB37/2","v":0},{"$f":"BA37/2","v":0},{"$f":"BD37/2","v":0},{"$f":"BC37/2","v":0},null,"co",{"$f":"BH37/2","v":0},{"$f":"BG37/2","v":0},{"$f":"BJ37/2","v":0},{"$f":"BI37/2","v":0},{"$f":"BL37/2","v":0},{"$f":"BK37/2","v":0},{"$f":"BN37/2","v":0},{"$f":"BM37/2","v":0},{"$f":"BP37/2","v":0},{"$f":"BO37/2","v":0},null,"co",{"$f":"BT37/2","v":0},{"$f":"BS37/2","v":0},{"$f":"BV37/2","v":0},{"$f":"BU37/2","v":0},{"$f":"BX37/2","v":0},{"$f":"BW37/2","v":0},{"$f":"BZ37/2","v":0},{"$f":"BY37/2","v":0},{"$f":"CB37/2","v":0},{"$f":"CA37/2","v":0}]
[null,null,null,null,null,null,null,null,null,"dis",{"$f":"(K38)*K23*-1","v":0},{"$f":"(L38+M38)*L23*-1","v":0},{"$f":"(M38+L38)*M23*-1","v":0},{"$f":"(N38+O38)*N23*-1","v":0},{"$f":"(O38+N38)*O23*-1","v":0},{"$f":"(P38+Q38)*P23*-1","v":0},{"$f":"(Q38+P38)*Q23*-1","v":0},{"$f":"(R38+S38)*R23*-1","v":0},{"$f":"(S38+R38)*S23*-1","v":0},{"$f":"(T38+U38)*T23*-1","v":0},null,"dis",{"$f":"(W38)*W23*-1","v":0},{"$f":"(X38+Y38)*X23*-1","v":0},{"$f":"(Y38+X38)*Y23*-1","v":0},{"$f":"(Z38+AA38)*Z23*-1","v":0},{"$f":"(AA38+Z38)*AA23*-1","v":0},{"$f":"(AB38+AC38)*AB23*-1","v":0},{"$f":"(AC38+AB38)*AC23*-1","v":0},{"$f":"(AD38+AE38)*AD23*-1","v":0},{"$f":"(AE38+AD38)*AE23*-1","v":0},{"$f":"(AF38+AG38)*AF23*-1","v":0},null,"dis",{"$f":"(AI38)*AI23*-1","v":0},{"$f":"(AJ38+AK38)*AJ23*-1","v":0},{"$f":"(AK38+AJ38)*AK23*-1","v":0},{"$f":"(AL38+AM38)*AL23*-1","v":0},{"$f":"(AM38+AL38)*AM23*-1","v":0},{"$f":"(AN38+AO38)*AN23*-1","v":0},{"$f":"(AO38+AN38)*AO23*-1","v":0},{"$f":"(AP38+AQ38)*AP23*-1","v":0},{"$f":"(AQ38+AP38)*AQ23*-1","v":0},{"$f":"(AR38+AS38)*AR23*-1","v":0},null,"dis",{"$f":"(AU38)*AU23*-1","v":0},{"$f":"(AV38+AW38)*AV23*-1","v":0},{"$f":"(AW38+AV38)*AW23*-1","v":0},{"$f":"(AX38+AY38)*AX23*-1","v":0},{"$f":"(AY38+AX38)*AY23*-1","v":0},{"$f":"(AZ38+BA38)*AZ23*-1","v":0},{"$f":"(BA38+AZ38)*BA23*-1","v":0},{"$f":"(BB38+BC38)*BB23*-1","v":0},{"$f":"(BC38+BB38)*BC23*-1","v":0},{"$f":"(BD38+BE38)*BD23*-1","v":0},null,"dis",{"$f":"(BG38)*BG23*-1","v":0},{"$f":"(BH38+BI38)*BH23*-1","v":0},{"$f":"(BI38+BH38)*BI23*-1","v":0},{"$f":"(BJ38+BK38)*BJ23*-1","v":0},{"$f":"(BK38+BJ38)*BK23*-1","v":0},{"$f":"(BL38+BM38)*BL23*-1","v":0},{"$f":"(BM38+BL38)*BM23*-1","v":0},{"$f":"(BN38+BO38)*BN23*-1","v":0},{"$f":"(BO38+BN38)*BO23*-1","v":0},{"$f":"(BP38+BQ38)*BP23*-1","v":0},null,"dis",{"$f":"(BS38)*BS23*-1","v":0},{"$f":"(BT38+BU38)*BT23*-1","v":0},{"$f":"(BU38+BT38)*BU23*-1","v":0},{"$f":"(BV38+BW38)*BV23*-1","v":0},{"$f":"(BW38+BV38)*BW23*-1","v":0},{"$f":"(BX38+BY38)*BX23*-1","v":0},{"$f":"(BY38+BX38)*BY23*-1","v":0},{"$f":"(BZ38+CA38)*BZ23*-1","v":0},{"$f":"(CA38+BZ38)*CA23*-1","v":0},{"$f":"(CB38+CC38)*CB23*-1","v":0}]
[null,null,null,null,null,null,null,null,null,"co",{"$f":"L39/2","v":0},{"$f":"K39/2","v":0},{"$f":"N39/2","v":0},{"$f":"M39/2","v":0},{"$f":"P39/2","v":0},{"$f":"O39/2","v":0},{"$f":"R39/2","v":0},{"$f":"Q39/2","v":0},{"$f":"T39/2","v":0},{"$f":"S39/2","v":0},null,"co",{"$f":"X39/2","v":0},{"$f":"W39/2","v":0},{"$f":"Z39/2","v":0},{"$f":"Y39/2","v":0},{"$f":"AB39/2","v":0},{"$f":"AA39/2","v":0},{"$f":"AD39/2","v":0},{"$f":"AC39/2","v":0},{"$f":"AF39/2","v":0},{"$f":"AE39/2","v":0},null,"co",{"$f":"AJ39/2","v":0},{"$f":"AI39/2","v":0},{"$f":"AL39/2","v":0},{"$f":"AK39/2","v":0},{"$f":"AN39/2","v":0},{"$f":"AM39/2","v":0},{"$f":"AP39/2","v":0},{"$f":"AO39/2","v":0},{"$f":"AR39/2","v":0},{"$f":"AQ39/2","v":0},null,"co",{"$f":"AV39/2","v":0},{"$f":"AU39/2","v":0},{"$f":"AX39/2","v":0},{"$f":"AW39/2","v":0},{"$f":"AZ39/2","v":0},{"$f":"AY39/2","v":0},{"$f":"BB39/2","v":0},{"$f":"BA39/2","v":0},{"$f":"BD39/2","v":0},{"$f":"BC39/2","v":0},null,"co",{"$f":"BH39/2","v":0},{"$f":"BG39/2","v":0},{"$f":"BJ39/2","v":0},{"$f":"BI39/2","v":0},{"$f":"BL39/2","v":0},{"$f":"BK39/2","v":0},{"$f":"BN39/2","v":0},{"$f":"BM39/2","v":0},{"$f":"BP39/2","v":0},{"$f":"BO39/2","v":0},null,"co",{"$f":"BT39/2","v":0},{"$f":"BS39/2","v":0},{"$f":"BV39/2","v":0},{"$f":"BU39/2","v":0},{"$f":"BX39/2","v":0},{"$f":"BW39/2","v":0},{"$f":"BZ39/2","v":0},{"$f":"BY39/2","v":0},{"$f":"CB39/2","v":0},{"$f":"CA39/2","v":0}]
[null,null,null,null,null,null,null,null,null,"dis",{"$f":"(K40)*K23*-1","v":0},{"$f":"(L40+M40)*L23*-1","v":0},{"$f":"(M40+L40)*M23*-1","v":0},{"$f":"(N40+O40)*N23*-1","v":0},{"$f":"(O40+N40)*O23*-1","v":0},{"$f":"(P40+Q40)*P23*-1","v":0},{"$f":"(Q40+P40)*Q23*-1","v":0},{"$f":"(R40+S40)*R23*-1","v":0},{"$f":"(S40+R40)*S23*-1","v":0},{"$f":"(T40+U40)*T23*-1","v":0},null,"dis",{"$f":"(W40)*W23*-1","v":0},{"$f":"(X40+Y40)*X23*-1","v":0},{"$f":"(Y40+X40)*Y23*-1","v":0},{"$f":"(Z40+AA40)*Z23*-1","v":0},{"$f":"(AA40+Z40)*AA23*-1","v":0},{"$f":"(AB40+AC40)*AB23*-1","v":0},{"$f":"(AC40+AB40)*AC23*-1","v":0},{"$f":"(AD40+AE40)*AD23*-1","v":0},{"$f":"(AE40+AD40)*AE23*-1","v":0},{"$f":"(AF40+AG40)*AF23*-1","v":0},null,"dis",{"$f":"(AI40)*AI23*-1","v":0},{"$f":"(AJ40+AK40)*AJ23*-1","v":0},{"$f":"(AK40+AJ40)*AK23*-1","v":0},{"$f":"(AL40+AM40)*AL23*-1","v":0},{"$f":"(AM40+AL40)*AM23*-1","v":0},{"$f":"(AN40+AO40)*AN23*-1","v":0},{"$f":"(AO40+AN40)*AO23*-1","v":0},{"$f":"(AP40+AQ40)*AP23*-1","v":0},{"$f":"(AQ40+AP40)*AQ23*-1","v":0},{"$f":"(AR40+AS40)*AR23*-1","v":0},null,"dis",{"$f":"(AU40)*AU23*-1","v":0},{"$f":"(AV40+AW40)*AV23*-1","v":0},{"$f":"(AW40+AV40)*AW23*-1","v":0},{"$f":"(AX40+AY40)*AX23*-1","v":0},{"$f":"(AY40+AX40)*AY23*-1","v":0},{"$f":"(AZ40+BA40)*AZ23*-1","v":0},{"$f":"(BA40+AZ40)*BA23*-1","v":0},{"$f":"(BB40+BC40)*BB23*-1","v":0},{"$f":"(BC40+BB40)*BC23*-1","v":0},{"$f":"(BD40+BE40)*BD23*-1","v":0},null,"dis",{"$f":"(BG40)*BG23*-1","v":0},{"$f":"(BH40+BI40)*BH23*-1","v":0},{"$f":"(BI40+BH40)*BI23*-1","v":0},{"$f":"(BJ40+BK40)*BJ23*-1","v":0},{"$f":"(BK40+BJ40)*BK23*-1","v":0},{"$f":"(BL40+BM40)*BL23*-1","v":0},{"$f":"(BM40+BL40)*BM23*-1","v":0},{"$f":"(BN40+BO40)*BN23*-1","v":0},{"$f":"(BO40+BN40)*BO23*-1","v":0},{"$f":"(BP40+BQ40)*BP23*-1","v":0},null,"dis",{"$f":"(BS40)*BS23*-1","v":0},{"$f":"(BT40+BU40)*BT23*-1","v":0},{"$f":"(BU40+BT40)*BU23*-1","v":0},{"$f":"(BV40+BW40)*BV23*-1","v":0},{"$f":"(BW40+BV40)*BW23*-1","v":0},{"$f":"(BX40+BY40)*BX23*-1","v":0},{"$f":"(BY40+BX40)*BY23*-1","v":0},{"$f":"(BZ40+CA40)*BZ23*-1","v":0},{"$f":"(CA40+BZ40)*CA23*-1","v":0},{"$f":"(CB40+CC40)*CB23*-1","v":0}]
[null,null,null,null,null,null,null,null,null,"co",{"$f":"L41/2","v":0},{"$f":"K41/2","v":0},{"$f":"N41/2","v":0},{"$f":"M41/2","v":0},{"$f":"P41/2","v":0},{"$f":"O41/2","v":0},{"$f":"R41/2","v":0},{"$f":"Q41/2","v":0},{"$f":"T41/2","v":0},{"$f":"S41/2","v":0},null,"co",{"$f":"X41/2","v":0},{"$f":"W41/2","v":0},{"$f":"Z41/2","v":0},{"$f":"Y41/2","v":0},{"$f":"AB41/2","v":0},{"$f":"AA41/2","v":0},{"$f":"AD41/2","v":0},{"$f":"AC41/2","v":0},{"$f":"AF41/2","v":0},{"$f":"AE41/2","v":0},null,"co",{"$f":"AJ41/2","v":0},{"$f":"AI41/2","v":0},{"$f":"AL41/2","v":0},{"$f":"AK41/2","v":0},{"$f":"AN41/2","v":0},{"$f":"AM41/2","v":0},{"$f":"AP41/2","v":0},{"$f":"AO41/2","v":0},{"$f":"AR41/2","v":0},{"$f":"AQ41/2","v":0},null,"co",{"$f":"AV41/2","v":0},{"$f":"AU41/2","v":0},{"$f":"AX41/2","v":0},{"$f":"AW41/2","v":0},{"$f":"AZ41/2","v":0},{"$f":"AY41/2","v":0},{"$f":"BB41/2","v":0},{"$f":"BA41/2","v":0},{"$f":"BD41/2","v":0},{"$f":"BC41/2","v":0},null,"co",{"$f":"BH41/2","v":0},{"$f":"BG41/2","v":0},{"$f":"BJ41/2","v":0},{"$f":"BI41/2","v":0},{"$f":"BL41/2","v":0},{"$f":"BK41/2","v":0},{"$f":"BN41/2","v":0},{"$f":"BM41/2","v":0},{"$f":"BP41/2","v":0},{"$f":"BO41/2","v":0},null,"co",{"$f":"BT41/2","v":0},{"$f":"BS41/2","v":0},{"$f":"BV41/2","v":0},{"$f":"BU41/2","v":0},{"$f":"BX41/2","v":0},{"$f":"BW41/2","v":0},{"$f":"BZ41/2","v":0},{"$f":"BY41/2","v":0},{"$f":"CB41/2","v":0},{"$f":"CA41/2","v":0}]
[null,null,null,null,null,null,null,null,null,"dis",{"$f":"(K42)*K23*-1","v":0},{"$f":"(L42+M42)*L23*-1","v":0},{"$f":"(M42+L42)*M23*-1","v":0},{"$f":"(N42+O42)*N23*-1","v":0},{"$f":"(O42+N42)*O23*-1","v":0},{"$f":"(P42+Q42)*P23*-1","v":0},{"$f":"(Q42+P42)*Q23*-1","v":0},{"$f":"(R42+S42)*R23*-1","v":0},{"$f":"(S42+R42)*S23*-1","v":0},{"$f":"(T42+U42)*T23*-1","v":0},null,"dis",{"$f":"(W42)*W23*-1","v":0},{"$f":"(X42+Y42)*X23*-1","v":0},{"$f":"(Y42+X42)*Y23*-1","v":0},{"$f":"(Z42+AA42)*Z23*-1","v":0},{"$f":"(AA42+Z42)*AA23*-1","v":0},{"$f":"(AB42+AC42)*AB23*-1","v":0},{"$f":"(AC42+AB42)*AC23*-1","v":0},{"$f":"(AD42+AE42)*AD23*-1","v":0},{"$f":"(AE42+AD42)*AE23*-1","v":0},{"$f":"(AF42+AG42)*AF23*-1","v":0},null,"dis",{"$f":"(AI42)*AI23*-1","v":0},{"$f":"(AJ42+AK42)*AJ23*-1","v":0},{"$f":"(AK42+AJ42)*AK23*-1","v":0},{"$f":"(AL42+AM42)*AL23*-1","v":0},{"$f":"(AM42+AL42)*AM23*-1","v":0},{"$f":"(AN42+AO42)*AN23*-1","v":0},{"$f":"(AO42+AN42)*AO23*-1","v":0},{"$f":"(AP42+AQ42)*AP23*-1","v":0},{"$f":"(AQ42+AP42)*AQ23*-1","v":0},{"$f":"(AR42+AS42)*AR23*-1","v":0},null,"dis",{"$f":"(AU42)*AU23*-1","v":0},{"$f":"(AV42+AW42)*AV23*-1","v":0},{"$f":"(AW42+AV42)*AW23*-1","v":0},{"$f":"(AX42+AY42)*AX23*-1","v":0},{"$f":"(AY42+AX42)*AY23*-1","v":0},{"$f":"(AZ42+BA42)*AZ23*-1","v":0},{"$f":"(BA42+AZ42)*BA23*-1","v":0},{"$f":"(BB42+BC42)*BB23*-1","v":0},{"$f":"(BC42+BB42)*BC23*-1","v":0},{"$f":"(BD42+BE42)*BD23*-1","v":0},null,"dis",{"$f":"(BG42)*BG23*-1","v":0},{"$f":"(BH42+BI42)*BH23*-1","v":0},{"$f":"(BI42+BH42)*BI23*-1","v":0},{"$f":"(BJ42+BK42)*BJ23*-1","v":0},{"$f":"(BK42+BJ42)*BK23*-1","v":0},{"$f":"(BL42+BM42)*BL23*-1","v":0},{"$f":"(BM42+BL42)*BM23*-1","v":0},{"$f":"(BN42+BO42)*BN23*-1","v":0},{"$f":"(BO42+BN42)*BO23*-1","v":0},{"$f":"(BP42+BQ42)*BP23*-1","v":0},null,"dis",{"$f":"(BS42)*BS23*-1","v":0},{"$f":"(BT42+BU42)*BT23*-1","v":0},{"$f":"(BU42+BT42)*BU23*-1","v":0},{"$f":"(BV42+BW42)*BV23*-1","v":0},{"$f":"(BW42+BV42)*BW23*-1","v":0},{"$f":"(BX42+BY42)*BX23*-1","v":0},{"$f":"(BY42+BX42)*BY23*-1","v":0},{"$f":"(BZ42+CA42)*BZ23*-1","v":0},{"$f":"(CA42+BZ42)*CA23*-1","v":0},{"$f":"(CB42+CC42)*CB23*-1","v":0}]
[null,null,null,null,null,null,null,null,null,"co",{"$f":"L43/2","v":0},{"$f":"K43/2","v":0},{"$f":"N43/2","v":0},{"$f":"M43/2","v":0},{"$f":"P43/2","v":0},{"$f":"O43/2","v":0},{"$f":"R43/2","v":0},{"$f":"Q43/2","v":0},{"$f":"T43/2","v":0},{"$f":"S43/2","v":0},null,"co",{"$f":"X43/2","v":0},{"$f":"W43/2","v":0},{"$f":"Z43/2","v":0},{"$f":"Y43/2","v":0},{"$f":"AB43/2","v":0},{"$f":"AA43/2","v":0},{"$f":"AD43/2","v":0},{"$f":"AC43/2","v":0},{"$f":"AF43/2","v":0},{"$f":"AE43/2","v":0},null,"co",{"$f":"AJ43/2","v":0},{"$f":"AI43/2","v":0},{"$f":"AL43/2","v":0},{"$f":"AK43/2","v":0},{"$f":"AN43/2","v":0},{"$f":"AM43/2","v":0},{"$f":"AP43/2","v":0},{"$f":"AO43/2","v":0},{"$f":"AR43/2","v":0},{"$f":"AQ43/2","v":0},null,"co",{"$f":"AV43/2","v":0},{"$f":"AU43/2","v":0},{"$f":"AX43/2","v":0},{"$f":"AW43/2","v":0},{"$f":"AZ43/2","v":0},{"$f":"AY43/2","v":0},{"$f":"BB43/2","v":0},{"$f":"BA43/2","v":0},{"$f":"BD43/2","v":0},{"$f":"BC43/2","v":0},null,"co",{"$f":"BH43/2","v":0},{"$f":"BG43/2","v":0},{"$f":"BJ43/2","v":0},{"$f":"BI43/2","v":0},{"$f":"BL43/2","v":0},{"$f":"BK43/2","v":0},{"$f":"BN43/2","v":0},{"$f":"BM43/2","v":0},{"$f":"BP43/2","v":0},{"$f":"BO43/2","v":0},null,"co",{"$f":"BT43/2","v":0},{"$f":"BS43/2","v":0},{"$f":"BV43/2","v":0},{"$f":"BU43/2","v":0},{"$f":"BX43/2","v":0},{"$f":"BW43/2","v":0},{"$f":"BZ43/2","v":0},{"$f":"BY43/2","v":0},{"$f":"CB43/2","v":0},{"$f":"CA43/2","v":0}]
[null,null,null,null,null,null,null,null,null,"dis",{"$f":"(K44)*K23*-1","v":0},{"$f":"(L44+M44)*L23*-1","v":0},{"$f":"(M44+L44)*M23*-1","v":0},{"$f":"(N44+O44)*N23*-1","v":0},{"$f":"(O44+N44)*O23*-1","v":0},{"$f":"(P44+Q44)*P23*-1","v":0},{"$f":"(Q44+P44)*Q23*-1","v":0},{"$f":"(R44+S44)*R23*-1","v":0},{"$f":"(S44+R44)*S23*-1","v":0},{"$f":"(T44+U44)*T23*-1","v":0},null,"dis",{"$f":"(W44)*W23*-1","v":0},{"$f":"(X44+Y44)*X23*-1","v":0},{"$f":"(Y44+X44)*Y23*-1","v":0},{"$f":"(Z44+AA44)*Z23*-1","v":0},{"$f":"(AA44+Z44)*AA23*-1","v":0},{"$f":"(AB44+AC44)*AB23*-1","v":0},{"$f":"(AC44+AB44)*AC23*-1","v":0},{"$f":"(AD44+AE44)*AD23*-1","v":0},{"$f":"(AE44+AD44)*AE23*-1","v":0},{"$f":"(AF44+AG44)*AF23*-1","v":0},null,"dis",{"$f":"(AI44)*AI23*-1","v":0},{"$f":"(AJ44+AK44)*AJ23*-1","v":0},{"$f":"(AK44+AJ44)*AK23*-1","v":0},{"$f":"(AL44+AM44)*AL23*-1","v":0},{"$f":"(AM44+AL44)*AM23*-1","v":0},{"$f":"(AN44+AO44)*AN23*-1","v":0},{"$f":"(AO44+AN44)*AO23*-1","v":0},{"$f":"(AP44+AQ44)*AP23*-1","v":0},{"$f":"(AQ44+AP44)*AQ23*-1","v":0},{"$f":"(AR44+AS44)*AR23*-1","v":0},null,"dis",{"$f":"(AU44)*AU23*-1","v":0},{"$f":"(AV44+AW44)*AV23*-1","v":0},{"$f":"(AW44+AV44)*AW23*-1","v":0},{"$f":"(AX44+AY44)*AX23*-1","v":0},{"$f":"(AY44+AX44)*AY23*-1","v":0},{"$f":"(AZ44+BA44)*AZ23*-1","v":0},{"$f":"(BA44+AZ44)*BA23*-1","v":0},{"$f":"(BB44+BC44)*BB23*-1","v":0},{"$f":"(BC44+BB44)*BC23*-1","v":0},{"$f":"(BD44+BE44)*BD23*-1","v":0},null,"dis",{"$f":"(BG44)*BG23*-1","v":0},{"$f":"(BH44+BI44)*BH23*-1","v":0},{"$f":"(BI44+BH44)*BI23*-1","v":0},{"$f":"(BJ44+BK44)*BJ23*-1","v":0},{"$f":"(BK44+BJ44)*BK23*-1","v":0},{"$f":"(BL44+BM44)*BL23*-1","v":0},{"$f":"(BM44+BL44)*BM23*-1","v":0},{"$f":"(BN44+BO44)*BN23*-1","v":0},{"$f":"(BO44+BN44)*BO23*-1","v":0},{"$f":"(BP44+BQ44)*BP23*-1","v":0},null,"dis",{"$f":"(BS44)*BS23*-1","v":0},{"$f":"(BT44+BU44)*BT23*-1","v":0},{"$f":"(BU44+BT44)*BU23*-1","v":0},{"$f":"(BV44+BW44)*BV23*-1","v":0},{"$f":"(BW44+BV44)*BW23*-1","v":0},{"$f":"(BX44+BY44)*BX23*-1","v":0},{"$f":"(BY44+BX44)*BY23*-1","v":0},{"$f":"(BZ44+CA44)*BZ23*-1","v":0},{"$f":"(CA44+BZ44)*CA23*-1","v":0},{"$f":"(CB44+CC44)*CB23*-1","v":0}]
[null,null,null,null,null,null,null,null,null,"sum",{"$f":"SUM(K24:K45)","v":0},{"$f":"SUM(L24:L45)","v":0},{"$f":"SUM(M24:M45)","v":0},{"$f":"SUM(N24:N45)","v":0},{"$f":"SUM(O24:O45)","v":0},0,0,0,0,0,null,"sum",{"$f":"SUM(W24:W45)","v":0},0,0,0,0,0,0,0,0,0,null,"sum",{"$f":"SUM(AI24:AI45)","v":0},0,0,0,0,0,0,0,0,0,null,"sum",{"$f":"SUM(AU24:AU45)","v":0},0,0,0,0,0,0,0,0,0,null,"sum",{"$f":"SUM(BG24:BG45)","v":0},0,0,0,0,0,0,0,0,0,null,"sum",{"$f":"SUM(BS24:BS45)","v":0},0,0,0,0,0,0,0,0,0]
[null,null,null,null,null,null,null,null,null,"โมเมนต์บวก span 1 =",{"$f":"K111","v":0},null,"โมเมนต์บวก span 2 =",{"$f":"W111","v":0},"โมเมนต์บวก span 3 =",{"$f":"AI111","v":0},"โมเมนต์บวก span 4 =",{"$f":"AU111","v":0},"โมเมนต์บวก span 5 =",{"$f":"BG111","v":0}]
[null,null,null,null,null,null,null,null,null,"โมเมนต์ลบ span 1 ขวา =",{"$f":"N110","v":0},null,"โมเมนต์ลบ span 2 ขวา =",{"$f":"AC111","v":0},"โมเมนต์ลบ span 3 ขวา =",{"$f":"AO110","v":0},"โมเมนต์ลบ span 4 ขวา =",{"$f":"BA110","v":0},"โมเมนต์ลบ span 5 ขวา =",{"$f":"BM110","v":0}]
[null,null,null,null,null,null,null,null,null,"โมเมนต์ลบ span 1 ซ้าย =",{"$f":"-K107+0.5*K109*Sheet1!D9-0.25*'r5'!E2*('r5'!B7+'r5'!E7)*Sheet1!D9^2","v":0},null,"โมเมนต์ลบ span 2 ซ้าย =",{"$f":"Z111","v":0},"โมเมนต์ลบ span 3 ซ้าย =",{"$f":"AL110","v":0},"โมเมนต์ลบ span 4 ซ้าย =",{"$f":"AX110","v":0},"โมเมนต์ลบ span 5 ซ้าย =",{"$f":"BJ110","v":0}]
[null,null,null,null,null,null,null,null,null,"span1",null,null,"span2",null,"span3",null,"span4",null,"span5"]
[null,null,null,null,null,null,"ทิศทาง","ช่วงเสา","สัมประสิทธ์ร้อยละ","แถบเสา","แถบกลาง",null,"แถบเสา","แถบกลาง","แถบเสา","แถบกลาง","แถบเสา","แถบกลาง","แถบเสา","แถบกลาง"]
[null,null,null,null,null,null,null,"โมเมนต์ลบขวา",0.75,{"$f":"IF((-K48>-N49),(K48),(N49))*I52","v":0},{"$f":"IF((-K48>-N49),(K48),(N49))-J52","v":0},null,{"$f":"IF((-N48>-P49),(N48),(P49))*IF(Sheet1!$B$3=2,(I54),(I52))","v":0},{"$f":"IF((-N48>-P49),(N48),(P49))-M52","v":0},{"$f":"IF(-P48>-R49,(P48),(R49))*IF(Sheet1!$B$3=3,(1),(0.75))","v":0},{"$f":"IF(-P48>-R49,(P48),(R49))*IF(Sheet1!$B$3=3,(1),(0.75))-O52","v":0},{"$f":"IF(-R48>-T49,(R48),(T49))*IF(Sheet1!$B$3=4,(1),(0.75))","v":0},{"$f":"IF(-R48>-T49,(R48),(T49))*IF(Sheet1!$B$3=4,(1),(0.75))-Q52","v":0},{"$f":"IF(-T48>-V49,(T48),(V49))*IF(Sheet1!$B$3=5,(1),(0.75))","v":0},{"$f":"IF(-T48>-V49,(T48),(V49))*IF(Sheet1!$B$3=5,(1),(0.75))-S52","v":0}]
[null,null,null,null,null,null,null,"โมเมนต์กลางช่วงโมเมนต์บวก",0.6,{"$f":"K47*$I$53","v":0},{"$f":"K47-J53","v":0},null,{"$f":"N47*$I$53","v":0},{"$f":"N47-M53","v":0},{"$f":"P47*$I$53","v":0},{"$f":"P47-O53","v":0},{"$f":"R47*$I$53","v":0},{"$f":"R47-Q53","v":0},{"$f":"T47*$I$53","v":0},{"$f":"T47-S53","v":0}]
[null,null,null,null,null,null,null,"โมเมนต์ลบซ้าย",1,{"$f":"K49*I54","v":0},{"$f":"K49-J54","v":0},null,{"$f":"IF((-K48>-N49),(K48),(N49))*I52","v":0},{"$f":"IF((-K48>-N49),(K48),(N49))-M54","v":0},{"$f":"IF((-N48>-P49),(N48),(P49))*IF(Sheet1!$B$3<3,(0),(0.75))","v":0},{"$f":"IF(O54=0,(0),(IF((-N48>-P49),(N48),(P49))-O54))","v":0},{"$f":"IF((-P48>-R49),(P48),(R49))*IF(Sheet1!$B$3<4,(0),(0.75))","v":0},{"$f":"IF(Q54=0,(0),(IF((-P48>-R49),(P48),(R49))-Q54))","v":0},{"$f":"IF((-R48>-T49),(R48),(T49))*IF(Sheet1!$B$3<5,(0),(0.75))","v":0},{"$f":"IF(S54=0,(0),(IF((-R48>-T49),(R48),(T49))-S54))","v":0}]
[]
[null,null,null,null,null,null,"เหล็กเสริมในแผ่นพื้น",null,null,"span r1",null,null,"span r2",null,"span r3",null,"span r4",null,"span r5"]
[null,null,null,null,null,null,null,"รายการ","หน่วย","แถบเสา","แถบกลาง",null,"แถบเสา","แถบกลาง","แถบเสา","แถบกลาง","แถบเสา","แถบกลาง","แถบเสา","แถบกลาง"]
[null,null,null,null,null,null,null,"ความกว้าง","m",{"$f":"IF(Sheet1!B4=4,(0.25*Sheet1!L12),(Sheet1!L12+Sheet1!L13)/4)","v":0},{"$f":"IF(Sheet1!B4=4,(0.25*Sheet1!L12),(E2-J58))","v":0},null,{"$f":"J58","v":0},{"$f":"K58","v":0},{"$f":"M58","v":0},0,0,0,0,0]
[null,null,null,null,null,null,null,"โมเมนต์ลบขวา","kg-m/m",{"$f":"J52/(0.9*J58)","v":{"$error":"#DIV/0!"}},{"$f":"K52/(K58*0.9)","v":{"$error":"#DIV/0!"}},null,{"$f":"M52/(0.9*M58)","v":{"$error":"#DIV/0!"}},{"$f":"N52/(0.9*N58)","v":{"$error":"#DIV/0!"}},{"$f":"O52/(0.9*O58)","v":{"$error":"#DIV/0!"}},{"$f":"P52/(0.9*P58)","v":{"$error":"#DIV/0!"}},{"$f":"Q52/(0.9*Q58)","v":{"$error":"#DIV/0!"}},{"$error":"#DIV/0!"},{"$f":"S52/(0.9*S58)","v":{"$error":"#DIV/0!"}},{"$f":"T52/(0.9*T58)","v":{"$error":"#DIV/0!"}}]
[null,null,null,null,null,null,null,"Rn","kg/m^2",{"$f":"J59/(((Sheet1!B16)-(Sheet1!B13/100))^2)","v":{"$error":"#DIV/0!"}},{"$f":"K59/(((Sheet1!B16)-(Sheet1!B13/100))^2)","v":{"$error":"#DIV/0!"}},null,{"$f":"M59/(((Sheet1!B16)-(Sheet1!B13/100))^2)","v":{"$error":"#DIV/0!"}},{"$f":"N59/(((Sheet1!B16)-(Sheet1!B13/100))^2)","v":{"$error":"#DIV/0!"}},{"$f":"O59/(((Sheet1!B16)-(Sheet1!B13/100))^2)","v":{"$error":"#DIV/0!"}},{"$f":"P59/(((Sheet1!B16)-(Sheet1!B13/100))^2)","v":{"$error":"#DIV/0!"}},{"$f":"Q59/(((Sheet1!B16)-(Sheet1!B13/100))^2)","v":{"$error":"#DIV/0!"}},{"$f":"R59/(((Sheet1!B16)-(Sheet1!B13/100))^2)","v":{"$error":"#DIV/0!"}},{"$f":"S59/(((Sheet1!B16)-(Sheet1!B13/100))^2)","v":{"$error":"#DIV/0!"}},{"$f":"T59/(((Sheet1!B16)-(Sheet1!B13/100))^2)","v":{"$error":"#DIV/0!"}}]
[null,null,null,null,null,null,null,"p",null,{"$f":"ABS((0.85*Sheet1!B10/Sheet1!B9)*(1-(SQRT(1-(2*J60/(0.85*Sheet1!B10*100^2))))))","v":{"$error":"#DIV/0!"}},{"$f":"ABS((0.85*Sheet1!B10/Sheet1!B9)*(1-(SQRT(1-(2*K60/(0.85*Sheet1!B10*100^2))))))","v":{"$error":"#DIV/0!"}},null,{"$f":"ABS((0.85*Sheet1!B10/Sheet1!B9)*(1-(SQRT(1-(2*M60/(0.85*Sheet1!B10*100^2))))))","v":{"$error":"#DIV/0!"}},{"$f":"ABS((0.85*Sheet1!B10/Sheet1!B9)*(1-(SQRT(1-(2*N60/(0.85*Sheet1!B10*100^2))))))","v":{"$error":"#DIV/0!"}},{"$f":"ABS((0.85*Sheet1!B10/Sheet1!B9)*(1-(SQRT(1-(2*O60/(0.85*Sheet1!B10*100^2))))))","v":{"$error":"#DIV/0!"}},{"$f":"ABS((0.85*Sheet1!B10/Sheet1!B9)*(1-(SQRT(1-(2*P60/(0.85*Sheet1!B10*100^2))))))","v":{"$error":"#DIV/0!"}},{"$f":"ABS((0.85*Sheet1!B10/Sheet1!B9)*(1-(SQRT(1-(2*Q60/(0.85*Sheet1!B10*100^2))))))","v":{"$error":"#DIV/0!"}},{"$f":"ABS((0.85*Sheet1!B10/Sheet1!B9)*(1-(SQRT(1-(2*R60/(0.85*Sheet1!B10*100^2))))))","v":{"$error":"#DIV/0!"}},{"$f":"ABS((0.85*Sheet1!B10/Sheet1!B9)*(1-(SQRT(1-(2*S60/(0.85*Sheet1!B10*100^2))))))","v":{"$error":"#DIV/0!"}},{"$f":"ABS((0.85*Sheet1!B10/Sheet1!B9)*(1-(SQRT(1-(2*T60/(0.85*Sheet1!B10*100^2))))))","v":{"$error":"#DIV/0!"}}]
[null,null,null,null,null,null,null,"As-","mm^2/m",{"$f":"IF(J53=0,(0),(IF(J61>(0.0018*4000/Sheet1!$B$9),(ABS(J61*1000*(Sheet1!$B$16*1000-Sheet1!$B$13*10)*-1)),(ABS((0.0018*4000/Sheet1!$B$9)*1000*(Sheet1!$B$16*1000-Sheet1!$B$13*10)*-1)))))","v":0},{"$f":"IF(K53=0,(0),(IF(K61>(0.0018*4000/Sheet1!$B$9),(ABS(K61*1000*(Sheet1!$B$16*1000-Sheet1!$B$13*10)*-1)),(ABS((0.0018*4000/Sheet1!$B$9)*1000*(Sheet1!$B$16*1000-Sheet1!$B$13*10)*-1)))))","v":0},null,{"$f":"IF(M53=0,(0),(IF(M61>(0.0018*4000/Sheet1!$B$9),(ABS(M61*1000*(Sheet1!$B$16*1000-Sheet1!$B$13*10)*-1)),(ABS((0.0018*4000/Sheet1!$B$9)*1000*(Sheet1!$B$16*1000-Sheet1!$B$13*10)*-1)))))","v":0},{"$f":"IF(N53=0,(0),(IF(N61>(0.0018*4000/Sheet1!$B$9),(ABS(N61*1000*(Sheet1!$B$16*1000-Sheet1!$B$13*10)*-1)),(ABS((0.0018*4000/Sheet1!$B$9)*1000*(Sheet1!$B$16*1000-Sheet1!$B$13*10)*-1)))))","v":0},{"$f":"IF(O53=0,(0),(IF(O61>(0.0018*4000/Sheet1!$B$9),(ABS(O61*1000*(Sheet1!$B$16*1000-Sheet1!$B$13*10)*-1)),(ABS((0.0018*4000/Sheet1!$B$9)*1000*(Sheet1!$B$16*1000-Sheet1!$B$13*10)*-1)))))","v":0},{"$f":"IF(P53=0,(0),(IF(P61>(0.0018*4000/Sheet1!$B$9),(ABS(P61*1000*(Sheet1!$B$16*1000-Sheet1!$B$13*10)*-1)),(ABS((0.0018*4000/Sheet1!$B$9)*1000*(Sheet1!$B$16*1000-Sheet1!$B$13*10)*-1)))))","v":0},{"$f":"IF(Q53=0,(0),(IF(Q61>(0.0018*4000/Sheet1!$B$9),(ABS(Q61*1000*(Sheet1!$B$16*1000-Sheet1!$B$13*10)*-1)),(ABS((0.0018*4000/Sheet1!$B$9)*1000*(Sheet1!$B$16*1000-Sheet1!$B$13*10)*-1)))))","v":0},{"$f":"IF(R53=0,(0),(IF(R61>(0.0018*4000/Sheet1!$B$9),(ABS(R61*1000*(Sheet1!$B$16*1000-Sheet1!$B$13*10)*-1)),(ABS((0.0018*4000/Sheet1!$B$9)*1000*(Sheet1!$B$16*1000-Sheet1!$B$13*10)*-1)))))","v":0},{"$f":"IF(S53=0,(0),(IF(S61>(0.0018*4000/Sheet1!$B$9),(ABS(S61*1000*(Sheet1!$B$16*1000-Sheet1!$B$13*10)*-1)),(ABS((0.0018*4000/Sheet1!$B$9)*1000*(Sheet1!$B$16*1000-Sheet1!$B$13*10)*-1)))))","v":0},{"$f":"IF(T53=0,(0),(IF(T61>(0.0018*4000/Sheet1!$B$9),(ABS(T61*1000*(Sheet1!$B$16*1000-Sheet1!$B$13*10)*-1)),(ABS((0.0018*4000/Sheet1!$B$9)*1000*(Sheet1!$B$16*1000-Sheet1!$B$13*10)*-1)))))","v":0}]
[null,null,null,null,null,null,null,"โมเมนต์บวกกลาง","kg-m/m",{"$f":"J53/(0.9*J58)","v":{"$error":"#DIV/0!"}},{"$f":"K53/(0.9*K58)","v":{"$error":"#DIV/0!"}},null,{"$f":"M53/(0.9*M58)","v":{"$error":"#DIV/0!"}},{"$f":"N53/(0.9*N58)","v":{"$error":"#DIV/0!"}},{"$f":"O53/(0.9*O58)","v":{"$error":"#DIV/0!"}},{"$error":"#DIV/0!"},{"$error":"#DIV/0!"},{"$f":"R53/(0.9*R58)","v":{"$error":"#DIV/0!"}},{"$error":"#DIV/0!"},{"$f":"T53/(0.9*T58)","v":{"$error":"#DIV/0!"}}]
[null,null,null,null,null,null,null,"Rn","kg/m^2",{"$f":"J63/(((Sheet1!B16)-(Sheet1!B13/100))^2)","v":{"$error":"#DIV/0!"}},{"$f":"K63/(((Sheet1!B16)-(Sheet1!B13/100))^2)","v":{"$error":"#DIV/0!"}},null,{"$f":"M63/(((Sheet1!B16)-(Sheet1!B13/100))^2)","v":{"$error":"#DIV/0!"}},{"$f":"N63/(((Sheet1!B16)-(Sheet1!B13/100))^2)","v":{"$error":"#DIV/0!"}},{"$f":"O63/(((Sheet1!B16)-(Sheet1!B13/100))^2)","v":{"$error":"#DIV/0!"}},{"$f":"P63/(((Sheet1!B16)-(Sheet1!B13/100))^2)","v":{"$error":"#DIV/0!"}},{"$f":"Q63/(((Sheet1!B16)-(Sheet1!B13/100))^2)","v":{"$error":"#DIV/0!"}},{"$f":"R63/(((Sheet1!B16)-(Sheet1!B13/100))^2)","v":{"$error":"#DIV/0!"}},{"$f":"S63/(((Sheet1!B16)-(Sheet1!B13/100))^2)","v":{"$error":"#DIV/0!"}},{"$f":"T63/(((Sheet1!B16)-(Sheet1!B13/100))^2)","v":{"$error":"#DIV/0!"}}]
[null,null,null,null,null,null,null,"p",null,{"$f":"ABS((0.85*Sheet1!B10/Sheet1!B9)*(1-(SQRT(1-(2*J64/(0.85*Sheet1!B10*100^2))))))","v":{"$error":"#DIV/0!"}},{"$f":"(0.85*Sheet1!B10/Sheet1!B9)*(1-(SQRT(1-(2*K64/(0.85*Sheet1!B10*100^2)))))","v":{"$error":"#DIV/0!"}},null,{"$f":"ABS((0.85*Sheet1!B10/Sheet1!B9)*(1-(SQRT(1-(2*M64/(0.85*Sheet1!B10*100^2))))))","v":{"$error":"#DIV/0!"}},{"$f":"ABS((0.85*Sheet1!B10/Sheet1!B9)*(1-(SQRT(1-(2*N64/(0.85*Sheet1!B10*100^2))))))","v":{"$error":"#DIV/0!"}},{"$f":"ABS((0.85*Sheet1!B10/Sheet1!B9)*(1-(SQRT(1-(2*O64/(0.85*Sheet1!B10*100^2))))))","v":{"$error":"#DIV/0!"}},{"$f":"ABS((0.85*Sheet1!B10/Sheet1!B9)*(1-(SQRT(1-(2*P64/(0.85*Sheet1!B10*100^2))))))","v":{"$error":"#DIV/0!"}},{"$f":"ABS((0.85*Sheet1!B10/Sheet1!B9)*(1-(SQRT(1-(2*Q64/(0.85*Sheet1!B10*100^2))))))","v":{"$error":"#DIV/0!"}},{"$f":"ABS((0.85*Sheet1!B10/Sheet1!B9)*(1-(SQRT(1-(2*R64/(0.85*Sheet1!B10*100^2))))))","v":{"$error":"#DIV/0!"}},{"$f":"ABS((0.85*Sheet1!B10/Sheet1!B9)*(1-(SQRT(1-(2*S64/(0.85*Sheet1!B10*100^2))))))","v":{"$error":"#DIV/0!"}},{"$f":"ABS((0.85*Sheet1!B10/Sheet1!B9)*(1-(SQRT(1-(2*T64/(0.85*Sheet1!B10*100^2))))))","v":{"$error":"#DIV/0!"}}]
[null,null,null,null,null,null,null,"As+","mm^2/m",{"$f":"IF(J53=0,(0),(IF(J65>(0.0018*4000/Sheet1!$B$9),(ABS(J65*1000*(Sheet1!$B$16*1000-Sheet1!$B$13*10)*-1)),(ABS((0.0018*4000/Sheet1!$B$9)*1000*(Sheet1!$B$16*1000-Sheet1!$B$13*10)*-1)))))","v":0},{"$f":"IF(K53=0,(0),(IF(K65>(0.0018*4000/Sheet1!$B$9),(ABS(K65*1000*(Sheet1!$B$16*1000-Sheet1!$B$13*10)*-1)),(ABS((0.0018*4000/Sheet1!$B$9)*1000*(Sheet1!$B$16*1000-Sheet1!$B$13*10)*-1)))))","v":0},null,{"$f":"IF(M53=0,(0),(IF(M65>(0.0018*4000/Sheet1!$B$9),(ABS(M65*1000*(Sheet1!$B$16*1000-Sheet1!$B$13*10)*-1)),(ABS((0.0018*4000/Sheet1!$B$9)*1000*(Sheet1!$B$16*1000-Sheet1!$B$13*10)*-1)))))","v":0},{"$f":"IF(N53=0,(0),(IF(N65>(0.0018*4000/Sheet1!$B$9),(ABS(N65*1000*(Sheet1!$B$16*1000-Sheet1!$B$13*10)*-1)),(ABS((0.0018*4000/Sheet1!$B$9)*1000*(Sheet1!$B$16*1000-Sheet1!$B$13*10)*-1)))))","v":0},{"$f":"IF(O53=0,(0),(IF(O65>(0.0018*4000/Sheet1!$B$9),(ABS(O65*1000*(Sheet1!$B$16*1000-Sheet1!$B$13*10)*-1)),(ABS((0.0018*4000/Sheet1!$B$9)*1000*(Sheet1!$B$16*1000-Sheet1!$B$13*10)*-1)))))","v":0},{"$f":"IF(P53=0,(0),(IF(P65>(0.0018*4000/Sheet1!$B$9),(ABS(P65*1000*(Sheet1!$B$16*1000-Sheet1!$B$13*10)*-1)),(ABS((0.0018*4000/Sheet1!$B$9)*1000*(Sheet1!$B$16*1000-Sheet1!$B$13*10)*-1)))))","v":0},{"$f":"IF(Q53=0,(0),(IF(Q65>(0.0018*4000/Sheet1!$B$9),(ABS(Q65*1000*(Sheet1!$B$16*1000-Sheet1!$B$13*10)*-1)),(ABS((0.0018*4000/Sheet1!$B$9)*1000*(Sheet1!$B$16*1000-Sheet1!$B$13*10)*-1)))))","v":0},{"$f":"IF(R53=0,(0),(IF(R65>(0.0018*4000/Sheet1!$B$9),(ABS(R65*1000*(Sheet1!$B$16*1000-Sheet1!$B$13*10)*-1)),(ABS((0.0018*4000/Sheet1!$B$9)*1000*(Sheet1!$B$16*1000-Sheet1!$B$13*10)*-1)))))","v":0},{"$f":"IF(S53=0,(0),(IF(S65>(0.0018*4000/Sheet1!$B$9),(ABS(S65*1000*(Sheet1!$B$16*1000-Sheet1!$B$13*10)*-1)),(ABS((0.0018*4000/Sheet1!$B$9)*1000*(Sheet1!$B$16*1000-Sheet1!$B$13*10)*-1)))))","v":0},{"$f":"IF(T53=0,(0),(IF(T65>(0.0018*4000/Sheet1!$B$9),(ABS(T65*1000*(Sheet1!$B$16*1000-Sheet1!$B$13*10)*-1)),(ABS((0.0018*4000/Sheet1!$B$9)*1000*(Sheet1!$B$16*1000-Sheet1!$B$13*10)*-1)))))","v":0}]
[null,null,null,null,null,null,null,"โมเมนต์ลบซ้าย","kg-m/m",{"$f":"J54/(0.9*J58)","v":{"$error":"#DIV/0!"}},{"$f":"K54/(0.9*K58)","v":{"$error":"#DIV/0!"}},null,{"$f":"M54/(0.9*M58)","v":{"$error":"#DIV/0!"}},{"$f":"N54/(0.9*N58)","v":{"$error":"#DIV/0!"}},{"$f":"O54/(0.9*O58)","v":{"$error":"#DIV/0!"}},{"$f":"P54/(0.9*P58)","v":{"$error":"#DIV/0!"}},{"$error":"#DIV/0!"},{"$error":"#DIV/0!"},{"$error":"#DIV/0!"},{"$error":"#DIV/0!"}]
[null,null,null,null,null,null,null,"Rn","kg/m^2",{"$f":"J67/(((Sheet1!B16)-(Sheet1!B13/100))^2)","v":{"$error":"#DIV/0!"}},{"$f":"K67/(((Sheet1!B16)-(Sheet1!B13/100))^2)","v":{"$error":"#DIV/0!"}},null,{"$f":"M67/(((Sheet1!B16)-(Sheet1!B13/100))^2)","v":{"$error":"#DIV/0!"}},{"$f":"N67/(((Sheet1!B16)-(Sheet1!B13/100))^2)","v":{"$error":"#DIV/0!"}},{"$f":"O67/(((Sheet1!B16)-(Sheet1!B13/100))^2)","v":{"$error":"#DIV/0!"}},{"$f":"P67/(((Sheet1!B16)-(Sheet1!B13/100))^2)","v":{"$error":"#DIV/0!"}},{"$f":"Q67/(((Sheet1!B16)-(Sheet1!B13/100))^2)","v":{"$error":"#DIV/0!"}},{"$f":"R67/(((Sheet1!B16)-(Sheet1!B13/100))^2)","v":{"$error":"#DIV/0!"}},{"$f":"S67/(((Sheet1!B16)-(Sheet1!B13/100))^2)","v":{"$error":"#DIV/0!"}},{"$f":"T67/(((Sheet1!B16)-(Sheet1!B13/100))^2)","v":{"$error":"#DIV/0!"}}]
[null,null,null,null,null,null,null,"p",null,{"$f":"ABS((0.85*Sheet1!B10/Sheet1!B9)*(1-(SQRT(1-(2*J68/(0.85*Sheet1!B10*100^2))))))","v":{"$error":"#DIV/0!"}},{"$f":"(0.85*Sheet1!B10/Sheet1!B9)*(1-(SQRT(1-(2*K68/(0.85*Sheet1!B10*100^2)))))","v":{"$error":"#DIV/0!"}},null,{"$f":"ABS((0.85*Sheet1!B10/Sheet1!B9)*(1-(SQRT(1-(2*M68/(0.85*Sheet1!B10*100^2))))))","v":{"$error":"#DIV/0!"}},{"$f":"ABS((0.85*Sheet1!B10/Sheet1!B9)*(1-(SQRT(1-(2*N68/(0.85*Sheet1!B10*100^2))))))","v":{"$error":"#DIV/0!"}},{"$f":"ABS((0.85*Sheet1!B10/Sheet1!B9)*(1-(SQRT(1-(2*O68/(0.85*Sheet1!B10*100^2))))))","v":{"$error":"#DIV/0!"}},{"$f":"ABS((0.85*Sheet1!B10/Sheet1!B9)*(1-(SQRT(1-(2*P68/(0.85*Sheet1!B10*100^2))))))","v":{"$error":"#DIV/0!"}},{"$f":"ABS((0.85*Sheet1!B10/Sheet1!B9)*(1-(SQRT(1-(2*Q68/(0.85*Sheet1!B10*100^2))))))","v":{"$error":"#DIV/0!"}},{"$f":"ABS((0.85*Sheet1!B10/Sheet1!B9)*(1-(SQRT(1-(2*R68/(0.85*Sheet1!B10*100^2))))))","v":{"$error":"#DIV/0!"}},{"$f":"ABS((0.85*Sheet1!B10/Sheet1!B9)*(1-(SQRT(1-(2*S68/(0.85*Sheet1!B10*100^2))))))","v":{"$error":"#DIV/0!"}},{"$f":"ABS((0.85*Sheet1!B10/Sheet1!B9)*(1-(SQRT(1-(2*T68/(0.85*Sheet1!B10*100^2))))))","v":{"$error":"#DIV/0!"}}]
[null,null,null,null,null,null,null,"As-","mm^2/m",{"$f":"IF(J53=0,(0),(IF(J69>(0.0018*4000/Sheet1!$B$9),(ABS(J69*1000*(Sheet1!$B$16*1000-Sheet1!$B$13*10)*-1)),(ABS((0.0018*4000/Sheet1!$B$9)*1000*(Sheet1!$B$16*1000-Sheet1!$B$13*10)*-1)))))","v":0},{"$f":"IF(K53=0,(0),(IF(K69>(0.0018*4000/Sheet1!$B$9),(ABS(K69*1000*(Sheet1!$B$16*1000-Sheet1!$B$13*10)*-1)),(ABS((0.0018*4000/Sheet1!$B$9)*1000*(Sheet1!$B$16*1000-Sheet1!$B$13*10)*-1)))))","v":0},null,{"$f":"IF(M53=0,(0),(IF(M69>(0.0018*4000/Sheet1!$B$9),(ABS(M69*1000*(Sheet1!$B$16*1000-Sheet1!$B$13*10)*-1)),(ABS((0.0018*4000/Sheet1!$B$9)*1000*(Sheet1!$B$16*1000-Sheet1!$B$13*10)*-1)))))","v":0},{"$f":"IF(N53=0,(0),(IF(N69>(0.0018*4000/Sheet1!$B$9),(ABS(N69*1000*(Sheet1!$B$16*1000-Sheet1!$B$13*10)*-1)),(ABS((0.0018*4000/Sheet1!$B$9)*1000*(Sheet1!$B$16*1000-Sheet1!$B$13*10)*-1)))))","v":0},{"$f":"IF(O53=0,(0),(IF(O69>(0.0018*4000/Sheet1!$B$9),(ABS(O69*1000*(Sheet1!$B$16*1000-Sheet1!$B$13*10)*-1)),(ABS((0.0018*4000/Sheet1!$B$9)*1000*(Sheet1!$B$16*1000-Sheet1!$B$13*10)*-1)))))","v":0},{"$f":"IF(P53=0,(0),(IF(P69>(0.0018*4000/Sheet1!$B$9),(ABS(P69*1000*(Sheet1!$B$16*1000-Sheet1!$B$13*10)*-1)),(ABS((0.0018*4000/Sheet1!$B$9)*1000*(Sheet1!$B$16*1000-Sheet1!$B$13*10)*-1)))))","v":0},{"$f":"IF(Q53=0,(0),(IF(Q69>(0.0018*4000/Sheet1!$B$9),(ABS(Q69*1000*(Sheet1!$B$16*1000-Sheet1!$B$13*10)*-1)),(ABS((0.0018*4000/Sheet1!$B$9)*1000*(Sheet1!$B$16*1000-Sheet1!$B$13*10)*-1)))))","v":0},{"$f":"IF(R53=0,(0),(IF(R69>(0.0018*4000/Sheet1!$B$9),(ABS(R69*1000*(Sheet1!$B$16*1000-Sheet1!$B$13*10)*-1)),(ABS((0.0018*4000/Sheet1!$B$9)*1000*(Sheet1!$B$16*1000-Sheet1!$B$13*10)*-1)))))","v":0},{"$f":"IF(S53=0,(0),(IF(S69>(0.0018*4000/Sheet1!$B$9),(ABS(S69*1000*(Sheet1!$B$16*1000-Sheet1!$B$13*10)*-1)),(ABS((0.0018*4000/Sheet1!$B$9)*1000*(Sheet1!$B$16*1000-Sheet1!$B$13*10)*-1)))))","v":0},{"$f":"IF(T53=0,(0),(IF(T69>(0.0018*4000/Sheet1!$B$9),(ABS(T69*1000*(Sheet1!$B$16*1000-Sheet1!$B$13*10)*-1)),(ABS((0.0018*4000/Sheet1!$B$9)*1000*(Sheet1!$B$16*1000-Sheet1!$B$13*10)*-1)))))","v":0}]
[]
[]
[null,null,null,null,null,null,"เช็ค punching shear  ",null,null,null,null,null,null,null,null,"เช็ค punching shear  "]
[]
[null,null,null,null,null,null,"V",null,"kg",{"$f":"$K$109","v":0},null,null,{"$f":"$N$109+$Z$109","v":0},{"$f":"$AC$110+$AL$109","v":0},{"$f":"$AO$109+$AX$109","v":0},{"$f":"$BA$109+$BJ$109","v":0},{"$f":"$BM$109","v":0}]
[null,null,null,null,null,null,"V(max) ",null,"kg",{"$f":"MAX(J75,M75,N75,O75,P75,Q75)","v":0},null,null,null,null,null,"Vmax","kg",{"$f":"IF(Sheet1!$B$3=2,(MAX($J$75,$N$75)),(IF(Sheet1!$B$3=3,(MAX($J$75,$O$75)),(IF(Sheet1!$B$3=4,(MAX($J$75,$P$75)),(IF(Sheet1!$B$3=5,(MAX($J$75,$Q$75)),(0))))))))","v":0}]
[null,null,null,null,null,null,"Vc",null,"kg",{"$f":"1.06*SQRT(Sheet1!$B$10)","v":18.961856449198219},null,null,null,null,null,"Vc","kg",{"$f":"1.06*SQRT(Sheet1!$B$10)","v":18.961856449198219}]
[null,null,null,null,null,null,"b1",null,"cm",{"$f":"(Sheet1!$D$9*100)+(Sheet1!$B$16*100)-Sheet1!$B$13","v":72.5},null,null,null,null,null,"b1","cm",{"$f":"(Sheet1!$D$9*100)+((Sheet1!$B$16*100)-Sheet1!$B$13)/2","v":61.25}]
[null,null,null,null,null,null,"b2",null,"cm",{"$f":"(Sheet1!$D$10*100)+(Sheet1!$B$16*100)-Sheet1!$B$13","v":62.5},null,null,null,null,null,"b2","cm",{"$f":"(Sheet1!$D$10*100)+(Sheet1!$B$16*100)-Sheet1!$B$13","v":62.5}]
[null,null,null,null,null,null,"d",null,"cm",{"$f":"((Sheet1!$B$16*100)-Sheet1!$B$13)","v":22.5},null,null,null,null,null,"d","cm",{"$f":"((Sheet1!$B$16*100)-Sheet1!$B$13)","v":22.5}]
[null,null,null,null,null,null,"Ac",null,"cm^2",{"$f":"(J78*J80*2)+(J79*J80*2)","v":6075},null,null,null,null,null,"Ac","cm^2",{"$f":"2*($R$78*$R$80)+($R$79*$R$80)","v":4162.5}]
[null,null,null,null,null,null,"X1",null,"cm",{"$f":"J78/2","v":36.25},null,null,null,null,null,"X2,X1","cm",{"$f":"$R$78^2*$R$80/$R$81","v":20.278716216216218},{"$f":"R78-R82","v":40.971283783783782}]
[null,null,null,null,null,null,"Jc",null,"cm^4",{"$f":"(J78^3*J80/6)+(J78*J80^3/6)+(J79*J78^2*J80/2)","v":5262480.46875},null,null,null,null,null,"J","cm^4",{"$f":"(R78*R80^3/6)+(2/3*(S82^3+R82^3)*R80)+R79*R82^2*R80","v":1851297.7393897802}]
[null,null,null,null,null,null,"Mu",null,"kg*m",{"$f":"IF(M75=J76,ABS(N108-Z107),(IF(N75=J76,ABS(AC108-AL107),(IF(O75=J76,ABS(AO108-AX107),(IF(P75=J76,ABS(BA108-BJ107),(0))))))))","v":0},null,null,null,null,null,"Mu","kg*m",{"$f":"IF(Sheet1!$B$3=2,(MAX(K107,AC108)),(IF(Sheet1!$B$3=3,(MAX(K107,AO108)),(IF(Sheet1!$B$3=4,(MAX(K107,BA108)),(IF(Sheet1!$B$3=5,(MAX(K107,BM108)),(0))))))))","v":0}]
[null,null,null,null,null,null,"Mub",null,"kg*m",{"$f":"J84/(1+(2/3)*SQRT(J78/J79))","v":0},null,null,null,null,null,"Mub","kg*m",{"$f":"R84/(1+2/3*SQRT(R78/R79))","v":0}]
[null,null,null,null,null,null,"Muv",null,"kg*m",{"$f":"J84-J85","v":0},null,null,null,null,null,"Muv","kg*m",{"$f":"R84-R85","v":0}]
[null,null,null,null,null,null,"Vu2",null,"kg/cm^2",{"$f":"(J76/J81)+((J86*100)*J82/J83)","v":0},null,null,null,null,null,"Vu","kg/cm^2",{"$f":"R76/R81+(R86*100*R82/R83)","v":0}]
[null,null,null,null,null,null,"Vc",null,"kg/cm^2",{"$f":"1.06*SQRT(Sheet1!$B$10)","v":18.961856449198219},null,null,null,null,null,"Vc","kg/cm^2",{"$f":"1.06*SQRT(Sheet1!$B$10)","v":18.961856449198219}]
[]
[]
[]
[]
[]
[]
[]
[]
[]
[]
[]
[]
[]
[]
[]
[]
[]
[null,null,null,null,null,null,null,null,null,"โมเมนต์บวก span 1",null,null,"โมเมนต์ลบ span 1  ขวา",null,null,"โมเมนต์ลบ span 1 ซ้าย",null,null,null,null,null,"โมเมนต์บวก span 2",null,null,"โมเมนต์ลบ span 2  ซ้าย",null,null,"โมเมนต์ลบspan 2 ขวา",null,null,null,null,null,"โมเมนต์บวกสแปน 3",null,null,"โมเมนต์ลบspan 3 ซ้าย",null,null,"โมเมนต์ลบspan 3 ขวา",null,null,null,null,null,"โมเมนต์บวกสแปน 4",null,null,"โมเมนต์ลบสแปน 4 ซ้าย",null,null,"โมเมนต์ลบสแปน 4 ขวา",null,null,null,null,null,"โมเมนต์บวกสแปน 5",null,null,"โมเมนต์ลบ span 5 ซ้าย",null,null,"โมเมนต์ลบ span 5 ขวา"]
[null,null,null,null,null,null,null,null,null,"M 1l =",{"$f":"(K46+AI46+BG46+BS46)*-1","v":0},null,"M 1l =",{"$f":"(K46+W46+AU46+BS46)*-1","v":0},null,"M- max span1l =",{"$f":"IF(K107=0,(0),(-K107+0.5*K109*Sheet1!D9-0.25*'r5'!E2*('r5'!B7+'r5'!E7)*Sheet1!D9^2))","v":0},null,null,null,null,"M 2l =",{"$f":"(Y46+AW46+BU46)*-1","v":0},null,"M 2l =",{"$f":"(M46+Y46+AW46+BU46)*-1","v":0},null,"M 2l =",{"$f":"(Y46+AK46+BU46+BI46)*-1","v":0},null,null,null,null,"M 3l =",{"$f":"(AM46+O46+BK46+BW46)*-1","v":0},null,"M3l =",{"$f":"(AM46+AA46+BW46+BK46)*-1","v":0},null,"M3l =",{"$f":"(AM46+AY46+O46+BW46)*-1","v":0},null,null,null,null,"m 4l =",{"$f":"(BA46+AC46+BY46)*-1","v":0},null,"m4l =",{"$f":"(BA46+AO46+Q46+BY46)*-1","v":0},null," m4l =",{"$f":"(BA46+BM46+AC46+BY46)*-1","v":0},null,null,null,null,"m5l =",{"$f":"(BO46+AQ46+S46+CA46)*-1","v":0},null,"m5l =",{"$f":"(BO46+BC46+AE46+CA46)*-1","v":0},null,"m5l =",{"$f":"(BO46+AQ46+S46+CA46)*-1","v":0}]
[null,null,null,null,null,null,null,null,null,"M 1r =",{"$f":"(L46+AJ46+BH46+BT46)","v":0},null,"M 1r =",{"$f":"(L46+X46+AV46+BT46)","v":0},null,null,null,null,null,null,null,"M 2r =",{"$f":"(Z46+AX46+BV46)","v":0},null,"M 2r =",{"$f":"Z46+N46+AX46+BV46","v":0},null,"M 2r =",{"$f":"(Z46+AL46+BV46)+BJ46","v":0},null,null,null,null,"M 3r =",{"$f":"(AN46+P46+BL46+BX46)","v":0},null,"M3r =",{"$f":"AN46+AB46+BL46+BX46","v":0},null,"M3r =",{"$f":"AN46+AZ46+P46+BX46","v":0},null,null,null,null,"m 4r =",{"$f":"(BB46+AD46+BZ46)","v":0},null,"m4r =",{"$f":"BB46+AP46+R46+BZ46","v":0},null,"m4r =",{"$f":"(BB46+BN46+BZ46+AD46)","v":0},null,null,null,null,"m5r =",{"$f":"(BP46+AR46+T46+CB46)","v":0},null,"m5r =",{"$f":"BP46+CB46+BD46+AF46","v":0},null,"m5r =",{"$f":"BP46+CB46+AR46+T46","v":0}]
[null,null,null,null,null,null,null,null,null,"V1l =",{"$f":"IF(K107=0,(0),((-K108+K107+(0.5*(B7+E7)*E2*Sheet1!F9^2))/Sheet1!F9))","v":0},null,"V 1r =",{"$f":"IF(N107=0,(0),((N108-N107+0.5*(B7+E7)*E2*Sheet1!$F$9^2)/Sheet1!$F$9))","v":0},null,null,null,null,null,null,null,"V2l =",{"$f":"(-W108+W107+0.5*(B8+E8)*E2*Sheet1!F10^2)/Sheet1!F10","v":0},null,"V2l  =",{"$f":"IF(Z107=0,(0),((-Z108+Z107+0.5*(B8+E8)*E2*Sheet1!F10^2)/Sheet1!F10))","v":0},null,"V2l =",{"$f":"(-AC108+AC107+0.5*(B8+E8)*E2*Sheet1!F10^2)/Sheet1!F10","v":0},null,null,null,null,"V3l =",{"$f":"(-AI108+AI107+0.5*(B9+E9)*E2*Sheet1!F11^2)/Sheet1!F11","v":0},null,"V3l =",{"$f":"IF(AL107=0,(0),((-AL108+AL107+0.5*(B9+E9)*Sheet1!F11^2*E2)/Sheet1!F11))","v":0},null,"V3r =",{"$f":"IF(AO107=0,(0),((AO108-AO107+0.5*(B9+E9)*E2*Sheet1!F11^2)/Sheet1!F11))","v":0},null,null,null,null,"v4l =",{"$f":"(-AU108+AU107+0.5*(B10+E10)*E2*Sheet1!F12^2)/Sheet1!F12","v":{"$error":"#DIV/0!"}},null,"V4l =",{"$f":"IF(AX107=0,(0),((-AX108+AX107+0.5*(B10+E10)*Sheet1!F12^2*E2)/Sheet1!F12))","v":0},null,"v4r =",{"$f":"IF(BA107=0,(0),((BA108-BA107+0.5*(B10+E10)*E2*Sheet1!F12^2)/Sheet1!F12))","v":0},null,null,null,null,"v5l =",{"$f":"(-BG108+BG107+0.5*(B11+E11)*E2*Sheet1!F13^2)/Sheet1!F13","v":{"$error":"#DIV/0!"}},null,"v5l =",{"$f":"IF(BJ107=0,(0),((-BJ108+BJ107+0.5*(B11+E11)*E2*Sheet1!F13^2)/Sheet1!F13))","v":0},null,"v5r =",{"$f":"IF(BM107=0,(0),((BM108-BM107+0.5*(B11+E11)*E2*Sheet1!F13^2)/Sheet1!F13))","v":0}]
[null,null,null,null,null,null,null,null,null,"ระยะที่ V=0",{"$f":"K109/((B7+E7)*E2)","v":{"$error":"#DIV/0!"}},null,"M- max span1r =",{"$f":"IF(N108=0,(0),(0.5*Sheet1!$D$9*'r5'!N109-'r5'!N108-0.25*('r5'!B7+'r5'!E7)*'r5'!E2*Sheet1!$D$9^2))","v":0},null,null,null,null,null,null,null,"ระยะที่ V=0",{"$f":"W109/((B8+E8)*E2)","v":{"$error":"#DIV/0!"}},null,"V2 r =",{"$f":"(Z108-Z107+0.5*(B8+E8)*E2*Sheet1!F10^2)/Sheet1!F10","v":0},null,"v2r =",{"$f":"IF(AC107=0,(0),((AC108-AC107+0.5*(B8+E8)*E2*Sheet1!F10^2)/Sheet1!F10))","v":0},null,null,null,null,"ระยะที่ V=0",{"$f":"AI109/((B9+E9)*E2)","v":{"$error":"#DIV/0!"}},null,"M- max span3l =",{"$f":"IF(AL107=0,(0),(-AL107+0.5*AL109*Sheet1!D9-0.25*Sheet1!D9^2*'r5'!E2*('r5'!B9+'r5'!E9)))","v":0},null,"M- max span3r =",{"$f":"IF(AO108=0,(0),(0.5*AO109*Sheet1!D9-'r5'!AO108-0.25*('r5'!B9+'r5'!E9)*'r5'!E2*Sheet1!D9^2))","v":0},null,null,null,null,"ระยะที่ v=0",{"$f":"AU109/((B10+E10)*E2)","v":{"$error":"#DIV/0!"}},null,"M- max span4l =",{"$f":"IF(AX107=0,(0),(-AX107+0.5*AX109*Sheet1!D9-0.25*Sheet1!D9^2*'r5'!E2*('r5'!B10+'r5'!E10)))","v":0},null,"M- max span4r =",{"$f":"IF(BA108=0,(0),(0.5*BA109*Sheet1!D9-'r5'!BA108-0.25*('r5'!B10+'r5'!E10)*'r5'!E2*Sheet1!D9^2))","v":0},null,null,null,null,"ระยะที่ v=0",{"$f":"BG109/((B11+E11)*E2)","v":{"$error":"#DIV/0!"}},null,"M- max span 5l =",{"$f":"IF(BJ107=0,(0),(-BJ107+0.5*BJ109*Sheet1!D9-0.25*Sheet1!D9^2*'r5'!E2*('r5'!B11+'r5'!E11)))","v":0},null,"M- max span 5r =",{"$f":"IF(BM108=0,(0),(0.5*BM109*Sheet1!D9-'r5'!BM108-0.25*('r5'!B11+'r5'!E11)*'r5'!E2*Sheet1!D9^2))","v":0}]
[null,null,null,null,null,null,null,null,null,"M1+max=",{"$f":"IF(K107=0,(0),(K109*K110-0.5*(B7+E7)*K110^2*E2-K107))","v":0},null,"V1l =",{"$f":"(B7+E7)*E2*Sheet1!$F$9-'r5'!N109","v":0},null,null,null,null,null,null,null,"M2+max=",{"$f":"IF(W107=0,(0),((W109*W110)-0.5*(B8+E8)*E2*W110^2-W107))","v":0},null,"M- max span2l =",{"$f":"IF(Z107=0,(0),(-Z107+0.5*Z109*Sheet1!D9-0.25*(B8+E8)*E2*Sheet1!D9^2))","v":0},null,"M- max span2r =",{"$f":"IF(AC108=0,(0),(0.5*AC110*Sheet1!D9-'r5'!AC108-0.25*('r5'!B8+'r5'!E8)*'r5'!E2*Sheet1!D9^2))","v":0},null,null,null,null,"M3+ max =",{"$f":"IF(AI107=0,(0),(AI109*AI110-0.5*(B9+E9)*E2*AI110^2-AI107))","v":0},null,null,null,null,null,null,null,null,null,null,"M4+ max =",{"$f":"IF(AU107=0,(0),(AU109*AU110-0.5*(B10+E10)*AU110^2*E2-AU107))","v":0},null,null,null,null,null,null,null,null,null,null,"M5+ max =",{"$f":"IF(BG107=0,(0),(BG109*BG110-0.5*(B11+E11)*E2*BG110^2-BG107))","v":0},null,null,null,null,null,null,null,null,null,null,null,null,null,null,null,null,null,null,null,null,null,null,null,null,null,null," "]

{"sheet":"r6","index":6,"n_rows":111,"n_cols":86,"rows_kept":111,"cut":false,"hidden":false,"merged":[[105,51,105,52],[105,57,105,58],[105,60,105,61],[105,63,105,64],[105,48,105,49],[105,45,105,46],[62,10,62,11],[63,10,63,11],[69,10,69,11],[64,10,64,11],[65,10,65,11],[66,10,66,11],[67,10,67,11],[68,10,68,11],[105,24,105,25],[105,27,105,28],[105,33,105,34],[105,36,105,37],[105,39,105,40],[48,10,48,11],[105,9,105,10],[105,12,105,13],[105,15,105,16],[105,21,105,22],[50,10,50,11],[51,10,51,11],[52,10,52,11],[56,10,56,11],[60,10,60,11],[61,10,61,11],[57,10,57,11],[58,10,58,11],[59,10,59,11],[55,6,55,8],[55,9,55,11],[55,12,55,13],[55,14,55,15],[20,69,20,79],[20,21,20,31],[20,33,20,43],[20,45,20,55],[20,57,20,67],[46,10,46,11],[20,9,20,19],[47,10,47,11],[55,16,55,17],[55,18,55,19],[53,10,53,11],[54,10,54,11],[0,0,0,4],[5,0,5,1],[5,3,5,4],[12,0,12,1],[12,3,12,4]]}
["รายการคำนวณโมเมนต์แกน x   แถบนอก Rslab2"]
["ระยะช่วงพื้น (unit: m)",{"$f":"MAX(Sheet1!F9,Sheet1!F10,Sheet1!F11,Sheet1!F12,Sheet1!F13,Sheet1!L9,Sheet1!L10,Sheet1!L11,Sheet1!L12,Sheet1!F13)","v":6},null,"ความกว้างแถบเสา =",{"$f":"(Sheet1!L13)/2","v":0}]
["ตัวคูณหาความหนาพื้นขั้นต่ำ",{"$f":"0.01*LN(Sheet1!B9)-0.05","v":3.0255163864890078E-2}]
[]
["ความหนาพื้น (unit:m)",{"$f":"IF((B2*B3)>0.12,(B2*B3),(0.12))","v":0.18153098318934047}]
["น้ำหนัก DL+WDS",null,null,"น้ำหนัก LL"]
["Wdl1+Wsd1 (unit:KG/m^2) =",{"$f":"IF(Sheet1!$B$4<=4,(0),(IF(Sheet1!$B$3>=2,(((Sheet1!$B$16*Sheet1!$B$11)+Sheet1!$J$9)*1.4),(0))))","v":0},null,"Wtl1 (unit:kg/m^2) =",{"$f":"IF(Sheet1!$B$4<=4,(0),(IF(Sheet1!$B$3>=2,(1.7*Sheet1!H9),(0))))","v":0}]
["Wdl2+Wsd2 (unit:KG/m^2) =",{"$f":"IF(Sheet1!$B$4<=4,(0),(IF(Sheet1!$B$3>=2,(((Sheet1!$B$16*Sheet1!$B$11)+Sheet1!$J$10)*1.4),(0))))","v":0},null,"Wtl2 (unit:kg/m^2) =",{"$f":"IF(Sheet1!$B$4<=4,(0),(IF(Sheet1!$B$3>=2,(1.7*Sheet1!H10),(0))))","v":0}]
[{"$f":"IF(Sheet1!B3>2,(\"Wdl3+Wsd3 (unit:KG/m^2) =\"),(\"\"))","v":"Wdl3+Wsd3 (unit:KG/m^2) ="},{"$f":"IF(Sheet1!$B$4<=4,(0),(IF(Sheet1!$B$3>=3,(((Sheet1!$B$16*Sheet1!$B$11)+Sheet1!$J$11)*1.4),(0))))","v":0},null,{"$f":"IF(Sheet1!B3>2,(\"Wtl3 (unit:KG/m^2) =\"),(\"\"))","v":"Wtl3 (unit:KG/m^2) ="},{"$f":"IF(Sheet1!$B$4<=4,(0),(IF(Sheet1!$B$3>=2,(1.7*Sheet1!H11),(0))))","v":0}]
[{"$f":"IF(Sheet1!B3>3,(\"Wdl4+Wsd4 (unit:KG/m^2) =\"),(\"\"))","v":""},{"$f":"IF(Sheet1!$B$4<=4,(0),(IF(Sheet1!$B$3>=4,(((Sheet1!$B$16*Sheet1!$B$11)+Sheet1!$J$12)*1.4),(0))))","v":0},null,{"$f":"IF(Sheet1!B3>3,(\"Wtl4 (unit:KG/m^2) =\"),(\"\"))","v":""},{"$f":"IF(Sheet1!$B$4<=4,(0),(IF(Sheet1!$B$3>=2,(1.7*Sheet1!H12),(0))))","v":0}]
[{"$f":"IF(Sheet1!B3>4,(\"Wdl5+Wsd5 (unit:KG/m^2) =\"),(\"\"))","v":""},{"$f":"IF(Sheet1!$B$4<=4,(0),(IF(Sheet1!$B$3>=5,(((Sheet1!$B$16*Sheet1!$B$11)+Sheet1!$J$13)*1.4),(0))))","v":0},null,{"$f":"IF(Sheet1!B3>4,(\"Wtl5 (unit:KG/m^2) =\"),(\"\"))","v":""},{"$f":"IF(Sheet1!$B$4<=4,(0),(IF(Sheet1!$B$3>=2,(1.7*Sheet1!H13),(0))))","v":0}]
[]
["โมเมนต์ DL+WSD",null,null,"โมเมนต LL"]
["FEM.DL1 (unit:kg*m) =",{"$f":"B7*E2*Sheet1!F9^2/12","v":0},null,"FEM.TL1 (unit:kg*m) =",{"$f":"E7*E2*Sheet1!F9^2/12","v":0}]
["FEM.DL2 (unit:kg*m) =",{"$f":"B8*E2*Sheet1!F10^2/12","v":0},null,"FEM.TL2 (unit:kg*m) =",{"$f":"E8*E2*Sheet1!F10^2/12","v":0}]
[{"$f":"IF(Sheet1!B3>=3,(\"FEM.DL3 (unit:kg*m) =\"),(\"\"))","v":"FEM.DL3 (unit:kg*m) ="},{"$f":"IF(Sheet1!B3>=3,('r6'!B9*'r6'!E2*Sheet1!F11^2/12),(0))","v":0},null,{"$f":"IF(Sheet1!B3>=3,(\"FEM.TL3 (unit:kg*m) =\"),(\"\"))","v":"FEM.TL3 (unit:kg*m) ="},{"$f":"IF(Sheet1!B3>=3,('r6'!E9*'r6'!E2*Sheet1!F11^2/12),(0))","v":0}]
[{"$f":"IF(Sheet1!B3>=4,(\"FEM.DL4 (unit:kg*m) =\"),(\"\"))","v":""},{"$f":"IF(Sheet1!B3>=4,('r6'!B10*'r6'!E2*Sheet1!F12^2/12),(0))","v":0},null,{"$f":"IF(Sheet1!B3>=4,(\"FEM.TL4 (unit:kg*m) =\"),(\"\"))","v":""},{"$f":"IF(Sheet1!B3>=4,('r6'!E10*'r6'!E2*Sheet1!F12^2/12),(0))","v":0}]
[{"$f":"IF(Sheet1!B3>=5,(\"FEM.DL5 (unit:kg*m) =\"),(\"\"))","v":""},{"$f":"IF(Sheet1!B3>=5,('r6'!B11*'r6'!E2*Sheet1!F13^2/12),(0))","v":0},null,{"$f":"IF(Sheet1!B3>=5,(\"FEM.TL5 (unit:kg*m) =\"),(\"\"))","v":""},{"$f":"IF(Sheet1!B3>=5,('r6'!E11*'r6'!E2*Sheet1!F13^2/12),(0))","v":0}]
[]
[]
[null,null,null,null,null,null,null,null,null,"วางน้ำหนัก LL    สแปน 1",null,null,null,null,null,null,null,null,null,null,null,"วางน้ำหนัก LL  สแปน 2",null,null,null,null,null,null,null,null,null,null,null,"วางน้ำหนัก LL สแปน 3",null,null,null,null,null,null,null,null,null,null,null,"วางน้ำหนัก LL สแปน 4",null,null,null,null,null,null,null,null,null,null,null,"วางน้ำหนัก LL  สแปน 5",null,null,null,null,null,null,null,null,null,null,null,"วางน้ำหนัก DL ทุกสแปน"]
[null,null,null,null,null,null,null,null,null,null,"1r","2l","2r","3l","3r","4l","4r","5l","5r","6l",null,null,"1r","2l","2r","3l","3r","4l","4r","5l","5r","6l",null,null,"1r","2l","2r","3l","3r","4l","4r","5l","5r","6l",null,null,"1r","2l","2r","3l","3r","4l","4r","5l","5r","6l",null,null,"1r","2l","2r","3l","3r","4l","4r","5l","5r","6l",null,null,"1r","2l","2r","3l","3r","4l","4r","5l","5r","6l"]
[null,null,null,null,null,null,null,null,null,"D.o.f",0.30261172311568857,0.19689098953461148,0.16264907831120076,0.17272555393558325,0.14713658298216353,0.14713658298216353,0.17272555393558325,0.16264907831120076,0.19689098953461148,0.30261172311568857,null,"D.o.f",0.30261172311568857,0.19689098953461148,0.16264907831120076,0.17272555393558325,0.14713658298216353,0.14713658298216353,0.17272555393558325,0.16264907831120076,0.19689098953461148,0.30261172311568857,null,"D.o.f",0.30261172311568857,0.19689098953461148,0.16264907831120076,0.17272555393558325,0.14713658298216353,0.14713658298216353,0.17272555393558325,0.16264907831120076,0.19689098953461148,0.30261172311568857,null,"D.o.f",0.30261172311568857,0.19689098953461148,0.16264907831120076,0.17272555393558325,0.14713658298216353,0.14713658298216353,0.17272555393558325,0.16264907831120076,0.19689098953461148,0.30261172311568857,null,"D.o.f",0.30261172311568857,0.19689098953461148,0.16264907831120076,0.17272555393558325,0.14713658298216353,0.14713658298216353,0.17272555393558325,0.16264907831120076,0.19689098953461148,0.30261172311568857,null,"D.o.f",0.30261172311568857,0.19689098953461148,0.16264907831120076,0.17272555393558325,0.14713658298216353,0.14713658298216353,0.17272555393558325,0.16264907831120076,0.19689098953461148,0.30261172311568857]
[null,null,null,null,null,null,null,null,null,"FEM",{"$f":"E14*-1","v":0},{"$f":"E14","v":0},null,null,null,null,null,null,null,null,null,"FEM",null,null,{"$f":"-E15","v":0},{"$f":"E15","v":0},null,null,null,null,null,null,null,"FEM",null,null,null,null,{"$f":"-E16","v":0},{"$f":"E16","v":0},null,null,null,null,null,"FEM",null,null,null,null,null,null,{"$f":"-E17","v":0},{"$f":"E17","v":0},null,null,null,"FEM",null,null,null,null,null,null,null,null,{"$f":"-E18","v":0},{"$f":"E18","v":0},null,"FEM",{"$f":"-B14","v":0},{"$f":"B14","v":0},{"$f":"-B15","v":0},{"$f":"B15","v":0},{"$f":"-B16","v":0},{"$f":"B16","v":0},{"$f":"-B17","v":0},{"$f":"B17","v":0},{"$f":"-B18","v":0},{"$f":"B18","v":0}]
[null,null,null,null,null,null,null,null,null,"Dis",{"$f":"(K24)*K23*-1","v":0},{"$f":"(L24+M24)*L23*-1","v":0},{"$f":"(M24+L24)*M23*-1","v":0},{"$f":"(N24+O24)*N23*-1","v":0},{"$f":"(O24+N24)*O23*-1","v":0},{"$f":"(P24+Q24)*P23*-1","v":0},{"$f":"(Q24+P24)*Q23*-1","v":0},{"$f":"(R24+S24)*R23*-1","v":0},{"$f":"(S24+R24)*S23*-1","v":0},{"$f":"(T24+U24)*T23*-1","v":0},null,"Dis",{"$f":"(W24)*W23*-1","v":0},{"$f":"(X24+Y24)*X23*-1","v":0},{"$f":"(Y24+X24)*Y23*-1","v":0},{"$f":"(Z24+AA24)*Z23*-1","v":0},{"$f":"(AA24+Z24)*AA23*-1","v":0},{"$f":"(AB24+AC24)*AB23*-1","v":0},{"$f":"(AC24+AB24)*AC23*-1","v":0},{"$f":"(AD24+AE24)*AD23*-1","v":0},{"$f":"(AE24+AD24)*AE23*-1","v":0},{"$f":"(AF24+AG24)*AF23*-1","v":0},null,"Dis",{"$f":"(AI24)*AI23*-1","v":0},{"$f":"(AJ24+AK24)*AJ23*-1","v":0},{"$f":"(AK24+AJ24)*AK23*-1","v":0},{"$f":"(AL24+AM24)*AL23*-1","v":0},{"$f":"(AM24+AL24)*AM23*-1","v":0},{"$f":"(AN24+AO24)*AN23*-1","v":0},{"$f":"(AO24+AN24)*AO23*-1","v":0},{"$f":"(AP24+AQ24)*AP23*-1","v":0},{"$f":"(AQ24+AP24)*AQ23*-1","v":0},{"$f":"(AR24+AS24)*AR23*-1","v":0},null,"Dis",{"$f":"(AU24)*AU23*-1","v":0},{"$f":"(AV24+AW24)*AV23*-1","v":0},{"$f":"(AW24+AV24)*AW23*-1","v":0},{"$f":"(AX24+AY24)*AX23*-1","v":0},{"$f":"(AY24+AX24)*AY23*-1","v":0},{"$f":"(AZ24+BA24)*AZ23*-1","v":0},{"$f":"(BA24+AZ24)*BA23*-1","v":0},{"$f":"(BB24+BC24)*BB23*-1","v":0},{"$f":"(BC24+BB24)*BC23*-1","v":0},{"$f":"(BD24+BE24)*BD23*-1","v":0},null,"Dis",{"$f":"(BG24)*BG23*-1","v":0},{"$f":"(BH24+BI24)*BH23*-1","v":0},{"$f":"(BI24+BH24)*BI23*-1","v":0},{"$f":"(BJ24+BK24)*BJ23*-1","v":0},{"$f":"(BK24+BJ24)*BK23*-1","v":0},{"$f":"(BL24+BM24)*BL23*-1","v":0},{"$f":"(BM24+BL24)*BM23*-1","v":0},{"$f":"(BN24+BO24)*BN23*-1","v":0},{"$f":"(BO24+BN24)*BO23*-1","v":0},{"$f":"(BP24+BQ24)*BP23*-1","v":0},null,"Dis",{"$f":"(BS24)*BS23*-1","v":0},{"$f":"(BT24+BU24)*BT23*-1","v":0},{"$f":"(BU24+BT24)*BU23*-1","v":0},{"$f":"(BV24+BW24)*BV23*-1","v":0},{"$f":"(BW24+BV24)*BW23*-1","v":0},{"$f":"(BX24+BY24)*BX23*-1","v":0},{"$f":"(BY24+BX24)*BY23*-1","v":0},{"$f":"(BZ24+CA24)*BZ23*-1","v":0},{"$f":"(CA24+BZ24)*CA23*-1","v":0},{"$f":"(CB24+CC24)*CB23*-1","v":0}]
[null,null,null,null,null,null,null,null,null,"Co",{"$f":"L25/2","v":0},{"$f":"K25/2","v":0},{"$f":"N25/2","v":0},{"$f":"M25/2","v":0},{"$f":"P25/2","v":0},{"$f":"O25/2","v":0},{"$f":"R25/2","v":0},{"$f":"Q25/2","v":0},{"$f":"T25/2","v":0},{"$f":"S25/2","v":0},null,"Co",{"$f":"X25/2","v":0},{"$f":"W25/2","v":0},{"$f":"Z25/2","v":0},{"$f":"Y25/2","v":0},{"$f":"AB25/2","v":0},{"$f":"AA25/2","v":0},{"$f":"AD25/2","v":0},{"$f":"AC25/2","v":0},{"$f":"AF25/2","v":0},{"$f":"AE25/2","v":0},null,"Co",{"$f":"AJ25/2","v":0},{"$f":"AI25/2","v":0},{"$f":"AL25/2","v":0},{"$f":"AK25/2","v":0},{"$f":"AN25/2","v":0},{"$f":"AM25/2","v":0},{"$f":"AP25/2","v":0},{"$f":"AO25/2","v":0},{"$f":"AR25/2","v":0},{"$f":"AQ25/2","v":0},null,"Co",{"$f":"AV25/2","v":0},{"$f":"AU25/2","v":0},{"$f":"AX25/2","v":0},{"$f":"AW25/2","v":0},{"$f":"AZ25/2","v":0},{"$f":"AY25/2","v":0},{"$f":"BB25/2","v":0},{"$f":"BA25/2","v":0},{"$f":"BD25/2","v":0},{"$f":"BC25/2","v":0},null,"Co",{"$f":"BH25/2","v":0},{"$f":"BG25/2","v":0},{"$f":"BJ25/2","v":0},{"$f":"BI25/2","v":0},{"$f":"BL25/2","v":0},{"$f":"BK25/2","v":0},{"$f":"BN25/2","v":0},{"$f":"BM25/2","v":0},{"$f":"BP25/2","v":0},{"$f":"BO25/2","v":0},null,"Co",{"$f":"BT25/2","v":0},{"$f":"BS25/2","v":0},{"$f":"BV25/2","v":0},{"$f":"BU25/2","v":0},{"$f":"BX25/2","v":0},{"$f":"BW25/2","v":0},{"$f":"BZ25/2","v":0},{"$f":"BY25/2","v":0},{"$f":"CB25/2","v":0},{"$f":"CA25/2","v":0}]
[null,null,null,null,null,null,null,null,null,"dis",{"$f":"(K26)*K23*-1","v":0},{"$f":"(L26+M26)*L23*-1","v":0},{"$f":"(M26+L26)*M23*-1","v":0},{"$f":"(N26+O26)*N23*-1","v":0},{"$f":"(O26+N26)*O23*-1","v":0},{"$f":"(P26+Q26)*P23*-1","v":0},{"$f":"(Q26+P26)*Q23*-1","v":0},{"$f":"(R26+S26)*R23*-1","v":0},{"$f":"(S26+R26)*S23*-1","v":0},{"$f":"(T26+U26)*T23*-1","v":0},null,"dis",{"$f":"(W26)*W23*-1","v":0},{"$f":"(X26+Y26)*X23*-1","v":0},{"$f":"(Y26+X26)*Y23*-1","v":0},{"$f":"(Z26+AA26)*Z23*-1","v":0},{"$f":"(AA26+Z26)*AA23*-1","v":0},{"$f":"(AB26+AC26)*AB23*-1","v":0},{"$f":"(AC26+AB26)*AC23*-1","v":0},{"$f":"(AD26+AE26)*AD23*-1","v":0},{"$f":"(AE26+AD26)*AE23*-1","v":0},{"$f":"(AF26+AG26)*AF23*-1","v":0},null,"dis",{"$f":"(AI26)*AI23*-1","v":0},{"$f":"(AJ26+AK26)*AJ23*-1","v":0},{"$f":"(AK26+AJ26)*AK23*-1","v":0},{"$f":"(AL26+AM26)*AL23*-1","v":0},{"$f":"(AM26+AL26)*AM23*-1","v":0},{"$f":"(AN26+AO26)*AN23*-1","v":0},{"$f":"(AO26+AN26)*AO23*-1","v":0},{"$f":"(AP26+AQ26)*AP23*-1","v":0},{"$f":"(AQ26+AP26)*AQ23*-1","v":0},{"$f":"(AR26+AS26)*AR23*-1","v":0},null,"dis",{"$f":"(AU26)*AU23*-1","v":0},{"$f":"(AV26+AW26)*AV23*-1","v":0},{"$f":"(AW26+AV26)*AW23*-1","v":0},{"$f":"(AX26+AY26)*AX23*-1","v":0},{"$f":"(AY26+AX26)*AY23*-1","v":0},{"$f":"(AZ26+BA26)*AZ23*-1","v":0},{"$f":"(BA26+AZ26)*BA23*-1","v":0},{"$f":"(BB26+BC26)*BB23*-1","v":0},{"$f":"(BC26+BB26)*BC23*-1","v":0},{"$f":"(BD26+BE26)*BD23*-1","v":0},null,"dis",{"$f":"(BG26)*BG23*-1","v":0},{"$f":"(BH26+BI26)*BH23*-1","v":0},{"$f":"(BI26+BH26)*BI23*-1","v":0},{"$f":"(BJ26+BK26)*BJ23*-1","v":0},{"$f":"(BK26+BJ26)*BK23*-1","v":0},{"$f":"(BL26+BM26)*BL23*-1","v":0},{"$f":"(BM26+BL26)*BM23*-1","v":0},{"$f":"(BN26+BO26)*BN23*-1","v":0},{"$f":"(BO26+BN26)*BO23*-1","v":0},{"$f":"(BP26+BQ26)*BP23*-1","v":0},null,"dis",{"$f":"(BS26)*BS23*-1","v":0},{"$f":"(BT26+BU26)*BT23*-1","v":0},{"$f":"(BU26+BT26)*BU23*-1","v":0},{"$f":"(BV26+BW26)*BV23*-1","v":0},{"$f":"(BW26+BV26)*BW23*-1","v":0},{"$f":"(BX26+BY26)*BX23*-1","v":0},{"$f":"(BY26+BX26)*BY23*-1","v":0},{"$f":"(BZ26+CA26)*BZ23*-1","v":0},{"$f":"(CA26+BZ26)*CA23*-1","v":0},{"$f":"(CB26+CC26)*CB23*-1","v":0}]
[null,null,null,null,null,null,null,null,null,"co",{"$f":"L27/2","v":0},{"$f":"K27/2","v":0},{"$f":"N27/2","v":0},{"$f":"M27/2","v":0},{"$f":"P27/2","v":0},{"$f":"O27/2","v":0},{"$f":"R27/2","v":0},{"$f":"Q27/2","v":0},{"$f":"T27/2","v":0},{"$f":"S27/2","v":0},null,"co",{"$f":"X27/2","v":0},{"$f":"W27/2","v":0},{"$f":"Z27/2","v":0},{"$f":"Y27/2","v":0},{"$f":"AB27/2","v":0},{"$f":"AA27/2","v":0},{"$f":"AD27/2","v":0},{"$f":"AC27/2","v":0},{"$f":"AF27/2","v":0},{"$f":"AE27/2","v":0},null,"co",{"$f":"AJ27/2","v":0},{"$f":"AI27/2","v":0},{"$f":"AL27/2","v":0},{"$f":"AK27/2","v":0},{"$f":"AN27/2","v":0},{"$f":"AM27/2","v":0},{"$f":"AP27/2","v":0},{"$f":"AO27/2","v":0},{"$f":"AR27/2","v":0},{"$f":"AQ27/2","v":0},null,"co",{"$f":"AV27/2","v":0},{"$f":"AU27/2","v":0},{"$f":"AX27/2","v":0},{"$f":"AW27/2","v":0},{"$f":"AZ27/2","v":0},{"$f":"AY27/2","v":0},{"$f":"BB27/2","v":0},{"$f":"BA27/2","v":0},{"$f":"BD27/2","v":0},{"$f":"BC27/2","v":0},null,"co",{"$f":"BH27/2","v":0},{"$f":"BG27/2","v":0},{"$f":"BJ27/2","v":0},{"$f":"BI27/2","v":0},{"$f":"BL27/2","v":0},{"$f":"BK27/2","v":0},{"$f":"BN27/2","v":0},{"$f":"BM27/2","v":0},{"$f":"BP27/2","v":0},{"$f":"BO27/2","v":0},null,"co",{"$f":"BT27/2","v":0},{"$f":"BS27/2","v":0},{"$f":"BV27/2","v":0},{"$f":"BU27/2","v":0},{"$f":"BX27/2","v":0},{"$f":"BW27/2","v":0},{"$f":"BZ27/2","v":0},{"$f":"BY27/2","v":0},{"$f":"CB27/2","v":0},{"$f":"CA27/2","v":0}]
[null,null,null,null,null,null,null,null,null,"dis",{"$f":"(K28)*K23*-1","v":0},{"$f":"(L28+M28)*L23*-1","v":0},{"$f":"(M28+L28)*M23*-1","v":0},{"$f":"(N28+O28)*N23*-1","v":0},{"$f":"(O28+N28)*O23*-1","v":0},{"$f":"(P28+Q28)*P23*-1","v":0},{"$f":"(Q28+P28)*Q23*-1","v":0},{"$f":"(R28+S28)*R23*-1","v":0},{"$f":"(S28+R28)*S23*-1","v":0},{"$f":"(T28+U28)*T23*-1","v":0},null,"dis",{"$f":"(W28)*W23*-1","v":0},{"$f":"(X28+Y28)*X23*-1","v":0},{"$f":"(Y28+X28)*Y23*-1","v":0},{"$f":"(Z28+AA28)*Z23*-1","v":0},{"$f":"(AA28+Z28)*AA23*-1","v":0},{"$f":"(AB28+AC28)*AB23*-1","v":0},{"$f":"(AC28+AB28)*AC23*-1","v":0},{"$f":"(AD28+AE28)*AD23*-1","v":0},{"$f":"(AE28+AD28)*AE23*-1","v":0},{"$f":"(AF28+AG28)*AF23*-1","v":0},null,"dis",{"$f":"(AI28)*AI23*-1","v":0},{"$f":"(AJ28+AK28)*AJ23*-1","v":0},{"$f":"(AK28+AJ28)*AK23*-1","v":0},{"$f":"(AL28+AM28)*AL23*-1","v":0},{"$f":"(AM28+AL28)*AM23*-1","v":0},{"$f":"(AN28+AO28)*AN23*-1","v":0},{"$f":"(AO28+AN28)*AO23*-1","v":0},{"$f":"(AP28+AQ28)*AP23*-1","v":0},{"$f":"(AQ28+AP28)*AQ23*-1","v":0},{"$f":"(AR28+AS28)*AR23*-1","v":0},null,"dis",{"$f":"(AU28)*AU23*-1","v":0},{"$f":"(AV28+AW28)*AV23*-1","v":0},{"$f":"(AW28+AV28)*AW23*-1","v":0},{"$f":"(AX28+AY28)*AX23*-1","v":0},{"$f":"(AY28+AX28)*AY23*-1","v":0},{"$f":"(AZ28+BA28)*AZ23*-1","v":0},{"$f":"(BA28+AZ28)*BA23*-1","v":0},{"$f":"(BB28+BC28)*BB23*-1","v":0},{"$f":"(BC28+BB28)*BC23*-1","v":0},{"$f":"(BD28+BE28)*BD23*-1","v":0},null,"dis",{"$f":"(BG28)*BG23*-1","v":0},{"$f":"(BH28+BI28)*BH23*-1","v":0},{"$f":"(BI28+BH28)*BI23*-1","v":0},{"$f":"(BJ28+BK28)*BJ23*-1","v":0},{"$f":"(BK28+BJ28)*BK23*-1","v":0},{"$f":"(BL28+BM28)*BL23*-1","v":0},{"$f":"(BM28+BL28)*BM23*-1","v":0},{"$f":"(BN28+BO28)*BN23*-1","v":0},{"$f":"(BO28+BN28)*BO23*-1","v":0},{"$f":"(BP28+BQ28)*BP23*-1","v":0},null,"dis",{"$f":"(BS28)*BS23*-1","v":0},{"$f":"(BT28+BU28)*BT23*-1","v":0},{"$f":"(BU28+BT28)*BU23*-1","v":0},{"$f":"(BV28+BW28)*BV23*-1","v":0},{"$f":"(BW28+BV28)*BW23*-1","v":0},{"$f":"(BX28+BY28)*BX23*-1","v":0},{"$f":"(BY28+BX28)*BY23*-1","v":0},{"$f":"(BZ28+CA28)*BZ23*-1","v":0},{"$f":"(CA28+BZ28)*CA23*-1","v":0},{"$f":"(CB28+CC28)*CB23*-1","v":0}]
[null,null,null,null,null,null,null,null,null,"co",{"$f":"L29/2","v":0},{"$f":"K29/2","v":0},{"$f":"N29/2","v":0},{"$f":"M29/2","v":0},{"$f":"P29/2","v":0},{"$f":"O29/2","v":0},{"$f":"R29/2","v":0},{"$f":"Q29/2","v":0},{"$f":"T29/2","v":0},{"$f":"S29/2","v":0},null,"co",{"$f":"X29/2","v":0},0,{"$f":"Z29/2","v":0},{"$f":"Y29/2","v":0},{"$f":"AB29/2","v":0},{"$f":"AA29/2","v":0},{"$f":"AD29/2","v":0},{"$f":"AC29/2","v":0},{"$f":"AF29/2","v":0},{"$f":"AE29/2","v":0},null,"co",{"$f":"AJ29/2","v":0},{"$f":"AI29/2","v":0},{"$f":"AL29/2","v":0},{"$f":"AK29/2","v":0},{"$f":"AN29/2","v":0},{"$f":"AM29/2","v":0},{"$f":"AP29/2","v":0},{"$f":"AO29/2","v":0},{"$f":"AR29/2","v":0},{"$f":"AQ29/2","v":0},null,"co",{"$f":"AV29/2","v":0},{"$f":"AU29/2","v":0},{"$f":"AX29/2","v":0},{"$f":"AW29/2","v":0},{"$f":"AZ29/2","v":0},{"$f":"AY29/2","v":0},{"$f":"BB29/2","v":0},{"$f":"BA29/2","v":0},{"$f":"BD29/2","v":0},{"$f":"BC29/2","v":0},null,"co",{"$f":"BH29/2","v":0},{"$f":"BG29/2","v":0},{"$f":"BJ29/2","v":0},{"$f":"BI29/2","v":0},{"$f":"BL29/2","v":0},{"$f":"BK29/2","v":0},{"$f":"BN29/2","v":0},{"$f":"BM29/2","v":0},{"$f":"BP29/2","v":0},{"$f":"BO29/2","v":0},null,"co",{"$f":"BT29/2","v":0},{"$f":"BS29/2","v":0},{"$f":"BV29/2","v":0},{"$f":"BU29/2","v":0},{"$f":"BX29/2","v":0},{"$f":"BW29/2","v":0},{"$f":"BZ29/2","v":0},{"$f":"BY29/2","v":0},{"$f":"CB29/2","v":0},{"$f":"CA29/2","v":0}]
[null,null,null,null,null,null,null,null,null,"dis",{"$f":"(K30)*K23*-1","v":0},{"$f":"(L30+M30)*L23*-1","v":0},{"$f":"(M30+L30)*M23*-1","v":0},{"$f":"(N30+O30)*N23*-1","v":0},{"$f":"(O30+N30)*O23*-1","v":0},{"$f":"(P30+Q30)*P23*-1","v":0},{"$f":"(Q30+P30)*Q23*-1","v":0},{"$f":"(R30+S30)*R23*-1","v":0},{"$f":"(S30+R30)*S23*-1","v":0},{"$f":"(T30+U30)*T23*-1","v":0},null,"dis",{"$f":"(W30)*W23*-1","v":0},{"$f":"(X30+Y30)*X23*-1","v":0},{"$f":"(Y30+X30)*Y23*-1","v":0},{"$f":"(Z30+AA30)*Z23*-1","v":0},{"$f":"(AA30+Z30)*AA23*-1","v":0},{"$f":"(AB30+AC30)*AB23*-1","v":0},{"$f":"(AC30+AB30)*AC23*-1","v":0},{"$f":"(AD30+AE30)*AD23*-1","v":0},{"$f":"(AE30+AD30)*AE23*-1","v":0},{"$f":"(AF30+AG30)*AF23*-1","v":0},null,"dis",{"$f":"(AI30)*AI23*-1","v":0},{"$f":"(AJ30+AK30)*AJ23*-1","v":0},{"$f":"(AK30+AJ30)*AK23*-1","v":0},{"$f":"(AL30+AM30)*AL23*-1","v":0},{"$f":"(AM30+AL30)*AM23*-1","v":0},{"$f":"(AN30+AO30)*AN23*-1","v":0},{"$f":"(AO30+AN30)*AO23*-1","v":0},{"$f":"(AP30+AQ30)*AP23*-1","v":0},{"$f":"(AQ30+AP30)*AQ23*-1","v":0},{"$f":"(AR30+AS30)*AR23*-1","v":0},null,"dis",{"$f":"(AU30)*AU23*-1","v":0},{"$f":"(AV30+AW30)*AV23*-1","v":0},{"$f":"(AW30+AV30)*AW23*-1","v":0},{"$f":"(AX30+AY30)*AX23*-1","v":0},{"$f":"(AY30+AX30)*AY23*-1","v":0},{"$f":"(AZ30+BA30)*AZ23*-1","v":0},{"$f":"(BA30+AZ30)*BA23*-1","v":0},{"$f":"(BB30+BC30)*BB23*-1","v":0},{"$f":"(BC30+BB30)*BC23*-1","v":0},{"$f":"(BD30+BE30)*BD23*-1","v":0},null,"dis",{"$f":"(BG30)*BG23*-1","v":0},{"$f":"(BH30+BI30)*BH23*-1","v":0},{"$f":"(BI30+BH30)*BI23*-1","v":0},{"$f":"(BJ30+BK30)*BJ23*-1","v":0},{"$f":"(BK30+BJ30)*BK23*-1","v":0},{"$f":"(BL30+BM30)*BL23*-1","v":0},{"$f":"(BM30+BL30)*BM23*-1","v":0},{"$f":"(BN30+BO30)*BN23*-1","v":0},{"$f":"(BO30+BN30)*BO23*-1","v":0},{"$f":"(BP30+BQ30)*BP23*-1","v":0},null,"dis",{"$f":"(BS30)*BS23*-1","v":0},{"$f":"(BT30+BU30)*BT23*-1","v":0},{"$f":"(BU30+BT30)*BU23*-1","v":0},{"$f":"(BV30+BW30)*BV23*-1","v":0},{"$f":"(BW30+BV30)*BW23*-1","v":0},{"$f":"(BX30+BY30)*BX23*-1","v":0},{"$f":"(BY30+BX30)*BY23*-1","v":0},{"$f":"(BZ30+CA30)*BZ23*-1","v":0},{"$f":"(CA30+BZ30)*CA23*-1","v":0},{"$f":"(CB30+CC30)*CB23*-1","v":0}]
[null,null,null,null,null,null,null,null,null,"co",{"$f":"L31/2","v":0},{"$f":"K31/2","v":0},{"$f":"N31/2","v":0},{"$f":"M31/2","v":0},{"$f":"P31/2","v":0},{"$f":"O31/2","v":0},{"$f":"R31/2","v":0},{"$f":"Q31/2","v":0},{"$f":"T31/2","v":0},{"$f":"S31/2","v":0},null,"co",{"$f":"X31/2","v":0},{"$f":"W31/2","v":0},{"$f":"Z31/2","v":0},{"$f":"Y31/2","v":0},{"$f":"AB31/2","v":0},{"$f":"AA31/2","v":0},{"$f":"AD31/2","v":0},{"$f":"AC31/2","v":0},{"$f":"AF31/2","v":0},{"$f":"AE31/2","v":0},null,"co",{"$f":"AJ31/2","v":0},{"$f":"AI31/2","v":0},{"$f":"AL31/2","v":0},{"$f":"AK31/2","v":0},{"$f":"AN31/2","v":0},{"$f":"AM31/2","v":0},{"$f":"AP31/2","v":0},{"$f":"AO31/2","v":0},{"$f":"AR31/2","v":0},{"$f":"AQ31/2","v":0},null,"co",{"$f":"AV31/2","v":0},{"$f":"AU31/2","v":0},{"$f":"AX31/2","v":0},{"$f":"AW31/2","v":0},{"$f":"AZ31/2","v":0},{"$f":"AY31/2","v":0},{"$f":"BB31/2","v":0},{"$f":"BA31/2","v":0},{"$f":"BD31/2","v":0},{"$f":"BC31/2","v":0},null,"co",{"$f":"BH31/2","v":0},{"$f":"BG31/2","v":0},{"$f":"BJ31/2","v":0},{"$f":"BI31/2","v":0},{"$f":"BL31/2","v":0},{"$f":"BK31/2","v":0},{"$f":"BN31/2","v":0},{"$f":"BM31/2","v":0},{"$f":"BP31/2","v":0},{"$f":"BO31/2","v":0},null,"co",{"$f":"BT31/2","v":0},{"$f":"BS31/2","v":0},{"$f":"BV31/2","v":0},{"$f":"BU31/2","v":0},{"$f":"BX31/2","v":0},{"$f":"BW31/2","v":0},{"$f":"BZ31/2","v":0},{"$f":"BY31/2","v":0},{"$f":"CB31/2","v":0},{"$f":"CA31/2","v":0}]
[null,null,null,null,null,null,null,null,null,"dis",{"$f":"(K32)*K23*-1","v":0},{"$f":"(L32+M32)*L23*-1","v":0},{"$f":"(M32+L32)*M23*-1","v":0},{"$f":"(N32+O32)*N23*-1","v":0},{"$f":"(O32+N32)*O23*-1","v":0},{"$f":"(P32+Q32)*P23*-1","v":0},{"$f":"(Q32+P32)*Q23*-1","v":0},{"$f":"(R32+S32)*R23*-1","v":0},{"$f":"(S32+R32)*S23*-1","v":0},{"$f":"(T32+U32)*T23*-1","v":0},null,"dis",{"$f":"(W32)*W23*-1","v":0},{"$f":"(X32+Y32)*X23*-1","v":0},{"$f":"(Y32+X32)*Y23*-1","v":0},{"$f":"(Z32+AA32)*Z23*-1","v":0},{"$f":"(AA32+Z32)*AA23*-1","v":0},{"$f":"(AB32+AC32)*AB23*-1","v":0},{"$f":"(AC32+AB32)*AC23*-1","v":0},{"$f":"(AD32+AE32)*AD23*-1","v":0},{"$f":"(AE32+AD32)*AE23*-1","v":0},{"$f":"(AF32+AG32)*AF23*-1","v":0},null,"dis",{"$f":"(AI32)*AI23*-1","v":0},{"$f":"(AJ32+AK32)*AJ23*-1","v":0},{"$f":"(AK32+AJ32)*AK23*-1","v":0},{"$f":"(AL32+AM32)*AL23*-1","v":0},{"$f":"(AM32+AL32)*AM23*-1","v":0},{"$f":"(AN32+AO32)*AN23*-1","v":0},{"$f":"(AO32+AN32)*AO23*-1","v":0},{"$f":"(AP32+AQ32)*AP23*-1","v":0},{"$f":"(AQ32+AP32)*AQ23*-1","v":0},{"$f":"(AR32+AS32)*AR23*-1","v":0},null,"dis",{"$f":"(AU32)*AU23*-1","v":0},{"$f":"(AV32+AW32)*AV23*-1","v":0},{"$f":"(AW32+AV32)*AW23*-1","v":0},{"$f":"(AX32+AY32)*AX23*-1","v":0},{"$f":"(AY32+AX32)*AY23*-1","v":0},{"$f":"(AZ32+BA32)*AZ23*-1","v":0},{"$f":"(BA32+AZ32)*BA23*-1","v":0},{"$f":"(BB32+BC32)*BB23*-1","v":0},{"$f":"(BC32+BB32)*BC23*-1","v":0},{"$f":"(BD32+BE32)*BD23*-1","v":0},null,"dis",{"$f":"(BG32)*BG23*-1","v":0},{"$f":"(BH32+BI32)*BH23*-1","v":0},{"$f":"(BI32+BH32)*BI23*-1","v":0},{"$f":"(BJ32+BK32)*BJ23*-1","v":0},{"$f":"(BK32+BJ32)*BK23*-1","v":0},{"$f":"(BL32+BM32)*BL23*-1","v":0},{"$f":"(BM32+BL32)*BM23*-1","v":0},{"$f":"(BN32+BO32)*BN23*-1","v":0},{"$f":"(BO32+BN32)*BO23*-1","v":0},{"$f":"(BP32+BQ32)*BP23*-1","v":0},null,"dis",{"$f":"(BS32)*BS23*-1","v":0},{"$f":"(BT32+BU32)*BT23*-1","v":0},{"$f":"(BU32+BT32)*BU23*-1","v":0},{"$f":"(BV32+BW32)*BV23*-1","v":0},{"$f":"(BW32+BV32)*BW23*-1","v":0},{"$f":"(BX32+BY32)*BX23*-1","v":0},{"$f":"(BY32+BX32)*BY23*-1","v":0},{"$f":"(BZ32+CA32)*BZ23*-1","v":0},{"$f":"(CA32+BZ32)*CA23*-1","v":0},{"$f":"(CB32+CC32)*CB23*-1","v":0}]
[null,null,null,null,null,null,null,null,null,"co",{"$f":"L33/2","v":0},{"$f":"K33/2","v":0},{"$f":"N33/2","v":0},{"$f":"M33/2","v":0},{"$f":"P33/2","v":0},{"$f":"O33/2","v":0},{"$f":"R33/2","v":0},{"$f":"Q33/2","v":0},{"$f":"T33/2","v":0},{"$f":"S33/2","v":0},null,"co",{"$f":"X33/2","v":0},{"$f":"W33/2","v":0},{"$f":"Z33/2","v":0},{"$f":"Y33/2","v":0},{"$f":"AB33/2","v":0},{"$f":"AA33/2","v":0},{"$f":"AD33/2","v":0},{"$f":"AC33/2","v":0},{"$f":"AF33/2","v":0},{"$f":"AE33/2","v":0},null,"co",{"$f":"AJ33/2","v":0},{"$f":"AI33/2","v":0},{"$f":"AL33/2","v":0},{"$f":"AK33/2","v":0},{"$f":"AN33/2","v":0},{"$f":"AM33/2","v":0},{"$f":"AP33/2","v":0},{"$f":"AO33/2","v":0},{"$f":"AR33/2","v":0},{"$f":"AQ33/2","v":0},null,"co",{"$f":"AV33/2","v":0},{"$f":"AU33/2","v":0},{"$f":"AX33/2","v":0},{"$f":"AW33/2","v":0},{"$f":"AZ33/2","v":0},{"$f":"AY33/2","v":0},{"$f":"BB33/2","v":0},{"$f":"BA33/2","v":0},{"$f":"BD33/2","v":0},{"$f":"BC33/2","v":0},null,"co",{"$f":"BH33/2","v":0},{"$f":"BG33/2","v":0},{"$f":"BJ33/2","v":0},{"$f":"BI33/2","v":0},{"$f":"BL33/2","v":0},{"$f":"BK33/2","v":0},{"$f":"BN33/2","v":0},{"$f":"BM33/2","v":0},{"$f":"BP33/2","v":0},{"$f":"BO33/2","v":0},null,"co",{"$f":"BT33/2","v":0},{"$f":"BS33/2","v":0},{"$f":"BV33/2","v":0},{"$f":"BU33/2","v":0},{"$f":"BX33/2","v":0},{"$f":"BW33/2","v":0},{"$f":"BZ33/2","v":0},{"$f":"BY33/2","v":0},{"$f":"CB33/2","v":0},{"$f":"CA33/2","v":0}]
[null,null,null,null,null,null,null,null,null,"dis",{"$f":"(K34)*K23*-1","v":0},{"$f":"(L34+M34)*L23*-1","v":0},{"$f":"(M34+L34)*M23*-1","v":0},{"$f":"(N34+O34)*N23*-1","v":0},{"$f":"(O34+N34)*O23*-1","v":0},{"$f":"(P34+Q34)*P23*-1","v":0},{"$f":"(Q34+P34)*Q23*-1","v":0},{"$f":"(R34+S34)*R23*-1","v":0},{"$f":"(S34+R34)*S23*-1","v":0},{"$f":"(T34+U34)*T23*-1","v":0},null,"dis",{"$f":"(W34)*W23*-1","v":0},{"$f":"(X34+Y34)*X23*-1","v":0},{"$f":"(Y34+X34)*Y23*-1","v":0},{"$f":"(Z34+AA34)*Z23*-1","v":0},{"$f":"(AA34+Z34)*AA23*-1","v":0},{"$f":"(AB34+AC34)*AB23*-1","v":0},{"$f":"(AC34+AB34)*AC23*-1","v":0},{"$f":"(AD34+AE34)*AD23*-1","v":0},{"$f":"(AE34+AD34)*AE23*-1","v":0},{"$f":"(AF34+AG34)*AF23*-1","v":0},null,"dis",{"$f":"(AI34)*AI23*-1","v":0},{"$f":"(AJ34+AK34)*AJ23*-1","v":0},{"$f":"(AK34+AJ34)*AK23*-1","v":0},{"$f":"(AL34+AM34)*AL23*-1","v":0},{"$f":"(AM34+AL34)*AM23*-1","v":0},{"$f":"(AN34+AO34)*AN23*-1","v":0},{"$f":"(AO34+AN34)*AO23*-1","v":0},{"$f":"(AP34+AQ34)*AP23*-1","v":0},{"$f":"(AQ34+AP34)*AQ23*-1","v":0},{"$f":"(AR34+AS34)*AR23*-1","v":0},null,"dis",{"$f":"(AU34)*AU23*-1","v":0},{"$f":"(AV34+AW34)*AV23*-1","v":0},{"$f":"(AW34+AV34)*AW23*-1","v":0},{"$f":"(AX34+AY34)*AX23*-1","v":0},{"$f":"(AY34+AX34)*AY23*-1","v":0},{"$f":"(AZ34+BA34)*AZ23*-1","v":0},{"$f":"(BA34+AZ34)*BA23*-1","v":0},{"$f":"(BB34+BC34)*BB23*-1","v":0},{"$f":"(BC34+BB34)*BC23*-1","v":0},{"$f":"(BD34+BE34)*BD23*-1","v":0},null,"dis",{"$f":"(BG34)*BG23*-1","v":0},{"$f":"(BH34+BI34)*BH23*-1","v":0},{"$f":"(BI34+BH34)*BI23*-1","v":0},{"$f":"(BJ34+BK34)*BJ23*-1","v":0},{"$f":"(BK34+BJ34)*BK23*-1","v":0},{"$f":"(BL34+BM34)*BL23*-1","v":0},{"$f":"(BM34+BL34)*BM23*-1","v":0},{"$f":"(BN34+BO34)*BN23*-1","v":0},{"$f":"(BO34+BN34)*BO23*-1","v":0},{"$f":"(BP34+BQ34)*BP23*-1","v":0},null,"dis",{"$f":"(BS34)*BS23*-1","v":0},{"$f":"(BT34+BU34)*BT23*-1","v":0},{"$f":"(BU34+BT34)*BU23*-1","v":0},{"$f":"(BV34+BW34)*BV23*-1","v":0},{"$f":"(BW34+BV34)*BW23*-1","v":0},{"$f":"(BX34+BY34)*BX23*-1","v":0},{"$f":"(BY34+BX34)*BY23*-1","v":0},{"$f":"(BZ34+CA34)*BZ23*-1","v":0},{"$f":"(CA34+BZ34)*CA23*-1","v":0},{"$f":"(CB34+CC34)*CB23*-1","v":0}]
[null,null,null,null,null,null,null,null,null,"co",{"$f":"L35/2","v":0},{"$f":"K35/2","v":0},{"$f":"N35/2","v":0},{"$f":"M35/2","v":0},{"$f":"P35/2","v":0},{"$f":"O35/2","v":0},{"$f":"R35/2","v":0},{"$f":"Q35/2","v":0},{"$f":"T35/2","v":0},{"$f":"S35/2","v":0},null,"co",0,0,{"$f":"Z35/2","v":0},{"$f":"Y35/2","v":0},{"$f":"AB35/2","v":0},{"$f":"AA35/2","v":0},{"$f":"AD35/2","v":0},{"$f":"AC35/2","v":0},{"$f":"AF35/2","v":0},{"$f":"AE35/2","v":0},null,"co",{"$f":"AJ35/2","v":0},{"$f":"AI35/2","v":0},{"$f":"AL35/2","v":0},{"$f":"AK35/2","v":0},{"$f":"AN35/2","v":0},{"$f":"AM35/2","v":0},{"$f":"AP35/2","v":0},{"$f":"AO35/2","v":0},{"$f":"AR35/2","v":0},{"$f":"AQ35/2","v":0},null,"co",{"$f":"AV35/2","v":0},{"$f":"AU35/2","v":0},{"$f":"AX35/2","v":0},{"$f":"AW35/2","v":0},{"$f":"AZ35/2","v":0},{"$f":"AY35/2","v":0},{"$f":"BB35/2","v":0},{"$f":"BA35/2","v":0},{"$f":"BD35/2","v":0},{"$f":"BC35/2","v":0},null,"co",{"$f":"BH35/2","v":0},{"$f":"BG35/2","v":0},{"$f":"BJ35/2","v":0},{"$f":"BI35/2","v":0},{"$f":"BL35/2","v":0},{"$f":"BK35/2","v":0},{"$f":"BN35/2","v":0},{"$f":"BM35/2","v":0},{"$f":"BP35/2","v":0},{"$f":"BO35/2","v":0},null,"co",{"$f":"BT35/2","v":0},{"$f":"BS35/2","v":0},{"$f":"BV35/2","v":0},{"$f":"BU35/2","v":0},{"$f":"BX35/2","v":0},{"$f":"BW35/2","v":0},{"$f":"BZ35/2","v":0},{"$f":"BY35/2","v":0},{"$f":"CB35/2","v":0},{"$f":"CA35/2","v":0}]
[null,null,null,null,null,null,null,null,null,"dis",{"$f":"(K36)*K23*-1","v":0},{"$f":"(L36+M36)*L23*-1","v":0},{"$f":"(M36+L36)*M23*-1","v":0},{"$f":"(N36+O36)*N23*-1","v":0},{"$f":"(O36+N36)*O23*-1","v":0},{"$f":"(P36+Q36)*P23*-1","v":0},{"$f":"(Q36+P36)*Q23*-1","v":0},{"$f":"(R36+S36)*R23*-1","v":0},{"$f":"(S36+R36)*S23*-1","v":0},{"$f":"(T36+U36)*T23*-1","v":0},null,"dis",{"$f":"(W36)*W23*-1","v":0},{"$f":"(X36+Y36)*X23*-1","v":0},{"$f":"(Y36+X36)*Y23*-1","v":0},{"$f":"(Z36+AA36)*Z23*-1","v":0},{"$f":"(AA36+Z36)*AA23*-1","v":0},{"$f":"(AB36+AC36)*AB23*-1","v":0},{"$f":"(AC36+AB36)*AC23*-1","v":0},{"$f":"(AD36+AE36)*AD23*-1","v":0},{"$f":"(AE36+AD36)*AE23*-1","v":0},{"$f":"(AF36+AG36)*AF23*-1","v":0},null,"dis",{"$f":"(AI36)*AI23*-1","v":0},{"$f":"(AJ36+AK36)*AJ23*-1","v":0},{"$f":"(AK36+AJ36)*AK23*-1","v":0},{"$f":"(AL36+AM36)*AL23*-1","v":0},{"$f":"(AM36+AL36)*AM23*-1","v":0},{"$f":"(AN36+AO36)*AN23*-1","v":0},{"$f":"(AO36+AN36)*AO23*-1","v":0},{"$f":"(AP36+AQ36)*AP23*-1","v":0},{"$f":"(AQ36+AP36)*AQ23*-1","v":0},{"$f":"(AR36+AS36)*AR23*-1","v":0},null,"dis",{"$f":"(AU36)*AU23*-1","v":0},{"$f":"(AV36+AW36)*AV23*-1","v":0},{"$f":"(AW36+AV36)*AW23*-1","v":0},{"$f":"(AX36+AY36)*AX23*-1","v":0},{"$f":"(AY36+AX36)*AY23*-1","v":0},{"$f":"(AZ36+BA36)*AZ23*-1","v":0},{"$f":"(BA36+AZ36)*BA23*-1","v":0},{"$f":"(BB36+BC36)*BB23*-1","v":0},{"$f":"(BC36+BB36)*BC23*-1","v":0},{"$f":"(BD36+BE36)*BD23*-1","v":0},null,"dis",{"$f":"(BG36)*BG23*-1","v":0},{"$f":"(BH36+BI36)*BH23*-1","v":0},{"$f":"(BI36+BH36)*BI23*-1","v":0},{"$f":"(BJ36+BK36)*BJ23*-1","v":0},{"$f":"(BK36+BJ36)*BK23*-1","v":0},{"$f":"(BL36+BM36)*BL23*-1","v":0},{"$f":"(BM36+BL36)*BM23*-1","v":0},{"$f":"(BN36+BO36)*BN23*-1","v":0},{"$f":"(BO36+BN36)*BO23*-1","v":0},{"$f":"(BP36+BQ36)*BP23*-1","v":0},null,"dis",{"$f":"(BS36)*BS23*-1","v":0},{"$f":"(BT36+BU36)*BT23*-1","v":0},{"$f":"(BU36+BT36)*BU23*-1","v":0},{"$f":"(BV36+BW36)*BV23*-1","v":0},{"$f":"(BW36+BV36)*BW23*-1","v":0},{"$f":"(BX36+BY36)*BX23*-1","v":0},{"$f":"(BY36+BX36)*BY23*-1","v":0},{"$f":"(BZ36+CA36)*BZ23*-1","v":0},{"$f":"(CA36+BZ36)*CA23*-1","v":0},{"$f":"(CB36+CC36)*CB23*-1","v":0}]
[null,null,null,null,null,null,null,null,null,"co",{"$f":"L37/2","v":0},{"$f":"K37/2","v":0},{"$f":"N37/2","v":0},{"$f":"M37/2","v":0},{"$f":"P37/2","v":0},{"$f":"O37/2","v":0},{"$f":"R37/2","v":0},{"$f":"Q37/2","v":0},{"$f":"T37/2","v":0},{"$f":"S37/2","v":0},null,"co",{"$f":"X37/2","v":0},{"$f":"W37/2","v":0},{"$f":"Z37/2","v":0},{"$f":"Y37/2","v":0},{"$f":"AB37/2","v":0},{"$f":"AA37/2","v":0},{"$f":"AD37/2","v":0},{"$f":"AC37/2","v":0},{"$f":"AF37/2","v":0},{"$f":"AE37/2","v":0},null,"co",{"$f":"AJ37/2","v":0},{"$f":"AI37/2","v":0},{"$f":"AL37/2","v":0},{"$f":"AK37/2","v":0},{"$f":"AN37/2","v":0},{"$f":"AM37/2","v":0},{"$f":"AP37/2","v":0},{"$f":"AO37/2","v":0},{"$f":"AR37/2","v":0},{"$f":"AQ37/2","v":0},null,"co",{"$f":"AV37/2","v":0},{"$f":"AU37/2","v":0},{"$f":"AX37/2","v":0},{"$f":"AW37/2","v":0},{"$f":"AZ37/2","v":0},{"$f":"AY37/2","v":0},{"$f":"BB37/2","v":0},{"$f":"BA37/2","v":0},{"$f":"BD37/2","v":0},{"$f":"BC37/2","v":0},null,"co",{"$f":"BH37/2","v":0},{"$f":"BG37/2","v":0},{"$f":"BJ37/2","v":0},{"$f":"BI37/2","v":0},{"$f":"BL37/2","v":0},{"$f":"BK37/2","v":0},{"$f":"BN37/2","v":0},{"$f":"BM37/2","v":0},{"$f":"BP37/2","v":0},{"$f":"BO37/2","v":0},null,"co",{"$f":"BT37/2","v":0},{"$f":"BS37/2","v":0},{"$f":"BV37/2","v":0},{"$f":"BU37/2","v":0},{"$f":"BX37/2","v":0},{"$f":"BW37/2","v":0},{"$f":"BZ37/2","v":0},{"$f":"BY37/2","v":0},{"$f":"CB37/2","v":0},{"$f":"CA37/2","v":0}]
[null,null,null,null,null,null,null,null,null,"dis",{"$f":"(K38)*K23*-1","v":0},{"$f":"(L38+M38)*L23*-1","v":0},{"$f":"(M38+L38)*M23*-1","v":0},{"$f":"(N38+O38)*N23*-1","v":0},{"$f":"(O38+N38)*O23*-1","v":0},{"$f":"(P38+Q38)*P23*-1","v":0},{"$f":"(Q38+P38)*Q23*-1","v":0},{"$f":"(R38+S38)*R23*-1","v":0},{"$f":"(S38+R38)*S23*-1","v":0},{"$f":"(T38+U38)*T23*-1","v":0},null,"dis",{"$f":"(W38)*W23*-1","v":0},{"$f":"(X38+Y38)*X23*-1","v":0},{"$f":"(Y38+X38)*Y23*-1","v":0},{"$f":"(Z38+AA38)*Z23*-1","v":0},{"$f":"(AA38+Z38)*AA23*-1","v":0},{"$f":"(AB38+AC38)*AB23*-1","v":0},{"$f":"(AC38+AB38)*AC23*-1","v":0},{"$f":"(AD38+AE38)*AD23*-1","v":0},{"$f":"(AE38+AD38)*AE23*-1","v":0},{"$f":"(AF38+AG38)*AF23*-1","v":0},null,"dis",{"$f":"(AI38)*AI23*-1","v":0},{"$f":"(AJ38+AK38)*AJ23*-1","v":0},{"$f":"(AK38+AJ38)*AK23*-1","v":0},{"$f":"(AL38+AM38)*AL23*-1","v":0},{"$f":"(AM38+AL38)*AM23*-1","v":0},{"$f":"(AN38+AO38)*AN23*-1","v":0},{"$f":"(AO38+AN38)*AO23*-1","v":0},{"$f":"(AP38+AQ38)*AP23*-1","v":0},{"$f":"(AQ38+AP38)*AQ23*-1","v":0},{"$f":"(AR38+AS38)*AR23*-1","v":0},null,"dis",{"$f":"(AU38)*AU23*-1","v":0},{"$f":"(AV38+AW38)*AV23*-1","v":0},{"$f":"(AW38+AV38)*AW23*-1","v":0},{"$f":"(AX38+AY38)*AX23*-1","v":0},{"$f":"(AY38+AX38)*AY23*-1","v":0},{"$f":"(AZ38+BA38)*AZ23*-1","v":0},{"$f":"(BA38+AZ38)*BA23*-1","v":0},{"$f":"(BB38+BC38)*BB23*-1","v":0},{"$f":"(BC38+BB38)*BC23*-1","v":0},{"$f":"(BD38+BE38)*BD23*-1","v":0},null,"dis",{"$f":"(BG38)*BG23*-1","v":0},{"$f":"(BH38+BI38)*BH23*-1","v":0},{"$f":"(BI38+BH38)*BI23*-1","v":0},{"$f":"(BJ38+BK38)*BJ23*-1","v":0},{"$f":"(BK38+BJ38)*BK23*-1","v":0},{"$f":"(BL38+BM38)*BL23*-1","v":0},{"$f":"(BM38+BL38)*BM23*-1","v":0},{"$f":"(BN38+BO38)*BN23*-1","v":0},{"$f":"(BO38+BN38)*BO23*-1","v":0},{"$f":"(BP38+BQ38)*BP23*-1","v":0},null,"dis",{"$f":"(BS38)*BS23*-1","v":0},{"$f":"(BT38+BU38)*BT23*-1","v":0},{"$f":"(BU38+BT38)*BU23*-1","v":0},{"$f":"(BV38+BW38)*BV23*-1","v":0},{"$f":"(BW38+BV38)*BW23*-1","v":0},{"$f":"(BX38+BY38)*BX23*-1","v":0},{"$f":"(BY38+BX38)*BY23*-1","v":0},{"$f":"(BZ38+CA38)*BZ23*-1","v":0},{"$f":"(CA38+BZ38)*CA23*-1","v":0},{"$f":"(CB38+CC38)*CB23*-1","v":0}]
[null,null,null,null,null,null,null,null,null,"co",{"$f":"L39/2","v":0},{"$f":"K39/2","v":0},{"$f":"N39/2","v":0},{"$f":"M39/2","v":0},{"$f":"P39/2","v":0},{"$f":"O39/2","v":0},{"$f":"R39/2","v":0},{"$f":"Q39/2","v":0},{"$f":"T39/2","v":0},{"$f":"S39/2","v":0},null,"co",{"$f":"X39/2","v":0},{"$f":"W39/2","v":0},{"$f":"Z39/2","v":0},{"$f":"Y39/2","v":0},{"$f":"AB39/2","v":0},{"$f":"AA39/2","v":0},{"$f":"AD39/2","v":0},{"$f":"AC39/2","v":0},{"$f":"AF39/2","v":0},{"$f":"AE39/2","v":0},null,"co",{"$f":"AJ39/2","v":0},{"$f":"AI39/2","v":0},{"$f":"AL39/2","v":0},{"$f":"AK39/2","v":0},{"$f":"AN39/2","v":0},{"$f":"AM39/2","v":0},{"$f":"AP39/2","v":0},{"$f":"AO39/2","v":0},{"$f":"AR39/2","v":0},{"$f":"AQ39/2","v":0},null,"co",{"$f":"AV39/2","v":0},{"$f":"AU39/2","v":0},{"$f":"AX39/2","v":0},{"$f":"AW39/2","v":0},{"$f":"AZ39/2","v":0},{"$f":"AY39/2","v":0},{"$f":"BB39/2","v":0},{"$f":"BA39/2","v":0},{"$f":"BD39/2","v":0},{"$f":"BC39/2","v":0},null,"co",{"$f":"BH39/2","v":0},{"$f":"BG39/2","v":0},{"$f":"BJ39/2","v":0},{"$f":"BI39/2","v":0},{"$f":"BL39/2","v":0},{"$f":"BK39/2","v":0},{"$f":"BN39/2","v":0},{"$f":"BM39/2","v":0},{"$f":"BP39/2","v":0},{"$f":"BO39/2","v":0},null,"co",{"$f":"BT39/2","v":0},{"$f":"BS39/2","v":0},{"$f":"BV39/2","v":0},{"$f":"BU39/2","v":0},{"$f":"BX39/2","v":0},{"$f":"BW39/2","v":0},{"$f":"BZ39/2","v":0},{"$f":"BY39/2","v":0},{"$f":"CB39/2","v":0},{"$f":"CA39/2","v":0}]
[null,null,null,null,null,null,null,null,null,"dis",{"$f":"(K40)*K23*-1","v":0},{"$f":"(L40+M40)*L23*-1","v":0},{"$f":"(M40+L40)*M23*-1","v":0},{"$f":"(N40+O40)*N23*-1","v":0},{"$f":"(O40+N40)*O23*-1","v":0},{"$f":"(P40+Q40)*P23*-1","v":0},{"$f":"(Q40+P40)*Q23*-1","v":0},{"$f":"(R40+S40)*R23*-1","v":0},{"$f":"(S40+R40)*S23*-1","v":0},{"$f":"(T40+U40)*T23*-1","v":0},null,"dis",{"$f":"(W40)*W23*-1","v":0},{"$f":"(X40+Y40)*X23*-1","v":0},{"$f":"(Y40+X40)*Y23*-1","v":0},{"$f":"(Z40+AA40)*Z23*-1","v":0},{"$f":"(AA40+Z40)*AA23*-1","v":0},{"$f":"(AB40+AC40)*AB23*-1","v":0},{"$f":"(AC40+AB40)*AC23*-1","v":0},{"$f":"(AD40+AE40)*AD23*-1","v":0},{"$f":"(AE40+AD40)*AE23*-1","v":0},{"$f":"(AF40+AG40)*AF23*-1","v":0},null,"dis",{"$f":"(AI40)*AI23*-1","v":0},{"$f":"(AJ40+AK40)*AJ23*-1","v":0},{"$f":"(AK40+AJ40)*AK23*-1","v":0},{"$f":"(AL40+AM40)*AL23*-1","v":0},{"$f":"(AM40+AL40)*AM23*-1","v":0},{"$f":"(AN40+AO40)*AN23*-1","v":0},{"$f":"(AO40+AN40)*AO23*-1","v":0},{"$f":"(AP40+AQ40)*AP23*-1","v":0},{"$f":"(AQ40+AP40)*AQ23*-1","v":0},{"$f":"(AR40+AS40)*AR23*-1","v":0},null,"dis",{"$f":"(AU40)*AU23*-1","v":0},{"$f":"(AV40+AW40)*AV23*-1","v":0},{"$f":"(AW40+AV40)*AW23*-1","v":0},{"$f":"(AX40+AY40)*AX23*-1","v":0},{"$f":"(AY40+AX40)*AY23*-1","v":0},{"$f":"(AZ40+BA40)*AZ23*-1","v":0},{"$f":"(BA40+AZ40)*BA23*-1","v":0},{"$f":"(BB40+BC40)*BB23*-1","v":0},{"$f":"(BC40+BB40)*BC23*-1","v":0},{"$f":"(BD40+BE40)*BD23*-1","v":0},null,"dis",{"$f":"(BG40)*BG23*-1","v":0},{"$f":"(BH40+BI40)*BH23*-1","v":0},{"$f":"(BI40+BH40)*BI23*-1","v":0},{"$f":"(BJ40+BK40)*BJ23*-1","v":0},{"$f":"(BK40+BJ40)*BK23*-1","v":0},{"$f":"(BL40+BM40)*BL23*-1","v":0},{"$f":"(BM40+BL40)*BM23*-1","v":0},{"$f":"(BN40+BO40)*BN23*-1","v":0},{"$f":"(BO40+BN40)*BO23*-1","v":0},{"$f":"(BP40+BQ40)*BP23*-1","v":0},null,"dis",{"$f":"(BS40)*BS23*-1","v":0},{"$f":"(BT40+BU40)*BT23*-1","v":0},{"$f":"(BU40+BT40)*BU23*-1","v":0},{"$f":"(BV40+BW40)*BV23*-1","v":0},{"$f":"(BW40+BV40)*BW23*-1","v":0},{"$f":"(BX40+BY40)*BX23*-1","v":0},{"$f":"(BY40+BX40)*BY23*-1","v":0},{"$f":"(BZ40+CA40)*BZ23*-1","v":0},{"$f":"(CA40+BZ40)*CA23*-1","v":0},{"$f":"(CB40+CC40)*CB23*-1","v":0}]
[null,null,null,null,null,null,null,null,null,"co",{"$f":"L41/2","v":0},{"$f":"K41/2","v":0},{"$f":"N41/2","v":0},{"$f":"M41/2","v":0},{"$f":"P41/2","v":0},{"$f":"O41/2","v":0},{"$f":"R41/2","v":0},{"$f":"Q41/2","v":0},{"$f":"T41/2","v":0},{"$f":"S41/2","v":0},null,"co",{"$f":"X41/2","v":0},{"$f":"W41/2","v":0},{"$f":"Z41/2","v":0},{"$f":"Y41/2","v":0},{"$f":"AB41/2","v":0},{"$f":"AA41/2","v":0},{"$f":"AD41/2","v":0},{"$f":"AC41/2","v":0},{"$f":"AF41/2","v":0},{"$f":"AE41/2","v":0},null,"co",{"$f":"AJ41/2","v":0},{"$f":"AI41/2","v":0},{"$f":"AL41/2","v":0},{"$f":"AK41/2","v":0},{"$f":"AN41/2","v":0},{"$f":"AM41/2","v":0},{"$f":"AP41/2","v":0},{"$f":"AO41/2","v":0},{"$f":"AR41/2","v":0},{"$f":"AQ41/2","v":0},null,"co",{"$f":"AV41/2","v":0},{"$f":"AU41/2","v":0},{"$f":"AX41/2","v":0},{"$f":"AW41/2","v":0},{"$f":"AZ41/2","v":0},{"$f":"AY41/2","v":0},{"$f":"BB41/2","v":0},{"$f":"BA41/2","v":0},{"$f":"BD41/2","v":0},{"$f":"BC41/2","v":0},null,"co",{"$f":"BH41/2","v":0},{"$f":"BG41/2","v":0},{"$f":"BJ41/2","v":0},{"$f":"BI41/2","v":0},{"$f":"BL41/2","v":0},{"$f":"BK41/2","v":0},{"$f":"BN41/2","v":0},{"$f":"BM41/2","v":0},{"$f":"BP41/2","v":0},{"$f":"BO41/2","v":0},null,"co",{"$f":"BT41/2","v":0},{"$f":"BS41/2","v":0},{"$f":"BV41/2","v":0},{"$f":"BU41/2","v":0},{"$f":"BX41/2","v":0},{"$f":"BW41/2","v":0},{"$f":"BZ41/2","v":0},{"$f":"BY41/2","v":0},{"$f":"CB41/2","v":0},{"$f":"CA41/2","v":0}]
[null,null,null,null,null,null,null,null,null,"dis",{"$f":"(K42)*K23*-1","v":0},{"$f":"(L42+M42)*L23*-1","v":0},{"$f":"(M42+L42)*M23*-1","v":0},{"$f":"(N42+O42)*N23*-1","v":0},{"$f":"(O42+N42)*O23*-1","v":0},{"$f":"(P42+Q42)*P23*-1","v":0},{"$f":"(Q42+P42)*Q23*-1","v":0},{"$f":"(R42+S42)*R23*-1","v":0},{"$f":"(S42+R42)*S23*-1","v":0},{"$f":"(T42+U42)*T23*-1","v":0},null,"dis",{"$f":"(W42)*W23*-1","v":0},{"$f":"(X42+Y42)*X23*-1","v":0},{"$f":"(Y42+X42)*Y23*-1","v":0},{"$f":"(Z42+AA42)*Z23*-1","v":0},{"$f":"(AA42+Z42)*AA23*-1","v":0},{"$f":"(AB42+AC42)*AB23*-1","v":0},{"$f":"(AC42+AB42)*AC23*-1","v":0},{"$f":"(AD42+AE42)*AD23*-1","v":0},{"$f":"(AE42+AD42)*AE23*-1","v":0},{"$f":"(AF42+AG42)*AF23*-1","v":0},null,"dis",{"$f":"(AI42)*AI23*-1","v":0},{"$f":"(AJ42+AK42)*AJ23*-1","v":0},{"$f":"(AK42+AJ42)*AK23*-1","v":0},{"$f":"(AL42+AM42)*AL23*-1","v":0},{"$f":"(AM42+AL42)*AM23*-1","v":0},{"$f":"(AN42+AO42)*AN23*-1","v":0},{"$f":"(AO42+AN42)*AO23*-1","v":0},{"$f":"(AP42+AQ42)*AP23*-1","v":0},{"$f":"(AQ42+AP42)*AQ23*-1","v":0},{"$f":"(AR42+AS42)*AR23*-1","v":0},null,"dis",{"$f":"(AU42)*AU23*-1","v":0},{"$f":"(AV42+AW42)*AV23*-1","v":0},{"$f":"(AW42+AV42)*AW23*-1","v":0},{"$f":"(AX42+AY42)*AX23*-1","v":0},{"$f":"(AY42+AX42)*AY23*-1","v":0},{"$f":"(AZ42+BA42)*AZ23*-1","v":0},{"$f":"(BA42+AZ42)*BA23*-1","v":0},{"$f":"(BB42+BC42)*BB23*-1","v":0},{"$f":"(BC42+BB42)*BC23*-1","v":0},{"$f":"(BD42+BE42)*BD23*-1","v":0},null,"dis",{"$f":"(BG42)*BG23*-1","v":0},{"$f":"(BH42+BI42)*BH23*-1","v":0},{"$f":"(BI42+BH42)*BI23*-1","v":0},{"$f":"(BJ42+BK42)*BJ23*-1","v":0},{"$f":"(BK42+BJ42)*BK23*-1","v":0},{"$f":"(BL42+BM42)*BL23*-1","v":0},{"$f":"(BM42+BL42)*BM23*-1","v":0},{"$f":"(BN42+BO42)*BN23*-1","v":0},{"$f":"(BO42+BN42)*BO23*-1","v":0},{"$f":"(BP42+BQ42)*BP23*-1","v":0},null,"dis",{"$f":"(BS42)*BS23*-1","v":0},{"$f":"(BT42+BU42)*BT23*-1","v":0},{"$f":"(BU42+BT42)*BU23*-1","v":0},{"$f":"(BV42+BW42)*BV23*-1","v":0},{"$f":"(BW42+BV42)*BW23*-1","v":0},{"$f":"(BX42+BY42)*BX23*-1","v":0},{"$f":"(BY42+BX42)*BY23*-1","v":0},{"$f":"(BZ42+CA42)*BZ23*-1","v":0},{"$f":"(CA42+BZ42)*CA23*-1","v":0},{"$f":"(CB42+CC42)*CB23*-1","v":0}]
[null,null,null,null,null,null,null,null,null,"co",{"$f":"L43/2","v":0},{"$f":"K43/2","v":0},{"$f":"N43/2","v":0},{"$f":"M43/2","v":0},{"$f":"P43/2","v":0},{"$f":"O43/2","v":0},{"$f":"R43/2","v":0},{"$f":"Q43/2","v":0},{"$f":"T43/2","v":0},{"$f":"S43/2","v":0},null,"co",{"$f":"X43/2","v":0},{"$f":"W43/2","v":0},{"$f":"Z43/2","v":0},{"$f":"Y43/2","v":0},{"$f":"AB43/2","v":0},{"$f":"AA43/2","v":0},{"$f":"AD43/2","v":0},{"$f":"AC43/2","v":0},{"$f":"AF43/2","v":0},{"$f":"AE43/2","v":0},null,"co",{"$f":"AJ43/2","v":0},{"$f":"AI43/2","v":0},{"$f":"AL43/2","v":0},{"$f":"AK43/2","v":0},{"$f":"AN43/2","v":0},{"$f":"AM43/2","v":0},{"$f":"AP43/2","v":0},{"$f":"AO43/2","v":0},{"$f":"AR43/2","v":0},{"$f":"AQ43/2","v":0},null,"co",{"$f":"AV43/2","v":0},{"$f":"AU43/2","v":0},{"$f":"AX43/2","v":0},{"$f":"AW43/2","v":0},{"$f":"AZ43/2","v":0},{"$f":"AY43/2","v":0},{"$f":"BB43/2","v":0},{"$f":"BA43/2","v":0},{"$f":"BD43/2","v":0},{"$f":"BC43/2","v":0},null,"co",{"$f":"BH43/2","v":0},{"$f":"BG43/2","v":0},{"$f":"BJ43/2","v":0},{"$f":"BI43/2","v":0},{"$f":"BL43/2","v":0},{"$f":"BK43/2","v":0},{"$f":"BN43/2","v":0},{"$f":"BM43/2","v":0},{"$f":"BP43/2","v":0},{"$f":"BO43/2","v":0},null,"co",{"$f":"BT43/2","v":0},{"$f":"BS43/2","v":0},{"$f":"BV43/2","v":0},{"$f":"BU43/2","v":0},{"$f":"BX43/2","v":0},{"$f":"BW43/2","v":0},{"$f":"BZ43/2","v":0},{"$f":"BY43/2","v":0},{"$f":"CB43/2","v":0},{"$f":"CA43/2","v":0}]
[null,null,null,null,null,null,null,null,null,"dis",{"$f":"(K44)*K23*-1","v":0},{"$f":"(L44+M44)*L23*-1","v":0},{"$f":"(M44+L44)*M23*-1","v":0},{"$f":"(N44+O44)*N23*-1","v":0},{"$f":"(O44+N44)*O23*-1","v":0},{"$f":"(P44+Q44)*P23*-1","v":0},{"$f":"(Q44+P44)*Q23*-1","v":0},{"$f":"(R44+S44)*R23*-1","v":0},{"$f":"(S44+R44)*S23*-1","v":0},{"$f":"(T44+U44)*T23*-1","v":0},null,"dis",{"$f":"(W44)*W23*-1","v":0},{"$f":"(X44+Y44)*X23*-1","v":0},{"$f":"(Y44+X44)*Y23*-1","v":0},{"$f":"(Z44+AA44)*Z23*-1","v":0},{"$f":"(AA44+Z44)*AA23*-1","v":0},{"$f":"(AB44+AC44)*AB23*-1","v":0},{"$f":"(AC44+AB44)*AC23*-1","v":0},{"$f":"(AD44+AE44)*AD23*-1","v":0},{"$f":"(AE44+AD44)*AE23*-1","v":0},{"$f":"(AF44+AG44)*AF23*-1","v":0},null,"dis",{"$f":"(AI44)*AI23*-1","v":0},{"$f":"(AJ44+AK44)*AJ23*-1","v":0},{"$f":"(AK44+AJ44)*AK23*-1","v":0},{"$f":"(AL44+AM44)*AL23*-1","v":0},{"$f":"(AM44+AL44)*AM23*-1","v":0},{"$f":"(AN44+AO44)*AN23*-1","v":0},{"$f":"(AO44+AN44)*AO23*-1","v":0},{"$f":"(AP44+AQ44)*AP23*-1","v":0},{"$f":"(AQ44+AP44)*AQ23*-1","v":0},{"$f":"(AR44+AS44)*AR23*-1","v":0},null,"dis",{"$f":"(AU44)*AU23*-1","v":0},{"$f":"(AV44+AW44)*AV23*-1","v":0},{"$f":"(AW44+AV44)*AW23*-1","v":0},{"$f":"(AX44+AY44)*AX23*-1","v":0},{"$f":"(AY44+AX44)*AY23*-1","v":0},{"$f":"(AZ44+BA44)*AZ23*-1","v":0},{"$f":"(BA44+AZ44)*BA23*-1","v":0},{"$f":"(BB44+BC44)*BB23*-1","v":0},{"$f":"(BC44+BB44)*BC23*-1","v":0},{"$f":"(BD44+BE44)*BD23*-1","v":0},null,"dis",{"$f":"(BG44)*BG23*-1","v":0},{"$f":"(BH44+BI44)*BH23*-1","v":0},{"$f":"(BI44+BH44)*BI23*-1","v":0},{"$f":"(BJ44+BK44)*BJ23*-1","v":0},{"$f":"(BK44+BJ44)*BK23*-1","v":0},{"$f":"(BL44+BM44)*BL23*-1","v":0},{"$f":"(BM44+BL44)*BM23*-1","v":0},{"$f":"(BN44+BO44)*BN23*-1","v":0},{"$f":"(BO44+BN44)*BO23*-1","v":0},{"$f":"(BP44+BQ44)*BP23*-1","v":0},null,"dis",{"$f":"(BS44)*BS23*-1","v":0},{"$f":"(BT44+BU44)*BT23*-1","v":0},{"$f":"(BU44+BT44)*BU23*-1","v":0},{"$f":"(BV44+BW44)*BV23*-1","v":0},{"$f":"(BW44+BV44)*BW23*-1","v":0},{"$f":"(BX44+BY44)*BX23*-1","v":0},{"$f":"(BY44+BX44)*BY23*-1","v":0},{"$f":"(BZ44+CA44)*BZ23*-1","v":0},{"$f":"(CA44+BZ44)*CA23*-1","v":0},{"$f":"(CB44+CC44)*CB23*-1","v":0}]
[null,null,null,null,null,null,null,null,null,"sum",{"$f":"SUM(K24:K45)","v":0},{"$f":"SUM(L24:L45)","v":0},{"$f":"SUM(M24:M45)","v":0},{"$f":"SUM(N24:N45)","v":0},{"$f":"SUM(O24:O45)","v":0},0,0,0,0,0,null,"sum",{"$f":"SUM(W24:W45)","v":0},0,0,0,0,0,0,0,0,0,null,"sum",{"$f":"SUM(AI24:AI45)","v":0},0,0,0,0,0,0,0,0,0,null,"sum",{"$f":"SUM(AU24:AU45)","v":0},0,0,0,0,0,0,0,0,0,null,"sum",{"$f":"SUM(BG24:BG45)","v":0},0,0,0,0,0,0,0,0,0,null,"sum",{"$f":"SUM(BS24:BS45)","v":0},0,0,0,0,0,0,0,0,0]
[null,null,null,null,null,null,null,null,null,"โมเมนต์บวก span 1 =",{"$f":"K111","v":0},null,"โมเมนต์บวก span 2 =",{"$f":"W111","v":0},"โมเมนต์บวก span 3 =",{"$f":"AI111","v":0},"โมเมนต์บวก span 4 =",{"$f":"AU111","v":0},"โมเมนต์บวก span 5 =",{"$f":"BG111","v":0}]
[null,null,null,null,null,null,null,null,null,"โมเมนต์ลบ span 1 ขวา =",{"$f":"N110","v":0},null,"โมเมนต์ลบ span 2 ขวา =",{"$f":"AC111","v":0},"โมเมนต์ลบ span 3 ขวา =",{"$f":"AO110","v":0},"โมเมนต์ลบ span 4 ขวา =",{"$f":"BA110","v":0},"โมเมนต์ลบ span 5 ขวา =",{"$f":"BM110","v":0}]
[null,null,null,null,null,null,null,null,null,"โมเมนต์ลบ span 1 ซ้าย =",{"$f":"-K107+0.5*K109*Sheet1!D9-0.25*'r6'!E2*('r6'!B7+'r6'!E7)*Sheet1!D9^2","v":0},null,"โมเมนต์ลบ span 2 ซ้าย =",{"$f":"Z111","v":0},"โมเมนต์ลบ span 3 ซ้าย =",{"$f":"AL110","v":0},"โมเมนต์ลบ span 4 ซ้าย =",{"$f":"AX110","v":0},"โมเมนต์ลบ span 5 ซ้าย =",{"$f":"BJ110","v":0}]
[]
[null,null,null,null,null,null,"ทิศทาง","ช่วงเสา","สัมประสิทธ์ร้อยละ","แถบเสา","แถบกลาง",null,"แถบเสา","แถบกลาง","แถบเสา","แถบกลาง","แถบเสา","แถบกลาง","แถบเสา","แถบกลาง"]
[null,null,null,null,null,null,null,"โมเมนต์ลบขวา",0.75,{"$f":"IF((-K48>-N49),(K48),(N49))*I52","v":0},{"$f":"IF((-K48>-N49),(K48),(N49))-J52","v":0},null,{"$f":"IF((-N48>-P49),(N48),(P49))*IF(Sheet1!$B$3=2,(I54),(I52))","v":0},{"$f":"IF((-N48>-P49),(N48),(P49))-M52","v":0},{"$f":"IF(-P48>-R49,(P48),(R49))*IF(Sheet1!$B$3=3,(1),(0.75))","v":0},{"$f":"IF(-P48>-R49,(P48),(R49))*IF(Sheet1!$B$3=3,(1),(0.75))-O52","v":0},{"$f":"IF(-R48>-T49,(R48),(T49))*IF(Sheet1!$B$3=4,(1),(0.75))","v":0},{"$f":"IF(-R48>-T49,(R48),(T49))*IF(Sheet1!$B$3=4,(1),(0.75))-Q52","v":0},{"$f":"IF(-T48>-V49,(T48),(V49))*IF(Sheet1!$B$3=5,(1),(0.75))","v":0},{"$f":"IF(-T48>-V49,(T48),(V49))*IF(Sheet1!$B$3=5,(1),(0.75))-S52","v":0}]
[null,null,null,null,null,null,null,"โมเมนต์กลางช่วงโมเมนต์บวก",0.6,{"$f":"K47*$I$53","v":0},{"$f":"K47-J53","v":0},null,{"$f":"N47*$I$53","v":0},{"$f":"N47-M53","v":0},{"$f":"P47*$I$53","v":0},{"$f":"P47-O53","v":0},{"$f":"R47*$I$53","v":0},{"$f":"R47-Q53","v":0},{"$f":"T47*$I$53","v":0},{"$f":"T47-S53","v":0}]
[null,null,null,null,null,null,null,"โมเมนต์ลบซ้าย",1,{"$f":"K49*I54","v":0},{"$f":"K49-J54","v":0},null,{"$f":"IF((-K48>-N49),(K48),(N49))*I52","v":0},{"$f":"IF((-K48>-N49),(K48),(N49))-M54","v":0},{"$f":"IF((-N48>-P49),(N48),(P49))*IF(Sheet1!$B$3<3,(0),(0.75))","v":0},{"$f":"IF(O54=0,(0),(IF((-N48>-P49),(N48),(P49))-O54))","v":0},{"$f":"IF((-P48>-R49),(P48),(R49))*IF(Sheet1!$B$3<4,(0),(0.75))","v":0},{"$f":"IF(Q54=0,(0),(IF((-P48>-R49),(P48),(R49))-Q54))","v":0},{"$f":"IF((-R48>-T49),(R48),(T49))*IF(Sheet1!$B$3<5,(0),(0.75))","v":0},{"$f":"IF(S54=0,(0),(IF((-R48>-T49),(R48),(T49))-S54))","v":0}]
[]
[null,null,null,null,null,null,"เหล็กเสริมในแผ่นพื้น",null,null,"span r1",null,null,"span r2",null,"span r3",null,"span r4",null,"span r5"]
[null,null,null,null,null,null,null,"รายการ","หน่วย","แถบเสา","แถบกลาง",null,"แถบเสา","แถบกลาง","แถบเสา","แถบกลาง","แถบเสา","แถบกลาง","แถบเสา","แถบกลาง"]
[null,null,null,null,null,null,null,"ความกว้าง","m",{"$f":"IF(Sheet1!B4=5,(0.25*Sheet1!L12),(Sheet1!L12+Sheet1!L13)/4)","v":0},{"$f":"IF(Sheet1!B4=4,(0.25*Sheet1!L12),(E2-J58))","v":0},null,{"$f":"J58","v":0},{"$f":"K58","v":0},{"$f":"M58","v":0},0,0,0,0,0]
[null,null,null,null,null,null,null,"โมเมนต์ลบขวา","kg-m/m",{"$f":"J52/(0.9*J58)","v":{"$error":"#DIV/0!"}},{"$f":"K52/(K58*0.9)","v":{"$error":"#DIV/0!"}},null,{"$f":"M52/(0.9*M58)","v":{"$error":"#DIV/0!"}},{"$f":"N52/(0.9*N58)","v":{"$error":"#DIV/0!"}},{"$f":"O52/(0.9*O58)","v":{"$error":"#DIV/0!"}},{"$f":"P52/(0.9*P58)","v":{"$error":"#DIV/0!"}},{"$f":"Q52/(0.9*Q58)","v":{"$error":"#DIV/0!"}},{"$error":"#DIV/0!"},{"$f":"S52/(0.9*S58)","v":{"$error":"#DIV/0!"}},{"$f":"T52/(0.9*T58)","v":{"$error":"#DIV/0!"}}]
[null,null,null,null,null,null,null,"Rn","kg/m^2",{"$f":"J59/(((Sheet1!B16)-(Sheet1!B13/100))^2)","v":{"$error":"#DIV/0!"}},{"$f":"K59/(((Sheet1!B16)-(Sheet1!B13/100))^2)","v":{"$error":"#DIV/0!"}},null,{"$f":"M59/(((Sheet1!B16)-(Sheet1!B13/100))^2)","v":{"$error":"#DIV/0!"}},{"$f":"N59/(((Sheet1!B16)-(Sheet1!B13/100))^2)","v":{"$error":"#DIV/0!"}},{"$f":"O59/(((Sheet1!B16)-(Sheet1!B13/100))^2)","v":{"$error":"#DIV/0!"}},{"$f":"P59/(((Sheet1!B16)-(Sheet1!B13/100))^2)","v":{"$error":"#DIV/0!"}},{"$f":"Q59/(((Sheet1!B16)-(Sheet1!B13/100))^2)","v":{"$error":"#DIV/0!"}},{"$f":"R59/(((Sheet1!B16)-(Sheet1!B13/100))^2)","v":{"$error":"#DIV/0!"}},{"$f":"S59/(((Sheet1!B16)-(Sheet1!B13/100))^2)","v":{"$error":"#DIV/0!"}},{"$f":"T59/(((Sheet1!B16)-(Sheet1!B13/100))^2)","v":{"$error":"#DIV/0!"}}]
[null,null,null,null,null,null,null,"p",null,{"$f":"ABS((0.85*Sheet1!B10/Sheet1!B9)*(1-(SQRT(1-(2*J60/(0.85*Sheet1!B10*100^2))))))","v":{"$error":"#DIV/0!"}},{"$f":"ABS((0.85*Sheet1!B10/Sheet1!B9)*(1-(SQRT(1-(2*K60/(0.85*Sheet1!B10*100^2))))))","v":{"$error":"#DIV/0!"}},null,{"$f":"ABS((0.85*Sheet1!B10/Sheet1!B9)*(1-(SQRT(1-(2*M60/(0.85*Sheet1!B10*100^2))))))","v":{"$error":"#DIV/0!"}},{"$f":"ABS((0.85*Sheet1!B10/Sheet1!B9)*(1-(SQRT(1-(2*N60/(0.85*Sheet1!B10*100^2))))))","v":{"$error":"#DIV/0!"}},{"$f":"ABS((0.85*Sheet1!B10/Sheet1!B9)*(1-(SQRT(1-(2*O60/(0.85*Sheet1!B10*100^2))))))","v":{"$error":"#DIV/0!"}},{"$f":"ABS((0.85*Sheet1!B10/Sheet1!B9)*(1-(SQRT(1-(2*P60/(0.85*Sheet1!B10*100^2))))))","v":{"$error":"#DIV/0!"}},{"$f":"ABS((0.85*Sheet1!B10/Sheet1!B9)*(1-(SQRT(1-(2*Q60/(0.85*Sheet1!B10*100^2))))))","v":{"$error":"#DIV/0!"}},{"$f":"ABS((0.85*Sheet1!B10/Sheet1!B9)*(1-(SQRT(1-(2*R60/(0.85*Sheet1!B10*100^2))))))","v":{"$error":"#DIV/0!"}},{"$f":"ABS((0.85*Sheet1!B10/Sheet1!B9)*(1-(SQRT(1-(2*S60/(0.85*Sheet1!B10*100^2))))))","v":{"$error":"#DIV/0!"}},{"$f":"ABS((0.85*Sheet1!B10/Sheet1!B9)*(1-(SQRT(1-(2*T60/(0.85*Sheet1!B10*100^2))))))","v":{"$error":"#DIV/0!"}}]
[null,null,null,null,null,null,null,"As-","mm^2/m",{"$f":"IF(J53=0,(0),(IF(J61>(0.0018*4000/Sheet1!$B$9),(ABS(J61*1000*(Sheet1!$B$16*1000-Sheet1!$B$13*10)*-1)),(ABS((0.0018*4000/Sheet1!$B$9)*1000*(Sheet1!$B$16*1000-Sheet1!$B$13*10)*-1)))))","v":0},{"$f":"IF(K53=0,(0),(IF(K61>(0.0018*4000/Sheet1!$B$9),(ABS(K61*1000*(Sheet1!$B$16*1000-Sheet1!$B$13*10)*-1)),(ABS((0.0018*4000/Sheet1!$B$9)*1000*(Sheet1!$B$16*1000-Sheet1!$B$13*10)*-1)))))","v":0},null,{"$f":"IF(M53=0,(0),(IF(M61>(0.0018*4000/Sheet1!$B$9),(ABS(M61*1000*(Sheet1!$B$16*1000-Sheet1!$B$13*10)*-1)),(ABS((0.0018*4000/Sheet1!$B$9)*1000*(Sheet1!$B$16*1000-Sheet1!$B$13*10)*-1)))))","v":0},{"$f":"IF(N53=0,(0),(IF(N61>(0.0018*4000/Sheet1!$B$9),(ABS(N61*1000*(Sheet1!$B$16*1000-Sheet1!$B$13*10)*-1)),(ABS((0.0018*4000/Sheet1!$B$9)*1000*(Sheet1!$B$16*1000-Sheet1!$B$13*10)*-1)))))","v":0},{"$f":"IF(O53=0,(0),(IF(O61>(0.0018*4000/Sheet1!$B$9),(ABS(O61*1000*(Sheet1!$B$16*1000-Sheet1!$B$13*10)*-1)),(ABS((0.0018*4000/Sheet1!$B$9)*1000*(Sheet1!$B$16*1000-Sheet1!$B$13*10)*-1)))))","v":0},{"$f":"IF(P53=0,(0),(IF(P61>(0.0018*4000/Sheet1!$B$9),(ABS(P61*1000*(Sheet1!$B$16*1000-Sheet1!$B$13*10)*-1)),(ABS((0.0018*4000/Sheet1!$B$9)*1000*(Sheet1!$B$16*1000-Sheet1!$B$13*10)*-1)))))","v":0},{"$f":"IF(Q53=0,(0),(IF(Q61>(0.0018*4000/Sheet1!$B$9),(ABS(Q61*1000*(Sheet1!$B$16*1000-Sheet1!$B$13*10)*-1)),(ABS((0.0018*4000/Sheet1!$B$9)*1000*(Sheet1!$B$16*1000-Sheet1!$B$13*10)*-1)))))","v":0},{"$f":"IF(R53=0,(0),(IF(R61>(0.0018*4000/Sheet1!$B$9),(ABS(R61*1000*(Sheet1!$B$16*1000-Sheet1!$B$13*10)*-1)),(ABS((0.0018*4000/Sheet1!$B$9)*1000*(Sheet1!$B$16*1000-Sheet1!$B$13*10)*-1)))))","v":0},{"$f":"IF(S53=0,(0),(IF(S61>(0.0018*4000/Sheet1!$B$9),(ABS(S61*1000*(Sheet1!$B$16*1000-Sheet1!$B$13*10)*-1)),(ABS((0.0018*4000/Sheet1!$B$9)*1000*(Sheet1!$B$16*1000-Sheet1!$B$13*10)*-1)))))","v":0},{"$f":"IF(T53=0,(0),(IF(T61>(0.0018*4000/Sheet1!$B$9),(ABS(T61*1000*(Sheet1!$B$16*1000-Sheet1!$B$13*10)*-1)),(ABS((0.0018*4000/Sheet1!$B$9)*1000*(Sheet1!$B$16*1000-Sheet1!$B$13*10)*-1)))))","v":0}]
[null,null,null,null,null,null,null,"โมเมนต์บวกกลาง","kg-m/m",{"$f":"J53/(0.9*J58)","v":{"$error":"#DIV/0!"}},{"$f":"K53/(0.9*K58)","v":{"$error":"#DIV/0!"}},null,{"$f":"M53/(0.9*M58)","v":{"$error":"#DIV/0!"}},{"$f":"N53/(0.9*N58)","v":{"$error":"#DIV/0!"}},{"$f":"O53/(0.9*O58)","v":{"$error":"#DIV/0!"}},{"$error":"#DIV/0!"},{"$error":"#DIV/0!"},{"$f":"R53/(0.9*R58)","v":{"$error":"#DIV/0!"}},{"$error":"#DIV/0!"},{"$f":"T53/(0.9*T58)","v":{"$error":"#DIV/0!"}}]
[null,null,null,null,null,null,null,"Rn","kg/m^2",{"$f":"J63/(((Sheet1!B16)-(Sheet1!B13/100))^2)","v":{"$error":"#DIV/0!"}},{"$f":"K63/(((Sheet1!B16)-(Sheet1!B13/100))^2)","v":{"$error":"#DIV/0!"}},null,{"$f":"M63/(((Sheet1!B16)-(Sheet1!B13/100))^2)","v":{"$error":"#DIV/0!"}},{"$f":"N63/(((Sheet1!B16)-(Sheet1!B13/100))^2)","v":{"$error":"#DIV/0!"}},{"$f":"O63/(((Sheet1!B16)-(Sheet1!B13/100))^2)","v":{"$error":"#DIV/0!"}},{"$f":"P63/(((Sheet1!B16)-(Sheet1!B13/100))^2)","v":{"$error":"#DIV/0!"}},{"$f":"Q63/(((Sheet1!B16)-(Sheet1!B13/100))^2)","v":{"$error":"#DIV/0!"}},{"$f":"R63/(((Sheet1!B16)-(Sheet1!B13/100))^2)","v":{"$error":"#DIV/0!"}},{"$f":"S63/(((Sheet1!B16)-(Sheet1!B13/100))^2)","v":{"$error":"#DIV/0!"}},{"$f":"T63/(((Sheet1!B16)-(Sheet1!B13/100))^2)","v":{"$error":"#DIV/0!"}}]
[null,null,null,null,null,null,null,"p",null,{"$f":"ABS((0.85*Sheet1!B10/Sheet1!B9)*(1-(SQRT(1-(2*J64/(0.85*Sheet1!B10*100^2))))))","v":{"$error":"#DIV/0!"}},{"$f":"(0.85*Sheet1!B10/Sheet1!B9)*(1-(SQRT(1-(2*K64/(0.85*Sheet1!B10*100^2)))))","v":{"$error":"#DIV/0!"}},null,{"$f":"ABS((0.85*Sheet1!B10/Sheet1!B9)*(1-(SQRT(1-(2*M64/(0.85*Sheet1!B10*100^2))))))","v":{"$error":"#DIV/0!"}},{"$f":"ABS((0.85*Sheet1!B10/Sheet1!B9)*(1-(SQRT(1-(2*N64/(0.85*Sheet1!B10*100^2))))))","v":{"$error":"#DIV/0!"}},{"$f":"ABS((0.85*Sheet1!B10/Sheet1!B9)*(1-(SQRT(1-(2*O64/(0.85*Sheet1!B10*100^2))))))","v":{"$error":"#DIV/0!"}},{"$f":"ABS((0.85*Sheet1!B10/Sheet1!B9)*(1-(SQRT(1-(2*P64/(0.85*Sheet1!B10*100^2))))))","v":{"$error":"#DIV/0!"}},{"$f":"ABS((0.85*Sheet1!B10/Sheet1!B9)*(1-(SQRT(1-(2*Q64/(0.85*Sheet1!B10*100^2))))))","v":{"$error":"#DIV/0!"}},{"$f":"ABS((0.85*Sheet1!B10/Sheet1!B9)*(1-(SQRT(1-(2*R64/(0.85*Sheet1!B10*100^2))))))","v":{"$error":"#DIV/0!"}},{"$f":"ABS((0.85*Sheet1!B10/Sheet1!B9)*(1-(SQRT(1-(2*S64/(0.85*Sheet1!B10*100^2))))))","v":{"$error":"#DIV/0!"}},{"$f":"ABS((0.85*Sheet1!B10/Sheet1!B9)*(1-(SQRT(1-(2*T64/(0.85*Sheet1!B10*100^2))))))","v":{"$error":"#DIV/0!"}}]
[null,null,null,null,null,null,null,"As+","mm^2/m",{"$f":"IF(J53=0,(0),(IF(J65>(0.0018*4000/Sheet1!$B$9),(ABS(J65*1000*(Sheet1!$B$16*1000-Sheet1!$B$13*10)*-1)),(ABS((0.0018*4000/Sheet1!$B$9)*1000*(Sheet1!$B$16*1000-Sheet1!$B$13*10)*-1)))))","v":0},{"$f":"IF(K53=0,(0),(IF(K65>(0.0018*4000/Sheet1!$B$9),(ABS(K65*1000*(Sheet1!$B$16*1000-Sheet1!$B$13*10)*-1)),(ABS((0.0018*4000/Sheet1!$B$9)*1000*(Sheet1!$B$16*1000-Sheet1!$B$13*10)*-1)))))","v":0},null,{"$f":"IF(M53=0,(0),(IF(M65>(0.0018*4000/Sheet1!$B$9),(ABS(M65*1000*(Sheet1!$B$16*1000-Sheet1!$B$13*10)*-1)),(ABS((0.0018*4000/Sheet1!$B$9)*1000*(Sheet1!$B$16*1000-Sheet1!$B$13*10)*-1)))))","v":0},{"$f":"IF(N53=0,(0),(IF(N65>(0.0018*4000/Sheet1!$B$9),(ABS(N65*1000*(Sheet1!$B$16*1000-Sheet1!$B$13*10)*-1)),(ABS((0.0018*4000/Sheet1!$B$9)*1000*(Sheet1!$B$16*1000-Sheet1!$B$13*10)*-1)))))","v":0},{"$f":"IF(O53=0,(0),(IF(O65>(0.0018*4000/Sheet1!$B$9),(ABS(O65*1000*(Sheet1!$B$16*1000-Sheet1!$B$13*10)*-1)),(ABS((0.0018*4000/Sheet1!$B$9)*1000*(Sheet1!$B$16*1000-Sheet1!$B$13*10)*-1)))))","v":0},{"$f":"IF(P53=0,(0),(IF(P65>(0.0018*4000/Sheet1!$B$9),(ABS(P65*1000*(Sheet1!$B$16*1000-Sheet1!$B$13*10)*-1)),(ABS((0.0018*4000/Sheet1!$B$9)*1000*(Sheet1!$B$16*1000-Sheet1!$B$13*10)*-1)))))","v":0},{"$f":"IF(Q53=0,(0),(IF(Q65>(0.0018*4000/Sheet1!$B$9),(ABS(Q65*1000*(Sheet1!$B$16*1000-Sheet1!$B$13*10)*-1)),(ABS((0.0018*4000/Sheet1!$B$9)*1000*(Sheet1!$B$16*1000-Sheet1!$B$13*10)*-1)))))","v":0},{"$f":"IF(R53=0,(0),(IF(R65>(0.0018*4000/Sheet1!$B$9),(ABS(R65*1000*(Sheet1!$B$16*1000-Sheet1!$B$13*10)*-1)),(ABS((0.0018*4000/Sheet1!$B$9)*1000*(Sheet1!$B$16*1000-Sheet1!$B$13*10)*-1)))))","v":0},{"$f":"IF(S53=0,(0),(IF(S65>(0.0018*4000/Sheet1!$B$9),(ABS(S65*1000*(Sheet1!$B$16*1000-Sheet1!$B$13*10)*-1)),(ABS((0.0018*4000/Sheet1!$B$9)*1000*(Sheet1!$B$16*1000-Sheet1!$B$13*10)*-1)))))","v":0},{"$f":"IF(T53=0,(0),(IF(T65>(0.0018*4000/Sheet1!$B$9),(ABS(T65*1000*(Sheet1!$B$16*1000-Sheet1!$B$13*10)*-1)),(ABS((0.0018*4000/Sheet1!$B$9)*1000*(Sheet1!$B$16*1000-Sheet1!$B$13*10)*-1)))))","v":0}]
[null,null,null,null,null,null,null,"โมเมนต์ลบซ้าย","kg-m/m",{"$f":"J54/(0.9*J58)","v":{"$error":"#DIV/0!"}},{"$f":"K54/(0.9*K58)","v":{"$error":"#DIV/0!"}},null,{"$f":"M54/(0.9*M58)","v":{"$error":"#DIV/0!"}},{"$f":"N54/(0.9*N58)","v":{"$error":"#DIV/0!"}},{"$f":"O54/(0.9*O58)","v":{"$error":"#DIV/0!"}},{"$f":"P54/(0.9*P58)","v":{"$error":"#DIV/0!"}},{"$error":"#DIV/0!"},{"$error":"#DIV/0!"},{"$error":"#DIV/0!"},{"$error":"#DIV/0!"}]
[null,null,null,null,null,null,null,"Rn","kg/m^2",{"$f":"J67/(((Sheet1!B16)-(Sheet1!B13/100))^2)","v":{"$error":"#DIV/0!"}},{"$f":"K67/(((Sheet1!B16)-(Sheet1!B13/100))^2)","v":{"$error":"#DIV/0!"}},null,{"$f":"M67/(((Sheet1!B16)-(Sheet1!B13/100))^2)","v":{"$error":"#DIV/0!"}},{"$f":"N67/(((Sheet1!B16)-(Sheet1!B13/100))^2)","v":{"$error":"#DIV/0!"}},{"$f":"O67/(((Sheet1!B16)-(Sheet1!B13/100))^2)","v":{"$error":"#DIV/0!"}},{"$f":"P67/(((Sheet1!B16)-(Sheet1!B13/100))^2)","v":{"$error":"#DIV/0!"}},{"$f":"Q67/(((Sheet1!B16)-(Sheet1!B13/100))^2)","v":{"$error":"#DIV/0!"}},{"$f":"R67/(((Sheet1!B16)-(Sheet1!B13/100))^2)","v":{"$error":"#DIV/0!"}},{"$f":"S67/(((Sheet1!B16)-(Sheet1!B13/100))^2)","v":{"$error":"#DIV/0!"}},{"$f":"T67/(((Sheet1!B16)-(Sheet1!B13/100))^2)","v":{"$error":"#DIV/0!"}}]
[null,null,null,null,null,null,null,"p",null,{"$f":"ABS((0.85*Sheet1!B10/Sheet1!B9)*(1-(SQRT(1-(2*J68/(0.85*Sheet1!B10*100^2))))))","v":{"$error":"#DIV/0!"}},{"$f":"(0.85*Sheet1!B10/Sheet1!B9)*(1-(SQRT(1-(2*K68/(0.85*Sheet1!B10*100^2)))))","v":{"$error":"#DIV/0!"}},null,{"$f":"ABS((0.85*Sheet1!B10/Sheet1!B9)*(1-(SQRT(1-(2*M68/(0.85*Sheet1!B10*100^2))))))","v":{"$error":"#DIV/0!"}},{"$f":"ABS((0.85*Sheet1!B10/Sheet1!B9)*(1-(SQRT(1-(2*N68/(0.85*Sheet1!B10*100^2))))))","v":{"$error":"#DIV/0!"}},{"$f":"ABS((0.85*Sheet1!B10/Sheet1!B9)*(1-(SQRT(1-(2*O68/(0.85*Sheet1!B10*100^2))))))","v":{"$error":"#DIV/0!"}},{"$f":"ABS((0.85*Sheet1!B10/Sheet1!B9)*(1-(SQRT(1-(2*P68/(0.85*Sheet1!B10*100^2))))))","v":{"$error":"#DIV/0!"}},{"$f":"ABS((0.85*Sheet1!B10/Sheet1!B9)*(1-(SQRT(1-(2*Q68/(0.85*Sheet1!B10*100^2))))))","v":{"$error":"#DIV/0!"}},{"$f":"ABS((0.85*Sheet1!B10/Sheet1!B9)*(1-(SQRT(1-(2*R68/(0.85*Sheet1!B10*100^2))))))","v":{"$error":"#DIV/0!"}},{"$f":"ABS((0.85*Sheet1!B10/Sheet1!B9)*(1-(SQRT(1-(2*S68/(0.85*Sheet1!B10*100^2))))))","v":{"$error":"#DIV/0!"}},{"$f":"ABS((0.85*Sheet1!B10/Sheet1!B9)*(1-(SQRT(1-(2*T68/(0.85*Sheet1!B10*100^2))))))","v":{"$error":"#DIV/0!"}}]
[null,null,null,null,null,null,null,"As-","mm^2/m",{"$f":"IF(J53=0,(0),(IF(J69>(0.0018*4000/Sheet1!$B$9),(ABS(J69*1000*(Sheet1!$B$16*1000-Sheet1!$B$13*10)*-1)),(ABS((0.0018*4000/Sheet1!$B$9)*1000*(Sheet1!$B$16*1000-Sheet1!$B$13*10)*-1)))))","v":0},{"$f":"IF(K53=0,(0),(IF(K69>(0.0018*4000/Sheet1!$B$9),(ABS(K69*1000*(Sheet1!$B$16*1000-Sheet1!$B$13*10)*-1)),(ABS((0.0018*4000/Sheet1!$B$9)*1000*(Sheet1!$B$16*1000-Sheet1!$B$13*10)*-1)))))","v":0},null,{"$f":"IF(M53=0,(0),(IF(M69>(0.0018*4000/Sheet1!$B$9),(ABS(M69*1000*(Sheet1!$B$16*1000-Sheet1!$B$13*10)*-1)),(ABS((0.0018*4000/Sheet1!$B$9)*1000*(Sheet1!$B$16*1000-Sheet1!$B$13*10)*-1)))))","v":0},{"$f":"IF(N53=0,(0),(IF(N69>(0.0018*4000/Sheet1!$B$9),(ABS(N69*1000*(Sheet1!$B$16*1000-Sheet1!$B$13*10)*-1)),(ABS((0.0018*4000/Sheet1!$B$9)*1000*(Sheet1!$B$16*1000-Sheet1!$B$13*10)*-1)))))","v":0},{"$f":"IF(O53=0,(0),(IF(O69>(0.0018*4000/Sheet1!$B$9),(ABS(O69*1000*(Sheet1!$B$16*1000-Sheet1!$B$13*10)*-1)),(ABS((0.0018*4000/Sheet1!$B$9)*1000*(Sheet1!$B$16*1000-Sheet1!$B$13*10)*-1)))))","v":0},{"$f":"IF(P53=0,(0),(IF(P69>(0.0018*4000/Sheet1!$B$9),(ABS(P69*1000*(Sheet1!$B$16*1000-Sheet1!$B$13*10)*-1)),(ABS((0.0018*4000/Sheet1!$B$9)*1000*(Sheet1!$B$16*1000-Sheet1!$B$13*10)*-1)))))","v":0},{"$f":"IF(Q53=0,(0),(IF(Q69>(0.0018*4000/Sheet1!$B$9),(ABS(Q69*1000*(Sheet1!$B$16*1000-Sheet1!$B$13*10)*-1)),(ABS((0.0018*4000/Sheet1!$B$9)*1000*(Sheet1!$B$16*1000-Sheet1!$B$13*10)*-1)))))","v":0},{"$f":"IF(R53=0,(0),(IF(R69>(0.0018*4000/Sheet1!$B$9),(ABS(R69*1000*(Sheet1!$B$16*1000-Sheet1!$B$13*10)*-1)),(ABS((0.0018*4000/Sheet1!$B$9)*1000*(Sheet1!$B$16*1000-Sheet1!$B$13*10)*-1)))))","v":0},{"$f":"IF(S53=0,(0),(IF(S69>(0.0018*4000/Sheet1!$B$9),(ABS(S69*1000*(Sheet1!$B$16*1000-Sheet1!$B$13*10)*-1)),(ABS((0.0018*4000/Sheet1!$B$9)*1000*(Sheet1!$B$16*1000-Sheet1!$B$13*10)*-1)))))","v":0},{"$f":"IF(T53=0,(0),(IF(T69>(0.0018*4000/Sheet1!$B$9),(ABS(T69*1000*(Sheet1!$B$16*1000-Sheet1!$B$13*10)*-1)),(ABS((0.0018*4000/Sheet1!$B$9)*1000*(Sheet1!$B$16*1000-Sheet1!$B$13*10)*-1)))))","v":0}]
[]
[]
[]
[]
[]
[]
[]
[]
[]
[]
[]
[]
[]
[]
[]
[]
[]
[]
[]
[]
[]
[]
[]
[]
[]
[]
[]
[]
[]
[]
[]
[]
[]
[]
[]
[null,null,null,null,null,null,null,null,null,"โมเมนต์บวก span 1",null,null,"โมเมนต์ลบ span 1  ขวา",null,null,"โมเมนต์ลบ span 1 ซ้าย",null,null,null,null,null,"โมเมนต์บวก span 2",null,null,"โมเมนต์ลบ span 2  ซ้าย",null,null,"โมเมนต์ลบspan 2 ขวา",null,null,null,null,null,"โมเมนต์บวกสแปน 3",null,null,"โมเมนต์ลบspan 3 ซ้าย",null,null,"โมเมนต์ลบspan 3 ขวา",null,null,null,null,null,"โมเมนต์บวกสแปน 4",null,null,"โมเมนต์ลบสแปน 4 ซ้าย",null,null,"โมเมนต์ลบสแปน 4 ขวา",null,null,null,null,null,"โมเมนต์บวกสแปน 5",null,null,"โมเมนต์ลบ span 5 ซ้าย",null,null,"โมเมนต์ลบ span 5 ขวา"]
[null,null,null,null,null,null,null,null,null,"M 1l =",{"$f":"(K46+AI46+BG46+BS46)*-1","v":0},null,"M 1l =",{"$f":"(K46+W46+AU46+BS46)*-1","v":0},null,"M- max span1l =",{"$f":"IF(K107=0,(0),(-K107+0.5*K109*Sheet1!D9-0.25*'r6'!E2*('r6'!B7+'r6'!E7)*Sheet1!D9^2))","v":0},null,null,null,null,"M 2l =",{"$f":"(Y46+AW46+BU46)*-1","v":0},null,"M 2l =",{"$f":"(M46+Y46+AW46+BU46)*-1","v":0},null,"M 2l =",{"$f":"(Y46+AK46+BU46+BI46)*-1","v":0},null,null,null,null,"M 3l =",{"$f":"(AM46+O46+BK46+BW46)*-1","v":0},null,"M3l =",{"$f":"(AM46+AA46+BW46+BK46)*-1","v":0},null,"M3l =",{"$f":"(AM46+AY46+O46+BW46)*-1","v":0},null,null,null,null,"m 4l =",{"$f":"(BA46+AC46+BY46)*-1","v":0},null,"m4l =",{"$f":"(BA46+AO46+Q46+BY46)*-1","v":0},null," m4l =",{"$f":"(BA46+BM46+AC46+BY46)*-1","v":0},null,null,null,null,"m5l =",{"$f":"(BO46+AQ46+S46+CA46)*-1","v":0},null,"m5l =",{"$f":"(BO46+BC46+AE46+CA46)*-1","v":0},null,"m5l =",{"$f":"(BO46+AQ46+S46+CA46)*-1","v":0}]
[null,null,null,null,null,null,null,null,null,"M 1r =",{"$f":"(L46+AJ46+BH46+BT46)","v":0},null,"M 1r =",{"$f":"(L46+X46+AV46+BT46)","v":0},null,null,null,null,null,null,null,"M 2r =",{"$f":"(Z46+AX46+BV46)","v":0},null,"M 2r =",{"$f":"Z46+N46+AX46+BV46","v":0},null,"M 2r =",{"$f":"(Z46+AL46+BV46)+BJ46","v":0},null,null,null,null,"M 3r =",{"$f":"(AN46+P46+BL46+BX46)","v":0},null,"M3r =",{"$f":"AN46+AB46+BL46+BX46","v":0},null,"M3r =",{"$f":"AN46+AZ46+P46+BX46","v":0},null,null,null,null,"m 4r =",{"$f":"(BB46+AD46+BZ46)","v":0},null,"m4r =",{"$f":"BB46+AP46+R46+BZ46","v":0},null,"m4r =",{"$f":"(BB46+BN46+BZ46+AD46)","v":0},null,null,null,null,"m5r =",{"$f":"(BP46+AR46+T46+CB46)","v":0},null,"m5r =",{"$f":"BP46+CB46+BD46+AF46","v":0},null,"m5r =",{"$f":"BP46+CB46+AR46+T46","v":0}]
[null,null,null,null,null,null,null,null,null,"V1l =",{"$f":"IF(K107=0,(0),((-K108+K107+(0.5*(B7+E7)*E2*Sheet1!F9^2))/Sheet1!F9))","v":0},null,"V 1r =",{"$f":"IF(N107=0,(0),((N108-N107+0.5*(B7+E7)*E2*Sheet1!$F$9^2)/Sheet1!$F$9))","v":0},null,null,null,null,null,null,null,"V2l =",{"$f":"(-W108+W107+0.5*(B8+E8)*E2*Sheet1!F10^2)/Sheet1!F10","v":0},null,"V2l  =",{"$f":"IF(Z107=0,(0),((-Z108+Z107+0.5*(B8+E8)*E2*Sheet1!F10^2)/Sheet1!F10))","v":0},null,"V2l =",{"$f":"(-AC108+AC107+0.5*(B8+E8)*E2*Sheet1!F10^2)/Sheet1!F10","v":0},null,null,null,null,"V3l =",{"$f":"(-AI108+AI107+0.5*(B9+E9)*E2*Sheet1!F11^2)/Sheet1!F11","v":0},null,"V3l =",{"$f":"IF(AL107=0,(0),((-AL108+AL107+0.5*(B9+E9)*Sheet1!F11^2*E2)/Sheet1!F11))","v":0},null,"V3r =",{"$f":"IF(AO107=0,(0),((AO108-AO107+0.5*(B9+E9)*E2*Sheet1!F11^2)/Sheet1!F11))","v":0},null,null,null,null,"v4l =",{"$f":"(-AU108+AU107+0.5*(B10+E10)*E2*Sheet1!F12^2)/Sheet1!F12","v":{"$error":"#DIV/0!"}},null,"V4l =",{"$f":"IF(AX107=0,(0),((-AX108+AX107+0.5*(B10+E10)*Sheet1!F12^2*E2)/Sheet1!F12))","v":0},null,"v4r =",{"$f":"IF(BA107=0,(0),((BA108-BA107+0.5*(B10+E10)*E2*Sheet1!F12^2)/Sheet1!F12))","v":0},null,null,null,null,"v5l =",{"$f":"(-BG108+BG107+0.5*(B11+E11)*E2*Sheet1!F13^2)/Sheet1!F13","v":{"$error":"#DIV/0!"}},null,"v5l =",{"$f":"IF(BJ107=0,(0),((-BJ108+BJ107+0.5*(B11+E11)*E2*Sheet1!F13^2)/Sheet1!F13))","v":0},null,"v5r =",{"$f":"IF(BM107=0,(0),((BM108-BM107+0.5*(B11+E11)*E2*Sheet1!F13^2)/Sheet1!F13))","v":0}]
[null,null,null,null,null,null,null,null,null,"ระยะที่ V=0",{"$f":"K109/((B7+E7)*E2)","v":{"$error":"#DIV/0!"}},null,"M- max span1r =",{"$f":"IF(N107=0,(0),(0.5*Sheet1!$D$9*'r6'!N109-'r6'!N108-0.25*('r6'!B7+'r6'!E7)*'r6'!E2*Sheet1!$D$9^2))","v":0},null,null,null,null,null,null,null,"ระยะที่ V=0",{"$f":"W109/((B8+E8)*E2)","v":{"$error":"#DIV/0!"}},null,"V2 r =",{"$f":"(Z108-Z107+0.5*(B8+E8)*E2*Sheet1!F10^2)/Sheet1!F10","v":0},null,"v2r =",{"$f":"IF(AC107=0,(0),((AC108-AC107+0.5*(B8+E8)*E2*Sheet1!F10^2)/Sheet1!F10))","v":0},null,null,null,null,"ระยะที่ V=0",{"$f":"AI109/((B9+E9)*E2)","v":{"$error":"#DIV/0!"}},null,"M- max span3l =",{"$f":"IF(AL107=0,(0),(-AL107+0.5*AL109*Sheet1!D9-0.25*Sheet1!D9^2*'r6'!E2*('r6'!B9+'r6'!E9)))","v":0},null,"M- max span3r =",{"$f":"IF(AO107=0,(0),(0.5*AO109*Sheet1!D9-'r6'!AO108-0.25*('r6'!B9+'r6'!E9)*'r6'!E2*Sheet1!D9^2))","v":0},null,null,null,null,"ระยะที่ v=0",{"$f":"AU109/((B10+E10)*E2)","v":{"$error":"#DIV/0!"}},null,"M- max span4l =",{"$f":"IF(AX107=0,(0),(-AX107+0.5*AX109*Sheet1!D9-0.25*Sheet1!D9^2*'r6'!E2*('r6'!B10+'r6'!E10)))","v":0},null,"M- max span4r =",{"$f":"IF(BA107=0,(0),(0.5*BA109*Sheet1!D9-'r6'!BA108-0.25*('r6'!B10+'r6'!E10)*'r6'!E2*Sheet1!D9^2))","v":0},null,null,null,null,"ระยะที่ v=0",{"$f":"BG109/((B11+E11)*E2)","v":{"$error":"#DIV/0!"}},null,"M- max span 5l =",{"$f":"IF(BJ107=0,(0),(-BJ107+0.5*BJ109*Sheet1!D9-0.25*Sheet1!D9^2*'r6'!E2*('r6'!B11+'r6'!E11)))","v":0},null,"M- max span 5r =",{"$f":"IF(BM107=0,(0),(0.5*BM109*Sheet1!D9-'r6'!BM108-0.25*('r6'!B11+'r6'!E11)*'r6'!E2*Sheet1!D9^2))","v":0}]
[null,null,null,null,null,null,null,null,null,"M1+max=",{"$f":"IF(K107=0,(0),(K109*K110-0.5*(B7+E7)*K110^2*E2-K107))","v":0},null,"V1l =",{"$f":"(B7+E7)*E2*Sheet1!$F$9-'r6'!N109","v":0},null,null,null,null,null,null,null,"M2+max=",{"$f":"IF(W107=0,(0),((W109*W110)-0.5*(B8+E8)*E2*W110^2-W107))","v":0},null,"M- max span2l =",{"$f":"IF(Z107=0,(0),(-Z107+0.5*Z109*Sheet1!D9-0.25*(B8+E8)*E2*Sheet1!D9^2))","v":0},null,"M- max span2r =",{"$f":"IF(AC107=0,(0),(0.5*AC110*Sheet1!D9-'r6'!AC108-0.25*('r6'!B8+'r6'!E8)*'r6'!E2*Sheet1!D9^2))","v":0},null,null,null,null,"M3+ max =",{"$f":"IF(AI107=0,(0),(AI109*AI110-0.5*(B9+E9)*E2*AI110^2-AI107))","v":0},null,null,null,null,null,null,null,null,null,null,"M4+ max =",{"$f":"IF(AU107=0,(0),(AU109*AU110-0.5*(B10+E10)*AU110^2*E2-AU107))","v":0},null,null,null,null,null,null,null,null,null,null,"M5+ max =",{"$f":"IF(BG107=0,(0),(BG109*BG110-0.5*(B11+E11)*E2*BG110^2-BG107))","v":0},null,null,null,null,null,null,null,null,null,null,null,null,null,null,null,null,null,null,null,null,null,null,null,null,null,null," "]

{"sheet":"l1","index":7,"n_rows":109,"n_cols":86,"rows_kept":109,"cut":false,"hidden":false,"merged":[[85,18,85,19],[85,20,85,21],[86,10,86,11],[87,10,87,11],[85,6,85,8],[85,9,85,11],[85,12,85,13],[85,14,85,15],[85,16,85,17],[78,9,78,11],[74,9,74,11],[77,9,77,11],[76,9,76,11],[83,9,83,11],[82,9,82,11],[81,9,81,11],[80,9,80,11],[79,9,79,11],[75,9,75,11],[71,12,71,13],[103,21,103,22],[103,24,103,25],[103,27,103,28],[46,10,46,11],[47,10,47,11],[48,10,48,11],[103,9,103,10],[103,12,103,13],[103,15,103,16],[50,10,50,11],[51,10,51,11],[52,10,52,11],[53,10,53,11],[71,18,71,19],[73,9,73,11],[67,10,67,11],[54,10,54,11],[71,6,71,8],[71,9,71,11],[55,9,55,11],[57,10,57,11],[72,9,72,11],[71,14,71,15],[71,16,71,17],[55,6,55,8],[58,10,58,11],[59,10,59,11],[60,10,60,11],[61,10,61,11],[56,10,56,11],[68,10,68,11],[69,10,69,11],[62,10,62,11],[63,10,63,11],[64,10,64,11],[65,10,65,11],[66,10,66,11],[0,0,0,4],[5,0,5,1],[5,3,5,4],[12,0,12,1],[12,3,12,4],[20,69,20,79],[55,14,55,15],[55,16,55,17],[55,18,55,19],[20,9,20,19],[20,21,20,31],[20,33,20,43],[20,45,20,55],[20,57,20,67],[55,12,55,13],[103,51,103,52],[103,57,103,58],[103,60,103,61],[103,63,103,64],[103,33,103,34],[103,36,103,37],[103,39,103,40],[103,45,103,46],[103,48,103,49]]}
["รายการคำนวณโมเมนต์แกน y   แถบนอก L1"]
["ระยะช่วงพื้น (unit: m)",{"$f":"MAX(Sheet1!F9,Sheet1!F10,Sheet1!F11,Sheet1!F12,Sheet1!F13,Sheet1!L9,Sheet1!L10,Sheet1!L11,Sheet1!L12,Sheet1!F13)","v":6},null,"ความกว้างแถบเสา =",{"$f":"(Sheet1!F9)/2","v":2.5}]
["ตัวคูณหาความหนาพื้นขั้นต่ำ",{"$f":"0.01*LN(Sheet1!B9)-0.05","v":3.0255163864890078E-2}]
[]
["ความหนาพื้น (unit:m)",{"$f":"IF((B2*B3)>0.12,(B2*B3),(0.12))","v":0.18153098318934047}]
["น้ำหนัก DL+WDS",null,null,"น้ำหนัก LL"]
["Wdl1+Wsd1 (unit:KG/m^2) =",{"$f":"IF(Sheet1!B4>=2,(((Sheet1!B16*Sheet1!B11)+Sheet1!J9)*1.4),(0))","v":1819.9999999999998},null,"Wtl1 (unit:kg/m^2) =",{"$f":"(1.7*Sheet1!H9)","v":510}]
["Wdl2+Wsd2 (unit:KG/m^2) =",{"$f":"IF(Sheet1!B4>=2,(((Sheet1!B16*Sheet1!B11)+Sheet1!J9)*1.4),(0))","v":1819.9999999999998},null,"Wtl2 (unit:kg/m^2) =",{"$f":"1.7*Sheet1!H9","v":510}]
[{"$f":"IF(Sheet1!B4>2,(\"Wdl3+Wsd3 (unit:KG/m^2) =\"),(\"\"))","v":""},{"$f":"IF(Sheet1!B4>=3,(((Sheet1!B16*Sheet1!B11)+Sheet1!J9)*1.4),(0))","v":0},null,{"$f":"IF(Sheet1!B4>2,(\"Wtl3 (unit:KG/m^2) =\"),(\"\"))","v":""},{"$f":"1.7*Sheet1!H9","v":510}]
[{"$f":"IF(Sheet1!B4>3,(\"Wdl4+Wsd4 (unit:KG/m^2) =\"),(\"\"))","v":""},{"$f":"IF(Sheet1!B4>=4,(((Sheet1!B16*Sheet1!B11)+Sheet1!J9)*1.4),(0))","v":0},null,{"$f":"IF(Sheet1!B4>3,(\"Wtl4 (unit:KG/m^2) =\"),(\"\"))","v":""},{"$f":"1.7*Sheet1!H9","v":510}]
[{"$f":"IF(Sheet1!B4>4,(\"Wdl5+Wsd5 (unit:KG/m^2) =\"),(\"\"))","v":""},{"$f":"IF(Sheet1!B4>=5,(((Sheet1!B16*Sheet1!B11)+Sheet1!J9)*1.4),(0))","v":0},null,{"$f":"IF(Sheet1!B3>4,(\"Wtl5 (unit:KG/m^2) =\"),(\"\"))","v":""},{"$f":"1.7*Sheet1!H9","v":510}]
[]
["โมเมนต์ DL+WSD",null,null,"โมเมนต LL"]
["FEM.DL1 (unit:kg*m) =",{"$f":"B7*E2*Sheet1!L9^2/12","v":13649.999999999998},null,"FEM.TL1 (unit:kg*m) =",{"$f":"E7*E2*Sheet1!L9^2/12","v":3825}]
["FEM.DL2 (unit:kg*m) =",{"$f":"B8*E2*Sheet1!L10^2/12","v":9479.1666666666642},null,"FEM.TL2 (unit:kg*m) =",{"$f":"E8*E2*Sheet1!L10^2/12","v":2656.25}]
[{"$f":"IF(Sheet1!B4>=3,(\"FEM.DL3 (unit:kg*m) =\"),(\"\"))","v":""},{"$f":"B9*E2*Sheet1!L11^2/12","v":0},null,{"$f":"IF(Sheet1!B4>=3,(\"FEM.TL3 (unit:kg*m) =\"),(\"\"))","v":""},{"$f":"E9*E2*Sheet1!L11^2/12","v":0}]
[{"$f":"IF(Sheet1!B4>=4,(\"FEM.DL4 (unit:kg*m) =\"),(\"\"))","v":""},{"$f":"B10*E2*Sheet1!L12^2/12","v":0},null,{"$f":"IF(Sheet1!B4>=4,(\"FEM.TL4 (unit:kg*m) =\"),(\"\"))","v":""},{"$f":"E10*E2*Sheet1!L12^2/12","v":0}]
[{"$f":"IF(Sheet1!B4>=5,(\"FEM.DL5 (unit:kg*m) =\"),(\"\"))","v":""},{"$f":"B11*E2*Sheet1!L13^2/12","v":0},null,{"$f":"IF(Sheet1!B4>=5,(\"FEM.TL5 (unit:kg*m) =\"),(\"\"))","v":""},{"$f":"E11*E2*Sheet1!L13^2/12","v":0}]
[]
[]
[null,null,null,null,null,null,null,null,null,"วางน้ำหนัก LL    สแปน 1",null,null,null,null,null,null,null,null,null,null,null,"วางน้ำหนัก LL  สแปน 2",null,null,null,null,null,null,null,null,null,null,null,"วางน้ำหนัก LL สแปน 3",null,null,null,null,null,null,null,null,null,null,null,"วางน้ำหนัก LL สแปน 4",null,null,null,null,null,null,null,null,null,null,null,"วางน้ำหนัก LL  สแปน 5",null,null,null,null,null,null,null,null,null,null,null,"วางน้ำหนัก DL ทุกสแปน"]
[null,null,null,null,null,null,null,null,null,null,"1r","2l","2r","3l","3r","4l","4r","5l","5r","6l",null,null,"1r","2l","2r","3l","3r","4l","4r","5l","5r","6l",null,null,"1r","2l","2r","3l","3r","4l","4r","5l","5r","6l",null,null,"1r","2l","2r","3l","3r","4l","4r","5l","5r","6l",null,null,"1r","2l","2r","3l","3r","4l","4r","5l","5r","6l",null,null,"1r","2l","2r","3l","3r","4l","4r","5l","5r","6l"]
[null,null,null,null,null,null,null,null,null,"D.o.f",0.32628502906295709,0.199906753055964,0.2415539932759565,0.36916659097886256,null,null,null,null,null,null,null,"D.o.f",0.32628502906295709,0.199906753055964,0.2415539932759565,0.36916659097886256,null,null,null,null,null,null,null,"D.o.f",0.32628502906295709,0.199906753055964,0.2415539932759565,0.36916659097886256,null,null,null,null,null,null,null,"D.o.f",0.32628502906295709,0.199906753055964,0.2415539932759565,0.36916659097886256,null,null,null,null,null,null,null,"D.o.f",0.32628502906295709,0.199906753055964,0.2415539932759565,0.36916659097886256,null,null,null,null,null,null,null,"D.o.f",0.32628502906295709,0.199906753055964,0.2415539932759565,0.36916659097886256]
[null,null,null,null,null,null,null,null,null,"FEM",{"$f":"E14*-1","v":-3825},{"$f":"E14","v":3825},null,null,null,null,null,null,null,null,null,"FEM",null,null,{"$f":"-E15","v":-2656.25},{"$f":"E15","v":2656.25},null,null,null,null,null,null,null,"FEM",null,null,null,null,{"$f":"-E16","v":0},{"$f":"E16","v":0},null,null,null,null,null,"FEM",null,null,null,null,null,null,{"$f":"-E17","v":0},{"$f":"E17","v":0},null,null,null,"FEM",null,null,null,null,null,null,null,null,{"$f":"-E18","v":0},{"$f":"E18","v":0},null,"FEM",{"$f":"-B14","v":-13649.999999999998},{"$f":"B14","v":13649.999999999998},{"$f":"-B15","v":-9479.1666666666642},{"$f":"B15","v":9479.1666666666642},{"$f":"-B16","v":0},{"$f":"B16","v":0},{"$f":"-B17","v":0},{"$f":"B17","v":0},{"$f":"-B18","v":0},{"$f":"B18","v":0}]
[null,null,null,null,null,null,null,null,null,"Dis",{"$f":"(K24)*K23*-1","v":1248.0402361658109},{"$f":"(L24+M24)*L23*-1","v":-764.64333043906231},{"$f":"(M24+L24)*M23*-1","v":-923.94402428053365},{"$f":"(N24+O24)*N23*-1","v":0},{"$f":"(O24+N24)*O23*-1","v":0},{"$f":"(P24+Q24)*P23*-1","v":0},{"$f":"(Q24+P24)*Q23*-1","v":0},{"$f":"(R24+S24)*R23*-1","v":0},{"$f":"(S24+R24)*S23*-1","v":0},{"$f":"(T24+U24)*T23*-1","v":0},null,"Dis",{"$f":"(W24)*W23*-1","v":0},{"$f":"(X24+Y24)*X23*-1","v":531.00231280490436},{"$f":"(Y24+X24)*Y23*-1","v":641.62779463925949},{"$f":"(Z24+AA24)*Z23*-1","v":-980.59875728760369},{"$f":"(AA24+Z24)*AA23*-1","v":0},{"$f":"(AB24+AC24)*AB23*-1","v":0},{"$f":"(AC24+AB24)*AC23*-1","v":0},{"$f":"(AD24+AE24)*AD23*-1","v":0},{"$f":"(AE24+AD24)*AE23*-1","v":0},{"$f":"(AF24+AG24)*AF23*-1","v":0},null,"Dis",{"$f":"(AI24)*AI23*-1","v":0},{"$f":"(AJ24+AK24)*AJ23*-1","v":0},{"$f":"(AK24+AJ24)*AK23*-1","v":0},{"$f":"(AL24+AM24)*AL23*-1","v":0},{"$f":"(AM24+AL24)*AM23*-1","v":0},{"$f":"(AN24+AO24)*AN23*-1","v":0},{"$f":"(AO24+AN24)*AO23*-1","v":0},{"$f":"(AP24+AQ24)*AP23*-1","v":0},{"$f":"(AQ24+AP24)*AQ23*-1","v":0},{"$f":"(AR24+AS24)*AR23*-1","v":0},null,"Dis",{"$f":"(AU24)*AU23*-1","v":0},{"$f":"(AV24+AW24)*AV23*-1","v":0},{"$f":"(AW24+AV24)*AW23*-1","v":0},{"$f":"(AX24+AY24)*AX23*-1","v":0},{"$f":"(AY24+AX24)*AY23*-1","v":0},{"$f":"(AZ24+BA24)*AZ23*-1","v":0},{"$f":"(BA24+AZ24)*BA23*-1","v":0},{"$f":"(BB24+BC24)*BB23*-1","v":0},{"$f":"(BC24+BB24)*BC23*-1","v":0},{"$f":"(BD24+BE24)*BD23*-1","v":0},null,"Dis",{"$f":"(BG24)*BG23*-1","v":0},{"$f":"(BH24+BI24)*BH23*-1","v":0},{"$f":"(BI24+BH24)*BI23*-1","v":0},{"$f":"(BJ24+BK24)*BJ23*-1","v":0},{"$f":"(BK24+BJ24)*BK23*-1","v":0},{"$f":"(BL24+BM24)*BL23*-1","v":0},{"$f":"(BM24+BL24)*BM23*-1","v":0},{"$f":"(BN24+BO24)*BN23*-1","v":0},{"$f":"(BO24+BN24)*BO23*-1","v":0},{"$f":"(BP24+BQ24)*BP23*-1","v":0},null,"Dis",{"$f":"(BS24)*BS23*-1","v":4453.7906467093635},{"$f":"(BT24+BU24)*BT23*-1","v":-833.77774920424997},{"$f":"(BU24+BT24)*BU23*-1","v":-1007.4814469551354},{"$f":"(BV24+BW24)*BV23*-1","v":-3499.3916436538007},{"$f":"(BW24+BV24)*BW23*-1","v":0},{"$f":"(BX24+BY24)*BX23*-1","v":0},{"$f":"(BY24+BX24)*BY23*-1","v":0},{"$f":"(BZ24+CA24)*BZ23*-1","v":0},{"$f":"(CA24+BZ24)*CA23*-1","v":0},{"$f":"(CB24+CC24)*CB23*-1","v":0}]
[null,null,null,null,null,null,null,null,null,"Co",{"$f":"L25/2","v":-382.32166521953116},{"$f":"K25/2","v":624.02011808290547},{"$f":"N25/2","v":0},{"$f":"M25/2","v":-461.97201214026683},{"$f":"P25/2","v":0},{"$f":"O25/2","v":0},{"$f":"R25/2","v":0},{"$f":"Q25/2","v":0},{"$f":"T25/2","v":0},{"$f":"S25/2","v":0},null,"Co",{"$f":"X25/2","v":265.50115640245218},{"$f":"W25/2","v":0},{"$f":"Z25/2","v":-490.29937864380184},{"$f":"Y25/2","v":320.81389731962975},{"$f":"AB25/2","v":0},{"$f":"AA25/2","v":0},{"$f":"AD25/2","v":0},{"$f":"AC25/2","v":0},{"$f":"AF25/2","v":0},{"$f":"AE25/2","v":0},null,"Co",{"$f":"AJ25/2","v":0},{"$f":"AI25/2","v":0},{"$f":"AL25/2","v":0},{"$f":"AK25/2","v":0},{"$f":"AN25/2","v":0},{"$f":"AM25/2","v":0},{"$f":"AP25/2","v":0},{"$f":"AO25/2","v":0},{"$f":"AR25/2","v":0},{"$f":"AQ25/2","v":0},null,"Co",{"$f":"AV25/2","v":0},{"$f":"AU25/2","v":0},{"$f":"AX25/2","v":0},{"$f":"AW25/2","v":0},{"$f":"AZ25/2","v":0},{"$f":"AY25/2","v":0},{"$f":"BB25/2","v":0},{"$f":"BA25/2","v":0},{"$f":"BD25/2","v":0},{"$f":"BC25/2","v":0},null,"Co",{"$f":"BH25/2","v":0},{"$f":"BG25/2","v":0},{"$f":"BJ25/2","v":0},{"$f":"BI25/2","v":0},{"$f":"BL25/2","v":0},{"$f":"BK25/2","v":0},{"$f":"BN25/2","v":0},{"$f":"BM25/2","v":0},{"$f":"BP25/2","v":0},{"$f":"BO25/2","v":0},null,"Co",{"$f":"BT25/2","v":-416.88887460212499},{"$f":"BS25/2","v":2226.8953233546818},{"$f":"BV25/2","v":-1749.6958218269003},{"$f":"BU25/2","v":-503.74072347756771},{"$f":"BX25/2","v":0},{"$f":"BW25/2","v":0},{"$f":"BZ25/2","v":0},{"$f":"BY25/2","v":0},{"$f":"CB25/2","v":0},{"$f":"CA25/2","v":0}]
[null,null,null,null,null,null,null,null,null,"dis",{"$f":"(K26)*K23*-1","v":124.74583564755288},{"$f":"(L26+M26)*L23*-1","v":-124.74583564755288},{"$f":"(M26+L26)*M23*-1","v":-150.73455140745972},{"$f":"(N26+O26)*N23*-1","v":170.544632849468},{"$f":"(O26+N26)*O23*-1","v":0},{"$f":"(P26+Q26)*P23*-1","v":0},{"$f":"(Q26+P26)*Q23*-1","v":0},{"$f":"(R26+S26)*R23*-1","v":0},{"$f":"(S26+R26)*S23*-1","v":0},{"$f":"(T26+U26)*T23*-1","v":0},null,"dis",{"$f":"(W26)*W23*-1","v":-86.629052533022829},{"$f":"(X26+Y26)*X23*-1","v":98.014156810039083},{"$f":"(Y26+X26)*Y23*-1","v":118.43377281213056},{"$f":"(Z26+AA26)*Z23*-1","v":-118.43377281213057},{"$f":"(AA26+Z26)*AA23*-1","v":0},{"$f":"(AB26+AC26)*AB23*-1","v":0},{"$f":"(AC26+AB26)*AC23*-1","v":0},{"$f":"(AD26+AE26)*AD23*-1","v":0},{"$f":"(AE26+AD26)*AE23*-1","v":0},{"$f":"(AF26+AG26)*AF23*-1","v":0},null,"dis",{"$f":"(AI26)*AI23*-1","v":0},{"$f":"(AJ26+AK26)*AJ23*-1","v":0},{"$f":"(AK26+AJ26)*AK23*-1","v":0},{"$f":"(AL26+AM26)*AL23*-1","v":0},{"$f":"(AM26+AL26)*AM23*-1","v":0},{"$f":"(AN26+AO26)*AN23*-1","v":0},{"$f":"(AO26+AN26)*AO23*-1","v":0},{"$f":"(AP26+AQ26)*AP23*-1","v":0},{"$f":"(AQ26+AP26)*AQ23*-1","v":0},{"$f":"(AR26+AS26)*AR23*-1","v":0},null,"dis",{"$f":"(AU26)*AU23*-1","v":0},{"$f":"(AV26+AW26)*AV23*-1","v":0},{"$f":"(AW26+AV26)*AW23*-1","v":0},{"$f":"(AX26+AY26)*AX23*-1","v":0},{"$f":"(AY26+AX26)*AY23*-1","v":0},{"$f":"(AZ26+BA26)*AZ23*-1","v":0},{"$f":"(BA26+AZ26)*BA23*-1","v":0},{"$f":"(BB26+BC26)*BB23*-1","v":0},{"$f":"(BC26+BB26)*BC23*-1","v":0},{"$f":"(BD26+BE26)*BD23*-1","v":0},null,"dis",{"$f":"(BG26)*BG23*-1","v":0},{"$f":"(BH26+BI26)*BH23*-1","v":0},{"$f":"(BI26+BH26)*BI23*-1","v":0},{"$f":"(BJ26+BK26)*BJ23*-1","v":0},{"$f":"(BK26+BJ26)*BK23*-1","v":0},{"$f":"(BL26+BM26)*BL23*-1","v":0},{"$f":"(BM26+BL26)*BM23*-1","v":0},{"$f":"(BN26+BO26)*BN23*-1","v":0},{"$f":"(BO26+BN26)*BO23*-1","v":0},{"$f":"(BP26+BQ26)*BP23*-1","v":0},null,"dis",{"$f":"(BS26)*BS23*-1","v":136.02459856557783},{"$f":"(BT26+BU26)*BT23*-1","v":-95.395402910343321},{"$f":"(BU26+BT26)*BU23*-1","v":-115.26944518333151},{"$f":"(BV26+BW26)*BV23*-1","v":185.96424562343955},{"$f":"(BW26+BV26)*BW23*-1","v":0},{"$f":"(BX26+BY26)*BX23*-1","v":0},{"$f":"(BY26+BX26)*BY23*-1","v":0},{"$f":"(BZ26+CA26)*BZ23*-1","v":0},{"$f":"(CA26+BZ26)*CA23*-1","v":0},{"$f":"(CB26+CC26)*CB23*-1","v":0}]
[null,null,null,null,null,null,null,null,null,"co",{"$f":"L27/2","v":-62.37291782377644},{"$f":"K27/2","v":62.37291782377644},{"$f":"N27/2","v":85.272316424734001},{"$f":"M27/2","v":-75.36727570372986},{"$f":"P27/2","v":0},{"$f":"O27/2","v":0},{"$f":"R27/2","v":0},{"$f":"Q27/2","v":0},{"$f":"T27/2","v":0},{"$f":"S27/2","v":0},null,"co",{"$f":"X27/2","v":49.007078405019541},{"$f":"W27/2","v":-43.314526266511415},{"$f":"Z27/2","v":-59.216886406065285},{"$f":"Y27/2","v":59.216886406065278},{"$f":"AB27/2","v":0},{"$f":"AA27/2","v":0},{"$f":"AD27/2","v":0},{"$f":"AC27/2","v":0},{"$f":"AF27/2","v":0},{"$f":"AE27/2","v":0},null,"co",{"$f":"AJ27/2","v":0},{"$f":"AI27/2","v":0},{"$f":"AL27/2","v":0},{"$f":"AK27/2","v":0},{"$f":"AN27/2","v":0},{"$f":"AM27/2","v":0},{"$f":"AP27/2","v":0},{"$f":"AO27/2","v":0},{"$f":"AR27/2","v":0},{"$f":"AQ27/2","v":0},null,"co",{"$f":"AV27/2","v":0},{"$f":"AU27/2","v":0},{"$f":"AX27/2","v":0},{"$f":"AW27/2","v":0},{"$f":"AZ27/2","v":0},{"$f":"AY27/2","v":0},{"$f":"BB27/2","v":0},{"$f":"BA27/2","v":0},{"$f":"BD27/2","v":0},{"$f":"BC27/2","v":0},null,"co",{"$f":"BH27/2","v":0},{"$f":"BG27/2","v":0},{"$f":"BJ27/2","v":0},{"$f":"BI27/2","v":0},{"$f":"BL27/2","v":0},{"$f":"BK27/2","v":0},{"$f":"BN27/2","v":0},{"$f":"BM27/2","v":0},{"$f":"BP27/2","v":0},{"$f":"BO27/2","v":0},null,"co",{"$f":"BT27/2","v":-47.697701455171661},{"$f":"BS27/2","v":68.012299282788916},{"$f":"BV27/2","v":92.982122811719776},{"$f":"BU27/2","v":-57.634722591665756},{"$f":"BX27/2","v":0},{"$f":"BW27/2","v":0},{"$f":"BZ27/2","v":0},{"$f":"BY27/2","v":0},{"$f":"CB27/2","v":0},{"$f":"CA27/2","v":0}]
[null,null,null,null,null,null,null,null,null,"dis",{"$f":"(K28)*K23*-1","v":20.351349304872329},{"$f":"(L28+M28)*L23*-1","v":-29.515279382806934},{"$f":"(M28+L28)*M23*-1","v":-35.664295920891711},{"$f":"(N28+O28)*N23*-1","v":27.823080242910006},{"$f":"(O28+N28)*O23*-1","v":0},{"$f":"(P28+Q28)*P23*-1","v":0},{"$f":"(Q28+P28)*Q23*-1","v":0},{"$f":"(R28+S28)*R23*-1","v":0},{"$f":"(S28+R28)*S23*-1","v":0},{"$f":"(T28+U28)*T23*-1","v":0},null,"dis",{"$f":"(W28)*W23*-1","v":-15.990276001672418},{"$f":"(X28+Y28)*X23*-1","v":20.496721793615926},{"$f":"(Y28+X28)*Y23*-1","v":24.766872167285911},{"$f":"(Z28+AA28)*Z23*-1","v":-21.860896082909669},{"$f":"(AA28+Z28)*AA23*-1","v":0},{"$f":"(AB28+AC28)*AB23*-1","v":0},{"$f":"(AC28+AB28)*AC23*-1","v":0},{"$f":"(AD28+AE28)*AD23*-1","v":0},{"$f":"(AE28+AD28)*AE23*-1","v":0},{"$f":"(AF28+AG28)*AF23*-1","v":0},null,"dis",{"$f":"(AI28)*AI23*-1","v":0},{"$f":"(AJ28+AK28)*AJ23*-1","v":0},{"$f":"(AK28+AJ28)*AK23*-1","v":0},{"$f":"(AL28+AM28)*AL23*-1","v":0},{"$f":"(AM28+AL28)*AM23*-1","v":0},{"$f":"(AN28+AO28)*AN23*-1","v":0},{"$f":"(AO28+AN28)*AO23*-1","v":0},{"$f":"(AP28+AQ28)*AP23*-1","v":0},{"$f":"(AQ28+AP28)*AQ23*-1","v":0},{"$f":"(AR28+AS28)*AR23*-1","v":0},null,"dis",{"$f":"(AU28)*AU23*-1","v":0},{"$f":"(AV28+AW28)*AV23*-1","v":0},{"$f":"(AW28+AV28)*AW23*-1","v":0},{"$f":"(AX28+AY28)*AX23*-1","v":0},{"$f":"(AY28+AX28)*AY23*-1","v":0},{"$f":"(AZ28+BA28)*AZ23*-1","v":0},{"$f":"(BA28+AZ28)*BA23*-1","v":0},{"$f":"(BB28+BC28)*BB23*-1","v":0},{"$f":"(BC28+BB28)*BC23*-1","v":0},{"$f":"(BD28+BE28)*BD23*-1","v":0},null,"dis",{"$f":"(BG28)*BG23*-1","v":0},{"$f":"(BH28+BI28)*BH23*-1","v":0},{"$f":"(BI28+BH28)*BI23*-1","v":0},{"$f":"(BJ28+BK28)*BJ23*-1","v":0},{"$f":"(BK28+BJ28)*BK23*-1","v":0},{"$f":"(BL28+BM28)*BL23*-1","v":0},{"$f":"(BM28+BL28)*BM23*-1","v":0},{"$f":"(BN28+BO28)*BN23*-1","v":0},{"$f":"(BO28+BN28)*BO23*-1","v":0},{"$f":"(BP28+BQ28)*BP23*-1","v":0},null,"dis",{"$f":"(BS28)*BS23*-1","v":15.563045905536937},{"$f":"(BT28+BU28)*BT23*-1","v":-32.183872181034587},{"$f":"(BU28+BT28)*BU23*-1","v":-38.88884555208346},{"$f":"(BV28+BW28)*BV23*-1","v":21.276814061177681},{"$f":"(BW28+BV28)*BW23*-1","v":0},{"$f":"(BX28+BY28)*BX23*-1","v":0},{"$f":"(BY28+BX28)*BY23*-1","v":0},{"$f":"(BZ28+CA28)*BZ23*-1","v":0},{"$f":"(CA28+BZ28)*CA23*-1","v":0},{"$f":"(CB28+CC28)*CB23*-1","v":0}]
[null,null,null,null,null,null,null,null,null,"co",{"$f":"L29/2","v":-14.757639691403467},{"$f":"K29/2","v":10.175674652436165},{"$f":"N29/2","v":13.911540121455003},{"$f":"M29/2","v":-17.832147960445855},{"$f":"P29/2","v":0},{"$f":"O29/2","v":0},{"$f":"R29/2","v":0},{"$f":"Q29/2","v":0},{"$f":"T29/2","v":0},{"$f":"S29/2","v":0},null,"co",{"$f":"X29/2","v":10.248360896807963},-7.9951380008362092,{"$f":"Z29/2","v":-10.930448041454834},{"$f":"Y29/2","v":12.383436083642955},{"$f":"AB29/2","v":0},{"$f":"AA29/2","v":0},{"$f":"AD29/2","v":0},{"$f":"AC29/2","v":0},{"$f":"AF29/2","v":0},{"$f":"AE29/2","v":0},null,"co",{"$f":"AJ29/2","v":0},{"$f":"AI29/2","v":0},{"$f":"AL29/2","v":0},{"$f":"AK29/2","v":0},{"$f":"AN29/2","v":0},{"$f":"AM29/2","v":0},{"$f":"AP29/2","v":0},{"$f":"AO29/2","v":0},{"$f":"AR29/2","v":0},{"$f":"AQ29/2","v":0},null,"co",{"$f":"AV29/2","v":0},{"$f":"AU29/2","v":0},{"$f":"AX29/2","v":0},{"$f":"AW29/2","v":0},{"$f":"AZ29/2","v":0},{"$f":"AY29/2","v":0},{"$f":"BB29/2","v":0},{"$f":"BA29/2","v":0},{"$f":"BD29/2","v":0},{"$f":"BC29/2","v":0},null,"co",{"$f":"BH29/2","v":0},{"$f":"BG29/2","v":0},{"$f":"BJ29/2","v":0},{"$f":"BI29/2","v":0},{"$f":"BL29/2","v":0},{"$f":"BK29/2","v":0},{"$f":"BN29/2","v":0},{"$f":"BM29/2","v":0},{"$f":"BP29/2","v":0},{"$f":"BO29/2","v":0},null,"co",{"$f":"BT29/2","v":-16.091936090517294},{"$f":"BS29/2","v":7.7815229527684684},{"$f":"BV29/2","v":10.638407030588841},{"$f":"BU29/2","v":-19.44442277604173},{"$f":"BX29/2","v":0},{"$f":"BW29/2","v":0},{"$f":"BZ29/2","v":0},{"$f":"BY29/2","v":0},{"$f":"CB29/2","v":0},{"$f":"CA29/2","v":0}]
[null,null,null,null,null,null,null,null,null,"dis",{"$f":"(K30)*K23*-1","v":4.8151968956102289},{"$f":"(L30+M30)*L23*-1","v":-4.8151968956102298},{"$f":"(M30+L30)*M23*-1","v":-5.8183629155290273},{"$f":"(N30+O30)*N23*-1","v":6.583033272388473},{"$f":"(O30+N30)*O23*-1","v":0},{"$f":"(P30+Q30)*P23*-1","v":0},{"$f":"(Q30+P30)*Q23*-1","v":0},{"$f":"(R30+S30)*R23*-1","v":0},{"$f":"(S30+R30)*S23*-1","v":0},{"$f":"(T30+U30)*T23*-1","v":0},null,"dis",{"$f":"(W30)*W23*-1","v":-3.3438867330626589},{"$f":"(X30+Y30)*X23*-1","v":3.7833524553956748},{"$f":"(Y30+X30)*Y23*-1","v":4.5715508836031074},{"$f":"(Z30+AA30)*Z23*-1","v":-4.5715508836031065},{"$f":"(AA30+Z30)*AA23*-1","v":0},{"$f":"(AB30+AC30)*AB23*-1","v":0},{"$f":"(AC30+AB30)*AC23*-1","v":0},{"$f":"(AD30+AE30)*AD23*-1","v":0},{"$f":"(AE30+AD30)*AE23*-1","v":0},{"$f":"(AF30+AG30)*AF23*-1","v":0},null,"dis",{"$f":"(AI30)*AI23*-1","v":0},{"$f":"(AJ30+AK30)*AJ23*-1","v":0},{"$f":"(AK30+AJ30)*AK23*-1","v":0},{"$f":"(AL30+AM30)*AL23*-1","v":0},{"$f":"(AM30+AL30)*AM23*-1","v":0},{"$f":"(AN30+AO30)*AN23*-1","v":0},{"$f":"(AO30+AN30)*AO23*-1","v":0},{"$f":"(AP30+AQ30)*AP23*-1","v":0},{"$f":"(AQ30+AP30)*AQ23*-1","v":0},{"$f":"(AR30+AS30)*AR23*-1","v":0},null,"dis",{"$f":"(AU30)*AU23*-1","v":0},{"$f":"(AV30+AW30)*AV23*-1","v":0},{"$f":"(AW30+AV30)*AW23*-1","v":0},{"$f":"(AX30+AY30)*AX23*-1","v":0},{"$f":"(AY30+AX30)*AY23*-1","v":0},{"$f":"(AZ30+BA30)*AZ23*-1","v":0},{"$f":"(BA30+AZ30)*BA23*-1","v":0},{"$f":"(BB30+BC30)*BB23*-1","v":0},{"$f":"(BC30+BB30)*BC23*-1","v":0},{"$f":"(BD30+BE30)*BD23*-1","v":0},null,"dis",{"$f":"(BG30)*BG23*-1","v":0},{"$f":"(BH30+BI30)*BH23*-1","v":0},{"$f":"(BI30+BH30)*BI23*-1","v":0},{"$f":"(BJ30+BK30)*BJ23*-1","v":0},{"$f":"(BK30+BJ30)*BK23*-1","v":0},{"$f":"(BL30+BM30)*BL23*-1","v":0},{"$f":"(BM30+BL30)*BM23*-1","v":0},{"$f":"(BN30+BO30)*BN23*-1","v":0},{"$f":"(BO30+BN30)*BO23*-1","v":0},{"$f":"(BP30+BQ30)*BP23*-1","v":0},null,"dis",{"$f":"(BS30)*BS23*-1","v":5.2505578349736837},{"$f":"(BT30+BU30)*BT23*-1","v":-3.6822683944911567},{"$f":"(BU30+BT30)*BU23*-1","v":-4.4494076433434815},{"$f":"(BV30+BW30)*BV23*-1","v":7.178231269783077},{"$f":"(BW30+BV30)*BW23*-1","v":0},{"$f":"(BX30+BY30)*BX23*-1","v":0},{"$f":"(BY30+BX30)*BY23*-1","v":0},{"$f":"(BZ30+CA30)*BZ23*-1","v":0},{"$f":"(CA30+BZ30)*CA23*-1","v":0},{"$f":"(CB30+CC30)*CB23*-1","v":0}]
[null,null,null,null,null,null,null,null,null,"co",{"$f":"L31/2","v":-2.4075984478051149},{"$f":"K31/2","v":2.4075984478051144},{"$f":"N31/2","v":3.2915166361942365},{"$f":"M31/2","v":-2.9091814577645136},{"$f":"P31/2","v":0},{"$f":"O31/2","v":0},{"$f":"R31/2","v":0},{"$f":"Q31/2","v":0},{"$f":"T31/2","v":0},{"$f":"S31/2","v":0},null,"co",{"$f":"X31/2","v":1.8916762276978374},{"$f":"W31/2","v":-1.6719433665313295},{"$f":"Z31/2","v":-2.2857754418015532},{"$f":"Y31/2","v":2.2857754418015537},{"$f":"AB31/2","v":0},{"$f":"AA31/2","v":0},{"$f":"AD31/2","v":0},{"$f":"AC31/2","v":0},{"$f":"AF31/2","v":0},{"$f":"AE31/2","v":0},null,"co",{"$f":"AJ31/2","v":0},{"$f":"AI31/2","v":0},{"$f":"AL31/2","v":0},{"$f":"AK31/2","v":0},{"$f":"AN31/2","v":0},{"$f":"AM31/2","v":0},{"$f":"AP31/2","v":0},{"$f":"AO31/2","v":0},{"$f":"AR31/2","v":0},{"$f":"AQ31/2","v":0},null,"co",{"$f":"AV31/2","v":0},{"$f":"AU31/2","v":0},{"$f":"AX31/2","v":0},{"$f":"AW31/2","v":0},{"$f":"AZ31/2","v":0},{"$f":"AY31/2","v":0},{"$f":"BB31/2","v":0},{"$f":"BA31/2","v":0},{"$f":"BD31/2","v":0},{"$f":"BC31/2","v":0},null,"co",{"$f":"BH31/2","v":0},{"$f":"BG31/2","v":0},{"$f":"BJ31/2","v":0},{"$f":"BI31/2","v":0},{"$f":"BL31/2","v":0},{"$f":"BK31/2","v":0},{"$f":"BN31/2","v":0},{"$f":"BM31/2","v":0},{"$f":"BP31/2","v":0},{"$f":"BO31/2","v":0},null,"co",{"$f":"BT31/2","v":-1.8411341972455784},{"$f":"BS31/2","v":2.6252789174868418},{"$f":"BV31/2","v":3.5891156348915385},{"$f":"BU31/2","v":-2.2247038216717407},{"$f":"BX31/2","v":0},{"$f":"BW31/2","v":0},{"$f":"BZ31/2","v":0},{"$f":"BY31/2","v":0},{"$f":"CB31/2","v":0},{"$f":"CA31/2","v":0}]
[null,null,null,null,null,null,null,null,null,"dis",{"$f":"(K32)*K23*-1","v":0.7855633295140223},{"$f":"(L32+M32)*L23*-1","v":-1.1392915917345776},{"$f":"(M32+L32)*M23*-1","v":-1.3766440066792813},{"$f":"(N32+O32)*N23*-1","v":1.0739726013018434},{"$f":"(O32+N32)*O23*-1","v":0},{"$f":"(P32+Q32)*P23*-1","v":0},{"$f":"(Q32+P32)*Q23*-1","v":0},{"$f":"(R32+S32)*R23*-1","v":0},{"$f":"(S32+R32)*S23*-1","v":0},{"$f":"(T32+U32)*T23*-1","v":0},null,"dis",{"$f":"(W32)*W23*-1","v":-0.61722563293209387},{"$f":"(X32+Y32)*X23*-1","v":0.79117471648234572},{"$f":"(Y32+X32)*Y23*-1","v":0.95600278241616776},{"$f":"(Z32+AA32)*Z23*-1","v":-0.84383192759308301},{"$f":"(AA32+Z32)*AA23*-1","v":0},{"$f":"(AB32+AC32)*AB23*-1","v":0},{"$f":"(AC32+AB32)*AC23*-1","v":0},{"$f":"(AD32+AE32)*AD23*-1","v":0},{"$f":"(AE32+AD32)*AE23*-1","v":0},{"$f":"(AF32+AG32)*AF23*-1","v":0},null,"dis",{"$f":"(AI32)*AI23*-1","v":0},{"$f":"(AJ32+AK32)*AJ23*-1","v":0},{"$f":"(AK32+AJ32)*AK23*-1","v":0},{"$f":"(AL32+AM32)*AL23*-1","v":0},{"$f":"(AM32+AL32)*AM23*-1","v":0},{"$f":"(AN32+AO32)*AN23*-1","v":0},{"$f":"(AO32+AN32)*AO23*-1","v":0},{"$f":"(AP32+AQ32)*AP23*-1","v":0},{"$f":"(AQ32+AP32)*AQ23*-1","v":0},{"$f":"(AR32+AS32)*AR23*-1","v":0},null,"dis",{"$f":"(AU32)*AU23*-1","v":0},{"$f":"(AV32+AW32)*AV23*-1","v":0},{"$f":"(AW32+AV32)*AW23*-1","v":0},{"$f":"(AX32+AY32)*AX23*-1","v":0},{"$f":"(AY32+AX32)*AY23*-1","v":0},{"$f":"(AZ32+BA32)*AZ23*-1","v":0},{"$f":"(BA32+AZ32)*BA23*-1","v":0},{"$f":"(BB32+BC32)*BB23*-1","v":0},{"$f":"(BC32+BB32)*BC23*-1","v":0},{"$f":"(BD32+BE32)*BD23*-1","v":0},null,"dis",{"$f":"(BG32)*BG23*-1","v":0},{"$f":"(BH32+BI32)*BH23*-1","v":0},{"$f":"(BI32+BH32)*BI23*-1","v":0},{"$f":"(BJ32+BK32)*BJ23*-1","v":0},{"$f":"(BK32+BJ32)*BK23*-1","v":0},{"$f":"(BL32+BM32)*BL23*-1","v":0},{"$f":"(BM32+BL32)*BM23*-1","v":0},{"$f":"(BN32+BO32)*BN23*-1","v":0},{"$f":"(BO32+BN32)*BO23*-1","v":0},{"$f":"(BP32+BQ32)*BP23*-1","v":0},null,"dis",{"$f":"(BS32)*BS23*-1","v":0.6007345250570777},{"$f":"(BT32+BU32)*BT23*-1","v":-1.2422994371746328},{"$f":"(BU32+BT32)*BU23*-1","v":-1.5011118199193478},{"$f":"(BV32+BW32)*BV23*-1","v":0.82128632578420391},{"$f":"(BW32+BV32)*BW23*-1","v":0},{"$f":"(BX32+BY32)*BX23*-1","v":0},{"$f":"(BY32+BX32)*BY23*-1","v":0},{"$f":"(BZ32+CA32)*BZ23*-1","v":0},{"$f":"(CA32+BZ32)*CA23*-1","v":0},{"$f":"(CB32+CC32)*CB23*-1","v":0}]
[null,null,null,null,null,null,null,null,null,"co",{"$f":"L33/2","v":-0.56964579586728881},{"$f":"K33/2","v":0.39278166475701115},{"$f":"N33/2","v":0.53698630065092168},{"$f":"M33/2","v":-0.68832200333964066},{"$f":"P33/2","v":0},{"$f":"O33/2","v":0},{"$f":"R33/2","v":0},{"$f":"Q33/2","v":0},{"$f":"T33/2","v":0},{"$f":"S33/2","v":0},null,"co",{"$f":"X33/2","v":0.39558735824117286},{"$f":"W33/2","v":-0.30861281646604694},{"$f":"Z33/2","v":-0.4219159637965415},{"$f":"Y33/2","v":0.47800139120808388},{"$f":"AB33/2","v":0},{"$f":"AA33/2","v":0},{"$f":"AD33/2","v":0},{"$f":"AC33/2","v":0},{"$f":"AF33/2","v":0},{"$f":"AE33/2","v":0},null,"co",{"$f":"AJ33/2","v":0},{"$f":"AI33/2","v":0},{"$f":"AL33/2","v":0},{"$f":"AK33/2","v":0},{"$f":"AN33/2","v":0},{"$f":"AM33/2","v":0},{"$f":"AP33/2","v":0},{"$f":"AO33/2","v":0},{"$f":"AR33/2","v":0},{"$f":"AQ33/2","v":0},null,"co",{"$f":"AV33/2","v":0},{"$f":"AU33/2","v":0},{"$f":"AX33/2","v":0},{"$f":"AW33/2","v":0},{"$f":"AZ33/2","v":0},{"$f":"AY33/2","v":0},{"$f":"BB33/2","v":0},{"$f":"BA33/2","v":0},{"$f":"BD33/2","v":0},{"$f":"BC33/2","v":0},null,"co",{"$f":"BH33/2","v":0},{"$f":"BG33/2","v":0},{"$f":"BJ33/2","v":0},{"$f":"BI33/2","v":0},{"$f":"BL33/2","v":0},{"$f":"BK33/2","v":0},{"$f":"BN33/2","v":0},{"$f":"BM33/2","v":0},{"$f":"BP33/2","v":0},{"$f":"BO33/2","v":0},null,"co",{"$f":"BT33/2","v":-0.62114971858731638},{"$f":"BS33/2","v":0.30036726252853885},{"$f":"BV33/2","v":0.41064316289210195},{"$f":"BU33/2","v":-0.75055590995967392},{"$f":"BX33/2","v":0},{"$f":"BW33/2","v":0},{"$f":"BZ33/2","v":0},{"$f":"BY33/2","v":0},{"$f":"CB33/2","v":0},{"$f":"CA33/2","v":0}]
[null,null,null,null,null,null,null,null,null,"dis",{"$f":"(K34)*K23*-1","v":0.18586689506014964},{"$f":"(L34+M34)*L23*-1","v":-0.18586689506014972},{"$f":"(M34+L34)*M23*-1","v":-0.22458916486434757},{"$f":"(N34+O34)*N23*-1","v":0.25410548746863637},{"$f":"(O34+N34)*O23*-1","v":0},{"$f":"(P34+Q34)*P23*-1","v":0},{"$f":"(Q34+P34)*Q23*-1","v":0},{"$f":"(R34+S34)*R23*-1","v":0},{"$f":"(S34+R34)*S23*-1","v":0},{"$f":"(T34+U34)*T23*-1","v":0},null,"dis",{"$f":"(W34)*W23*-1","v":-0.12907423268065951},{"$f":"(X34+Y34)*X23*-1","v":0.14603763647622783},{"$f":"(Y34+X34)*Y23*-1","v":0.17646214407544197},{"$f":"(Z34+AA34)*Z23*-1","v":-0.17646214407544197},{"$f":"(AA34+Z34)*AA23*-1","v":0},{"$f":"(AB34+AC34)*AB23*-1","v":0},{"$f":"(AC34+AB34)*AC23*-1","v":0},{"$f":"(AD34+AE34)*AD23*-1","v":0},{"$f":"(AE34+AD34)*AE23*-1","v":0},{"$f":"(AF34+AG34)*AF23*-1","v":0},null,"dis",{"$f":"(AI34)*AI23*-1","v":0},{"$f":"(AJ34+AK34)*AJ23*-1","v":0},{"$f":"(AK34+AJ34)*AK23*-1","v":0},{"$f":"(AL34+AM34)*AL23*-1","v":0},{"$f":"(AM34+AL34)*AM23*-1","v":0},{"$f":"(AN34+AO34)*AN23*-1","v":0},{"$f":"(AO34+AN34)*AO23*-1","v":0},{"$f":"(AP34+AQ34)*AP23*-1","v":0},{"$f":"(AQ34+AP34)*AQ23*-1","v":0},{"$f":"(AR34+AS34)*AR23*-1","v":0},null,"dis",{"$f":"(AU34)*AU23*-1","v":0},{"$f":"(AV34+AW34)*AV23*-1","v":0},{"$f":"(AW34+AV34)*AW23*-1","v":0},{"$f":"(AX34+AY34)*AX23*-1","v":0},{"$f":"(AY34+AX34)*AY23*-1","v":0},{"$f":"(AZ34+BA34)*AZ23*-1","v":0},{"$f":"(BA34+AZ34)*BA23*-1","v":0},{"$f":"(BB34+BC34)*BB23*-1","v":0},{"$f":"(BC34+BB34)*BC23*-1","v":0},{"$f":"(BD34+BE34)*BD23*-1","v":0},null,"dis",{"$f":"(BG34)*BG23*-1","v":0},{"$f":"(BH34+BI34)*BH23*-1","v":0},{"$f":"(BI34+BH34)*BI23*-1","v":0},{"$f":"(BJ34+BK34)*BJ23*-1","v":0},{"$f":"(BK34+BJ34)*BK23*-1","v":0},{"$f":"(BL34+BM34)*BL23*-1","v":0},{"$f":"(BM34+BL34)*BM23*-1","v":0},{"$f":"(BN34+BO34)*BN23*-1","v":0},{"$f":"(BO34+BN34)*BO23*-1","v":0},{"$f":"(BP34+BQ34)*BP23*-1","v":0},null,"dis",{"$f":"(BS34)*BS23*-1","v":0.20267185398171014},{"$f":"(BT34+BU34)*BT23*-1","v":-0.14213578553477996},{"$f":"(BU34+BT34)*BU23*-1","v":-0.17174740752119244},{"$f":"(BV34+BW34)*BV23*-1","v":0.27708016661885093},{"$f":"(BW34+BV34)*BW23*-1","v":0},{"$f":"(BX34+BY34)*BX23*-1","v":0},{"$f":"(BY34+BX34)*BY23*-1","v":0},{"$f":"(BZ34+CA34)*BZ23*-1","v":0},{"$f":"(CA34+BZ34)*CA23*-1","v":0},{"$f":"(CB34+CC34)*CB23*-1","v":0}]
[null,null,null,null,null,null,null,null,null,"co",{"$f":"L35/2","v":-9.2933447530074861E-2},{"$f":"K35/2","v":9.293344753007482E-2},{"$f":"N35/2","v":0.12705274373431819},{"$f":"M35/2","v":-0.11229458243217379},{"$f":"P35/2","v":0},{"$f":"O35/2","v":0},{"$f":"R35/2","v":0},{"$f":"Q35/2","v":0},{"$f":"T35/2","v":0},{"$f":"S35/2","v":0},null,"co",7.3018818238113917E-2,-6.4537116340329756E-2,{"$f":"Z35/2","v":-8.8231072037720987E-2},{"$f":"Y35/2","v":8.8231072037720987E-2},{"$f":"AB35/2","v":0},{"$f":"AA35/2","v":0},{"$f":"AD35/2","v":0},{"$f":"AC35/2","v":0},{"$f":"AF35/2","v":0},{"$f":"AE35/2","v":0},null,"co",{"$f":"AJ35/2","v":0},{"$f":"AI35/2","v":0},{"$f":"AL35/2","v":0},{"$f":"AK35/2","v":0},{"$f":"AN35/2","v":0},{"$f":"AM35/2","v":0},{"$f":"AP35/2","v":0},{"$f":"AO35/2","v":0},{"$f":"AR35/2","v":0},{"$f":"AQ35/2","v":0},null,"co",{"$f":"AV35/2","v":0},{"$f":"AU35/2","v":0},{"$f":"AX35/2","v":0},{"$f":"AW35/2","v":0},{"$f":"AZ35/2","v":0},{"$f":"AY35/2","v":0},{"$f":"BB35/2","v":0},{"$f":"BA35/2","v":0},{"$f":"BD35/2","v":0},{"$f":"BC35/2","v":0},null,"co",{"$f":"BH35/2","v":0},{"$f":"BG35/2","v":0},{"$f":"BJ35/2","v":0},{"$f":"BI35/2","v":0},{"$f":"BL35/2","v":0},{"$f":"BK35/2","v":0},{"$f":"BN35/2","v":0},{"$f":"BM35/2","v":0},{"$f":"BP35/2","v":0},{"$f":"BO35/2","v":0},null,"co",{"$f":"BT35/2","v":-7.1067892767389979E-2},{"$f":"BS35/2","v":0.10133592699085507},{"$f":"BV35/2","v":0.13854008330942547},{"$f":"BU35/2","v":-8.5873703760596221E-2},{"$f":"BX35/2","v":0},{"$f":"BW35/2","v":0},{"$f":"BZ35/2","v":0},{"$f":"BY35/2","v":0},{"$f":"CB35/2","v":0},{"$f":"CA35/2","v":0}]
[null,null,null,null,null,null,null,null,null,"dis",{"$f":"(K36)*K23*-1","v":3.0322792628271273E-2},{"$f":"(L36+M36)*L23*-1","v":-4.3976725212813081E-2},{"$f":"(M36+L36)*M23*-1","v":-5.3138542965482469E-2},{"$f":"(N36+O36)*N23*-1","v":4.1455408181880468E-2},{"$f":"(O36+N36)*O23*-1","v":0},{"$f":"(P36+Q36)*P23*-1","v":0},{"$f":"(Q36+P36)*Q23*-1","v":0},{"$f":"(R36+S36)*R23*-1","v":0},{"$f":"(S36+R36)*S23*-1","v":0},{"$f":"(T36+U36)*T23*-1","v":0},null,"dis",{"$f":"(W36)*W23*-1","v":-2.382494723096578E-2},{"$f":"(X36+Y36)*X23*-1","v":3.0539392508897978E-2},{"$f":"(Y36+X36)*Y23*-1","v":3.6901765948251723E-2},{"$f":"(Z36+AA36)*Z23*-1","v":-3.2571964082575899E-2},{"$f":"(AA36+Z36)*AA23*-1","v":0},{"$f":"(AB36+AC36)*AB23*-1","v":0},{"$f":"(AC36+AB36)*AC23*-1","v":0},{"$f":"(AD36+AE36)*AD23*-1","v":0},{"$f":"(AE36+AD36)*AE23*-1","v":0},{"$f":"(AF36+AG36)*AF23*-1","v":0},null,"dis",{"$f":"(AI36)*AI23*-1","v":0},{"$f":"(AJ36+AK36)*AJ23*-1","v":0},{"$f":"(AK36+AJ36)*AK23*-1","v":0},{"$f":"(AL36+AM36)*AL23*-1","v":0},{"$f":"(AM36+AL36)*AM23*-1","v":0},{"$f":"(AN36+AO36)*AN23*-1","v":0},{"$f":"(AO36+AN36)*AO23*-1","v":0},{"$f":"(AP36+AQ36)*AP23*-1","v":0},{"$f":"(AQ36+AP36)*AQ23*-1","v":0},{"$f":"(AR36+AS36)*AR23*-1","v":0},null,"dis",{"$f":"(AU36)*AU23*-1","v":0},{"$f":"(AV36+AW36)*AV23*-1","v":0},{"$f":"(AW36+AV36)*AW23*-1","v":0},{"$f":"(AX36+AY36)*AX23*-1","v":0},{"$f":"(AY36+AX36)*AY23*-1","v":0},{"$f":"(AZ36+BA36)*AZ23*-1","v":0},{"$f":"(BA36+AZ36)*BA23*-1","v":0},{"$f":"(BB36+BC36)*BB23*-1","v":0},{"$f":"(BC36+BB36)*BC23*-1","v":0},{"$f":"(BD36+BE36)*BD23*-1","v":0},null,"dis",{"$f":"(BG36)*BG23*-1","v":0},{"$f":"(BH36+BI36)*BH23*-1","v":0},{"$f":"(BI36+BH36)*BI23*-1","v":0},{"$f":"(BJ36+BK36)*BJ23*-1","v":0},{"$f":"(BK36+BJ36)*BK23*-1","v":0},{"$f":"(BL36+BM36)*BL23*-1","v":0},{"$f":"(BM36+BL36)*BM23*-1","v":0},{"$f":"(BN36+BO36)*BN23*-1","v":0},{"$f":"(BO36+BN36)*BO23*-1","v":0},{"$f":"(BP36+BQ36)*BP23*-1","v":0},null,"dis",{"$f":"(BS36)*BS23*-1","v":2.3188389457050956E-2},{"$f":"(BT36+BU36)*BT23*-1","v":-4.7952834355148063E-2},{"$f":"(BU36+BT36)*BU23*-1","v":-5.7943008179137244E-2},{"$f":"(BV36+BW36)*BV23*-1","v":3.170170247202804E-2},{"$f":"(BW36+BV36)*BW23*-1","v":0},{"$f":"(BX36+BY36)*BX23*-1","v":0},{"$f":"(BY36+BX36)*BY23*-1","v":0},{"$f":"(BZ36+CA36)*BZ23*-1","v":0},{"$f":"(CA36+BZ36)*CA23*-1","v":0},{"$f":"(CB36+CC36)*CB23*-1","v":0}]
[null,null,null,null,null,null,null,null,null,"co",{"$f":"L37/2","v":-2.198836260640654E-2},{"$f":"K37/2","v":1.5161396314135637E-2},{"$f":"N37/2","v":2.0727704090940234E-2},{"$f":"M37/2","v":-2.6569271482741234E-2},{"$f":"P37/2","v":0},{"$f":"O37/2","v":0},{"$f":"R37/2","v":0},{"$f":"Q37/2","v":0},{"$f":"T37/2","v":0},{"$f":"S37/2","v":0},null,"co",{"$f":"X37/2","v":1.5269696254448989E-2},{"$f":"W37/2","v":-1.191247361548289E-2},{"$f":"Z37/2","v":-1.628598204128795E-2},{"$f":"Y37/2","v":1.8450882974125862E-2},{"$f":"AB37/2","v":0},{"$f":"AA37/2","v":0},{"$f":"AD37/2","v":0},{"$f":"AC37/2","v":0},{"$f":"AF37/2","v":0},{"$f":"AE37/2","v":0},null,"co",{"$f":"AJ37/2","v":0},{"$f":"AI37/2","v":0},{"$f":"AL37/2","v":0},{"$f":"AK37/2","v":0},{"$f":"AN37/2","v":0},{"$f":"AM37/2","v":0},{"$f":"AP37/2","v":0},{"$f":"AO37/2","v":0},{"$f":"AR37/2","v":0},{"$f":"AQ37/2","v":0},null,"co",{"$f":"AV37/2","v":0},{"$f":"AU37/2","v":0},{"$f":"AX37/2","v":0},{"$f":"AW37/2","v":0},{"$f":"AZ37/2","v":0},{"$f":"AY37/2","v":0},{"$f":"BB37/2","v":0},{"$f":"BA37/2","v":0},{"$f":"BD37/2","v":0},{"$f":"BC37/2","v":0},null,"co",{"$f":"BH37/2","v":0},{"$f":"BG37/2","v":0},{"$f":"BJ37/2","v":0},{"$f":"BI37/2","v":0},{"$f":"BL37/2","v":0},{"$f":"BK37/2","v":0},{"$f":"BN37/2","v":0},{"$f":"BM37/2","v":0},{"$f":"BP37/2","v":0},{"$f":"BO37/2","v":0},null,"co",{"$f":"BT37/2","v":-2.3976417177574032E-2},{"$f":"BS37/2","v":1.1594194728525478E-2},{"$f":"BV37/2","v":1.585085123601402E-2},{"$f":"BU37/2","v":-2.8971504089568622E-2},{"$f":"BX37/2","v":0},{"$f":"BW37/2","v":0},{"$f":"BZ37/2","v":0},{"$f":"BY37/2","v":0},{"$f":"CB37/2","v":0},{"$f":"CA37/2","v":0}]
[null,null,null,null,null,null,null,null,null,"dis",{"$f":"(K38)*K23*-1","v":7.1744735320781973E-3},{"$f":"(L38+M38)*L23*-1","v":-7.174473532078199E-3},{"$f":"(M38+L38)*M23*-1","v":-8.6691555179278235E-3},{"$f":"(N38+O38)*N23*-1","v":9.8084873780754905E-3},{"$f":"(O38+N38)*O23*-1","v":0},{"$f":"(P38+Q38)*P23*-1","v":0},{"$f":"(Q38+P38)*Q23*-1","v":0},{"$f":"(R38+S38)*R23*-1","v":0},{"$f":"(S38+R38)*S23*-1","v":0},{"$f":"(T38+U38)*T23*-1","v":0},null,"dis",{"$f":"(W38)*W23*-1","v":-4.9822732861654158E-3},{"$f":"(X38+Y38)*X23*-1","v":5.6370617115376392E-3},{"$f":"(Y38+X38)*Y23*-1","v":6.8114495681079815E-3},{"$f":"(Z38+AA38)*Z23*-1","v":-6.8114495681079815E-3},{"$f":"(AA38+Z38)*AA23*-1","v":0},{"$f":"(AB38+AC38)*AB23*-1","v":0},{"$f":"(AC38+AB38)*AC23*-1","v":0},{"$f":"(AD38+AE38)*AD23*-1","v":0},{"$f":"(AE38+AD38)*AE23*-1","v":0},{"$f":"(AF38+AG38)*AF23*-1","v":0},null,"dis",{"$f":"(AI38)*AI23*-1","v":0},{"$f":"(AJ38+AK38)*AJ23*-1","v":0},{"$f":"(AK38+AJ38)*AK23*-1","v":0},{"$f":"(AL38+AM38)*AL23*-1","v":0},{"$f":"(AM38+AL38)*AM23*-1","v":0},{"$f":"(AN38+AO38)*AN23*-1","v":0},{"$f":"(AO38+AN38)*AO23*-1","v":0},{"$f":"(AP38+AQ38)*AP23*-1","v":0},{"$f":"(AQ38+AP38)*AQ23*-1","v":0},{"$f":"(AR38+AS38)*AR23*-1","v":0},null,"dis",{"$f":"(AU38)*AU23*-1","v":0},{"$f":"(AV38+AW38)*AV23*-1","v":0},{"$f":"(AW38+AV38)*AW23*-1","v":0},{"$f":"(AX38+AY38)*AX23*-1","v":0},{"$f":"(AY38+AX38)*AY23*-1","v":0},{"$f":"(AZ38+BA38)*AZ23*-1","v":0},{"$f":"(BA38+AZ38)*BA23*-1","v":0},{"$f":"(BB38+BC38)*BB23*-1","v":0},{"$f":"(BC38+BB38)*BC23*-1","v":0},{"$f":"(BD38+BE38)*BD23*-1","v":0},null,"dis",{"$f":"(BG38)*BG23*-1","v":0},{"$f":"(BH38+BI38)*BH23*-1","v":0},{"$f":"(BI38+BH38)*BI23*-1","v":0},{"$f":"(BJ38+BK38)*BJ23*-1","v":0},{"$f":"(BK38+BJ38)*BK23*-1","v":0},{"$f":"(BL38+BM38)*BL23*-1","v":0},{"$f":"(BM38+BL38)*BM23*-1","v":0},{"$f":"(BN38+BO38)*BN23*-1","v":0},{"$f":"(BO38+BN38)*BO23*-1","v":0},{"$f":"(BP38+BQ38)*BP23*-1","v":0},null,"dis",{"$f":"(BS38)*BS23*-1","v":7.823145975610327E-3},{"$f":"(BT38+BU38)*BT23*-1","v":-5.4864500262427791E-3},{"$f":"(BU38+BT38)*BU23*-1","v":-6.629460448376691E-3},{"$f":"(BV38+BW38)*BV23*-1","v":1.0695311400276223E-2},{"$f":"(BW38+BV38)*BW23*-1","v":0},{"$f":"(BX38+BY38)*BX23*-1","v":0},{"$f":"(BY38+BX38)*BY23*-1","v":0},{"$f":"(BZ38+CA38)*BZ23*-1","v":0},{"$f":"(CA38+BZ38)*CA23*-1","v":0},{"$f":"(CB38+CC38)*CB23*-1","v":0}]
[null,null,null,null,null,null,null,null,null,"co",{"$f":"L39/2","v":-3.5872367660390995E-3},{"$f":"K39/2","v":3.5872367660390986E-3},{"$f":"N39/2","v":4.9042436890377452E-3},{"$f":"M39/2","v":-4.3345777589639117E-3},{"$f":"P39/2","v":0},{"$f":"O39/2","v":0},{"$f":"R39/2","v":0},{"$f":"Q39/2","v":0},{"$f":"T39/2","v":0},{"$f":"S39/2","v":0},null,"co",{"$f":"X39/2","v":2.8185308557688196E-3},{"$f":"W39/2","v":-2.4911366430827079E-3},{"$f":"Z39/2","v":-3.4057247840539907E-3},{"$f":"Y39/2","v":3.4057247840539907E-3},{"$f":"AB39/2","v":0},{"$f":"AA39/2","v":0},{"$f":"AD39/2","v":0},{"$f":"AC39/2","v":0},{"$f":"AF39/2","v":0},{"$f":"AE39/2","v":0},null,"co",{"$f":"AJ39/2","v":0},{"$f":"AI39/2","v":0},{"$f":"AL39/2","v":0},{"$f":"AK39/2","v":0},{"$f":"AN39/2","v":0},{"$f":"AM39/2","v":0},{"$f":"AP39/2","v":0},{"$f":"AO39/2","v":0},{"$f":"AR39/2","v":0},{"$f":"AQ39/2","v":0},null,"co",{"$f":"AV39/2","v":0},{"$f":"AU39/2","v":0},{"$f":"AX39/2","v":0},{"$f":"AW39/2","v":0},{"$f":"AZ39/2","v":0},{"$f":"AY39/2","v":0},{"$f":"BB39/2","v":0},{"$f":"BA39/2","v":0},{"$f":"BD39/2","v":0},{"$f":"BC39/2","v":0},null,"co",{"$f":"BH39/2","v":0},{"$f":"BG39/2","v":0},{"$f":"BJ39/2","v":0},{"$f":"BI39/2","v":0},{"$f":"BL39/2","v":0},{"$f":"BK39/2","v":0},{"$f":"BN39/2","v":0},{"$f":"BM39/2","v":0},{"$f":"BP39/2","v":0},{"$f":"BO39/2","v":0},null,"co",{"$f":"BT39/2","v":-2.7432250131213896E-3},{"$f":"BS39/2","v":3.9115729878051635E-3},{"$f":"BV39/2","v":5.3476557001381113E-3},{"$f":"BU39/2","v":-3.3147302241883455E-3},{"$f":"BX39/2","v":0},{"$f":"BW39/2","v":0},{"$f":"BZ39/2","v":0},{"$f":"BY39/2","v":0},{"$f":"CB39/2","v":0},{"$f":"CA39/2","v":0}]
[null,null,null,null,null,null,null,null,null,"dis",{"$f":"(K40)*K23*-1","v":1.1704616524627757E-3},{"$f":"(L40+M40)*L23*-1","v":-1.6975042864125914E-3},{"$f":"(M40+L40)*M23*-1","v":-2.0511510127485481E-3},{"$f":"(N40+O40)*N23*-1","v":1.6001812946095052E-3},{"$f":"(O40+N40)*O23*-1","v":0},{"$f":"(P40+Q40)*P23*-1","v":0},{"$f":"(Q40+P40)*Q23*-1","v":0},{"$f":"(R40+S40)*R23*-1","v":0},{"$f":"(S40+R40)*S23*-1","v":0},{"$f":"(T40+U40)*T23*-1","v":0},null,"dis",{"$f":"(W40)*W23*-1","v":-9.1964442218937066E-4},{"$f":"(X40+Y40)*X23*-1","v":1.1788224211198555E-3},{"$f":"(Y40+X40)*Y23*-1","v":1.4244104255198254E-3},{"$f":"(Z40+AA40)*Z23*-1","v":-1.2572798083414346E-3},{"$f":"(AA40+Z40)*AA23*-1","v":0},{"$f":"(AB40+AC40)*AB23*-1","v":0},{"$f":"(AC40+AB40)*AC23*-1","v":0},{"$f":"(AD40+AE40)*AD23*-1","v":0},{"$f":"(AE40+AD40)*AE23*-1","v":0},{"$f":"(AF40+AG40)*AF23*-1","v":0},null,"dis",{"$f":"(AI40)*AI23*-1","v":0},{"$f":"(AJ40+AK40)*AJ23*-1","v":0},{"$f":"(AK40+AJ40)*AK23*-1","v":0},{"$f":"(AL40+AM40)*AL23*-1","v":0},{"$f":"(AM40+AL40)*AM23*-1","v":0},{"$f":"(AN40+AO40)*AN23*-1","v":0},{"$f":"(AO40+AN40)*AO23*-1","v":0},{"$f":"(AP40+AQ40)*AP23*-1","v":0},{"$f":"(AQ40+AP40)*AQ23*-1","v":0},{"$f":"(AR40+AS40)*AR23*-1","v":0},null,"dis",{"$f":"(AU40)*AU23*-1","v":0},{"$f":"(AV40+AW40)*AV23*-1","v":0},{"$f":"(AW40+AV40)*AW23*-1","v":0},{"$f":"(AX40+AY40)*AX23*-1","v":0},{"$f":"(AY40+AX40)*AY23*-1","v":0},{"$f":"(AZ40+BA40)*AZ23*-1","v":0},{"$f":"(BA40+AZ40)*BA23*-1","v":0},{"$f":"(BB40+BC40)*BB23*-1","v":0},{"$f":"(BC40+BB40)*BC23*-1","v":0},{"$f":"(BD40+BE40)*BD23*-1","v":0},null,"dis",{"$f":"(BG40)*BG23*-1","v":0},{"$f":"(BH40+BI40)*BH23*-1","v":0},{"$f":"(BI40+BH40)*BI23*-1","v":0},{"$f":"(BJ40+BK40)*BJ23*-1","v":0},{"$f":"(BK40+BJ40)*BK23*-1","v":0},{"$f":"(BL40+BM40)*BL23*-1","v":0},{"$f":"(BM40+BL40)*BM23*-1","v":0},{"$f":"(BN40+BO40)*BN23*-1","v":0},{"$f":"(BO40+BN40)*BO23*-1","v":0},{"$f":"(BP40+BQ40)*BP23*-1","v":0},null,"dis",{"$f":"(BS40)*BS23*-1","v":8.9507325313254338E-4},{"$f":"(BT40+BU40)*BT23*-1","v":-1.8509823428093739E-3},{"$f":"(BU40+BT40)*BU23*-1","v":-2.2366036642279936E-3},{"$f":"(BV40+BW40)*BV23*-1","v":1.2236876568782124E-3},{"$f":"(BW40+BV40)*BW23*-1","v":0},{"$f":"(BX40+BY40)*BX23*-1","v":0},{"$f":"(BY40+BX40)*BY23*-1","v":0},{"$f":"(BZ40+CA40)*BZ23*-1","v":0},{"$f":"(CA40+BZ40)*CA23*-1","v":0},{"$f":"(CB40+CC40)*CB23*-1","v":0}]
[null,null,null,null,null,null,null,null,null,"co",{"$f":"L41/2","v":-8.4875214320629571E-4},{"$f":"K41/2","v":5.8523082623138784E-4},{"$f":"N41/2","v":8.000906473047526E-4},{"$f":"M41/2","v":-1.025575506374274E-3},{"$f":"P41/2","v":0},{"$f":"O41/2","v":0},{"$f":"R41/2","v":0},{"$f":"Q41/2","v":0},{"$f":"T41/2","v":0},{"$f":"S41/2","v":0},null,"co",{"$f":"X41/2","v":5.8941121055992775E-4},{"$f":"W41/2","v":-4.5982221109468533E-4},{"$f":"Z41/2","v":-6.2863990417071731E-4},{"$f":"Y41/2","v":7.122052127599127E-4},{"$f":"AB41/2","v":0},{"$f":"AA41/2","v":0},{"$f":"AD41/2","v":0},{"$f":"AC41/2","v":0},{"$f":"AF41/2","v":0},{"$f":"AE41/2","v":0},null,"co",{"$f":"AJ41/2","v":0},{"$f":"AI41/2","v":0},{"$f":"AL41/2","v":0},{"$f":"AK41/2","v":0},{"$f":"AN41/2","v":0},{"$f":"AM41/2","v":0},{"$f":"AP41/2","v":0},{"$f":"AO41/2","v":0},{"$f":"AR41/2","v":0},{"$f":"AQ41/2","v":0},null,"co",{"$f":"AV41/2","v":0},{"$f":"AU41/2","v":0},{"$f":"AX41/2","v":0},{"$f":"AW41/2","v":0},{"$f":"AZ41/2","v":0},{"$f":"AY41/2","v":0},{"$f":"BB41/2","v":0},{"$f":"BA41/2","v":0},{"$f":"BD41/2","v":0},{"$f":"BC41/2","v":0},null,"co",{"$f":"BH41/2","v":0},{"$f":"BG41/2","v":0},{"$f":"BJ41/2","v":0},{"$f":"BI41/2","v":0},{"$f":"BL41/2","v":0},{"$f":"BK41/2","v":0},{"$f":"BN41/2","v":0},{"$f":"BM41/2","v":0},{"$f":"BP41/2","v":0},{"$f":"BO41/2","v":0},null,"co",{"$f":"BT41/2","v":-9.2549117140468696E-4},{"$f":"BS41/2","v":4.4753662656627169E-4},{"$f":"BV41/2","v":6.118438284391062E-4},{"$f":"BU41/2","v":-1.1183018321139968E-3},{"$f":"BX41/2","v":0},{"$f":"BW41/2","v":0},{"$f":"BZ41/2","v":0},{"$f":"BY41/2","v":0},{"$f":"CB41/2","v":0},{"$f":"CA41/2","v":0}]
[null,null,null,null,null,null,null,null,null,"dis",{"$f":"(K42)*K23*-1","v":2.7693511771331329E-4},{"$f":"(L42+M42)*L23*-1","v":-2.769351177133134E-4},{"$f":"(M42+L42)*M23*-1","v":-3.3462993390358703E-4},{"$f":"(N42+O42)*N23*-1","v":3.7860821347961149E-4},{"$f":"(O42+N42)*O23*-1","v":0},{"$f":"(P42+Q42)*P23*-1","v":0},{"$f":"(Q42+P42)*Q23*-1","v":0},{"$f":"(R42+S42)*R23*-1","v":0},{"$f":"(S42+R42)*S23*-1","v":0},{"$f":"(T42+U42)*T23*-1","v":0},null,"dis",{"$f":"(W42)*W23*-1","v":-1.9231605396757874E-4},{"$f":"(X42+Y42)*X23*-1","v":2.1759092728713307E-4},{"$f":"(Y42+X42)*Y23*-1","v":2.6292237047195245E-4},{"$f":"(Z42+AA42)*Z23*-1","v":-2.629223704719525E-4},{"$f":"(AA42+Z42)*AA23*-1","v":0},{"$f":"(AB42+AC42)*AB23*-1","v":0},{"$f":"(AC42+AB42)*AC23*-1","v":0},{"$f":"(AD42+AE42)*AD23*-1","v":0},{"$f":"(AE42+AD42)*AE23*-1","v":0},{"$f":"(AF42+AG42)*AF23*-1","v":0},null,"dis",{"$f":"(AI42)*AI23*-1","v":0},{"$f":"(AJ42+AK42)*AJ23*-1","v":0},{"$f":"(AK42+AJ42)*AK23*-1","v":0},{"$f":"(AL42+AM42)*AL23*-1","v":0},{"$f":"(AM42+AL42)*AM23*-1","v":0},{"$f":"(AN42+AO42)*AN23*-1","v":0},{"$f":"(AO42+AN42)*AO23*-1","v":0},{"$f":"(AP42+AQ42)*AP23*-1","v":0},{"$f":"(AQ42+AP42)*AQ23*-1","v":0},{"$f":"(AR42+AS42)*AR23*-1","v":0},null,"dis",{"$f":"(AU42)*AU23*-1","v":0},{"$f":"(AV42+AW42)*AV23*-1","v":0},{"$f":"(AW42+AV42)*AW23*-1","v":0},{"$f":"(AX42+AY42)*AX23*-1","v":0},{"$f":"(AY42+AX42)*AY23*-1","v":0},{"$f":"(AZ42+BA42)*AZ23*-1","v":0},{"$f":"(BA42+AZ42)*BA23*-1","v":0},{"$f":"(BB42+BC42)*BB23*-1","v":0},{"$f":"(BC42+BB42)*BC23*-1","v":0},{"$f":"(BD42+BE42)*BD23*-1","v":0},null,"dis",{"$f":"(BG42)*BG23*-1","v":0},{"$f":"(BH42+BI42)*BH23*-1","v":0},{"$f":"(BI42+BH42)*BI23*-1","v":0},{"$f":"(BJ42+BK42)*BJ23*-1","v":0},{"$f":"(BK42+BJ42)*BK23*-1","v":0},{"$f":"(BL42+BM42)*BL23*-1","v":0},{"$f":"(BM42+BL42)*BM23*-1","v":0},{"$f":"(BN42+BO42)*BN23*-1","v":0},{"$f":"(BO42+BN42)*BO23*-1","v":0},{"$f":"(BP42+BQ42)*BP23*-1","v":0},null,"dis",{"$f":"(BS42)*BS23*-1","v":3.0197391375928848E-4},{"$f":"(BT42+BU42)*BT23*-1","v":-2.1177730701107486E-4},{"$f":"(BU42+BT42)*BU23*-1","v":-2.558975793050488E-4},{"$f":"(BV42+BW42)*BV23*-1","v":4.1283967504694046E-4},{"$f":"(BW42+BV42)*BW23*-1","v":0},{"$f":"(BX42+BY42)*BX23*-1","v":0},{"$f":"(BY42+BX42)*BY23*-1","v":0},{"$f":"(BZ42+CA42)*BZ23*-1","v":0},{"$f":"(CA42+BZ42)*CA23*-1","v":0},{"$f":"(CB42+CC42)*CB23*-1","v":0}]
[null,null,null,null,null,null,null,null,null,"co",{"$f":"L43/2","v":-1.384675588566567E-4},{"$f":"K43/2","v":1.3846755885665664E-4},{"$f":"N43/2","v":1.8930410673980574E-4},{"$f":"M43/2","v":-1.6731496695179351E-4},{"$f":"P43/2","v":0},{"$f":"O43/2","v":0},{"$f":"R43/2","v":0},{"$f":"Q43/2","v":0},{"$f":"T43/2","v":0},{"$f":"S43/2","v":0},null,"co",{"$f":"X43/2","v":1.0879546364356654E-4},{"$f":"W43/2","v":-9.6158026983789372E-5},{"$f":"Z43/2","v":-1.3146118523597625E-4},{"$f":"Y43/2","v":1.3146118523597622E-4},{"$f":"AB43/2","v":0},{"$f":"AA43/2","v":0},{"$f":"AD43/2","v":0},{"$f":"AC43/2","v":0},{"$f":"AF43/2","v":0},{"$f":"AE43/2","v":0},null,"co",{"$f":"AJ43/2","v":0},{"$f":"AI43/2","v":0},{"$f":"AL43/2","v":0},{"$f":"AK43/2","v":0},{"$f":"AN43/2","v":0},{"$f":"AM43/2","v":0},{"$f":"AP43/2","v":0},{"$f":"AO43/2","v":0},{"$f":"AR43/2","v":0},{"$f":"AQ43/2","v":0},null,"co",{"$f":"AV43/2","v":0},{"$f":"AU43/2","v":0},{"$f":"AX43/2","v":0},{"$f":"AW43/2","v":0},{"$f":"AZ43/2","v":0},{"$f":"AY43/2","v":0},{"$f":"BB43/2","v":0},{"$f":"BA43/2","v":0},{"$f":"BD43/2","v":0},{"$f":"BC43/2","v":0},null,"co",{"$f":"BH43/2","v":0},{"$f":"BG43/2","v":0},{"$f":"BJ43/2","v":0},{"$f":"BI43/2","v":0},{"$f":"BL43/2","v":0},{"$f":"BK43/2","v":0},{"$f":"BN43/2","v":0},{"$f":"BM43/2","v":0},{"$f":"BP43/2","v":0},{"$f":"BO43/2","v":0},null,"co",{"$f":"BT43/2","v":-1.0588865350553743E-4},{"$f":"BS43/2","v":1.5098695687964424E-4},{"$f":"BV43/2","v":2.0641983752347023E-4},{"$f":"BU43/2","v":-1.279487896525244E-4},{"$f":"BX43/2","v":0},{"$f":"BW43/2","v":0},{"$f":"BZ43/2","v":0},{"$f":"BY43/2","v":0},{"$f":"CB43/2","v":0},{"$f":"CA43/2","v":0}]
[null,null,null,null,null,null,null,null,null,"dis",{"$f":"(K44)*K23*-1","v":4.5179891465820951E-5},{"$f":"(L44+M44)*L23*-1","v":-6.5523769413134024E-5},{"$f":"(M44+L44)*M23*-1","v":-7.9174554707536941E-5},{"$f":"(N44+O44)*N23*-1","v":6.1767095969334659E-5},{"$f":"(O44+N44)*O23*-1","v":0},{"$f":"(P44+Q44)*P23*-1","v":0},{"$f":"(Q44+P44)*Q23*-1","v":0},{"$f":"(R44+S44)*R23*-1","v":0},{"$f":"(S44+R44)*S23*-1","v":0},{"$f":"(T44+U44)*T23*-1","v":0},null,"dis",{"$f":"(W44)*W23*-1","v":-3.5498331016859002E-5},{"$f":"(X44+Y44)*X23*-1","v":4.5502617648009749E-5},{"$f":"(Y44+X44)*Y23*-1","v":5.4982329658011775E-5},{"$f":"(Z44+AA44)*Z23*-1","v":-4.8531077599606123E-5},{"$f":"(AA44+Z44)*AA23*-1","v":0},{"$f":"(AB44+AC44)*AB23*-1","v":0},{"$f":"(AC44+AB44)*AC23*-1","v":0},{"$f":"(AD44+AE44)*AD23*-1","v":0},{"$f":"(AE44+AD44)*AE23*-1","v":0},{"$f":"(AF44+AG44)*AF23*-1","v":0},null,"dis",{"$f":"(AI44)*AI23*-1","v":0},{"$f":"(AJ44+AK44)*AJ23*-1","v":0},{"$f":"(AK44+AJ44)*AK23*-1","v":0},{"$f":"(AL44+AM44)*AL23*-1","v":0},{"$f":"(AM44+AL44)*AM23*-1","v":0},{"$f":"(AN44+AO44)*AN23*-1","v":0},{"$f":"(AO44+AN44)*AO23*-1","v":0},{"$f":"(AP44+AQ44)*AP23*-1","v":0},{"$f":"(AQ44+AP44)*AQ23*-1","v":0},{"$f":"(AR44+AS44)*AR23*-1","v":0},null,"dis",{"$f":"(AU44)*AU23*-1","v":0},{"$f":"(AV44+AW44)*AV23*-1","v":0},{"$f":"(AW44+AV44)*AW23*-1","v":0},{"$f":"(AX44+AY44)*AX23*-1","v":0},{"$f":"(AY44+AX44)*AY23*-1","v":0},{"$f":"(AZ44+BA44)*AZ23*-1","v":0},{"$f":"(BA44+AZ44)*BA23*-1","v":0},{"$f":"(BB44+BC44)*BB23*-1","v":0},{"$f":"(BC44+BB44)*BC23*-1","v":0},{"$f":"(BD44+BE44)*BD23*-1","v":0},null,"dis",{"$f":"(BG44)*BG23*-1","v":0},{"$f":"(BH44+BI44)*BH23*-1","v":0},{"$f":"(BI44+BH44)*BI23*-1","v":0},{"$f":"(BJ44+BK44)*BJ23*-1","v":0},{"$f":"(BK44+BJ44)*BK23*-1","v":0},{"$f":"(BL44+BM44)*BL23*-1","v":0},{"$f":"(BM44+BL44)*BM23*-1","v":0},{"$f":"(BN44+BO44)*BN23*-1","v":0},{"$f":"(BO44+BN44)*BO23*-1","v":0},{"$f":"(BP44+BQ44)*BP23*-1","v":0},null,"dis",{"$f":"(BS44)*BS23*-1","v":3.4549882386491671E-5},{"$f":"(BT44+BU44)*BT23*-1","v":-7.1448031789267098E-5},{"$f":"(BU44+BT44)*BU23*-1","v":-8.6333038412031085E-5},{"$f":"(BV44+BW44)*BV23*-1","v":4.7234418495894001E-5},{"$f":"(BW44+BV44)*BW23*-1","v":0},{"$f":"(BX44+BY44)*BX23*-1","v":0},{"$f":"(BY44+BX44)*BY23*-1","v":0},{"$f":"(BZ44+CA44)*BZ23*-1","v":0},{"$f":"(CA44+BZ44)*CA23*-1","v":0},{"$f":"(CB44+CC44)*CB23*-1","v":0}]
[null,null,null,null,null,null,null,null,null,"sum",{"$f":"SUM(K24:K45)","v":-2888.5859251637457},{"$f":"SUM(L24:L45)","v":3599.3835044369298},{"$f":"SUM(M24:M45)","v":-1014.6607067806401},{"$f":"SUM(N24:N45)","v":-352.58120168199309},{"$f":"SUM(O24:O45)","v":0},0,0,0,0,0,null,"sum",{"$f":"SUM(W24:W45)","v":220.39619472954627},600.90165742991826,-2428.9351764174598,1925.0127047037181,0,0,0,0,0,0,null,"sum",{"$f":"SUM(AI24:AI45)","v":0},0,0,0,0,0,0,0,0,0,null,"sum",{"$f":"SUM(AU24:AU45)","v":0},0,0,0,0,0,0,0,0,0,null,"sum",{"$f":"SUM(BG24:BG45)","v":0},0,0,0,0,0,0,0,0,0,null,"sum",{"$f":"SUM(BS24:BS45)","v":-9521.7751164514557},14989.252930583649,-12288.910798863806,5611.4222264696873,0,0,0,0,0,0]
[null,null,null,null,null,null,null,null,null,"โมเมนต์บวก span 1 =",{"$f":"K109","v":10804.014821140285},null,"โมเมนต์บวก span 2 =",{"$f":"W109","v":7253.058073242828},"โมเมนต์บวก span 3 =",{"$f":"AI109","v":0},"โมเมนต์บวก span 4 =",{"$f":"AU109","v":0},"โมเมนต์บวก span 5 =",{"$f":"BG109","v":0}]
[null,null,null,null,null,null,null,null,null,"โมเมนต์ลบ span 1 ขวา =",{"$f":"N108","v":-15694.218984265002},null,"โมเมนต์ลบ span 2 ขวา =",{"$f":"AC109","v":-5144.1913729377202},"โมเมนต์ลบ span 3 ขวา =",{"$f":"AO108","v":0},"โมเมนต์ลบ span 4 ขวา =",{"$f":"BA108","v":0},"โมเมนต์ลบ span 5 ขวา =",{"$f":"BM108","v":0}]
[null,null,null,null,null,null,null,null,null,"โมเมนต์ลบ span 1 ซ้าย =",{"$f":"Q105","v":-9354.3035547287127},null,"โมเมนต์ลบ span 2 ซ้าย =",{"$f":"Z109","v":-12711.060563959087},"โมเมนต์ลบ span 3 ซ้าย =",{"$f":"AL108","v":0},"โมเมนต์ลบ span 4 ซ้าย =",{"$f":"AX108","v":0},"โมเมนต์ลบ span 5 ซ้าย =",{"$f":"BJ108","v":0}]
[]
[null,null,null,null,null,null,"ทิศทาง","ช่วงเสา","สัมประสิทธ์ร้อยละ","แถบเสา","แถบกลาง",null,"แถบเสา","แถบกลาง","แถบเสา","แถบกลาง","แถบเสา","แถบกลาง","แถบเสา","แถบกลาง"]
[null,null,null,null,null,null,null,"โมเมนต์ลบขวา",0.75,{"$f":"IF((-K48>-N49),(K48),(N49))*I52","v":-11770.664238198751},{"$f":"IF((-K48>-N49),(K48),(N49))-J52","v":-3923.554746066251},null,{"$f":"IF((-N48>-P49),(N48),(P49))*IF(Sheet1!$B$4=2,(I54),(I52))","v":-5144.1913729377202},{"$f":"IF((-N48>-P49),(N48),(P49))-M52","v":0},{"$f":"IF(-P48>-R49,(P48),(R49))*IF(Sheet1!$B$3=3,(1),(0.75))","v":0},{"$f":"IF(-P48>-R49,(P48),(R49))*IF(Sheet1!$B$4=3,(1),(0.75))-O52","v":0},{"$f":"IF(-R48>-T49,(R48),(T49))*IF(Sheet1!$B$4=4,(1),(0.75))","v":0},{"$f":"IF(-R48>-T49,(R48),(T49))*IF(Sheet1!$B$4=4,(1),(0.75))-Q52","v":0},{"$f":"IF(-T48>-V49,(T48),(V49))*IF(Sheet1!$B$4=5,(1),(0.75))","v":0},{"$f":"IF(-T48>-V49,(T48),(V49))*IF(Sheet1!$B$4=5,(1),(0.75))-S52","v":0}]
[null,null,null,null,null,null,null,"โมเมนต์กลางช่วงโมเมนต์บวก",0.6,{"$f":"K47*$I$53","v":6482.4088926841705},{"$f":"K47-J53","v":4321.6059284561143},null,{"$f":"N47*$I$53","v":4351.8348439456968},{"$f":"N47-M53","v":2901.2232292971312},{"$f":"P47*$I$53","v":0},{"$f":"P47-O53","v":0},{"$f":"R47*$I$53","v":0},{"$f":"R47-Q53","v":0},{"$f":"T47*$I$53","v":0},{"$f":"T47-S53","v":0}]
[null,null,null,null,null,null,null,"โมเมนต์ลบซ้าย",1,{"$f":"K49*I54","v":-9354.3035547287127},{"$f":"K49-J54","v":0},null,{"$f":"IF((-K48>-N49),(K48),(N49))*I52","v":-11770.664238198751},{"$f":"IF((-K48>-N49),(K48),(N49))-M54","v":-3923.554746066251},{"$f":"IF((-N48>-P49),(N48),(P49))*IF(Sheet1!$B$4<3,(0),(0.75))","v":0},{"$f":"IF(O54=0,(0),(IF((-N48>-P49),(N48),(P49))-O54))","v":0},{"$f":"IF((-P48>-R49),(P48),(R49))*IF(Sheet1!$B$4<4,(0),(0.75))","v":0},{"$f":"IF(Q54=0,(0),(IF((-P48>-R49),(P48),(R49))-Q54))","v":0},{"$f":"IF((-R48>-T49),(R48),(T49))*IF(Sheet1!$B$4<5,(0),(0.75))","v":0},{"$f":"IF(S54=0,(0),(IF((-R48>-T49),(R48),(T49))-S54))","v":0}]
[]
[null,null,null,null,null,null,"เหล็กเสริมในแผ่นพื้น",null,null,"span l1",null,null,"span l2",null,"span l3",null,"span l4",null,"span l5"]
[null,null,null,null,null,null,null,"รายการ","หน่วย","แถบเสา","แถบกลาง",null,"แถบเสา","แถบกลาง","แถบเสา","แถบกลาง","แถบเสา","แถบกลาง","แถบเสา","แถบกลาง"]
[null,null,null,null,null,null,null,"ความกว้าง","m",{"$f":"E2*0.5","v":1.25},{"$f":"MIN(Sheet1!$F$9/2)-J58","v":1.25},null,{"$f":"E2*0.5","v":1.25},{"$f":"MIN(Sheet1!$F$9/2)-M58","v":1.25},{"$f":"E2*0.5","v":1.25},{"$f":"MIN(Sheet1!$F$9/2)-O58","v":1.25},{"$f":"E2*0.5","v":1.25},{"$f":"MIN(Sheet1!$F$9/2)-Q58","v":1.25},{"$f":"E2*0.5","v":1.25},{"$f":"MIN(Sheet1!$F$9/2)-S58","v":1.25}]
[null,null,null,null,null,null,null,"โมเมนต์ลบขวา","kg-m/m",{"$f":"J52/(0.9*J58)","v":-10462.812656176668},{"$f":"K52/(K58*0.9)","v":-3487.6042187255566},null,{"$f":"M52/(0.9*M58)","v":-4572.6145537224183},{"$f":"N52/(0.9*N58)","v":0},{"$f":"O52/(0.9*O58)","v":0},{"$f":"P52/(0.9*P58)","v":0},{"$f":"Q52/(0.9*Q58)","v":0},0,{"$f":"S52/(0.9*S58)","v":0},{"$f":"T52/(0.9*T58)","v":0}]
[null,null,null,null,null,null,null,"Rn","kg/m^2",{"$f":"J59/(((Sheet1!B16)-(Sheet1!B13/100))^2)","v":-206672.84259114403},{"$f":"K59/(((Sheet1!B16)-(Sheet1!B13/100))^2)","v":-68890.947530381367},null,{"$f":"M59/(((Sheet1!B16)-(Sheet1!B13/100))^2)","v":-90323.250443899611},{"$f":"N59/(((Sheet1!B16)-(Sheet1!B13/100))^2)","v":0},{"$f":"O59/(((Sheet1!B16)-(Sheet1!B13/100))^2)","v":0},{"$f":"P59/(((Sheet1!B16)-(Sheet1!B13/100))^2)","v":0},{"$f":"Q59/(((Sheet1!B16)-(Sheet1!B13/100))^2)","v":0},{"$f":"R59/(((Sheet1!B16)-(Sheet1!B13/100))^2)","v":0},{"$f":"S59/(((Sheet1!B16)-(Sheet1!B13/100))^2)","v":0},{"$f":"T59/(((Sheet1!B16)-(Sheet1!B13/100))^2)","v":0}]
[null,null,null,null,null,null,null,"p",null,{"$f":"ABS((0.85*Sheet1!B10/Sheet1!B9)*(1-(SQRT(1-(2*J60/(0.85*Sheet1!B10*100^2))))))","v":6.5195034261446606E-3},{"$f":"ABS((0.85*Sheet1!B10/Sheet1!B9)*(1-(SQRT(1-(2*K60/(0.85*Sheet1!B10*100^2))))))","v":2.224981966119114E-3},null,{"$f":"ABS((0.85*Sheet1!B10/Sheet1!B9)*(1-(SQRT(1-(2*M60/(0.85*Sheet1!B10*100^2))))))","v":2.9061932452596039E-3},{"$f":"ABS((0.85*Sheet1!B10/Sheet1!B9)*(1-(SQRT(1-(2*N60/(0.85*Sheet1!B10*100^2))))))","v":0},{"$f":"ABS((0.85*Sheet1!B10/Sheet1!B9)*(1-(SQRT(1-(2*O60/(0.85*Sheet1!B10*100^2))))))","v":0},{"$f":"ABS((0.85*Sheet1!B10/Sheet1!B9)*(1-(SQRT(1-(2*P60/(0.85*Sheet1!B10*100^2))))))","v":0},{"$f":"ABS((0.85*Sheet1!B10/Sheet1!B9)*(1-(SQRT(1-(2*Q60/(0.85*Sheet1!B10*100^2))))))","v":0},{"$f":"ABS((0.85*Sheet1!B10/Sheet1!B9)*(1-(SQRT(1-(2*R60/(0.85*Sheet1!B10*100^2))))))","v":0},{"$f":"ABS((0.85*Sheet1!B10/Sheet1!B9)*(1-(SQRT(1-(2*S60/(0.85*Sheet1!B10*100^2))))))","v":0},{"$f":"ABS((0.85*Sheet1!B10/Sheet1!B9)*(1-(SQRT(1-(2*T60/(0.85*Sheet1!B10*100^2))))))","v":0}]
[null,null,null,null,null,null,null,"As-","mm^2/m",{"$f":"IF(J59=0,(0),(IF(J61>(0.0018*4000/Sheet1!$B$9),(ABS(J61*1000*(Sheet1!$B$16*1000-Sheet1!$B$13*10)*-1)),(ABS((0.0018*4000/Sheet1!$B$9)*1000*(Sheet1!$B$16*1000-Sheet1!$B$13*10)*-1)))))","v":1466.8882708825486},{"$f":"IF(J59=0,(0),(IF(K61>(0.0018*4000/Sheet1!$B$9),(ABS(K61*1000*(Sheet1!$B$16*1000-Sheet1!$B$13*10)*-1)),(ABS((0.0018*4000/Sheet1!$B$9)*1000*(Sheet1!$B$16*1000-Sheet1!$B$13*10)*-1)))))","v":529.75801177240021},null,{"$f":"IF(M59=0,(0),(IF(M61>(0.0018*4000/Sheet1!$B$9),(ABS(M61*1000*(Sheet1!$B$16*1000-Sheet1!$B$13*10)*-1)),(ABS((0.0018*4000/Sheet1!$B$9)*1000*(Sheet1!$B$16*1000-Sheet1!$B$13*10)*-1)))))","v":653.89348018341082},{"$f":"IF(M59=0,(0),(IF(N61>(0.0018*4000/Sheet1!$B$9),(ABS(N61*1000*(Sheet1!$B$16*1000-Sheet1!$B$13*10)*-1)),(ABS((0.0018*4000/Sheet1!$B$9)*1000*(Sheet1!$B$16*1000-Sheet1!$B$13*10)*-1)))))","v":529.75801177240021},{"$f":"IF(O53=0,(0),(IF(O61>(0.0018*4000/Sheet1!$B$9),(ABS(O61*1000*(Sheet1!$B$16*1000-Sheet1!$B$13*10)*-1)),(ABS((0.0018*4000/Sheet1!$B$9)*1000*(Sheet1!$B$16*1000-Sheet1!$B$13*10)*-1)))))","v":0},{"$f":"IF(P53=0,(0),(IF(P61>(0.0018*4000/Sheet1!$B$9),(ABS(P61*1000*(Sheet1!$B$16*1000-Sheet1!$B$13*10)*-1)),(ABS((0.0018*4000/Sheet1!$B$9)*1000*(Sheet1!$B$16*1000-Sheet1!$B$13*10)*-1)))))","v":0},{"$f":"IF(Q53=0,(0),(IF(Q61>(0.0018*4000/Sheet1!$B$9),(ABS(Q61*1000*(Sheet1!$B$16*1000-Sheet1!$B$13*10)*-1)),(ABS((0.0018*4000/Sheet1!$B$9)*1000*(Sheet1!$B$16*1000-Sheet1!$B$13*10)*-1)))))","v":0},{"$f":"IF(R53=0,(0),(IF(R61>(0.0018*4000/Sheet1!$B$9),(ABS(R61*1000*(Sheet1!$B$16*1000-Sheet1!$B$13*10)*-1)),(ABS((0.0018*4000/Sheet1!$B$9)*1000*(Sheet1!$B$16*1000-Sheet1!$B$13*10)*-1)))))","v":0},{"$f":"IF(S53=0,(0),(IF(S61>(0.0018*4000/Sheet1!$B$9),(ABS(S61*1000*(Sheet1!$B$16*1000-Sheet1!$B$13*10)*-1)),(ABS((0.0018*4000/Sheet1!$B$9)*1000*(Sheet1!$B$16*1000-Sheet1!$B$13*10)*-1)))))","v":0},{"$f":"IF(T53=0,(0),(IF(T61>(0.0018*4000/Sheet1!$B$9),(ABS(T61*1000*(Sheet1!$B$16*1000-Sheet1!$B$13*10)*-1)),(ABS((0.0018*4000/Sheet1!$B$9)*1000*(Sheet1!$B$16*1000-Sheet1!$B$13*10)*-1)))))","v":0}]
[null,null,null,null,null,null,null,"โมเมนต์บวกกลาง","kg-m/m",{"$f":"J53/(0.9*J58)","v":5762.1412379414851},{"$f":"K53/(0.9*K58)","v":3841.4274919609907},null,{"$f":"M53/(0.9*M58)","v":3868.2976390628414},{"$f":"N53/(0.9*N58)","v":2578.865092708561},{"$f":"O53/(0.9*O58)","v":0},0,0,{"$f":"R53/(0.9*R58)","v":0},0,{"$f":"T53/(0.9*T58)","v":0}]
[null,null,null,null,null,null,null,"Rn","kg/m^2",{"$f":"J63/(((Sheet1!B16)-(Sheet1!B13/100))^2)","v":113820.07383588118},{"$f":"K63/(((Sheet1!B16)-(Sheet1!B13/100))^2)","v":75880.049223920796},null,{"$f":"M63/(((Sheet1!B16)-(Sheet1!B13/100))^2)","v":76410.817561735137},{"$f":"N63/(((Sheet1!B16)-(Sheet1!B13/100))^2)","v":50940.545041156758},{"$f":"O63/(((Sheet1!B16)-(Sheet1!B13/100))^2)","v":0},{"$f":"P63/(((Sheet1!B16)-(Sheet1!B13/100))^2)","v":0},{"$f":"Q63/(((Sheet1!B16)-(Sheet1!B13/100))^2)","v":0},{"$f":"R63/(((Sheet1!B16)-(Sheet1!B13/100))^2)","v":0},{"$f":"S63/(((Sheet1!B16)-(Sheet1!B13/100))^2)","v":0},{"$f":"T63/(((Sheet1!B16)-(Sheet1!B13/100))^2)","v":0}]
[null,null,null,null,null,null,null,"p",null,{"$f":"ABS((0.85*Sheet1!B10/Sheet1!B9)*(1-(SQRT(1-(2*J64/(0.85*Sheet1!B10*100^2))))))","v":3.8033584175747068E-3},{"$f":"(0.85*Sheet1!B10/Sheet1!B9)*(1-(SQRT(1-(2*K64/(0.85*Sheet1!B10*100^2)))))","v":2.5169739478371248E-3},null,{"$f":"ABS((0.85*Sheet1!B10/Sheet1!B9)*(1-(SQRT(1-(2*M64/(0.85*Sheet1!B10*100^2))))))","v":2.5348379625648398E-3},{"$f":"ABS((0.85*Sheet1!B10/Sheet1!B9)*(1-(SQRT(1-(2*N64/(0.85*Sheet1!B10*100^2))))))","v":1.6817104059886538E-3},{"$f":"ABS((0.85*Sheet1!B10/Sheet1!B9)*(1-(SQRT(1-(2*O64/(0.85*Sheet1!B10*100^2))))))","v":0},{"$f":"ABS((0.85*Sheet1!B10/Sheet1!B9)*(1-(SQRT(1-(2*P64/(0.85*Sheet1!B10*100^2))))))","v":0},{"$f":"ABS((0.85*Sheet1!B10/Sheet1!B9)*(1-(SQRT(1-(2*Q64/(0.85*Sheet1!B10*100^2))))))","v":0},{"$f":"ABS((0.85*Sheet1!B10/Sheet1!B9)*(1-(SQRT(1-(2*R64/(0.85*Sheet1!B10*100^2))))))","v":0},{"$f":"ABS((0.85*Sheet1!B10/Sheet1!B9)*(1-(SQRT(1-(2*S64/(0.85*Sheet1!B10*100^2))))))","v":0},{"$f":"ABS((0.85*Sheet1!B10/Sheet1!B9)*(1-(SQRT(1-(2*T64/(0.85*Sheet1!B10*100^2))))))","v":0}]
[null,null,null,null,null,null,null,"As+","mm^2/m",{"$f":"IF(J63=0,(0),(IF(J65>(0.0018*4000/Sheet1!$B$9),(ABS(J65*1000*(Sheet1!$B$16*1000-Sheet1!$B$13*10)*-1)),(ABS((0.0018*4000/Sheet1!$B$9)*1000*(Sheet1!$B$16*1000-Sheet1!$B$13*10)*-1)))))","v":855.75564395430899},{"$f":"IF(K63=0,(0),(IF(K65>(0.0018*4000/Sheet1!$B$9),(ABS(K65*1000*(Sheet1!$B$16*1000-Sheet1!$B$13*10)*-1)),(ABS((0.0018*4000/Sheet1!$B$9)*1000*(Sheet1!$B$16*1000-Sheet1!$B$13*10)*-1)))))","v":566.31913826335312},null,{"$f":"IF(M63=0,(0),(IF(M65>(0.0018*4000/Sheet1!$B$9),(ABS(M65*1000*(Sheet1!$B$16*1000-Sheet1!$B$13*10)*-1)),(ABS((0.0018*4000/Sheet1!$B$9)*1000*(Sheet1!$B$16*1000-Sheet1!$B$13*10)*-1)))))","v":570.33854157708902},{"$f":"IF(N63=0,(0),(IF(N65>(0.0018*4000/Sheet1!$B$9),(ABS(N65*1000*(Sheet1!$B$16*1000-Sheet1!$B$13*10)*-1)),(ABS((0.0018*4000/Sheet1!$B$9)*1000*(Sheet1!$B$16*1000-Sheet1!$B$13*10)*-1)))))","v":529.75801177240021},{"$f":"IF(O53=0,(0),(IF(O65>(0.0018*4000/Sheet1!$B$9),(ABS(O65*1000*(Sheet1!$B$16*1000-Sheet1!$B$13*10)*-1)),(ABS((0.0018*4000/Sheet1!$B$9)*1000*(Sheet1!$B$16*1000-Sheet1!$B$13*10)*-1)))))","v":0},{"$f":"IF(P53=0,(0),(IF(P65>(0.0018*4000/Sheet1!$B$9),(ABS(P65*1000*(Sheet1!$B$16*1000-Sheet1!$B$13*10)*-1)),(ABS((0.0018*4000/Sheet1!$B$9)*1000*(Sheet1!$B$16*1000-Sheet1!$B$13*10)*-1)))))","v":0},{"$f":"IF(Q53=0,(0),(IF(Q65>(0.0018*4000/Sheet1!$B$9),(ABS(Q65*1000*(Sheet1!$B$16*1000-Sheet1!$B$13*10)*-1)),(ABS((0.0018*4000/Sheet1!$B$9)*1000*(Sheet1!$B$16*1000-Sheet1!$B$13*10)*-1)))))","v":0},{"$f":"IF(R53=0,(0),(IF(R65>(0.0018*4000/Sheet1!$B$9),(ABS(R65*1000*(Sheet1!$B$16*1000-Sheet1!$B$13*10)*-1)),(ABS((0.0018*4000/Sheet1!$B$9)*1000*(Sheet1!$B$16*1000-Sheet1!$B$13*10)*-1)))))","v":0},{"$f":"IF(S53=0,(0),(IF(S65>(0.0018*4000/Sheet1!$B$9),(ABS(S65*1000*(Sheet1!$B$16*1000-Sheet1!$B$13*10)*-1)),(ABS((0.0018*4000/Sheet1!$B$9)*1000*(Sheet1!$B$16*1000-Sheet1!$B$13*10)*-1)))))","v":0},{"$f":"IF(T53=0,(0),(IF(T65>(0.0018*4000/Sheet1!$B$9),(ABS(T65*1000*(Sheet1!$B$16*1000-Sheet1!$B$13*10)*-1)),(ABS((0.0018*4000/Sheet1!$B$9)*1000*(Sheet1!$B$16*1000-Sheet1!$B$13*10)*-1)))))","v":0}]
[null,null,null,null,null,null,null,"โมเมนต์ลบซ้าย","kg-m/m",{"$f":"J54/(0.9*J58)","v":-8314.9364930921893},{"$f":"K54/(0.9*K58)","v":0},null,{"$f":"M54/(0.9*M58)","v":-10462.812656176668},{"$f":"N54/(0.9*N58)","v":-3487.6042187255566},{"$f":"O54/(0.9*O58)","v":0},{"$f":"P54/(0.9*P58)","v":0},0,0,0,0]
[null,null,null,null,null,null,null,"Rn","kg/m^2",{"$f":"J67/(((Sheet1!B16)-(Sheet1!B13/100))^2)","v":-164245.65912280866},{"$f":"K67/(((Sheet1!B16)-(Sheet1!B13/100))^2)","v":0},null,{"$f":"M67/(((Sheet1!B16)-(Sheet1!B13/100))^2)","v":-206672.84259114403},{"$f":"N67/(((Sheet1!B16)-(Sheet1!B13/100))^2)","v":-68890.947530381367},{"$f":"O67/(((Sheet1!B16)-(Sheet1!B13/100))^2)","v":0},{"$f":"P67/(((Sheet1!B16)-(Sheet1!B13/100))^2)","v":0},{"$f":"Q67/(((Sheet1!B16)-(Sheet1!B13/100))^2)","v":0},{"$f":"R67/(((Sheet1!B16)-(Sheet1!B13/100))^2)","v":0},{"$f":"S67/(((Sheet1!B16)-(Sheet1!B13/100))^2)","v":0},{"$f":"T67/(((Sheet1!B16)-(Sheet1!B13/100))^2)","v":0}]
[null,null,null,null,null,null,null,"p",null,{"$f":"ABS((0.85*Sheet1!B10/Sheet1!B9)*(1-(SQRT(1-(2*J68/(0.85*Sheet1!B10*100^2))))))","v":5.2179631106158038E-3},{"$f":"(0.85*Sheet1!B10/Sheet1!B9)*(1-(SQRT(1-(2*K68/(0.85*Sheet1!B10*100^2)))))","v":0},null,{"$f":"ABS((0.85*Sheet1!B10/Sheet1!B9)*(1-(SQRT(1-(2*M68/(0.85*Sheet1!B10*100^2))))))","v":6.5195034261446606E-3},{"$f":"ABS((0.85*Sheet1!B10/Sheet1!B9)*(1-(SQRT(1-(2*N68/(0.85*Sheet1!B10*100^2))))))","v":2.224981966119114E-3},{"$f":"ABS((0.85*Sheet1!B10/Sheet1!B9)*(1-(SQRT(1-(2*O68/(0.85*Sheet1!B10*100^2))))))","v":0},{"$f":"ABS((0.85*Sheet1!B10/Sheet1!B9)*(1-(SQRT(1-(2*P68/(0.85*Sheet1!B10*100^2))))))","v":0},{"$f":"ABS((0.85*Sheet1!B10/Sheet1!B9)*(1-(SQRT(1-(2*Q68/(0.85*Sheet1!B10*100^2))))))","v":0},{"$f":"ABS((0.85*Sheet1!B10/Sheet1!B9)*(1-(SQRT(1-(2*R68/(0.85*Sheet1!B10*100^2))))))","v":0},{"$f":"ABS((0.85*Sheet1!B10/Sheet1!B9)*(1-(SQRT(1-(2*S68/(0.85*Sheet1!B10*100^2))))))","v":0},{"$f":"ABS((0.85*Sheet1!B10/Sheet1!B9)*(1-(SQRT(1-(2*T68/(0.85*Sheet1!B10*100^2))))))","v":0}]
[null,null,null,null,null,null,null,"As-","mm^2/m",{"$f":"IF(J67=0,(0),(IF(J69>(0.0018*4000/Sheet1!$B$9),(ABS(J69*1000*(Sheet1!$B$16*1000-Sheet1!$B$13*10)*-1)),(ABS((0.0018*4000/Sheet1!$B$9)*1000*(Sheet1!$B$16*1000-Sheet1!$B$13*10)*-1)))))","v":1174.0416998885557},{"$f":"IF(J67=0,(0),(IF(K69>(0.0018*4000/Sheet1!$B$9),(ABS(K69*1000*(Sheet1!$B$16*1000-Sheet1!$B$13*10)*-1)),(ABS((0.0018*4000/Sheet1!$B$9)*1000*(Sheet1!$B$16*1000-Sheet1!$B$13*10)*-1)))))","v":529.75801177240021},null,{"$f":"IF(M67=0,(0),(IF(M69>(0.0018*4000/Sheet1!$B$9),(ABS(M69*1000*(Sheet1!$B$16*1000-Sheet1!$B$13*10)*-1)),(ABS((0.0018*4000/Sheet1!$B$9)*1000*(Sheet1!$B$16*1000-Sheet1!$B$13*10)*-1)))))","v":1466.8882708825486},{"$f":"IF(M67=0,(0),(IF(N69>(0.0018*4000/Sheet1!$B$9),(ABS(N69*1000*(Sheet1!$B$16*1000-Sheet1!$B$13*10)*-1)),(ABS((0.0018*4000/Sheet1!$B$9)*1000*(Sheet1!$B$16*1000-Sheet1!$B$13*10)*-1)))))","v":529.75801177240021},{"$f":"IF(O53=0,(0),(IF(O69>(0.0018*4000/Sheet1!$B$9),(ABS(O69*1000*(Sheet1!$B$16*1000-Sheet1!$B$13*10)*-1)),(ABS((0.0018*4000/Sheet1!$B$9)*1000*(Sheet1!$B$16*1000-Sheet1!$B$13*10)*-1)))))","v":0},{"$f":"IF(P53=0,(0),(IF(P69>(0.0018*4000/Sheet1!$B$9),(ABS(P69*1000*(Sheet1!$B$16*1000-Sheet1!$B$13*10)*-1)),(ABS((0.0018*4000/Sheet1!$B$9)*1000*(Sheet1!$B$16*1000-Sheet1!$B$13*10)*-1)))))","v":0},{"$f":"IF(Q53=0,(0),(IF(Q69>(0.0018*4000/Sheet1!$B$9),(ABS(Q69*1000*(Sheet1!$B$16*1000-Sheet1!$B$13*10)*-1)),(ABS((0.0018*4000/Sheet1!$B$9)*1000*(Sheet1!$B$16*1000-Sheet1!$B$13*10)*-1)))))","v":0},{"$f":"IF(R53=0,(0),(IF(R69>(0.0018*4000/Sheet1!$B$9),(ABS(R69*1000*(Sheet1!$B$16*1000-Sheet1!$B$13*10)*-1)),(ABS((0.0018*4000/Sheet1!$B$9)*1000*(Sheet1!$B$16*1000-Sheet1!$B$13*10)*-1)))))","v":0},{"$f":"IF(S53=0,(0),(IF(S69>(0.0018*4000/Sheet1!$B$9),(ABS(S69*1000*(Sheet1!$B$16*1000-Sheet1!$B$13*10)*-1)),(ABS((0.0018*4000/Sheet1!$B$9)*1000*(Sheet1!$B$16*1000-Sheet1!$B$13*10)*-1)))))","v":0},{"$f":"IF(T53=0,(0),(IF(T69>(0.0018*4000/Sheet1!$B$9),(ABS(T69*1000*(Sheet1!$B$16*1000-Sheet1!$B$13*10)*-1)),(ABS((0.0018*4000/Sheet1!$B$9)*1000*(Sheet1!$B$16*1000-Sheet1!$B$13*10)*-1)))))","v":0}]
[]
[null,null,null,null,null,null,"ปริมาณเหล็กเสริมรับโมเมนต์ไม่สมดุลในริมเสา",null,null,"เสา1",null,null,"เสา2",null,"เสา3",null,"เสา4",null,"เสา5",null,"เสา 6"]
[null,null,null,null,null,null,null,"รายการ","หน่วย","ขอบเสาขวา",null,null,"ขอบซ้ายเสา","ขอบขวาเสา","ขอบซ้ายเสา","ขอบขวาเสา","ขอบซ้ายเสา","ขอบขวาเสา","ขอบซ้ายเสา","ขอบขวาเสา","ขอบซ้ายเสา"]
[null,null,null,null,null,null,null,"V(ขอบเสา)","kg",{"$f":"(-($B7+$E7)*$E$2*0.5*Sheet1!$D$10+$K$107)","v":15280.287434432437},null,null,{"$f":"((-($B7+$E7)*$E2*0.5*Sheet1!$D$10+$N$107))","v":17476.595540927472},{"$f":"((-($B8+$E8)*$E$2*0.5*Sheet1!$D$10+$Z$107))","v":15107.2305905141},{"$f":"(-($B8+$E8)*$E$2*0.5*Sheet1!$D$10+$AC$108)","v":11961.217791178427},{"$f":"(-($B9+$E9)*$E$2*0.5*Sheet1!$D$10+$AL$107)","v":{"$error":"#DIV/0!"}},{"$f":"(-($B9+$E9)*$E$2*0.5*Sheet1!$D$10+$AO$107)","v":{"$error":"#DIV/0!"}},{"$f":"(-($B$10+$E$10)*$E$2*0.5*Sheet1!$D$10+$AX$107)","v":{"$error":"#DIV/0!"}},{"$f":"(-($B$10+$E$10)*$E$2*0.5*Sheet1!$D$10+$BA$107)","v":{"$error":"#DIV/0!"}},{"$f":"(-($B$11+$E$11)*$E$2*0.5*Sheet1!$D$10+$BJ$107)","v":{"$error":"#DIV/0!"}},{"$f":"(-($B$11+$E$11)*$E$2*0.5*Sheet1!$D$10+$BM$107)","v":{"$error":"#DIV/0!"}}]
[null,null,null,null,null,null,null,"C","m",{"$f":"(J89*(Sheet1!$D$9+0.5*J89)*0.5*(Sheet1!$D$9+0.5*J89))/(J89*(Sheet1!$D$9+0.5*J89)+J89*(Sheet1!$D$10+0.5*J89))","v":0.16673611111111108},null,null,{"$f":"(M89*(Sheet1!$D$9+M89)*0.5*(Sheet1!$D$9+M89))/(M89*(Sheet1!$D$9+M89)+2*M89*(Sheet1!$D$10+0.5*M89))","v":0.15017857142857138},{"$f":"(N89*(Sheet1!$D$9+N89)*0.5*(Sheet1!$D$9+N89))/(N89*(Sheet1!$D$9+N89)+2*N89*(Sheet1!$D$10+0.5*N89))","v":0.15017857142857138},{"$f":"IF(Sheet1!$B$3=2,((J89*(Sheet1!$D$9+0.5*J89)*0.5*(Sheet1!$D$9+0.5*J89))/(J89*(Sheet1!$D$9+0.5*J89)+J89*(Sheet1!$D$10+0.5*J89))),((M89*(Sheet1!$D$9+M89)*0.5*(Sheet1!$D$9+M89))/(M89*(Sheet1!$D$9+M89)+2*M89*(Sheet1!$D$10+0.5*M89))))","v":0.15017857142857138},{"$f":"(P89*(Sheet1!$D$9+P89)*0.5*(Sheet1!$D$9+P89))/(P89*(Sheet1!$D$9+P89)+2*P89*(Sheet1!$D$10+0.5*P89))","v":0.15017857142857138},{"$f":"IF(Sheet1!$B$3=3,((L89*(Sheet1!$D$9+0.5*L89)*0.5*(Sheet1!$D$9+0.5*L89))/(L89*(Sheet1!$D$9+0.5*L89)+L89*(Sheet1!$D$10+0.5*L89))),((O89*(Sheet1!$D$9+O89)*0.5*(Sheet1!$D$9+O89))/(O89*(Sheet1!$D$9+O89)+2*O89*(Sheet1!$D$10+0.5*O89))))","v":0.16673611111111108},{"$f":"(R89*(Sheet1!$D$9+R89)*0.5*(Sheet1!$D$9+R89))/(R89*(Sheet1!$D$9+R89)+2*R89*(Sheet1!$D$10+0.5*R89))","v":0.15017857142857138},{"$f":"IF(Sheet1!$B$3=4,((N89*(Sheet1!$D$9+0.5*N89)*0.5*(Sheet1!$D$9+0.5*N89))/(N89*(Sheet1!$D$9+0.5*N89)+N89*(Sheet1!$D$10+0.5*N89))),((Q89*(Sheet1!$D$9+Q89)*0.5*(Sheet1!$D$9+Q89))/(Q89*(Sheet1!$D$9+Q89)+2*Q89*(Sheet1!$D$10+0.5*Q89))))","v":0.15017857142857138},{"$f":"(T89*(Sheet1!$D$9+T89)*0.5*(Sheet1!$D$9+T89))/(T89*(Sheet1!$D$9+T89)+2*T89*(Sheet1!$D$10+0.5*T89))","v":0.15017857142857138},{"$f":"IF(Sheet1!$B$3=5,((P89*(Sheet1!$D$9+0.5*P89)*0.5*(Sheet1!$D$9+0.5*P89))/(P89*(Sheet1!$D$9+0.5*P89)+P89*(Sheet1!$D$10+0.5*P89))),((S89*(Sheet1!$D$9+S89)*0.5*(Sheet1!$D$9+S89))/(S89*(Sheet1!$D$9+S89)+2*S89*(Sheet1!$D$10+0.5*S89))))","v":0.15017857142857138}]
[null,null,null,null,null,null,null,"g","m",{"$f":"J75-0.5*(Sheet1!$B$16-Sheet1!$B$13/100)","v":5.4236111111111082E-2},null,null,{"$f":"M75-0.5*(Sheet1!$B$16-Sheet1!$B$13/100)","v":3.7678571428571381E-2},{"$f":"N75-0.5*(Sheet1!$B$16-Sheet1!$B$13/100)","v":3.7678571428571381E-2},{"$f":"O75-0.5*(Sheet1!$B$16-Sheet1!$B$13/100)","v":3.7678571428571381E-2},{"$f":"P75-0.5*(Sheet1!$B$16-Sheet1!$B$13/100)","v":3.7678571428571381E-2},{"$f":"Q75-0.5*(Sheet1!$B$16-Sheet1!$B$13/100)","v":5.4236111111111082E-2},{"$f":"R75-0.5*(Sheet1!$B$16-Sheet1!$B$13/100)","v":3.7678571428571381E-2},{"$f":"S75-0.5*(Sheet1!$B$16-Sheet1!$B$13/100)","v":3.7678571428571381E-2},{"$f":"T75-0.5*(Sheet1!$B$16-Sheet1!$B$13/100)","v":3.7678571428571381E-2},{"$f":"U75-0.5*(Sheet1!$B$16-Sheet1!$B$13/100)","v":3.7678571428571381E-2}]
[null,null,null,null,null,null,null,"Mn","kg*m",{"$f":"(ABS(J54)+J74*J76)/0.9","v":11314.496579813673},null,null,{"$f":"(ABS(J52)+M74*M76)/0.9","v":13810.174879573155},{"$f":"(ABS(M52)+N74*N76)/0.9","v":6348.2335998114486},{"$f":"IF(Sheet1!$B$3>=2,((ABS(M54)+O74*O76)/0.9),(0))","v":13579.273152351518},{"$f":"IF(Sheet1!$B$3=2,(0),(IF(Sheet1!$B$3>=2,((ABS(O52)+P74*P76)/0.9),(0))))","v":{"$error":"#DIV/0!"}},{"$f":"IF(Sheet1!$B$3>=3,((ABS(O54)+Q74*Q76)/0.9),(0))","v":{"$error":"#DIV/0!"}},{"$f":"IF(Sheet1!$B$3=3,(0),(IF(Sheet1!$B$3>=3,((ABS(Q52)+R74*R76)/0.9),(0))))","v":0},{"$f":"IF(Sheet1!$B$3>=4,((ABS(Q54)+S74*S76)/0.9),(0))","v":0},{"$f":"IF(Sheet1!$B$3=4,(0),(IF(Sheet1!$B$3>=4,((ABS(S52)+T74*T76)/0.9),(0))))","v":0},{"$f":"IF(Sheet1!$B$3>=5,((ABS(S54)+U74*U76)/0.9),(0))","v":0}]
[null,null,null,null,null,null,null,"b1 ","m",{"$f":"Sheet1!$D$9+(0.5*(Sheet1!$B$16-Sheet1!$B$13/100))","v":0.61250000000000004},null,null,{"$f":"Sheet1!$D$9+((Sheet1!$B$16-Sheet1!$B$13/100))","v":0.72499999999999998},{"$f":"Sheet1!$D$9+((Sheet1!$B$16-Sheet1!$B$13/100))","v":0.72499999999999998},{"$f":"IF(Sheet1!$B$3=2,(Sheet1!$D$9+(0.5*(Sheet1!$B$16-Sheet1!$B$13/100))),(Sheet1!$D$9+((Sheet1!$B$16-Sheet1!$B$13/100))))","v":0.72499999999999998},{"$f":"Sheet1!$D$9+((Sheet1!$B$16-Sheet1!$B$13/100))","v":0.72499999999999998},{"$f":"IF(Sheet1!$B$3=3,(Sheet1!$D$9+(0.5*(Sheet1!$B$16-Sheet1!$B$13/100))),(Sheet1!$D$9+((Sheet1!$B$16-Sheet1!$B$13/100))))","v":0.61250000000000004},{"$f":"Sheet1!$D$9+((Sheet1!$B$16-Sheet1!$B$13/100))","v":0.72499999999999998},{"$f":"IF(Sheet1!$B$3=4,(Sheet1!$D$9+(0.5*(Sheet1!$B$16-Sheet1!$B$13/100))),(Sheet1!$D$9+((Sheet1!$B$16-Sheet1!$B$13/100))))","v":0.72499999999999998},{"$f":"Sheet1!$D$9+((Sheet1!$B$16-Sheet1!$B$13/100))","v":0.72499999999999998},{"$f":"IF(Sheet1!$B$3=5,(Sheet1!$D$9+(0.5*(Sheet1!$B$16-Sheet1!$B$13/100))),(Sheet1!$D$9+((Sheet1!$B$16-Sheet1!$B$13/100))))","v":0.72499999999999998}]
[null,null,null,null,null,null,null,"b2","m",{"$f":"Sheet1!$D$9+(0.5*(Sheet1!$B$16-Sheet1!$B$13/100))","v":0.61250000000000004},null,null,{"$f":"Sheet1!$D$9+(0.5*(Sheet1!$B$16-Sheet1!$B$13/100))","v":0.61250000000000004},{"$f":"Sheet1!$D$9+(0.5*(Sheet1!$B$16-Sheet1!$B$13/100))","v":0.61250000000000004},{"$f":"Sheet1!$D$9+(0.5*(Sheet1!$B$16-Sheet1!$B$13/100))","v":0.61250000000000004},{"$f":"Sheet1!$D$9+(0.5*(Sheet1!$B$16-Sheet1!$B$13/100))","v":0.61250000000000004},{"$f":"Sheet1!$D$9+(0.5*(Sheet1!$B$16-Sheet1!$B$13/100))","v":0.61250000000000004},{"$f":"Sheet1!$D$9+(0.5*(Sheet1!$B$16-Sheet1!$B$13/100))","v":0.61250000000000004},{"$f":"Sheet1!$D$9+(0.5*(Sheet1!$B$16-Sheet1!$B$13/100))","v":0.61250000000000004},{"$f":"Sheet1!$D$9+(0.5*(Sheet1!$B$16-Sheet1!$B$13/100))","v":0.61250000000000004},{"$f":"Sheet1!$D$9+(0.5*(Sheet1!$B$16-Sheet1!$B$13/100))","v":0.61250000000000004}]
[null,null,null,null,null,null,null,"ϒv",null,{"$f":"1-(1/(1+((2/3)*SQRT(J78/J79))))","v":0.39999999999999991},null,null,{"$f":"1-(1/(1+((2/3)*SQRT(M78/M79))))","v":0.42039459543676627},0.42039459543676627,0.42039459543676627,0.42039459543676627,0.39999999999999991,0.42039459543676627,0.42039459543676627,0.42039459543676627,0.42039459543676627]
[null,null,null,null,null,null,null,"ϒf",null,{"$f":"1-J80","v":0.60000000000000009},null,null,{"$f":"1-M80","v":0.57960540456323373},0.57960540456323373,0.57960540456323373,0.57960540456323373,0.60000000000000009,0.57960540456323373,0.57960540456323373,0.57960540456323373,0.57960540456323373]
[null,null,null,null,null,null,null,"Mnf",null,{"$f":"ABS(J77)*J81","v":6788.6979478882049},null,null,{"$f":"IF(M77>N77,((M77-N77)*M81),(0))","v":4324.9814942833773},{"$f":"IF(N77>M77,((N77-M77)*N81),(0))","v":0},{"$f":"IF(O77>P77,((O77-P77)*O81),(0))","v":{"$error":"#DIV/0!"}},{"$f":"IF(P77>O77,((P77-O77)*P81),(0))","v":{"$error":"#DIV/0!"}},{"$f":"IF(Q77>R77,((Q77-R77)*Q81),(0))","v":{"$error":"#DIV/0!"}},{"$f":"IF(R77>Q77,((R77-Q77)*R81),(0))","v":{"$error":"#DIV/0!"}},{"$f":"IF(S77>T77,((S77-T77)*S81),(0))","v":0},{"$f":"IF(T77>S77,((T77-S77)*T81),(0))","v":0},{"$f":"U77*U81","v":0}]
[null,null,null,null,null,null,null,"ความกว้างประสิทธิผล","m",{"$f":"1.5*Sheet1!$B$16+Sheet1!$D$9","v":0.875},null,null,{"$f":"1.5*Sheet1!$B$16+Sheet1!$D$9","v":0.875},{"$f":"1.5*Sheet1!$B$16+Sheet1!$D$9","v":0.875},{"$f":"1.5*Sheet1!$B$16+Sheet1!$D$9","v":0.875},{"$f":"1.5*Sheet1!$B$16+Sheet1!$D$9","v":0.875},{"$f":"1.5*Sheet1!$B$16+Sheet1!$D$9","v":0.875},{"$f":"1.5*Sheet1!$B$16+Sheet1!$D$9","v":0.875},{"$f":"1.5*Sheet1!$B$16+Sheet1!$D$9","v":0.875},{"$f":"1.5*Sheet1!$B$16+Sheet1!$D$9","v":0.875},{"$f":"1.5*Sheet1!$B$16+Sheet1!$D$9","v":0.875}]
[null,null,null,null,null,null,null,"As"]
[]
[null,null,null,null,null,null,"เช็ค punching shear  ",null,null,"เสา1",null,null,"เสา2",null,"เสา3",null,"เสา4",null,"เสา5",null,"เสา 6"]
[null,null,null,null,null,null,null,"รายการ","หน่วย","ขนาน frame","ตัดขวาง frame",null,"ขนาน frame","ตัดขวาง frame","ขนาน frame","ตัดขวาง frame","ขนาน frame","ตัดขวาง frame","ขนาน frame","ตัดขวาง frame","ขนาน frame","ตัดขวาง frame"]
[null,null,null,null,null,null,null,"Mn","kg*m",{"$f":"-J77","v":-11314.496579813673},{"$f":"-'l1'!J77","v":-11314.496579813673},null,{"$f":"IF(M82>N82,(M82),(-N82))","v":4324.9814942833773},{"$f":"-'l2'!J77","v":-62.5},{"$f":"IF(Sheet1!$B$3=2,(O77),(IF(O82>P82,(O82),(-P82))))","v":{"$error":"#DIV/0!"}},{"$f":"-'l3'!J79","v":-22.5},{"$f":"IF(Sheet1!$B$3=3,(Q77),(IF(Q82>R82,(Q82),(-R82))))","v":{"$error":"#DIV/0!"}},{"$f":"-'l4'!$J$79","v":-22.5},{"$f":"IF(Sheet1!$B$3=4,(S77),(IF(S82>T82,(S82),(-T82))))","v":0},{"$f":"-'l5'!$J$79","v":-22.5},{"$f":"IF(Sheet1!$B$3=5,(U77),(0))","v":0},{"$f":"-'l6'!$J$79","v":0}]
[null,null,null,null,null,null,null,"ระยะ d",null,{"$f":"Sheet1!$B$16-(Sheet1!$B$13/100)","v":0.22500000000000001},{"$f":"Sheet1!$B$16-(Sheet1!$B$13/100)","v":0.22500000000000001},{"$f":"Sheet1!$B$16-(Sheet1!$B$13/100)","v":0.22500000000000001},{"$f":"Sheet1!$B$16-(Sheet1!$B$13/100)","v":0.22500000000000001},{"$f":"Sheet1!$B$16-(Sheet1!$B$13/100)","v":0.22500000000000001},{"$f":"Sheet1!$B$16-(Sheet1!$B$13/100)","v":0.22500000000000001},{"$f":"Sheet1!$B$16-(Sheet1!$B$13/100)","v":0.22500000000000001},{"$f":"Sheet1!$B$16-(Sheet1!$B$13/100)","v":0.22500000000000001},{"$f":"Sheet1!$B$16-(Sheet1!$B$13/100)","v":0.22500000000000001},{"$f":"Sheet1!$B$16-(Sheet1!$B$13/100)","v":0.22500000000000001},{"$f":"Sheet1!$B$16-(Sheet1!$B$13/100)","v":0.22500000000000001},{"$f":"Sheet1!$B$16-(Sheet1!$B$13/100)","v":0.22500000000000001},{"$f":"Sheet1!$B$16-(Sheet1!$B$13/100)","v":0.22500000000000001}]
[]
[]
[]
[]
[]
[]
[]
[]
[]
[]
[]
[]
[]
[]
[null,null,null,null,null,null,null,null,null,"โมเมนต์บวก span 1",null,null,"โมเมนต์ลบ span 1  ขวา",null,null,"โมเมนต์ลบ span 1 ซ้าย",null,null,null,null,null,"โมเมนต์บวก span 2",null,null,"โมเมนต์ลบ span 2  ซ้าย",null,null,"โมเมนต์ลบspan 2 ขวา",null,null,null,null,null,"โมเมนต์บวกสแปน 3",null,null,"โมเมนต์ลบspan 3 ซ้าย",null,null,"โมเมนต์ลบspan 3 ขวา",null,null,null,null,null,"โมเมนต์บวกสแปน 4",null,null,"โมเมนต์ลบสแปน 4 ซ้าย",null,null,"โมเมนต์ลบสแปน 4 ขวา",null,null,null,null,null,"โมเมนต์บวกสแปน 5",null,null,"โมเมนต์ลบ span 5 ซ้าย",null,null,"โมเมนต์ลบ span 5 ขวา"]
[null,null,null,null,null,null,null,null,null,"M 1l =",{"$f":"(K46+AI46+BG46+BS46)*-1","v":12410.361041615201},null,"M 1l =",{"$f":"(K46+W46+AU46+BS46)*-1","v":12189.964846885656},null,"M- max span1l =",{"$f":"-K105+0.5*K107*Sheet1!D10-0.25*'l1'!E2*('l1'!B7+'l1'!E7)*Sheet1!D10^2","v":-9354.3035547287127},null,null,null,null,"M 2l =",{"$f":"(Y46+AW46+BU46)*-1","v":14717.845975281267},null,"M 2l =",{"$f":"(M46+Y46+AW46+BU46)*-1","v":15732.506682061907},null,"M 2l =",{"$f":"(Y46+AK46+BU46+BI46)*-1","v":14717.845975281267},null,null,null,null,"M 3l =",{"$f":"(AM46+O46+BK46+BW46)*-1","v":0},null,"M3l =",{"$f":"(AM46+AA46+BW46+BK46)*-1","v":0},null,"M3l =",{"$f":"(AM46+AY46+O46+BW46)*-1","v":0},null,null,null,null,"m 4l =",{"$f":"(BA46+AC46+BY46)*-1","v":0},null,"m4l =",{"$f":"(BA46+AO46+Q46+BY46)*-1","v":0},null," m4l =",{"$f":"(BA46+BM46+AC46+BY46)*-1","v":0},null,null,null,null,"m5l =",{"$f":"(BO46+AQ46+S46+CA46)*-1","v":0},null,"m5l =",{"$f":"(BO46+BC46+AE46+CA46)*-1","v":0},null,"m5l =",{"$f":"(BO46+AQ46+S46+CA46)*-1","v":0}]
[null,null,null,null,null,null,null,null,null,"M 1r =",{"$f":"(L46+AJ46+BH46+BT46)","v":18588.636435020577},null,"M 1r =",{"$f":"(L46+X46+AV46+BT46)","v":19189.538092450497},null,null,null,null,null,null,null,"M 2r =",{"$f":"(Z46+AX46+BV46)","v":7536.4349311734059},null,"M 2r =",{"$f":"Z46+N46+AX46+BV46","v":7183.8537294914122},null,"M 2r =",{"$f":"(Z46+AL46+BV46)+BJ46","v":7536.4349311734059},null,null,null,null,"M 3r =",{"$f":"(AN46+P46+BL46+BX46)","v":0},null,"M3r =",{"$f":"AN46+AB46+BL46+BX46","v":0},null,"M3r =",{"$f":"AN46+AZ46+P46+BX46","v":0},null,null,null,null,"m 4r =",{"$f":"(BB46+AD46+BZ46)","v":0},null,"m4r =",{"$f":"BB46+AP46+R46+BZ46","v":0},null,"m4r =",{"$f":"(BB46+BN46+BZ46+AD46)","v":0},null,null,null,null,"m5r =",{"$f":"(BP46+AR46+T46+CB46)","v":0},null,"m5r =",{"$f":"BP46+CB46+BD46+AF46","v":0},null,"m5r =",{"$f":"BP46+CB46+AR46+T46","v":0}]
[null,null,null,null,null,null,null,null,null,"V1l =",{"$f":"(-K106+K105+(0.5*(B7+E7)*E2*Sheet1!L9^2))/Sheet1!L9","v":16445.287434432437},null,"V 1r =",{"$f":"(N106-N105+0.5*(B7+E7)*E2*Sheet1!$L$9^2)/Sheet1!$L$9","v":18641.595540927472},null,null,null,null,null,null,null,"V2l =",{"$f":"(-W106+W105+0.5*(B8+E8)*E2*Sheet1!L10^2)/Sheet1!L10","v":15998.782208821573},null,"V2l  =",{"$f":"(-Z106+Z105+0.5*(B8+E8)*E2*Sheet1!L10^2)/Sheet1!L10","v":16272.2305905141},null,"V2l =",{"$f":"(-AC106+AC105+0.5*(B8+E8)*E2*Sheet1!L10^2)/Sheet1!L10","v":15998.782208821573},null,null,null,null,"V3l =",{"$f":"(-AI106+AI105+0.5*(B9+E9)*E2*Sheet1!L11^2)/Sheet1!L11","v":{"$error":"#DIV/0!"}},null,"V3l =",{"$f":"(-AL106+AL105+0.5*(B9+E9)*Sheet1!L11^2*E2)/Sheet1!L11","v":{"$error":"#DIV/0!"}},null,"V3r =",{"$f":"(AO106-AO105+0.5*(B9+E9)*E2*Sheet1!L11^2)/Sheet1!L11","v":{"$error":"#DIV/0!"}},null,null,null,null,"v4l =",{"$f":"(-AU106+AU105+0.5*(B10+E10)*E2*Sheet1!L12^2)/Sheet1!L12","v":{"$error":"#DIV/0!"}},null,"V4l =",{"$f":"(-AX106+AX105+0.5*(B10+E10)*Sheet1!L12^2*E2)/Sheet1!L12","v":{"$error":"#DIV/0!"}},null,"v4r =",{"$f":"(BA106-BA105+0.5*(B10+E10)*E2*Sheet1!L12^2)/Sheet1!L12","v":{"$error":"#DIV/0!"}},null,null,null,null,"v5l =",{"$f":"(-BG106+BG105+0.5*(B11+E11)*E2*Sheet1!L13^2)/Sheet1!L13","v":{"$error":"#DIV/0!"}},null,"v5l =",{"$f":"(-BJ106+BJ105+0.5*(B11+E11)*E2*Sheet1!L13^2)/Sheet1!L13","v":{"$error":"#DIV/0!"}},null,"v5r =",{"$f":"(BM106-BM105+0.5*(B11+E11)*E2*Sheet1!L13^2)/Sheet1!L13","v":{"$error":"#DIV/0!"}}]
[null,null,null,null,null,null,null,null,null,"ระยะที่ V=0",{"$f":"K107/((B7+E7)*E2)","v":2.8232253106321781},null,"M- max span1r =",{"$f":"0.5*Sheet1!$D$10*'l1'!N107-'l1'!N106-0.25*('l1'!B7+'l1'!E7)*'l1'!E2*Sheet1!$D$10^2","v":-15694.218984265002},null,null,null,null,null,null,null,"ระยะที่ V=0",{"$f":"W107/((B8+E8)*E2)","v":2.7465720530165791},null,"V2 r =",{"$f":"(Z106-Z105+0.5*(B8+E8)*E2*Sheet1!L10^2)/Sheet1!L10","v":12852.7694094859},null,"v2r =",{"$f":"(AC106-AC105+0.5*(B8+E8)*E2*Sheet1!L10^2)/Sheet1!L10","v":13126.217791178427},null,null,null,null,"ระยะที่ V=0",{"$f":"AI107/((B9+E9)*E2)","v":{"$error":"#DIV/0!"}},null,"M- max span3l =",{"$f":"IF(AL105=0,(0),(-AL105+0.5*AL107*Sheet1!D10-0.25*Sheet1!D10^2*'l1'!E2*('l1'!B9+'l1'!E9)))","v":0},null,"M- max span3r =",{"$f":"IF(AO105=0,(0),0.5*AO107*Sheet1!D10-'l1'!AO106-0.25*('l1'!B9+'l1'!E9)*'l1'!E2*Sheet1!D10^2)","v":0},null,null,null,null,"ระยะที่ v=0",{"$f":"AU107/((B10+E10)*E2)","v":{"$error":"#DIV/0!"}},null,"M- max span4l =",{"$f":"IF(AX105=0,(0),-AX105+0.5*AX107*Sheet1!D10-0.25*Sheet1!D10^2*'l1'!E2*('l1'!B10+'l1'!E10))","v":0},null,"M- max span4r =",{"$f":"IF(BA105=0,(0),0.5*BA107*Sheet1!D10-'l1'!BA106-0.25*('l1'!B10+'l1'!E10)*'l1'!E2*Sheet1!D10^2)","v":0},null,null,null,null,"ระยะที่ v=0",{"$f":"BG107/((B11+E11)*E2)","v":{"$error":"#DIV/0!"}},null,"M- max span 5l =",{"$f":"IF(BJ105=0,(0),-BJ105+0.5*BJ107*Sheet1!D10-0.25*Sheet1!D10^2*'l1'!E2*('l1'!B11+'l1'!E11))","v":0},null,"M- max span 5r =",{"$f":"IF(BM105=0,(0),0.5*BM107*Sheet1!D10-'l1'!BM106-0.25*('l1'!B11+'l1'!E11)*'l1'!E2*Sheet1!D10^2)","v":0}]
[null,null,null,null,null,null,null,null,null,"M1+max=",{"$f":"K107*K108-0.5*(B7+E7)*K108^2*E2-K105","v":10804.014821140285},null,"V1l =",{"$f":"(B7+E7)*E2*Sheet1!$L$10-'l1'!N107","v":10483.404459072528},null,null,null,null,null,null,null,"M2+max=",{"$f":"(W107*W108)-0.5*(B8+E8)*E2*W108^2-W105","v":7253.058073242828},null,"M- max span2l =",{"$f":"-Z105+0.5*Z107*Sheet1!D10-0.25*(B8+E8)*E2*Sheet1!D10^2","v":-12711.060563959087},null,"M- max span2r =",{"$f":"0.5*AC108*Sheet1!D10-'l1'!AC106-0.25*('l1'!B8+'l1'!E8)*'l1'!E2*Sheet1!D10^2","v":-5144.1913729377202},null,null,null,null,"M3+ max =",{"$f":"IF(AI105=0,(0),(AI107*AI108-0.5*(B9+E9)*E2*AI108^2-AI105))","v":0},null,null,null,null,null,null,null,null,null,null,"M4+ max =",{"$f":"IF(AU105=0,(0),AU107*AU108-0.5*(B10+E10)*AU108^2*E2-AU105)","v":0},null,null,null,null,null,null,null,null,null,null,"M5+ max =",{"$f":"IF(BG105=0,(0),BG107*BG108-0.5*(B11+E11)*E2*BG108^2-BG105)","v":0},null,null,null,null,null,null,null,null,null,null,null,null,null,null,null,null,null,null,null,null,null,null,null,null,null,null," "]

{"sheet":"l2","index":8,"n_rows":109,"n_cols":86,"rows_kept":109,"cut":false,"hidden":false,"merged":[[73,6,73,7],[86,12,86,13],[71,6,72,11],[71,12,72,12],[71,13,72,13],[85,6,85,7],[74,6,74,7],[75,6,75,7],[76,6,76,7],[78,9,78,11],[71,14,72,14],[82,6,82,7],[83,6,83,7],[84,6,84,7],[84,9,84,11],[77,6,77,7],[78,6,78,7],[80,6,80,7],[81,6,81,7],[80,9,80,11],[77,9,77,11],[76,9,76,11],[75,9,75,11],[74,9,74,11],[79,6,79,7],[79,9,79,11],[87,10,87,11],[85,9,85,11],[86,6,86,7],[86,9,86,11],[81,9,81,11],[49,16,49,17],[49,18,49,19],[62,10,62,11],[63,10,63,11],[56,10,56,11],[57,10,57,11],[58,10,58,11],[59,10,59,11],[60,10,60,11],[54,10,54,11],[55,18,55,19],[55,14,55,15],[65,10,65,11],[0,0,0,4],[5,0,5,1],[5,3,5,4],[12,0,12,1],[12,3,12,4],[55,6,55,8],[61,10,61,11],[20,9,20,19],[49,9,49,11],[49,12,49,13],[49,14,49,15],[55,12,55,13],[46,10,46,11],[55,16,55,17],[47,10,47,11],[48,10,48,11],[103,9,103,10],[103,12,103,13],[50,10,50,11],[51,10,51,11],[52,10,52,11],[69,10,69,11],[66,10,66,11],[55,9,55,11],[67,10,67,11],[73,9,73,11],[83,9,83,11],[82,9,82,11],[64,10,64,11],[53,10,53,11],[68,10,68,11],[20,21,20,31],[20,33,20,43],[20,45,20,55],[20,57,20,67],[20,69,20,79],[103,63,103,64],[103,39,103,40],[103,45,103,46],[103,48,103,49],[103,51,103,52],[103,57,103,58],[103,15,103,16],[103,21,103,22],[103,24,103,25],[72,17,74,19],[103,60,103,61],[103,33,103,34],[103,36,103,37],[103,27,103,28]]}
["รายการคำนวณโมเมนต์แถบในและกลางตามแกน x"]
["ระยะช่วงพื้น (unit: m)",{"$f":"MAX(Sheet1!F9,Sheet1!F10,Sheet1!F11,Sheet1!F12,Sheet1!F13,Sheet1!L9,Sheet1!L10,Sheet1!L11,Sheet1!L12,Sheet1!F13)","v":6},null,"ความกว้างแถบเสา =",{"$f":"(Sheet1!F9+Sheet1!F10)/2","v":5.5}]
["ตัวคูณหาความหนาพื้นขั้นต่ำ",{"$f":"0.01*LN(Sheet1!B9)-0.05","v":3.0255163864890078E-2}]
[]
["ความหนาพื้น (unit:m)",{"$f":"IF((B2*B3)>0.12,(B2*B3),(0.12))","v":0.18153098318934047}]
["น้ำหนัก DL+WDS",null,null,"น้ำหนัก LL"]
["Wdl1+Wsd1 (unit:KG/m^2) =",{"$f":"IF(Sheet1!$B$4>=2,(((Sheet1!$B$16*Sheet1!$B$11)+(Sheet1!$J$9+Sheet1!$J$10)/2)*1.4),(0))","v":1819.9999999999998},null,"Wtl1 (unit:kg/m^2) =",{"$f":"IF(Sheet1!$B$4>=2,((1.7*(Sheet1!$H$9+Sheet1!$H$10)/2)),(0))","v":510}]
["Wdl2+Wsd2 (unit:KG/m^2) =",{"$f":"IF(Sheet1!$B$4>=2,(((Sheet1!$B$16*Sheet1!$B$11)+(Sheet1!$J$9+Sheet1!$J$10)/2)*1.4),(0))","v":1819.9999999999998},null,"Wtl2 (unit:kg/m^2) =",{"$f":"IF(Sheet1!$B$4>=2,((1.7*(Sheet1!$H$9+Sheet1!$H$10)/2)),(0))","v":510}]
[{"$f":"IF(Sheet1!B4>=3,(\"Wdl3+Wsd3 (unit:KG/m^2) =\"),(\"\"))","v":""},{"$f":"IF(Sheet1!$B$4>=3,(((Sheet1!$B$16*Sheet1!$B$11)+(Sheet1!$J$9+Sheet1!$J$10)/2)*1.4),(0))","v":0},null,{"$f":"IF(Sheet1!B4>=3,(\"Wtl3 (unit:KG/m^2) =\"),(\"\"))","v":""},{"$f":"IF(Sheet1!$B$4>=3,((1.7*(Sheet1!$H$9+Sheet1!$H$10)/2)),(0))","v":0}]
[{"$f":"IF(Sheet1!B4>=4,(\"Wdl4+Wsd4 (unit:KG/m^2) =\"),(\"\"))","v":""},{"$f":"IF(Sheet1!$B$4>=4,(((Sheet1!$B$16*Sheet1!$B$11)+(Sheet1!$J$9+Sheet1!$J$10)/2)*1.4),(0))","v":0},null,{"$f":"IF(Sheet1!B4>=4,(\"Wtl4 (unit:KG/m^2) =\"),(\"\"))","v":""},{"$f":"IF(Sheet1!$B$4>=4,((1.7*(Sheet1!$H$9+Sheet1!$H$10)/2)),(0))","v":0}]
[{"$f":"IF(Sheet1!B4>=5,(\"Wdl5+Wsd5 (unit:KG/m^2) =\"),(\"\"))","v":""},{"$f":"IF(Sheet1!$B$4>=5,(((Sheet1!$B$16*Sheet1!$B$11)+(Sheet1!$J$9+Sheet1!$J$10)/2)*1.4),(0))","v":0},null,{"$f":"IF(Sheet1!B4>=5,(\"Wtl5 (unit:KG/m^2) =\"),(\"\"))","v":""},{"$f":"IF(Sheet1!$B$4>=5,((1.7*(Sheet1!$H$9+Sheet1!$H$10)/2)),(0))","v":0}]
[]
["โมเมนต์ DL+WSD",null,null,"โมเมนต LL"]
["FEM.DL1 (unit:kg*m) =",{"$f":"B7*E2*Sheet1!L9^2/12","v":30029.999999999996},null,"FEM.TL1 (unit:kg*m) =",{"$f":"E7*E2*Sheet1!L9^2/12","v":8415}]
["FEM.DL2 (unit:kg*m) =",{"$f":"B8*E2*Sheet1!L10^2/12","v":20854.166666666661},null,"FEM.TL2 (unit:kg*m) =",{"$f":"E8*E2*Sheet1!L10^2/12","v":5843.75}]
[{"$f":"IF(Sheet1!B4>=3,(\"FEM.DL3 (unit:kg*m) =\"),(\"\"))","v":""},{"$f":"B9*E2*Sheet1!L11^2/12","v":0},null,{"$f":"IF(Sheet1!B4>=3,(\"FEM.TL3 (unit:kg*m) =\"),(\"\"))","v":""},{"$f":"E9*E2*Sheet1!L11^2/12","v":0}]
[{"$f":"IF(Sheet1!B4>=4,(\"FEM.DL4 (unit:kg*m) =\"),(\"\"))","v":""},{"$f":"B10*E2*Sheet1!L12^2/12","v":0},null,{"$f":"IF(Sheet1!B4>=4,(\"FEM.TL4 (unit:kg*m) =\"),(\"\"))","v":""},{"$f":"E10*E2*Sheet1!L12^2/12","v":0}]
[{"$f":"IF(Sheet1!B4>=5,(\"FEM.DL5 (unit:kg*m) =\"),(\"\"))","v":""},{"$f":"B11*E2*Sheet1!L13^2/12","v":0},null,{"$f":"IF(Sheet1!B4>=5,(\"FEM.TL5 (unit:kg*m) =\"),(\"\"))","v":""},{"$f":"E11*E2*Sheet1!L13^2/12","v":0}]
[]
[]
[null,null,null,null,null,null,null,null,null,"วางน้ำหนัก LL    สแปน 1",null,null,null,null,null,null,null,null,null,null,null,"วางน้ำหนัก LL  สแปน 2",null,null,null,null,null,null,null,null,null,null,null,"วางน้ำหนัก LL สแปน 3",null,null,null,null,null,null,null,null,null,null,null,"วางน้ำหนัก LL สแปน 4",null,null,null,null,null,null,null,null,null,null,null,"วางน้ำหนัก LL  สแปน 5",null,null,null,null,null,null,null,null,null,null,null,"วางน้ำหนัก DL ทุกสแปน"]
[null,null,null,null,null,null,null,null,null,null,"1r","2l","2r","3l","3r","4l","4r","5l","5r","6l",null,null,"1r","2l","2r","3l","3r","4l","4r","5l","5r","6l",null,null,"1r","2l","2r","3l","3r","4l","4r","5l","5r","6l",null,null,"1r","2l","2r","3l","3r","4l","4r","5l","5r","6l",null,null,"1r","2l","2r","3l","3r","4l","4r","5l","5r","6l",null,null,"1r","2l","2r","3l","3r","4l","4r","5l","5r","6l"]
[null,null,null,null,null,null,null,null,null,"D.o.f",0.69740468228840025,0.34257752639958489,0.41394784439949839,0.73579214029936291,null,null,null,null,null,null,null,"D.o.f",0.69740468228840025,0.34257752639958489,0.41394784439949839,0.73579214029936291,null,null,null,null,null,null,null,"D.o.f",0.69740468228840025,0.34257752639958489,0.41394784439949839,0.73579214029936291,null,null,null,null,null,null,null,"D.o.f",0.69740468228840025,0.34257752639958489,0.41394784439949839,0.73579214029936291,null,null,null,null,null,null,null,"D.o.f",0.69740468228840025,0.34257752639958489,0.41394784439949839,0.73579214029936291,null,null,null,null,null,null,null,"D.o.f",0.69740468228840025,0.34257752639958489,0.41394784439949839,0.73579214029936291]
[null,null,null,null,null,null,null,null,null,"FEM",{"$f":"E14*-1","v":-8415},{"$f":"E14","v":8415},null,null,null,null,null,null,null,null,null,"FEM",null,null,{"$f":"-E15","v":-5843.75},{"$f":"E15","v":5843.75},null,null,null,null,null,null,null,"FEM",null,null,null,null,{"$f":"-E16","v":0},{"$f":"E16","v":0},null,null,null,null,null,"FEM",null,null,null,null,null,null,{"$f":"-E17","v":0},{"$f":"E17","v":0},null,null,null,"FEM",null,null,null,null,null,null,null,null,{"$f":"-E18","v":0},{"$f":"E18","v":0},null,"FEM",{"$f":"-B14","v":-30029.999999999996},{"$f":"B14","v":30029.999999999996},{"$f":"-B15","v":-20854.166666666661},{"$f":"B15","v":20854.166666666661},{"$f":"-B16","v":0},{"$f":"B16","v":0},{"$f":"-B17","v":0},{"$f":"B17","v":0},{"$f":"-B18","v":0},{"$f":"B18","v":0}]
[null,null,null,null,null,null,null,null,null,"Dis",{"$f":"(K24)*K23*-1","v":5868.6604014568884},{"$f":"(L24+M24)*L23*-1","v":-2882.7898846525068},{"$f":"(M24+L24)*M23*-1","v":-3483.3711106217788},{"$f":"(N24+O24)*N23*-1","v":0},{"$f":"(O24+N24)*O23*-1","v":0},{"$f":"(P24+Q24)*P23*-1","v":0},{"$f":"(Q24+P24)*Q23*-1","v":0},{"$f":"(R24+S24)*R23*-1","v":0},{"$f":"(S24+R24)*S23*-1","v":0},{"$f":"(T24+U24)*T23*-1","v":0},null,"Dis",{"$f":"(W24)*W23*-1","v":0},{"$f":"(X24+Y24)*X23*-1","v":2001.9374198975743},{"$f":"(Y24+X24)*Y23*-1","v":2419.0077157095689},{"$f":"(Z24+AA24)*Z23*-1","v":-4299.7853198744024},{"$f":"(AA24+Z24)*AA23*-1","v":0},{"$f":"(AB24+AC24)*AB23*-1","v":0},{"$f":"(AC24+AB24)*AC23*-1","v":0},{"$f":"(AD24+AE24)*AD23*-1","v":0},{"$f":"(AE24+AD24)*AE23*-1","v":0},{"$f":"(AF24+AG24)*AF23*-1","v":0},null,"Dis",{"$f":"(AI24)*AI23*-1","v":0},{"$f":"(AJ24+AK24)*AJ23*-1","v":0},{"$f":"(AK24+AJ24)*AK23*-1","v":0},{"$f":"(AL24+AM24)*AL23*-1","v":0},{"$f":"(AM24+AL24)*AM23*-1","v":0},{"$f":"(AN24+AO24)*AN23*-1","v":0},{"$f":"(AO24+AN24)*AO23*-1","v":0},{"$f":"(AP24+AQ24)*AP23*-1","v":0},{"$f":"(AQ24+AP24)*AQ23*-1","v":0},{"$f":"(AR24+AS24)*AR23*-1","v":0},null,"Dis",{"$f":"(AU24)*AU23*-1","v":0},{"$f":"(AV24+AW24)*AV23*-1","v":0},{"$f":"(AW24+AV24)*AW23*-1","v":0},{"$f":"(AX24+AY24)*AX23*-1","v":0},{"$f":"(AY24+AX24)*AY23*-1","v":0},{"$f":"(AZ24+BA24)*AZ23*-1","v":0},{"$f":"(BA24+AZ24)*BA23*-1","v":0},{"$f":"(BB24+BC24)*BB23*-1","v":0},{"$f":"(BC24+BB24)*BC23*-1","v":0},{"$f":"(BD24+BE24)*BD23*-1","v":0},null,"Dis",{"$f":"(BG24)*BG23*-1","v":0},{"$f":"(BH24+BI24)*BH23*-1","v":0},{"$f":"(BI24+BH24)*BI23*-1","v":0},{"$f":"(BJ24+BK24)*BJ23*-1","v":0},{"$f":"(BK24+BJ24)*BK23*-1","v":0},{"$f":"(BL24+BM24)*BL23*-1","v":0},{"$f":"(BM24+BL24)*BM23*-1","v":0},{"$f":"(BN24+BO24)*BN23*-1","v":0},{"$f":"(BO24+BN24)*BO23*-1","v":0},{"$f":"(BP24+BQ24)*BP23*-1","v":0},null,"Dis",{"$f":"(BS24)*BS23*-1","v":20943.062609120658},{"$f":"(BT24+BU24)*BT23*-1","v":-3143.4342859881917},{"$f":"(BU24+BT24)*BU23*-1","v":-3798.3164289023985},{"$f":"(BV24+BW24)*BV23*-1","v":-15344.331925826293},{"$f":"(BW24+BV24)*BW23*-1","v":0},{"$f":"(BX24+BY24)*BX23*-1","v":0},{"$f":"(BY24+BX24)*BY23*-1","v":0},{"$f":"(BZ24+CA24)*BZ23*-1","v":0},{"$f":"(CA24+BZ24)*CA23*-1","v":0},{"$f":"(CB24+CC24)*CB23*-1","v":0}]
[null,null,null,null,null,null,null,null,null,"Co",{"$f":"L25/2","v":-1441.3949423262534},{"$f":"K25/2","v":2934.3302007284442},{"$f":"N25/2","v":0},{"$f":"M25/2","v":-1741.6855553108894},{"$f":"P25/2","v":0},{"$f":"O25/2","v":0},{"$f":"R25/2","v":0},{"$f":"Q25/2","v":0},{"$f":"T25/2","v":0},{"$f":"S25/2","v":0},null,"Co",{"$f":"X25/2","v":1000.9687099487871},{"$f":"W25/2","v":0},{"$f":"Z25/2","v":-2149.8926599372012},{"$f":"Y25/2","v":1209.5038578547844},{"$f":"AB25/2","v":0},{"$f":"AA25/2","v":0},{"$f":"AD25/2","v":0},{"$f":"AC25/2","v":0},{"$f":"AF25/2","v":0},{"$f":"AE25/2","v":0},null,"Co",{"$f":"AJ25/2","v":0},{"$f":"AI25/2","v":0},{"$f":"AL25/2","v":0},{"$f":"AK25/2","v":0},{"$f":"AN25/2","v":0},{"$f":"AM25/2","v":0},{"$f":"AP25/2","v":0},{"$f":"AO25/2","v":0},{"$f":"AR25/2","v":0},{"$f":"AQ25/2","v":0},null,"Co",{"$f":"AV25/2","v":0},{"$f":"AU25/2","v":0},{"$f":"AX25/2","v":0},{"$f":"AW25/2","v":0},{"$f":"AZ25/2","v":0},{"$f":"AY25/2","v":0},{"$f":"BB25/2","v":0},{"$f":"BA25/2","v":0},{"$f":"BD25/2","v":0},{"$f":"BC25/2","v":0},null,"Co",{"$f":"BH25/2","v":0},{"$f":"BG25/2","v":0},{"$f":"BJ25/2","v":0},{"$f":"BI25/2","v":0},{"$f":"BL25/2","v":0},{"$f":"BK25/2","v":0},{"$f":"BN25/2","v":0},{"$f":"BM25/2","v":0},{"$f":"BP25/2","v":0},{"$f":"BO25/2","v":0},null,"Co",{"$f":"BT25/2","v":-1571.7171429940959},{"$f":"BS25/2","v":10471.531304560329},{"$f":"BV25/2","v":-7672.1659629131464},{"$f":"BU25/2","v":-1899.1582144511992},{"$f":"BX25/2","v":0},{"$f":"BW25/2","v":0},{"$f":"BZ25/2","v":0},{"$f":"BY25/2","v":0},{"$f":"CB25/2","v":0},{"$f":"CA25/2","v":0}]
[null,null,null,null,null,null,null,null,null,"dis",{"$f":"(K26)*K23*-1","v":1005.2355818051477},{"$f":"(L26+M26)*L23*-1","v":-1005.2355818051478},{"$f":"(M26+L26)*M23*-1","v":-1214.6596613478869},{"$f":"(N26+O26)*N23*-1","v":1281.5185424706838},{"$f":"(O26+N26)*O23*-1","v":0},{"$f":"(P26+Q26)*P23*-1","v":0},{"$f":"(Q26+P26)*Q23*-1","v":0},{"$f":"(R26+S26)*R23*-1","v":0},{"$f":"(S26+R26)*S23*-1","v":0},{"$f":"(T26+U26)*T23*-1","v":0},null,"dis",{"$f":"(W26)*W23*-1","v":-698.08026514246376},{"$f":"(X26+Y26)*X23*-1","v":736.50490946591026},{"$f":"(Y26+X26)*Y23*-1","v":889.94343227130821},{"$f":"(Z26+AA26)*Z23*-1","v":-889.94343227130821},{"$f":"(AA26+Z26)*AA23*-1","v":0},{"$f":"(AB26+AC26)*AB23*-1","v":0},{"$f":"(AC26+AB26)*AC23*-1","v":0},{"$f":"(AD26+AE26)*AD23*-1","v":0},{"$f":"(AE26+AD26)*AE23*-1","v":0},{"$f":"(AF26+AG26)*AF23*-1","v":0},null,"dis",{"$f":"(AI26)*AI23*-1","v":0},{"$f":"(AJ26+AK26)*AJ23*-1","v":0},{"$f":"(AK26+AJ26)*AK23*-1","v":0},{"$f":"(AL26+AM26)*AL23*-1","v":0},{"$f":"(AM26+AL26)*AM23*-1","v":0},{"$f":"(AN26+AO26)*AN23*-1","v":0},{"$f":"(AO26+AN26)*AO23*-1","v":0},{"$f":"(AP26+AQ26)*AP23*-1","v":0},{"$f":"(AQ26+AP26)*AQ23*-1","v":0},{"$f":"(AR26+AS26)*AR23*-1","v":0},null,"dis",{"$f":"(AU26)*AU23*-1","v":0},{"$f":"(AV26+AW26)*AV23*-1","v":0},{"$f":"(AW26+AV26)*AW23*-1","v":0},{"$f":"(AX26+AY26)*AX23*-1","v":0},{"$f":"(AY26+AX26)*AY23*-1","v":0},{"$f":"(AZ26+BA26)*AZ23*-1","v":0},{"$f":"(BA26+AZ26)*BA23*-1","v":0},{"$f":"(BB26+BC26)*BB23*-1","v":0},{"$f":"(BC26+BB26)*BC23*-1","v":0},{"$f":"(BD26+BE26)*BD23*-1","v":0},null,"dis",{"$f":"(BG26)*BG23*-1","v":0},{"$f":"(BH26+BI26)*BH23*-1","v":0},{"$f":"(BI26+BH26)*BI23*-1","v":0},{"$f":"(BJ26+BK26)*BJ23*-1","v":0},{"$f":"(BK26+BJ26)*BK23*-1","v":0},{"$f":"(BL26+BM26)*BL23*-1","v":0},{"$f":"(BM26+BL26)*BM23*-1","v":0},{"$f":"(BN26+BO26)*BN23*-1","v":0},{"$f":"(BO26+BN26)*BO23*-1","v":0},{"$f":"(BP26+BQ26)*BP23*-1","v":0},null,"dis",{"$f":"(BS26)*BS23*-1","v":1096.1228947570296},{"$f":"(BT26+BU26)*BT23*-1","v":-958.99965423022059},{"$f":"(BU26+BT26)*BU23*-1","v":-1158.7912488615166},{"$f":"(BV26+BW26)*BV23*-1","v":1397.3856873781642},{"$f":"(BW26+BV26)*BW23*-1","v":0},{"$f":"(BX26+BY26)*BX23*-1","v":0},{"$f":"(BY26+BX26)*BY23*-1","v":0},{"$f":"(BZ26+CA26)*BZ23*-1","v":0},{"$f":"(CA26+BZ26)*CA23*-1","v":0},{"$f":"(CB26+CC26)*CB23*-1","v":0}]
[null,null,null,null,null,null,null,null,null,"co",{"$f":"L27/2","v":-502.61779090257392},{"$f":"K27/2","v":502.61779090257386},{"$f":"N27/2","v":640.75927123534188},{"$f":"M27/2","v":-607.32983067394343},{"$f":"P27/2","v":0},{"$f":"O27/2","v":0},{"$f":"R27/2","v":0},{"$f":"Q27/2","v":0},{"$f":"T27/2","v":0},{"$f":"S27/2","v":0},null,"co",{"$f":"X27/2","v":368.25245473295513},{"$f":"W27/2","v":-349.04013257123188},{"$f":"Z27/2","v":-444.97171613565411},{"$f":"Y27/2","v":444.97171613565411},{"$f":"AB27/2","v":0},{"$f":"AA27/2","v":0},{"$f":"AD27/2","v":0},{"$f":"AC27/2","v":0},{"$f":"AF27/2","v":0},{"$f":"AE27/2","v":0},null,"co",{"$f":"AJ27/2","v":0},{"$f":"AI27/2","v":0},{"$f":"AL27/2","v":0},{"$f":"AK27/2","v":0},{"$f":"AN27/2","v":0},{"$f":"AM27/2","v":0},{"$f":"AP27/2","v":0},{"$f":"AO27/2","v":0},{"$f":"AR27/2","v":0},{"$f":"AQ27/2","v":0},null,"co",{"$f":"AV27/2","v":0},{"$f":"AU27/2","v":0},{"$f":"AX27/2","v":0},{"$f":"AW27/2","v":0},{"$f":"AZ27/2","v":0},{"$f":"AY27/2","v":0},{"$f":"BB27/2","v":0},{"$f":"BA27/2","v":0},{"$f":"BD27/2","v":0},{"$f":"BC27/2","v":0},null,"co",{"$f":"BH27/2","v":0},{"$f":"BG27/2","v":0},{"$f":"BJ27/2","v":0},{"$f":"BI27/2","v":0},{"$f":"BL27/2","v":0},{"$f":"BK27/2","v":0},{"$f":"BN27/2","v":0},{"$f":"BM27/2","v":0},{"$f":"BP27/2","v":0},{"$f":"BO27/2","v":0},null,"co",{"$f":"BT27/2","v":-479.49982711511029},{"$f":"BS27/2","v":548.0614473785148},{"$f":"BV27/2","v":698.69284368908211},{"$f":"BU27/2","v":-579.39562443075829},{"$f":"BX27/2","v":0},{"$f":"BW27/2","v":0},{"$f":"BZ27/2","v":0},{"$f":"BY27/2","v":0},{"$f":"CB27/2","v":0},{"$f":"CA27/2","v":0}]
[null,null,null,null,null,null,null,null,null,"dis",{"$f":"(K28)*K23*-1","v":350.52800077690716},{"$f":"(L28+M28)*L23*-1","v":-391.69528568923164},{"$f":"(M28+L28)*M23*-1","v":-473.29847020782159},{"$f":"(N28+O28)*N23*-1","v":446.86851597923049},{"$f":"(O28+N28)*O23*-1","v":0},{"$f":"(P28+Q28)*P23*-1","v":0},{"$f":"(Q28+P28)*Q23*-1","v":0},{"$f":"(R28+S28)*R23*-1","v":0},{"$f":"(S28+R28)*S23*-1","v":0},{"$f":"(T28+U28)*T23*-1","v":0},null,"dis",{"$f":"(W28)*W23*-1","v":-256.82098619496008},{"$f":"(X28+Y28)*X23*-1","v":272.01061506196646},{"$f":"(Y28+X28)*Y23*-1","v":328.67949319987611},{"$f":"(Z28+AA28)*Z23*-1","v":-327.40669138813348},{"$f":"(AA28+Z28)*AA23*-1","v":0},{"$f":"(AB28+AC28)*AB23*-1","v":0},{"$f":"(AC28+AB28)*AC23*-1","v":0},{"$f":"(AD28+AE28)*AD23*-1","v":0},{"$f":"(AE28+AD28)*AE23*-1","v":0},{"$f":"(AF28+AG28)*AF23*-1","v":0},null,"dis",{"$f":"(AI28)*AI23*-1","v":0},{"$f":"(AJ28+AK28)*AJ23*-1","v":0},{"$f":"(AK28+AJ28)*AK23*-1","v":0},{"$f":"(AL28+AM28)*AL23*-1","v":0},{"$f":"(AM28+AL28)*AM23*-1","v":0},{"$f":"(AN28+AO28)*AN23*-1","v":0},{"$f":"(AO28+AN28)*AO23*-1","v":0},{"$f":"(AP28+AQ28)*AP23*-1","v":0},{"$f":"(AQ28+AP28)*AQ23*-1","v":0},{"$f":"(AR28+AS28)*AR23*-1","v":0},null,"dis",{"$f":"(AU28)*AU23*-1","v":0},{"$f":"(AV28+AW28)*AV23*-1","v":0},{"$f":"(AW28+AV28)*AW23*-1","v":0},{"$f":"(AX28+AY28)*AX23*-1","v":0},{"$f":"(AY28+AX28)*AY23*-1","v":0},{"$f":"(AZ28+BA28)*AZ23*-1","v":0},{"$f":"(BA28+AZ28)*BA23*-1","v":0},{"$f":"(BB28+BC28)*BB23*-1","v":0},{"$f":"(BC28+BB28)*BC23*-1","v":0},{"$f":"(BD28+BE28)*BD23*-1","v":0},null,"dis",{"$f":"(BG28)*BG23*-1","v":0},{"$f":"(BH28+BI28)*BH23*-1","v":0},{"$f":"(BI28+BH28)*BI23*-1","v":0},{"$f":"(BJ28+BK28)*BJ23*-1","v":0},{"$f":"(BK28+BJ28)*BK23*-1","v":0},{"$f":"(BL28+BM28)*BL23*-1","v":0},{"$f":"(BM28+BL28)*BM23*-1","v":0},{"$f":"(BN28+BO28)*BN23*-1","v":0},{"$f":"(BO28+BN28)*BO23*-1","v":0},{"$f":"(BP28+BQ28)*BP23*-1","v":0},null,"dis",{"$f":"(BS28)*BS23*-1","v":334.40542458655636},{"$f":"(BT28+BU28)*BT23*-1","v":-427.11000106200544},{"$f":"(BU28+BT28)*BU23*-1","v":-516.09125128325661},{"$f":"(BV28+BW28)*BV23*-1","v":426.31474657999348},{"$f":"(BW28+BV28)*BW23*-1","v":0},{"$f":"(BX28+BY28)*BX23*-1","v":0},{"$f":"(BY28+BX28)*BY23*-1","v":0},{"$f":"(BZ28+CA28)*BZ23*-1","v":0},{"$f":"(CA28+BZ28)*CA23*-1","v":0},{"$f":"(CB28+CC28)*CB23*-1","v":0}]
[null,null,null,null,null,null,null,null,null,"co",{"$f":"L29/2","v":-195.84764284461582},{"$f":"K29/2","v":175.26400038845358},{"$f":"N29/2","v":223.43425798961525},{"$f":"M29/2","v":-236.6492351039108},{"$f":"P29/2","v":0},{"$f":"O29/2","v":0},{"$f":"R29/2","v":0},{"$f":"Q29/2","v":0},{"$f":"T29/2","v":0},{"$f":"S29/2","v":0},null,"co",{"$f":"X29/2","v":136.00530753098323},-128.41049309748004,{"$f":"Z29/2","v":-163.70334569406674},{"$f":"Y29/2","v":164.33974659993805},{"$f":"AB29/2","v":0},{"$f":"AA29/2","v":0},{"$f":"AD29/2","v":0},{"$f":"AC29/2","v":0},{"$f":"AF29/2","v":0},{"$f":"AE29/2","v":0},null,"co",{"$f":"AJ29/2","v":0},{"$f":"AI29/2","v":0},{"$f":"AL29/2","v":0},{"$f":"AK29/2","v":0},{"$f":"AN29/2","v":0},{"$f":"AM29/2","v":0},{"$f":"AP29/2","v":0},{"$f":"AO29/2","v":0},{"$f":"AR29/2","v":0},{"$f":"AQ29/2","v":0},null,"co",{"$f":"AV29/2","v":0},{"$f":"AU29/2","v":0},{"$f":"AX29/2","v":0},{"$f":"AW29/2","v":0},{"$f":"AZ29/2","v":0},{"$f":"AY29/2","v":0},{"$f":"BB29/2","v":0},{"$f":"BA29/2","v":0},{"$f":"BD29/2","v":0},{"$f":"BC29/2","v":0},null,"co",{"$f":"BH29/2","v":0},{"$f":"BG29/2","v":0},{"$f":"BJ29/2","v":0},{"$f":"BI29/2","v":0},{"$f":"BL29/2","v":0},{"$f":"BK29/2","v":0},{"$f":"BN29/2","v":0},{"$f":"BM29/2","v":0},{"$f":"BP29/2","v":0},{"$f":"BO29/2","v":0},null,"co",{"$f":"BT29/2","v":-213.55500053100272},{"$f":"BS29/2","v":167.20271229327818},{"$f":"BV29/2","v":213.15737328999674},{"$f":"BU29/2","v":-258.04562564162831},{"$f":"BX29/2","v":0},{"$f":"BW29/2","v":0},{"$f":"BZ29/2","v":0},{"$f":"BY29/2","v":0},{"$f":"CB29/2","v":0},{"$f":"CA29/2","v":0}]
[null,null,null,null,null,null,null,null,null,"dis",{"$f":"(K30)*K23*-1","v":136.58506313498137},{"$f":"(L30+M30)*L23*-1","v":-136.5850631349814},{"$f":"(M30+L30)*M23*-1","v":-165.04028462143583},{"$f":"(N30+O30)*N23*-1","v":174.12464719731366},{"$f":"(O30+N30)*O23*-1","v":0},{"$f":"(P30+Q30)*P23*-1","v":0},{"$f":"(Q30+P30)*Q23*-1","v":0},{"$f":"(R30+S30)*R23*-1","v":0},{"$f":"(S30+R30)*S23*-1","v":0},{"$f":"(T30+U30)*T23*-1","v":0},null,"dis",{"$f":"(W30)*W23*-1","v":-94.850738288181532},{"$f":"(X30+Y30)*X23*-1","v":100.0716363202952},{"$f":"(Y30+X30)*Y23*-1","v":120.91989388702335},{"$f":"(Z30+AA30)*Z23*-1","v":-120.91989388702336},{"$f":"(AA30+Z30)*AA23*-1","v":0},{"$f":"(AB30+AC30)*AB23*-1","v":0},{"$f":"(AC30+AB30)*AC23*-1","v":0},{"$f":"(AD30+AE30)*AD23*-1","v":0},{"$f":"(AE30+AD30)*AE23*-1","v":0},{"$f":"(AF30+AG30)*AF23*-1","v":0},null,"dis",{"$f":"(AI30)*AI23*-1","v":0},{"$f":"(AJ30+AK30)*AJ23*-1","v":0},{"$f":"(AK30+AJ30)*AK23*-1","v":0},{"$f":"(AL30+AM30)*AL23*-1","v":0},{"$f":"(AM30+AL30)*AM23*-1","v":0},{"$f":"(AN30+AO30)*AN23*-1","v":0},{"$f":"(AO30+AN30)*AO23*-1","v":0},{"$f":"(AP30+AQ30)*AP23*-1","v":0},{"$f":"(AQ30+AP30)*AQ23*-1","v":0},{"$f":"(AR30+AS30)*AR23*-1","v":0},null,"dis",{"$f":"(AU30)*AU23*-1","v":0},{"$f":"(AV30+AW30)*AV23*-1","v":0},{"$f":"(AW30+AV30)*AW23*-1","v":0},{"$f":"(AX30+AY30)*AX23*-1","v":0},{"$f":"(AY30+AX30)*AY23*-1","v":0},{"$f":"(AZ30+BA30)*AZ23*-1","v":0},{"$f":"(BA30+AZ30)*BA23*-1","v":0},{"$f":"(BB30+BC30)*BB23*-1","v":0},{"$f":"(BC30+BB30)*BC23*-1","v":0},{"$f":"(BD30+BE30)*BD23*-1","v":0},null,"dis",{"$f":"(BG30)*BG23*-1","v":0},{"$f":"(BH30+BI30)*BH23*-1","v":0},{"$f":"(BI30+BH30)*BI23*-1","v":0},{"$f":"(BJ30+BK30)*BJ23*-1","v":0},{"$f":"(BK30+BJ30)*BK23*-1","v":0},{"$f":"(BL30+BM30)*BL23*-1","v":0},{"$f":"(BM30+BL30)*BM23*-1","v":0},{"$f":"(BN30+BO30)*BN23*-1","v":0},{"$f":"(BO30+BN30)*BO23*-1","v":0},{"$f":"(BP30+BQ30)*BP23*-1","v":0},null,"dis",{"$f":"(BS30)*BS23*-1","v":148.93425729642308},{"$f":"(BT30+BU30)*BT23*-1","v":-130.30281726025271},{"$f":"(BU30+BT30)*BU23*-1","v":-157.44923752280536},{"$f":"(BV30+BW30)*BV23*-1","v":189.86794318574186},{"$f":"(BW30+BV30)*BW23*-1","v":0},{"$f":"(BX30+BY30)*BX23*-1","v":0},{"$f":"(BY30+BX30)*BY23*-1","v":0},{"$f":"(BZ30+CA30)*BZ23*-1","v":0},{"$f":"(CA30+BZ30)*CA23*-1","v":0},{"$f":"(CB30+CC30)*CB23*-1","v":0}]
[null,null,null,null,null,null,null,null,null,"co",{"$f":"L31/2","v":-68.292531567490698},{"$f":"K31/2","v":68.292531567490684},{"$f":"N31/2","v":87.062323598656832},{"$f":"M31/2","v":-82.520142310717915},{"$f":"P31/2","v":0},{"$f":"O31/2","v":0},{"$f":"R31/2","v":0},{"$f":"Q31/2","v":0},{"$f":"T31/2","v":0},{"$f":"S31/2","v":0},null,"co",{"$f":"X31/2","v":50.035818160147599},{"$f":"W31/2","v":-47.425369144090766},{"$f":"Z31/2","v":-60.459946943511682},{"$f":"Y31/2","v":60.459946943511675},{"$f":"AB31/2","v":0},{"$f":"AA31/2","v":0},{"$f":"AD31/2","v":0},{"$f":"AC31/2","v":0},{"$f":"AF31/2","v":0},{"$f":"AE31/2","v":0},null,"co",{"$f":"AJ31/2","v":0},{"$f":"AI31/2","v":0},{"$f":"AL31/2","v":0},{"$f":"AK31/2","v":0},{"$f":"AN31/2","v":0},{"$f":"AM31/2","v":0},{"$f":"AP31/2","v":0},{"$f":"AO31/2","v":0},{"$f":"AR31/2","v":0},{"$f":"AQ31/2","v":0},null,"co",{"$f":"AV31/2","v":0},{"$f":"AU31/2","v":0},{"$f":"AX31/2","v":0},{"$f":"AW31/2","v":0},{"$f":"AZ31/2","v":0},{"$f":"AY31/2","v":0},{"$f":"BB31/2","v":0},{"$f":"BA31/2","v":0},{"$f":"BD31/2","v":0},{"$f":"BC31/2","v":0},null,"co",{"$f":"BH31/2","v":0},{"$f":"BG31/2","v":0},{"$f":"BJ31/2","v":0},{"$f":"BI31/2","v":0},{"$f":"BL31/2","v":0},{"$f":"BK31/2","v":0},{"$f":"BN31/2","v":0},{"$f":"BM31/2","v":0},{"$f":"BP31/2","v":0},{"$f":"BO31/2","v":0},null,"co",{"$f":"BT31/2","v":-65.151408630126355},{"$f":"BS31/2","v":74.467128648211542},{"$f":"BV31/2","v":94.933971592870932},{"$f":"BU31/2","v":-78.724618761402681},{"$f":"BX31/2","v":0},{"$f":"BW31/2","v":0},{"$f":"BZ31/2","v":0},{"$f":"BY31/2","v":0},{"$f":"CB31/2","v":0},{"$f":"CA31/2","v":0}]
[null,null,null,null,null,null,null,null,null,"dis",{"$f":"(K32)*K23*-1","v":47.627531280496392},{"$f":"(L32+M32)*L23*-1","v":-53.22108199698458},{"$f":"(M32+L32)*M23*-1","v":-64.308807413023032},{"$f":"(N32+O32)*N23*-1","v":60.717672128611149},{"$f":"(O32+N32)*O23*-1","v":0},{"$f":"(P32+Q32)*P23*-1","v":0},{"$f":"(Q32+P32)*Q23*-1","v":0},{"$f":"(R32+S32)*R23*-1","v":0},{"$f":"(S32+R32)*S23*-1","v":0},{"$f":"(T32+U32)*T23*-1","v":0},null,"dis",{"$f":"(W32)*W23*-1","v":-34.895213867017901},{"$f":"(X32+Y32)*X23*-1","v":36.959084720128189},{"$f":"(Y32+X32)*Y23*-1","v":44.658894036821557},{"$f":"(Z32+AA32)*Z23*-1","v":-44.485953763952381},{"$f":"(AA32+Z32)*AA23*-1","v":0},{"$f":"(AB32+AC32)*AB23*-1","v":0},{"$f":"(AC32+AB32)*AC23*-1","v":0},{"$f":"(AD32+AE32)*AD23*-1","v":0},{"$f":"(AE32+AD32)*AE23*-1","v":0},{"$f":"(AF32+AG32)*AF23*-1","v":0},null,"dis",{"$f":"(AI32)*AI23*-1","v":0},{"$f":"(AJ32+AK32)*AJ23*-1","v":0},{"$f":"(AK32+AJ32)*AK23*-1","v":0},{"$f":"(AL32+AM32)*AL23*-1","v":0},{"$f":"(AM32+AL32)*AM23*-1","v":0},{"$f":"(AN32+AO32)*AN23*-1","v":0},{"$f":"(AO32+AN32)*AO23*-1","v":0},{"$f":"(AP32+AQ32)*AP23*-1","v":0},{"$f":"(AQ32+AP32)*AQ23*-1","v":0},{"$f":"(AR32+AS32)*AR23*-1","v":0},null,"dis",{"$f":"(AU32)*AU23*-1","v":0},{"$f":"(AV32+AW32)*AV23*-1","v":0},{"$f":"(AW32+AV32)*AW23*-1","v":0},{"$f":"(AX32+AY32)*AX23*-1","v":0},{"$f":"(AY32+AX32)*AY23*-1","v":0},{"$f":"(AZ32+BA32)*AZ23*-1","v":0},{"$f":"(BA32+AZ32)*BA23*-1","v":0},{"$f":"(BB32+BC32)*BB23*-1","v":0},{"$f":"(BC32+BB32)*BC23*-1","v":0},{"$f":"(BD32+BE32)*BD23*-1","v":0},null,"dis",{"$f":"(BG32)*BG23*-1","v":0},{"$f":"(BH32+BI32)*BH23*-1","v":0},{"$f":"(BI32+BH32)*BI23*-1","v":0},{"$f":"(BJ32+BK32)*BJ23*-1","v":0},{"$f":"(BK32+BJ32)*BK23*-1","v":0},{"$f":"(BL32+BM32)*BL23*-1","v":0},{"$f":"(BM32+BL32)*BM23*-1","v":0},{"$f":"(BN32+BO32)*BN23*-1","v":0},{"$f":"(BO32+BN32)*BO23*-1","v":0},{"$f":"(BP32+BQ32)*BP23*-1","v":0},null,"dis",{"$f":"(BS32)*BS23*-1","v":45.436897436335009},{"$f":"(BT32+BU32)*BT23*-1","v":-58.033009889958159},{"$f":"(BU32+BT32)*BU23*-1","v":-70.123220283699439},{"$f":"(BV32+BW32)*BV23*-1","v":57.924955732703857},{"$f":"(BW32+BV32)*BW23*-1","v":0},{"$f":"(BX32+BY32)*BX23*-1","v":0},{"$f":"(BY32+BX32)*BY23*-1","v":0},{"$f":"(BZ32+CA32)*BZ23*-1","v":0},{"$f":"(CA32+BZ32)*CA23*-1","v":0},{"$f":"(CB32+CC32)*CB23*-1","v":0}]
[null,null,null,null,null,null,null,null,null,"co",{"$f":"L33/2","v":-26.61054099849229},{"$f":"K33/2","v":23.813765640248196},{"$f":"N33/2","v":30.358836064305574},{"$f":"M33/2","v":-32.154403706511516},{"$f":"P33/2","v":0},{"$f":"O33/2","v":0},{"$f":"R33/2","v":0},{"$f":"Q33/2","v":0},{"$f":"T33/2","v":0},{"$f":"S33/2","v":0},null,"co",{"$f":"X33/2","v":18.479542360064094},{"$f":"W33/2","v":-17.447606933508951},{"$f":"Z33/2","v":-22.24297688197619},{"$f":"Y33/2","v":22.329447018410779},{"$f":"AB33/2","v":0},{"$f":"AA33/2","v":0},{"$f":"AD33/2","v":0},{"$f":"AC33/2","v":0},{"$f":"AF33/2","v":0},{"$f":"AE33/2","v":0},null,"co",{"$f":"AJ33/2","v":0},{"$f":"AI33/2","v":0},{"$f":"AL33/2","v":0},{"$f":"AK33/2","v":0},{"$f":"AN33/2","v":0},{"$f":"AM33/2","v":0},{"$f":"AP33/2","v":0},{"$f":"AO33/2","v":0},{"$f":"AR33/2","v":0},{"$f":"AQ33/2","v":0},null,"co",{"$f":"AV33/2","v":0},{"$f":"AU33/2","v":0},{"$f":"AX33/2","v":0},{"$f":"AW33/2","v":0},{"$f":"AZ33/2","v":0},{"$f":"AY33/2","v":0},{"$f":"BB33/2","v":0},{"$f":"BA33/2","v":0},{"$f":"BD33/2","v":0},{"$f":"BC33/2","v":0},null,"co",{"$f":"BH33/2","v":0},{"$f":"BG33/2","v":0},{"$f":"BJ33/2","v":0},{"$f":"BI33/2","v":0},{"$f":"BL33/2","v":0},{"$f":"BK33/2","v":0},{"$f":"BN33/2","v":0},{"$f":"BM33/2","v":0},{"$f":"BP33/2","v":0},{"$f":"BO33/2","v":0},null,"co",{"$f":"BT33/2","v":-29.016504944979079},{"$f":"BS33/2","v":22.718448718167505},{"$f":"BV33/2","v":28.962477866351929},{"$f":"BU33/2","v":-35.061610141849719},{"$f":"BX33/2","v":0},{"$f":"BW33/2","v":0},{"$f":"BZ33/2","v":0},{"$f":"BY33/2","v":0},{"$f":"CB33/2","v":0},{"$f":"CA33/2","v":0}]
[null,null,null,null,null,null,null,null,null,"dis",{"$f":"(K34)*K23*-1","v":18.558315890575965},{"$f":"(L34+M34)*L23*-1","v":-18.558315890575965},{"$f":"(M34+L34)*M23*-1","v":-22.424631701112624},{"$f":"(N34+O34)*N23*-1","v":23.658957523263876},{"$f":"(O34+N34)*O23*-1","v":0},{"$f":"(P34+Q34)*P23*-1","v":0},{"$f":"(Q34+P34)*Q23*-1","v":0},{"$f":"(R34+S34)*R23*-1","v":0},{"$f":"(S34+R34)*S23*-1","v":0},{"$f":"(T34+U34)*T23*-1","v":0},null,"dis",{"$f":"(W34)*W23*-1","v":-12.887719368455533},{"$f":"(X34+Y34)*X23*-1","v":13.597102024864297},{"$f":"(Y34+X34)*Y23*-1","v":16.429831613377694},{"$f":"(Z34+AA34)*Z23*-1","v":-16.429831613377694},{"$f":"(AA34+Z34)*AA23*-1","v":0},{"$f":"(AB34+AC34)*AB23*-1","v":0},{"$f":"(AC34+AB34)*AC23*-1","v":0},{"$f":"(AD34+AE34)*AD23*-1","v":0},{"$f":"(AE34+AD34)*AE23*-1","v":0},{"$f":"(AF34+AG34)*AF23*-1","v":0},null,"dis",{"$f":"(AI34)*AI23*-1","v":0},{"$f":"(AJ34+AK34)*AJ23*-1","v":0},{"$f":"(AK34+AJ34)*AK23*-1","v":0},{"$f":"(AL34+AM34)*AL23*-1","v":0},{"$f":"(AM34+AL34)*AM23*-1","v":0},{"$f":"(AN34+AO34)*AN23*-1","v":0},{"$f":"(AO34+AN34)*AO23*-1","v":0},{"$f":"(AP34+AQ34)*AP23*-1","v":0},{"$f":"(AQ34+AP34)*AQ23*-1","v":0},{"$f":"(AR34+AS34)*AR23*-1","v":0},null,"dis",{"$f":"(AU34)*AU23*-1","v":0},{"$f":"(AV34+AW34)*AV23*-1","v":0},{"$f":"(AW34+AV34)*AW23*-1","v":0},{"$f":"(AX34+AY34)*AX23*-1","v":0},{"$f":"(AY34+AX34)*AY23*-1","v":0},{"$f":"(AZ34+BA34)*AZ23*-1","v":0},{"$f":"(BA34+AZ34)*BA23*-1","v":0},{"$f":"(BB34+BC34)*BB23*-1","v":0},{"$f":"(BC34+BB34)*BC23*-1","v":0},{"$f":"(BD34+BE34)*BD23*-1","v":0},null,"dis",{"$f":"(BG34)*BG23*-1","v":0},{"$f":"(BH34+BI34)*BH23*-1","v":0},{"$f":"(BI34+BH34)*BI23*-1","v":0},{"$f":"(BJ34+BK34)*BJ23*-1","v":0},{"$f":"(BK34+BJ34)*BK23*-1","v":0},{"$f":"(BL34+BM34)*BL23*-1","v":0},{"$f":"(BM34+BL34)*BM23*-1","v":0},{"$f":"(BN34+BO34)*BN23*-1","v":0},{"$f":"(BO34+BN34)*BO23*-1","v":0},{"$f":"(BP34+BQ34)*BP23*-1","v":0},null,"dis",{"$f":"(BS34)*BS23*-1","v":20.23624641227293},{"$f":"(BT34+BU34)*BT23*-1","v":-17.704723991363213},{"$f":"(BU34+BT34)*BU23*-1","v":-21.39320815623055},{"$f":"(BV34+BW34)*BV23*-1","v":25.798057168613454},{"$f":"(BW34+BV34)*BW23*-1","v":0},{"$f":"(BX34+BY34)*BX23*-1","v":0},{"$f":"(BY34+BX34)*BY23*-1","v":0},{"$f":"(BZ34+CA34)*BZ23*-1","v":0},{"$f":"(CA34+BZ34)*CA23*-1","v":0},{"$f":"(CB34+CC34)*CB23*-1","v":0}]
[null,null,null,null,null,null,null,null,null,"co",{"$f":"L35/2","v":-9.2791579452879827},{"$f":"K35/2","v":9.2791579452879827},{"$f":"N35/2","v":11.829478761631938},{"$f":"M35/2","v":-11.212315850556312},{"$f":"P35/2","v":0},{"$f":"O35/2","v":0},{"$f":"R35/2","v":0},{"$f":"Q35/2","v":0},{"$f":"T35/2","v":0},{"$f":"S35/2","v":0},null,"co",{"$f":"X35/2","v":6.7985510124321484},-6.4438596842277667,{"$f":"Z35/2","v":-8.2149158066888468},{"$f":"Y35/2","v":8.2149158066888468},{"$f":"AB35/2","v":0},{"$f":"AA35/2","v":0},{"$f":"AD35/2","v":0},{"$f":"AC35/2","v":0},{"$f":"AF35/2","v":0},{"$f":"AE35/2","v":0},null,"co",{"$f":"AJ35/2","v":0},{"$f":"AI35/2","v":0},{"$f":"AL35/2","v":0},{"$f":"AK35/2","v":0},{"$f":"AN35/2","v":0},{"$f":"AM35/2","v":0},{"$f":"AP35/2","v":0},{"$f":"AO35/2","v":0},{"$f":"AR35/2","v":0},{"$f":"AQ35/2","v":0},null,"co",{"$f":"AV35/2","v":0},{"$f":"AU35/2","v":0},{"$f":"AX35/2","v":0},{"$f":"AW35/2","v":0},{"$f":"AZ35/2","v":0},{"$f":"AY35/2","v":0},{"$f":"BB35/2","v":0},{"$f":"BA35/2","v":0},{"$f":"BD35/2","v":0},{"$f":"BC35/2","v":0},null,"co",{"$f":"BH35/2","v":0},{"$f":"BG35/2","v":0},{"$f":"BJ35/2","v":0},{"$f":"BI35/2","v":0},{"$f":"BL35/2","v":0},{"$f":"BK35/2","v":0},{"$f":"BN35/2","v":0},{"$f":"BM35/2","v":0},{"$f":"BP35/2","v":0},{"$f":"BO35/2","v":0},null,"co",{"$f":"BT35/2","v":-8.8523619956816066},{"$f":"BS35/2","v":10.118123206136465},{"$f":"BV35/2","v":12.899028584306727},{"$f":"BU35/2","v":-10.696604078115275},{"$f":"BX35/2","v":0},{"$f":"BW35/2","v":0},{"$f":"BZ35/2","v":0},{"$f":"BY35/2","v":0},{"$f":"CB35/2","v":0},{"$f":"CA35/2","v":0}]
[null,null,null,null,null,null,null,null,null,"dis",{"$f":"(K36)*K23*-1","v":6.4713281987374502},{"$f":"(L36+M36)*L23*-1","v":-7.2313445487241053},{"$f":"(M36+L36)*M23*-1","v":-8.7378746630416266},{"$f":"(N36+O36)*N23*-1","v":8.2499338773932998},{"$f":"(O36+N36)*O23*-1","v":0},{"$f":"(P36+Q36)*P23*-1","v":0},{"$f":"(Q36+P36)*Q23*-1","v":0},{"$f":"(R36+S36)*R23*-1","v":0},{"$f":"(S36+R36)*S23*-1","v":0},{"$f":"(T36+U36)*T23*-1","v":0},null,"dis",{"$f":"(W36)*W23*-1","v":-4.7413413088467244},{"$f":"(X36+Y36)*X23*-1","v":5.0217670477250742},{"$f":"(Y36+X36)*Y23*-1","v":6.0679685160011312},{"$f":"(Z36+AA36)*Z23*-1","v":-6.0444704837826544},{"$f":"(AA36+Z36)*AA23*-1","v":0},{"$f":"(AB36+AC36)*AB23*-1","v":0},{"$f":"(AC36+AB36)*AC23*-1","v":0},{"$f":"(AD36+AE36)*AD23*-1","v":0},{"$f":"(AE36+AD36)*AE23*-1","v":0},{"$f":"(AF36+AG36)*AF23*-1","v":0},null,"dis",{"$f":"(AI36)*AI23*-1","v":0},{"$f":"(AJ36+AK36)*AJ23*-1","v":0},{"$f":"(AK36+AJ36)*AK23*-1","v":0},{"$f":"(AL36+AM36)*AL23*-1","v":0},{"$f":"(AM36+AL36)*AM23*-1","v":0},{"$f":"(AN36+AO36)*AN23*-1","v":0},{"$f":"(AO36+AN36)*AO23*-1","v":0},{"$f":"(AP36+AQ36)*AP23*-1","v":0},{"$f":"(AQ36+AP36)*AQ23*-1","v":0},{"$f":"(AR36+AS36)*AR23*-1","v":0},null,"dis",{"$f":"(AU36)*AU23*-1","v":0},{"$f":"(AV36+AW36)*AV23*-1","v":0},{"$f":"(AW36+AV36)*AW23*-1","v":0},{"$f":"(AX36+AY36)*AX23*-1","v":0},{"$f":"(AY36+AX36)*AY23*-1","v":0},{"$f":"(AZ36+BA36)*AZ23*-1","v":0},{"$f":"(BA36+AZ36)*BA23*-1","v":0},{"$f":"(BB36+BC36)*BB23*-1","v":0},{"$f":"(BC36+BB36)*BC23*-1","v":0},{"$f":"(BD36+BE36)*BD23*-1","v":0},null,"dis",{"$f":"(BG36)*BG23*-1","v":0},{"$f":"(BH36+BI36)*BH23*-1","v":0},{"$f":"(BI36+BH36)*BI23*-1","v":0},{"$f":"(BJ36+BK36)*BJ23*-1","v":0},{"$f":"(BK36+BJ36)*BK23*-1","v":0},{"$f":"(BL36+BM36)*BL23*-1","v":0},{"$f":"(BM36+BL36)*BM23*-1","v":0},{"$f":"(BN36+BO36)*BN23*-1","v":0},{"$f":"(BO36+BN36)*BO23*-1","v":0},{"$f":"(BP36+BQ36)*BP23*-1","v":0},null,"dis",{"$f":"(BS36)*BS23*-1","v":6.1736787051002393},{"$f":"(BT36+BU36)*BT23*-1","v":-7.8851589251338057},{"$f":"(BU36+BT36)*BU23*-1","v":-9.5279003678700143},{"$f":"(BV36+BW36)*BV23*-1","v":7.8704772085713319},{"$f":"(BW36+BV36)*BW23*-1","v":0},{"$f":"(BX36+BY36)*BX23*-1","v":0},{"$f":"(BY36+BX36)*BY23*-1","v":0},{"$f":"(BZ36+CA36)*BZ23*-1","v":0},{"$f":"(CA36+BZ36)*CA23*-1","v":0},{"$f":"(CB36+CC36)*CB23*-1","v":0}]
[null,null,null,null,null,null,null,null,null,"co",{"$f":"L37/2","v":-3.6156722743620526},{"$f":"K37/2","v":3.2356640993687251},{"$f":"N37/2","v":4.1249669386966499},{"$f":"M37/2","v":-4.3689373315208133},{"$f":"P37/2","v":0},{"$f":"O37/2","v":0},{"$f":"R37/2","v":0},{"$f":"Q37/2","v":0},{"$f":"T37/2","v":0},{"$f":"S37/2","v":0},null,"co",{"$f":"X37/2","v":2.5108835238625371},{"$f":"W37/2","v":-2.3706706544233622},{"$f":"Z37/2","v":-3.0222352418913272},{"$f":"Y37/2","v":3.0339842580005656},{"$f":"AB37/2","v":0},{"$f":"AA37/2","v":0},{"$f":"AD37/2","v":0},{"$f":"AC37/2","v":0},{"$f":"AF37/2","v":0},{"$f":"AE37/2","v":0},null,"co",{"$f":"AJ37/2","v":0},{"$f":"AI37/2","v":0},{"$f":"AL37/2","v":0},{"$f":"AK37/2","v":0},{"$f":"AN37/2","v":0},{"$f":"AM37/2","v":0},{"$f":"AP37/2","v":0},{"$f":"AO37/2","v":0},{"$f":"AR37/2","v":0},{"$f":"AQ37/2","v":0},null,"co",{"$f":"AV37/2","v":0},{"$f":"AU37/2","v":0},{"$f":"AX37/2","v":0},{"$f":"AW37/2","v":0},{"$f":"AZ37/2","v":0},{"$f":"AY37/2","v":0},{"$f":"BB37/2","v":0},{"$f":"BA37/2","v":0},{"$f":"BD37/2","v":0},{"$f":"BC37/2","v":0},null,"co",{"$f":"BH37/2","v":0},{"$f":"BG37/2","v":0},{"$f":"BJ37/2","v":0},{"$f":"BI37/2","v":0},{"$f":"BL37/2","v":0},{"$f":"BK37/2","v":0},{"$f":"BN37/2","v":0},{"$f":"BM37/2","v":0},{"$f":"BP37/2","v":0},{"$f":"BO37/2","v":0},null,"co",{"$f":"BT37/2","v":-3.9425794625669028},{"$f":"BS37/2","v":3.0868393525501197},{"$f":"BV37/2","v":3.935238604285666},{"$f":"BU37/2","v":-4.7639501839350071},{"$f":"BX37/2","v":0},{"$f":"BW37/2","v":0},{"$f":"BZ37/2","v":0},{"$f":"BY37/2","v":0},{"$f":"CB37/2","v":0},{"$f":"CA37/2","v":0}]
[null,null,null,null,null,null,null,null,null,"dis",{"$f":"(K38)*K23*-1","v":2.5215867737604447},{"$f":"(L38+M38)*L23*-1","v":-2.5215867737604447},{"$f":"(M38+L38)*M23*-1","v":-3.0469173516272039},{"$f":"(N38+O38)*N23*-1","v":3.2146297499934864},{"$f":"(O38+N38)*O23*-1","v":0},{"$f":"(P38+Q38)*P23*-1","v":0},{"$f":"(Q38+P38)*Q23*-1","v":0},{"$f":"(R38+S38)*R23*-1","v":0},{"$f":"(S38+R38)*S23*-1","v":0},{"$f":"(T38+U38)*T23*-1","v":0},null,"dis",{"$f":"(W38)*W23*-1","v":-1.7511019262225316},{"$f":"(X38+Y38)*X23*-1","v":1.8474883620652223},{"$f":"(Y38+X38)*Y23*-1","v":2.2323817708288103},{"$f":"(Z38+AA38)*Z23*-1","v":-2.2323817708288107},{"$f":"(AA38+Z38)*AA23*-1","v":0},{"$f":"(AB38+AC38)*AB23*-1","v":0},{"$f":"(AC38+AB38)*AC23*-1","v":0},{"$f":"(AD38+AE38)*AD23*-1","v":0},{"$f":"(AE38+AD38)*AE23*-1","v":0},{"$f":"(AF38+AG38)*AF23*-1","v":0},null,"dis",{"$f":"(AI38)*AI23*-1","v":0},{"$f":"(AJ38+AK38)*AJ23*-1","v":0},{"$f":"(AK38+AJ38)*AK23*-1","v":0},{"$f":"(AL38+AM38)*AL23*-1","v":0},{"$f":"(AM38+AL38)*AM23*-1","v":0},{"$f":"(AN38+AO38)*AN23*-1","v":0},{"$f":"(AO38+AN38)*AO23*-1","v":0},{"$f":"(AP38+AQ38)*AP23*-1","v":0},{"$f":"(AQ38+AP38)*AQ23*-1","v":0},{"$f":"(AR38+AS38)*AR23*-1","v":0},null,"dis",{"$f":"(AU38)*AU23*-1","v":0},{"$f":"(AV38+AW38)*AV23*-1","v":0},{"$f":"(AW38+AV38)*AW23*-1","v":0},{"$f":"(AX38+AY38)*AX23*-1","v":0},{"$f":"(AY38+AX38)*AY23*-1","v":0},{"$f":"(AZ38+BA38)*AZ23*-1","v":0},{"$f":"(BA38+AZ38)*BA23*-1","v":0},{"$f":"(BB38+BC38)*BB23*-1","v":0},{"$f":"(BC38+BB38)*BC23*-1","v":0},{"$f":"(BD38+BE38)*BD23*-1","v":0},null,"dis",{"$f":"(BG38)*BG23*-1","v":0},{"$f":"(BH38+BI38)*BH23*-1","v":0},{"$f":"(BI38+BH38)*BI23*-1","v":0},{"$f":"(BJ38+BK38)*BJ23*-1","v":0},{"$f":"(BK38+BJ38)*BK23*-1","v":0},{"$f":"(BL38+BM38)*BL23*-1","v":0},{"$f":"(BM38+BL38)*BM23*-1","v":0},{"$f":"(BN38+BO38)*BN23*-1","v":0},{"$f":"(BO38+BN38)*BO23*-1","v":0},{"$f":"(BP38+BQ38)*BP23*-1","v":0},null,"dis",{"$f":"(BS38)*BS23*-1","v":2.7495733774882427},{"$f":"(BT38+BU38)*BT23*-1","v":-2.4056060966378543},{"$f":"(BU38+BT38)*BU23*-1","v":-2.906774033437407},{"$f":"(BV38+BW38)*BV23*-1","v":3.5052771021170823},{"$f":"(BW38+BV38)*BW23*-1","v":0},{"$f":"(BX38+BY38)*BX23*-1","v":0},{"$f":"(BY38+BX38)*BY23*-1","v":0},{"$f":"(BZ38+CA38)*BZ23*-1","v":0},{"$f":"(CA38+BZ38)*CA23*-1","v":0},{"$f":"(CB38+CC38)*CB23*-1","v":0}]
[null,null,null,null,null,null,null,null,null,"co",{"$f":"L39/2","v":-1.2607933868802224},{"$f":"K39/2","v":1.2607933868802224},{"$f":"N39/2","v":1.6073148749967432},{"$f":"M39/2","v":-1.5234586758136019},{"$f":"P39/2","v":0},{"$f":"O39/2","v":0},{"$f":"R39/2","v":0},{"$f":"Q39/2","v":0},{"$f":"T39/2","v":0},{"$f":"S39/2","v":0},null,"co",{"$f":"X39/2","v":0.92374418103261113},{"$f":"W39/2","v":-0.87555096311126579},{"$f":"Z39/2","v":-1.1161908854144054},{"$f":"Y39/2","v":1.1161908854144051},{"$f":"AB39/2","v":0},{"$f":"AA39/2","v":0},{"$f":"AD39/2","v":0},{"$f":"AC39/2","v":0},{"$f":"AF39/2","v":0},{"$f":"AE39/2","v":0},null,"co",{"$f":"AJ39/2","v":0},{"$f":"AI39/2","v":0},{"$f":"AL39/2","v":0},{"$f":"AK39/2","v":0},{"$f":"AN39/2","v":0},{"$f":"AM39/2","v":0},{"$f":"AP39/2","v":0},{"$f":"AO39/2","v":0},{"$f":"AR39/2","v":0},{"$f":"AQ39/2","v":0},null,"co",{"$f":"AV39/2","v":0},{"$f":"AU39/2","v":0},{"$f":"AX39/2","v":0},{"$f":"AW39/2","v":0},{"$f":"AZ39/2","v":0},{"$f":"AY39/2","v":0},{"$f":"BB39/2","v":0},{"$f":"BA39/2","v":0},{"$f":"BD39/2","v":0},{"$f":"BC39/2","v":0},null,"co",{"$f":"BH39/2","v":0},{"$f":"BG39/2","v":0},{"$f":"BJ39/2","v":0},{"$f":"BI39/2","v":0},{"$f":"BL39/2","v":0},{"$f":"BK39/2","v":0},{"$f":"BN39/2","v":0},{"$f":"BM39/2","v":0},{"$f":"BP39/2","v":0},{"$f":"BO39/2","v":0},null,"co",{"$f":"BT39/2","v":-1.2028030483189271},{"$f":"BS39/2","v":1.3747866887441214},{"$f":"BV39/2","v":1.7526385510585412},{"$f":"BU39/2","v":-1.4533870167187035},{"$f":"BX39/2","v":0},{"$f":"BW39/2","v":0},{"$f":"BZ39/2","v":0},{"$f":"BY39/2","v":0},{"$f":"CB39/2","v":0},{"$f":"CA39/2","v":0}]
[null,null,null,null,null,null,null,null,null,"dis",{"$f":"(K40)*K23*-1","v":0.87928321140851762},{"$f":"(L40+M40)*L23*-1","v":-0.9825494338000238},{"$f":"(M40+L40)*M23*-1","v":-1.1872472325083621},{"$f":"(N40+O40)*N23*-1","v":1.1209489197345235},{"$f":"(O40+N40)*O23*-1","v":0},{"$f":"(P40+Q40)*P23*-1","v":0},{"$f":"(Q40+P40)*Q23*-1","v":0},{"$f":"(R40+S40)*R23*-1","v":0},{"$f":"(S40+R40)*S23*-1","v":0},{"$f":"(T40+U40)*T23*-1","v":0},null,"dis",{"$f":"(W40)*W23*-1","v":-0.64422351708880665},{"$f":"(X40+Y40)*X23*-1","v":0.68232599569446117},{"$f":"(Y40+X40)*Y23*-1","v":0.82447724479747386},{"$f":"(Z40+AA40)*Z23*-1","v":-0.82128448056170611},{"$f":"(AA40+Z40)*AA23*-1","v":0},{"$f":"(AB40+AC40)*AB23*-1","v":0},{"$f":"(AC40+AB40)*AC23*-1","v":0},{"$f":"(AD40+AE40)*AD23*-1","v":0},{"$f":"(AE40+AD40)*AE23*-1","v":0},{"$f":"(AF40+AG40)*AF23*-1","v":0},null,"dis",{"$f":"(AI40)*AI23*-1","v":0},{"$f":"(AJ40+AK40)*AJ23*-1","v":0},{"$f":"(AK40+AJ40)*AK23*-1","v":0},{"$f":"(AL40+AM40)*AL23*-1","v":0},{"$f":"(AM40+AL40)*AM23*-1","v":0},{"$f":"(AN40+AO40)*AN23*-1","v":0},{"$f":"(AO40+AN40)*AO23*-1","v":0},{"$f":"(AP40+AQ40)*AP23*-1","v":0},{"$f":"(AQ40+AP40)*AQ23*-1","v":0},{"$f":"(AR40+AS40)*AR23*-1","v":0},null,"dis",{"$f":"(AU40)*AU23*-1","v":0},{"$f":"(AV40+AW40)*AV23*-1","v":0},{"$f":"(AW40+AV40)*AW23*-1","v":0},{"$f":"(AX40+AY40)*AX23*-1","v":0},{"$f":"(AY40+AX40)*AY23*-1","v":0},{"$f":"(AZ40+BA40)*AZ23*-1","v":0},{"$f":"(BA40+AZ40)*BA23*-1","v":0},{"$f":"(BB40+BC40)*BB23*-1","v":0},{"$f":"(BC40+BB40)*BC23*-1","v":0},{"$f":"(BD40+BE40)*BD23*-1","v":0},null,"dis",{"$f":"(BG40)*BG23*-1","v":0},{"$f":"(BH40+BI40)*BH23*-1","v":0},{"$f":"(BI40+BH40)*BI23*-1","v":0},{"$f":"(BJ40+BK40)*BJ23*-1","v":0},{"$f":"(BK40+BJ40)*BK23*-1","v":0},{"$f":"(BL40+BM40)*BL23*-1","v":0},{"$f":"(BM40+BL40)*BM23*-1","v":0},{"$f":"(BN40+BO40)*BN23*-1","v":0},{"$f":"(BO40+BN40)*BO23*-1","v":0},{"$f":"(BP40+BQ40)*BP23*-1","v":0},null,"dis",{"$f":"(BS40)*BS23*-1","v":0.83884047776838067},{"$f":"(BT40+BU40)*BT23*-1","v":-1.0713856026512247},{"$f":"(BU40+BT40)*BU23*-1","v":-1.2945909365368966},{"$f":"(BV40+BW40)*BV23*-1","v":1.0693907437147607},{"$f":"(BW40+BV40)*BW23*-1","v":0},{"$f":"(BX40+BY40)*BX23*-1","v":0},{"$f":"(BY40+BX40)*BY23*-1","v":0},{"$f":"(BZ40+CA40)*BZ23*-1","v":0},{"$f":"(CA40+BZ40)*CA23*-1","v":0},{"$f":"(CB40+CC40)*CB23*-1","v":0}]
[null,null,null,null,null,null,null,null,null,"co",{"$f":"L41/2","v":-0.4912747169000119},{"$f":"K41/2","v":0.43964160570425881},{"$f":"N41/2","v":0.56047445986726174},{"$f":"M41/2","v":-0.59362361625418103},{"$f":"P41/2","v":0},{"$f":"O41/2","v":0},{"$f":"R41/2","v":0},{"$f":"Q41/2","v":0},{"$f":"T41/2","v":0},{"$f":"S41/2","v":0},null,"co",{"$f":"X41/2","v":0.34116299784723059},{"$f":"W41/2","v":-0.32211175854440333},{"$f":"Z41/2","v":-0.41064224028085305},{"$f":"Y41/2","v":0.41223862239873693},{"$f":"AB41/2","v":0},{"$f":"AA41/2","v":0},{"$f":"AD41/2","v":0},{"$f":"AC41/2","v":0},{"$f":"AF41/2","v":0},{"$f":"AE41/2","v":0},null,"co",{"$f":"AJ41/2","v":0},{"$f":"AI41/2","v":0},{"$f":"AL41/2","v":0},{"$f":"AK41/2","v":0},{"$f":"AN41/2","v":0},{"$f":"AM41/2","v":0},{"$f":"AP41/2","v":0},{"$f":"AO41/2","v":0},{"$f":"AR41/2","v":0},{"$f":"AQ41/2","v":0},null,"co",{"$f":"AV41/2","v":0},{"$f":"AU41/2","v":0},{"$f":"AX41/2","v":0},{"$f":"AW41/2","v":0},{"$f":"AZ41/2","v":0},{"$f":"AY41/2","v":0},{"$f":"BB41/2","v":0},{"$f":"BA41/2","v":0},{"$f":"BD41/2","v":0},{"$f":"BC41/2","v":0},null,"co",{"$f":"BH41/2","v":0},{"$f":"BG41/2","v":0},{"$f":"BJ41/2","v":0},{"$f":"BI41/2","v":0},{"$f":"BL41/2","v":0},{"$f":"BK41/2","v":0},{"$f":"BN41/2","v":0},{"$f":"BM41/2","v":0},{"$f":"BP41/2","v":0},{"$f":"BO41/2","v":0},null,"co",{"$f":"BT41/2","v":-0.53569280132561237},{"$f":"BS41/2","v":0.41942023888419033},{"$f":"BV41/2","v":0.53469537185738036},{"$f":"BU41/2","v":-0.6472954682684483},{"$f":"BX41/2","v":0},{"$f":"BW41/2","v":0},{"$f":"BZ41/2","v":0},{"$f":"BY41/2","v":0},{"$f":"CB41/2","v":0},{"$f":"CA41/2","v":0}]
[null,null,null,null,null,null,null,null,null,"dis",{"$f":"(K42)*K23*-1","v":0.34261728785597656},{"$f":"(L42+M42)*L23*-1","v":-0.3426172878559765},{"$f":"(M42+L42)*M23*-1","v":-0.41399588949263827},{"$f":"(N42+O42)*N23*-1","v":0.43678359113591153},{"$f":"(O42+N42)*O23*-1","v":0},{"$f":"(P42+Q42)*P23*-1","v":0},{"$f":"(Q42+P42)*Q23*-1","v":0},{"$f":"(R42+S42)*R23*-1","v":0},{"$f":"(S42+R42)*S23*-1","v":0},{"$f":"(T42+U42)*T23*-1","v":0},null,"dis",{"$f":"(W42)*W23*-1","v":-0.23792867212220603},{"$f":"(X42+Y42)*X23*-1","v":0.25102505237696066},{"$f":"(Y42+X42)*Y23*-1","v":0.30332193828882748},{"$f":"(Z42+AA42)*Z23*-1","v":-0.30332193828882753},{"$f":"(AA42+Z42)*AA23*-1","v":0},{"$f":"(AB42+AC42)*AB23*-1","v":0},{"$f":"(AC42+AB42)*AC23*-1","v":0},{"$f":"(AD42+AE42)*AD23*-1","v":0},{"$f":"(AE42+AD42)*AE23*-1","v":0},{"$f":"(AF42+AG42)*AF23*-1","v":0},null,"dis",{"$f":"(AI42)*AI23*-1","v":0},{"$f":"(AJ42+AK42)*AJ23*-1","v":0},{"$f":"(AK42+AJ42)*AK23*-1","v":0},{"$f":"(AL42+AM42)*AL23*-1","v":0},{"$f":"(AM42+AL42)*AM23*-1","v":0},{"$f":"(AN42+AO42)*AN23*-1","v":0},{"$f":"(AO42+AN42)*AO23*-1","v":0},{"$f":"(AP42+AQ42)*AP23*-1","v":0},{"$f":"(AQ42+AP42)*AQ23*-1","v":0},{"$f":"(AR42+AS42)*AR23*-1","v":0},null,"dis",{"$f":"(AU42)*AU23*-1","v":0},{"$f":"(AV42+AW42)*AV23*-1","v":0},{"$f":"(AW42+AV42)*AW23*-1","v":0},{"$f":"(AX42+AY42)*AX23*-1","v":0},{"$f":"(AY42+AX42)*AY23*-1","v":0},{"$f":"(AZ42+BA42)*AZ23*-1","v":0},{"$f":"(BA42+AZ42)*BA23*-1","v":0},{"$f":"(BB42+BC42)*BB23*-1","v":0},{"$f":"(BC42+BB42)*BC23*-1","v":0},{"$f":"(BD42+BE42)*BD23*-1","v":0},null,"dis",{"$f":"(BG42)*BG23*-1","v":0},{"$f":"(BH42+BI42)*BH23*-1","v":0},{"$f":"(BI42+BH42)*BI23*-1","v":0},{"$f":"(BJ42+BK42)*BJ23*-1","v":0},{"$f":"(BK42+BJ42)*BK23*-1","v":0},{"$f":"(BL42+BM42)*BL23*-1","v":0},{"$f":"(BM42+BL42)*BM23*-1","v":0},{"$f":"(BN42+BO42)*BN23*-1","v":0},{"$f":"(BO42+BN42)*BO23*-1","v":0},{"$f":"(BP42+BQ42)*BP23*-1","v":0},null,"dis",{"$f":"(BS42)*BS23*-1","v":0.37359466791267182},{"$f":"(BT42+BU42)*BT23*-1","v":-0.32685856582707651},{"$f":"(BU42+BT42)*BU23*-1","v":-0.39495410037438405},{"$f":"(BV42+BW42)*BV23*-1","v":0.47627491800331995},{"$f":"(BW42+BV42)*BW23*-1","v":0},{"$f":"(BX42+BY42)*BX23*-1","v":0},{"$f":"(BY42+BX42)*BY23*-1","v":0},{"$f":"(BZ42+CA42)*BZ23*-1","v":0},{"$f":"(CA42+BZ42)*CA23*-1","v":0},{"$f":"(CB42+CC42)*CB23*-1","v":0}]
[null,null,null,null,null,null,null,null,null,"co",{"$f":"L43/2","v":-0.17130864392798825},{"$f":"K43/2","v":0.17130864392798828},{"$f":"N43/2","v":0.21839179556795577},{"$f":"M43/2","v":-0.20699794474631913},{"$f":"P43/2","v":0},{"$f":"O43/2","v":0},{"$f":"R43/2","v":0},{"$f":"Q43/2","v":0},{"$f":"T43/2","v":0},{"$f":"S43/2","v":0},null,"co",{"$f":"X43/2","v":0.12551252618848033},{"$f":"W43/2","v":-0.11896433606110302},{"$f":"Z43/2","v":-0.15166096914441377},{"$f":"Y43/2","v":0.15166096914441374},{"$f":"AB43/2","v":0},{"$f":"AA43/2","v":0},{"$f":"AD43/2","v":0},{"$f":"AC43/2","v":0},{"$f":"AF43/2","v":0},{"$f":"AE43/2","v":0},null,"co",{"$f":"AJ43/2","v":0},{"$f":"AI43/2","v":0},{"$f":"AL43/2","v":0},{"$f":"AK43/2","v":0},{"$f":"AN43/2","v":0},{"$f":"AM43/2","v":0},{"$f":"AP43/2","v":0},{"$f":"AO43/2","v":0},{"$f":"AR43/2","v":0},{"$f":"AQ43/2","v":0},null,"co",{"$f":"AV43/2","v":0},{"$f":"AU43/2","v":0},{"$f":"AX43/2","v":0},{"$f":"AW43/2","v":0},{"$f":"AZ43/2","v":0},{"$f":"AY43/2","v":0},{"$f":"BB43/2","v":0},{"$f":"BA43/2","v":0},{"$f":"BD43/2","v":0},{"$f":"BC43/2","v":0},null,"co",{"$f":"BH43/2","v":0},{"$f":"BG43/2","v":0},{"$f":"BJ43/2","v":0},{"$f":"BI43/2","v":0},{"$f":"BL43/2","v":0},{"$f":"BK43/2","v":0},{"$f":"BN43/2","v":0},{"$f":"BM43/2","v":0},{"$f":"BP43/2","v":0},{"$f":"BO43/2","v":0},null,"co",{"$f":"BT43/2","v":-0.16342928291353825},{"$f":"BS43/2","v":0.18679733395633591},{"$f":"BV43/2","v":0.23813745900165997},{"$f":"BU43/2","v":-0.19747705018719203},{"$f":"BX43/2","v":0},{"$f":"BW43/2","v":0},{"$f":"BZ43/2","v":0},{"$f":"BY43/2","v":0},{"$f":"CB43/2","v":0},{"$f":"CA43/2","v":0}]
[null,null,null,null,null,null,null,null,null,"dis",{"$f":"(K44)*K23*-1","v":0.11947145039185533},{"$f":"(L44+M44)*L23*-1","v":-0.13350261259935159},{"$f":"(M44+L44)*M23*-1","v":-0.16131565689088317},{"$f":"(N44+O44)*N23*-1","v":0.15230746080246341},{"$f":"(O44+N44)*O23*-1","v":0},{"$f":"(P44+Q44)*P23*-1","v":0},{"$f":"(Q44+P44)*Q23*-1","v":0},{"$f":"(R44+S44)*R23*-1","v":0},{"$f":"(S44+R44)*S23*-1","v":0},{"$f":"(T44+U44)*T23*-1","v":0},null,"dis",{"$f":"(W44)*W23*-1","v":-8.7533023449691633E-2},{"$f":"(X44+Y44)*X23*-1","v":9.2710147638438628E-2},{"$f":"(Y44+X44)*Y23*-1","v":0.11202476172978001},{"$f":"(Z44+AA44)*Z23*-1","v":-0.11159094908664383},{"$f":"(AA44+Z44)*AA23*-1","v":0},{"$f":"(AB44+AC44)*AB23*-1","v":0},{"$f":"(AC44+AB44)*AC23*-1","v":0},{"$f":"(AD44+AE44)*AD23*-1","v":0},{"$f":"(AE44+AD44)*AE23*-1","v":0},{"$f":"(AF44+AG44)*AF23*-1","v":0},null,"dis",{"$f":"(AI44)*AI23*-1","v":0},{"$f":"(AJ44+AK44)*AJ23*-1","v":0},{"$f":"(AK44+AJ44)*AK23*-1","v":0},{"$f":"(AL44+AM44)*AL23*-1","v":0},{"$f":"(AM44+AL44)*AM23*-1","v":0},{"$f":"(AN44+AO44)*AN23*-1","v":0},{"$f":"(AO44+AN44)*AO23*-1","v":0},{"$f":"(AP44+AQ44)*AP23*-1","v":0},{"$f":"(AQ44+AP44)*AQ23*-1","v":0},{"$f":"(AR44+AS44)*AR23*-1","v":0},null,"dis",{"$f":"(AU44)*AU23*-1","v":0},{"$f":"(AV44+AW44)*AV23*-1","v":0},{"$f":"(AW44+AV44)*AW23*-1","v":0},{"$f":"(AX44+AY44)*AX23*-1","v":0},{"$f":"(AY44+AX44)*AY23*-1","v":0},{"$f":"(AZ44+BA44)*AZ23*-1","v":0},{"$f":"(BA44+AZ44)*BA23*-1","v":0},{"$f":"(BB44+BC44)*BB23*-1","v":0},{"$f":"(BC44+BB44)*BC23*-1","v":0},{"$f":"(BD44+BE44)*BD23*-1","v":0},null,"dis",{"$f":"(BG44)*BG23*-1","v":0},{"$f":"(BH44+BI44)*BH23*-1","v":0},{"$f":"(BI44+BH44)*BI23*-1","v":0},{"$f":"(BJ44+BK44)*BJ23*-1","v":0},{"$f":"(BK44+BJ44)*BK23*-1","v":0},{"$f":"(BL44+BM44)*BL23*-1","v":0},{"$f":"(BM44+BL44)*BM23*-1","v":0},{"$f":"(BN44+BO44)*BN23*-1","v":0},{"$f":"(BO44+BN44)*BO23*-1","v":0},{"$f":"(BP44+BQ44)*BP23*-1","v":0},null,"dis",{"$f":"(BS44)*BS23*-1","v":0.11397634712693723},{"$f":"(BT44+BU44)*BT23*-1","v":-0.14557311025266997},{"$f":"(BU44+BT44)*BU23*-1","v":-0.17590084155530952},{"$f":"(BV44+BW44)*BV23*-1","v":0.14530206141723873},{"$f":"(BW44+BV44)*BW23*-1","v":0},{"$f":"(BX44+BY44)*BX23*-1","v":0},{"$f":"(BY44+BX44)*BY23*-1","v":0},{"$f":"(BZ44+CA44)*BZ23*-1","v":0},{"$f":"(CA44+BZ44)*CA23*-1","v":0},{"$f":"(CB44+CC44)*CB23*-1","v":0}]
[null,null,null,null,null,null,null,null,null,"sum",{"$f":"SUM(K24:K45)","v":-3227.0524743396327},{"$f":"SUM(L24:L45)","v":7634.4080410822125},{"$f":"SUM(M24:M45)","v":-4436.6950009879401},{"$f":"SUM(N24:N45)","v":-718.18156162670141},{"$f":"SUM(O24:O45)","v":0},0,0,0,0,0,null,"sum",{"$f":"SUM(W24:W45)","v":479.44463566549138},2616.5213249535586,-4868.7568557862078,2049.7995326731998,0,0,0,0,0,0,null,"sum",{"$f":"SUM(AI24:AI45)","v":0},0,0,0,0,0,0,0,0,0,null,"sum",{"$f":"SUM(AU24:AU45)","v":0},0,0,0,0,0,0,0,0,0,null,"sum",{"$f":"SUM(BG24:BG45)","v":0},0,0,0,0,0,0,0,0,0,null,"sum",{"$f":"SUM(BS24:BS45)","v":-9805.1887576214467},36581.747933696272,-33207.690939860673,4752.0484456953445,0,0,0,0,0,0]
[null,null,null,null,null,null,null,null,null,"โมเมนต์บวก span 1 =",{"$f":"K109","v":30097.227501766662},null,"โมเมนต์บวก span 2 =",{"$f":"W109","v":19134.220431339374},"โมเมนต์บวก span 3 =",{"$f":"AI109","v":0},"โมเมนต์บวก span 4 =",{"$f":"AU109","v":0},"โมเมนต์บวก span 5 =",{"$f":"BG109","v":0}]
[null,null,null,null,null,null,null,null,null,"โมเมนต์ลบ span 1 ขวา =",{"$f":"N108","v":-38513.614609617493},null,"โมเมนต์ลบ span 2 ขวา =",{"$f":"AC109","v":-2157.9319710596783},"โมเมนต์ลบ span 3 ขวา =",{"$f":"AO108","v":0},"โมเมนต์ลบ span 4 ขวา =",{"$f":"BA108","v":0},"โมเมนต์ลบ span 5 ขวา =",{"$f":"BM108","v":0}]
[null,null,null,null,null,null,null,null,null,"โมเมนต์ลบ span 1 ซ้าย =",{"$f":"-K105+0.5*K107*Sheet1!D10-0.25*'l2'!E2*('l2'!B7+'l2'!E7)*Sheet1!D10^2","v":-6895.3050567216596},null,"โมเมนต์ลบ span 2 ซ้าย =",{"$f":"Z109","v":-35161.063741439102},"โมเมนต์ลบ span 3 ซ้าย =",{"$f":"AL108","v":0},"โมเมนต์ลบ span 4 ซ้าย =",{"$f":"AX108","v":0},"โมเมนต์ลบ span 5 ซ้าย =",{"$f":"BJ108","v":0}]
[null,null,null,null,null,null,null,null,null,"span1",null,null,"span2",null,"span3",null,"span4",null,"span5"]
[null,null,null,null,null,null,"ทิศทาง","ช่วงเสา","สัมประสิทธ์ร้อยละ","แถบเสา","แถบกลาง",null,"แถบเสา","แถบกลาง","แถบเสา","แถบกลาง","แถบเสา","แถบกลาง","แถบเสา","แถบกลาง"]
[null,null,null,null,null,null,null,"โมเมนต์ลบขวา",0.75,{"$f":"IF((-K48>-N49),(K48),(N49))*I52","v":-28885.210957213119},{"$f":"IF((-K48>-N49),(K48),(N49))-J52","v":-9628.4036524043731},null,{"$f":"IF((-N48>-P49),(N48),(P49))*IF(Sheet1!$B$4=2,(I54),(I52))","v":-2157.9319710596783},{"$f":"IF((-N48>-P49),(N48),(P49))-M52","v":0},{"$f":"IF(-P48>-R49,(P48),(R49))*IF(Sheet1!$B$3=3,(1),(0.75))","v":0},{"$f":"IF(-P48>-R49,(P48),(R49))*IF(Sheet1!$B$4=3,(1),(0.75))-O52","v":0},{"$f":"IF(-R48>-T49,(R48),(T49))*IF(Sheet1!$B$4=4,(1),(0.75))","v":0},{"$f":"IF(-R48>-T49,(R48),(T49))*IF(Sheet1!$B$4=4,(1),(0.75))-Q52","v":0},{"$f":"IF(-T48>-V49,(T48),(V49))*IF(Sheet1!$B$4=5,(1),(0.75))","v":0},{"$f":"IF(-T48>-V49,(T48),(V49))*IF(Sheet1!$B$4=5,(1),(0.75))-S52","v":0}]
[null,null,null,null,null,null,null,"โมเมนต์กลางช่วงโมเมนต์บวก",0.6,{"$f":"K47*$I$53","v":18058.336501059995},{"$f":"K47-J53","v":12038.891000706666},null,{"$f":"N47*$I$53","v":11480.532258803623},{"$f":"N47-M53","v":7653.6881725357507},{"$f":"P47*$I$53","v":0},{"$f":"P47-O53","v":0},{"$f":"R47*$I$53","v":0},{"$f":"R47-Q53","v":0},{"$f":"T47*$I$53","v":0},{"$f":"T47-S53","v":0}]
[null,null,null,null,null,null,null,"โมเมนต์ลบซ้าย",1,{"$f":"K49*I54","v":-6895.3050567216596},{"$f":"K49-J54","v":0},null,{"$f":"IF((-K48>-N49),(K48),(N49))*I52","v":-28885.210957213119},{"$f":"IF((-K48>-N49),(K48),(N49))-M54","v":-9628.4036524043731},{"$f":"IF((-N48>-P49),(N48),(P49))*IF(Sheet1!$B$4<3,(0),(0.75))","v":0},{"$f":"IF(O54=0,(0),(IF((-N48>-P49),(N48),(P49))-O54))","v":0},{"$f":"IF((-P48>-R49),(P48),(R49))*IF(Sheet1!$B$4<4,(0),(0.75))","v":0},{"$f":"IF(Q54=0,(0),(IF((-P48>-R49),(P48),(R49))-Q54))","v":0},{"$f":"IF((-R48>-T49),(R48),(T49))*IF(Sheet1!$B$4<5,(0),(0.75))","v":0},{"$f":"IF(S54=0,(0),(IF((-R48>-T49),(R48),(T49))-S54))","v":0}]
[]
[null,null,null,null,null,null,"เหล็กเสริมในแผ่นพื้น",null,null,"span l1",null,null,"span l2",null,"span l3",null,"span l4",null,"span l5"]
[null,null,null,null,null,null,null,"รายการ","หน่วย","แถบเสา","แถบกลาง",null,"แถบเสา","แถบกลาง","แถบเสา","แถบกลาง","แถบเสา","แถบกลาง","แถบเสา","แถบกลาง"]
[null,null,null,null,null,null,null,"ความกว้าง","m",{"$f":"E2*0.5","v":2.75},{"$f":"$E$2-J58","v":2.75},null,{"$f":"J58","v":2.75},{"$f":"$E$2-M58","v":2.75},{"$f":"M58","v":2.75},{"$f":"$E$2-O58","v":2.75},2.75,{"$f":"$E$2-Q58","v":2.75},2.75,{"$f":"$E$2-S58","v":2.75}]
[null,null,null,null,null,null,null,"โมเมนต์ลบขวา","kg-m/m",{"$f":"J52/(0.9*J58)","v":-11670.792305944695},{"$f":"K52/(K58*0.9)","v":-3890.2641019815646},null,{"$f":"M52/(0.9*M58)","v":-871.89170547865785},{"$f":"N52/(0.9*N58)","v":0},{"$f":"O52/(0.9*O58)","v":0},{"$f":"P52/(0.9*P58)","v":0},{"$f":"Q52/(0.9*Q58)","v":0},0,{"$f":"S52/(0.9*S58)","v":0},{"$f":"T52/(0.9*T58)","v":0}]
[null,null,null,null,null,null,null,"Rn","kg/m^2",{"$f":"J59/(((Sheet1!B16)-(Sheet1!B13/100))^2)","v":-230534.16900631494},{"$f":"K59/(((Sheet1!B16)-(Sheet1!B13/100))^2)","v":-76844.723002104976},null,{"$f":"M59/(((Sheet1!B16)-(Sheet1!B13/100))^2)","v":-17222.552206985834},{"$f":"N59/(((Sheet1!B16)-(Sheet1!B13/100))^2)","v":0},{"$f":"O59/(((Sheet1!B16)-(Sheet1!B13/100))^2)","v":0},{"$f":"P59/(((Sheet1!B16)-(Sheet1!B13/100))^2)","v":0},{"$f":"Q59/(((Sheet1!B16)-(Sheet1!B13/100))^2)","v":0},{"$f":"R59/(((Sheet1!B16)-(Sheet1!B13/100))^2)","v":0},{"$f":"S59/(((Sheet1!B16)-(Sheet1!B13/100))^2)","v":0},{"$f":"T59/(((Sheet1!B16)-(Sheet1!B13/100))^2)","v":0}]
[null,null,null,null,null,null,null,"p",null,{"$f":"ABS((0.85*Sheet1!B10/Sheet1!B9)*(1-(SQRT(1-(2*J60/(0.85*Sheet1!B10*100^2))))))","v":7.2437611314255445E-3},{"$f":"ABS((0.85*Sheet1!B10/Sheet1!B9)*(1-(SQRT(1-(2*K60/(0.85*Sheet1!B10*100^2))))))","v":2.478379656090263E-3},null,{"$f":"ABS((0.85*Sheet1!B10/Sheet1!B9)*(1-(SQRT(1-(2*M60/(0.85*Sheet1!B10*100^2))))))","v":5.6142477715364313E-4},{"$f":"ABS((0.85*Sheet1!B10/Sheet1!B9)*(1-(SQRT(1-(2*N60/(0.85*Sheet1!B10*100^2))))))","v":0},{"$f":"ABS((0.85*Sheet1!B10/Sheet1!B9)*(1-(SQRT(1-(2*O60/(0.85*Sheet1!B10*100^2))))))","v":0},{"$f":"ABS((0.85*Sheet1!B10/Sheet1!B9)*(1-(SQRT(1-(2*P60/(0.85*Sheet1!B10*100^2))))))","v":0},{"$f":"ABS((0.85*Sheet1!B10/Sheet1!B9)*(1-(SQRT(1-(2*Q60/(0.85*Sheet1!B10*100^2))))))","v":0},{"$f":"ABS((0.85*Sheet1!B10/Sheet1!B9)*(1-(SQRT(1-(2*R60/(0.85*Sheet1!B10*100^2))))))","v":0},{"$f":"ABS((0.85*Sheet1!B10/Sheet1!B9)*(1-(SQRT(1-(2*S60/(0.85*Sheet1!B10*100^2))))))","v":0},{"$f":"ABS((0.85*Sheet1!B10/Sheet1!B9)*(1-(SQRT(1-(2*T60/(0.85*Sheet1!B10*100^2))))))","v":0}]
[null,null,null,null,null,null,null,"As-","mm^2/m",{"$f":"IF(J53=0,(0),(IF(J61>(0.0018*4000/Sheet1!$B$9),(ABS(J61*1000*(Sheet1!$B$16*1000-Sheet1!$B$13*10)*-1)),(ABS((0.0018*4000/Sheet1!$B$9)*1000*(Sheet1!$B$16*1000-Sheet1!$B$13*10)*-1)))))","v":1629.8462545707475},{"$f":"IF(K53=0,(0),(IF(K61>(0.0018*4000/Sheet1!$B$9),(ABS(K61*1000*(Sheet1!$B$16*1000-Sheet1!$B$13*10)*-1)),(ABS((0.0018*4000/Sheet1!$B$9)*1000*(Sheet1!$B$16*1000-Sheet1!$B$13*10)*-1)))))","v":557.6354226203091},null,{"$f":"IF(M53=0,(0),(IF(M61>(0.0018*4000/Sheet1!$B$9),(ABS(M61*1000*(Sheet1!$B$16*1000-Sheet1!$B$13*10)*-1)),(ABS((0.0018*4000/Sheet1!$B$9)*1000*(Sheet1!$B$16*1000-Sheet1!$B$13*10)*-1)))))","v":529.75801177240021},{"$f":"IF(N53=0,(0),(IF(N61>(0.0018*4000/Sheet1!$B$9),(ABS(N61*1000*(Sheet1!$B$16*1000-Sheet1!$B$13*10)*-1)),(ABS((0.0018*4000/Sheet1!$B$9)*1000*(Sheet1!$B$16*1000-Sheet1!$B$13*10)*-1)))))","v":529.75801177240021},{"$f":"IF(O53=0,(0),(IF(O61>(0.0018*4000/Sheet1!$B$9),(ABS(O61*1000*(Sheet1!$B$16*1000-Sheet1!$B$13*10)*-1)),(ABS((0.0018*4000/Sheet1!$B$9)*1000*(Sheet1!$B$16*1000-Sheet1!$B$13*10)*-1)))))","v":0},{"$f":"IF(P53=0,(0),(IF(P61>(0.0018*4000/Sheet1!$B$9),(ABS(P61*1000*(Sheet1!$B$16*1000-Sheet1!$B$13*10)*-1)),(ABS((0.0018*4000/Sheet1!$B$9)*1000*(Sheet1!$B$16*1000-Sheet1!$B$13*10)*-1)))))","v":0},{"$f":"IF(Q53=0,(0),(IF(Q61>(0.0018*4000/Sheet1!$B$9),(ABS(Q61*1000*(Sheet1!$B$16*1000-Sheet1!$B$13*10)*-1)),(ABS((0.0018*4000/Sheet1!$B$9)*1000*(Sheet1!$B$16*1000-Sheet1!$B$13*10)*-1)))))","v":0},{"$f":"IF(R53=0,(0),(IF(R61>(0.0018*4000/Sheet1!$B$9),(ABS(R61*1000*(Sheet1!$B$16*1000-Sheet1!$B$13*10)*-1)),(ABS((0.0018*4000/Sheet1!$B$9)*1000*(Sheet1!$B$16*1000-Sheet1!$B$13*10)*-1)))))","v":0},{"$f":"IF(S53=0,(0),(IF(S61>(0.0018*4000/Sheet1!$B$9),(ABS(S61*1000*(Sheet1!$B$16*1000-Sheet1!$B$13*10)*-1)),(ABS((0.0018*4000/Sheet1!$B$9)*1000*(Sheet1!$B$16*1000-Sheet1!$B$13*10)*-1)))))","v":0},{"$f":"IF(T53=0,(0),(IF(T61>(0.0018*4000/Sheet1!$B$9),(ABS(T61*1000*(Sheet1!$B$16*1000-Sheet1!$B$13*10)*-1)),(ABS((0.0018*4000/Sheet1!$B$9)*1000*(Sheet1!$B$16*1000-Sheet1!$B$13*10)*-1)))))","v":0}]
[null,null,null,null,null,null,null,"โมเมนต์บวกกลาง","kg-m/m",{"$f":"J53/(0.9*J58)","v":7296.2975761858561},{"$f":"K53/(0.9*K58)","v":4864.1983841239053},null,{"$f":"M53/(0.9*M58)","v":4638.5988924459079},{"$f":"N53/(0.9*N58)","v":3092.3992616306064},{"$f":"O53/(0.9*O58)","v":0},0,0,{"$f":"R53/(0.9*R58)","v":0},0,{"$f":"T53/(0.9*T58)","v":0}]
[null,null,null,null,null,null,null,"Rn","kg/m^2",{"$f":"J63/(((Sheet1!B16)-(Sheet1!B13/100))^2)","v":144124.39656663418},{"$f":"K63/(((Sheet1!B16)-(Sheet1!B13/100))^2)","v":96082.931044422818},null,{"$f":"M63/(((Sheet1!B16)-(Sheet1!B13/100))^2)","v":91626.644789054961},{"$f":"N63/(((Sheet1!B16)-(Sheet1!B13/100))^2)","v":61084.42985937},{"$f":"O63/(((Sheet1!B16)-(Sheet1!B13/100))^2)","v":0},{"$f":"P63/(((Sheet1!B16)-(Sheet1!B13/100))^2)","v":0},{"$f":"Q63/(((Sheet1!B16)-(Sheet1!B13/100))^2)","v":0},{"$f":"R63/(((Sheet1!B16)-(Sheet1!B13/100))^2)","v":0},{"$f":"S63/(((Sheet1!B16)-(Sheet1!B13/100))^2)","v":0},{"$f":"T63/(((Sheet1!B16)-(Sheet1!B13/100))^2)","v":0}]
[null,null,null,null,null,null,null,"p",null,{"$f":"ABS((0.85*Sheet1!B10/Sheet1!B9)*(1-(SQRT(1-(2*J64/(0.85*Sheet1!B10*100^2))))))","v":4.844982126145576E-3},{"$f":"(0.85*Sheet1!B10/Sheet1!B9)*(1-(SQRT(1-(2*K64/(0.85*Sheet1!B10*100^2)))))","v":3.1995653921333554E-3},null,{"$f":"ABS((0.85*Sheet1!B10/Sheet1!B9)*(1-(SQRT(1-(2*M64/(0.85*Sheet1!B10*100^2))))))","v":3.0485353083779675E-3},{"$f":"ABS((0.85*Sheet1!B10/Sheet1!B9)*(1-(SQRT(1-(2*N64/(0.85*Sheet1!B10*100^2))))))","v":2.0204768515562545E-3},{"$f":"ABS((0.85*Sheet1!B10/Sheet1!B9)*(1-(SQRT(1-(2*O64/(0.85*Sheet1!B10*100^2))))))","v":0},{"$f":"ABS((0.85*Sheet1!B10/Sheet1!B9)*(1-(SQRT(1-(2*P64/(0.85*Sheet1!B10*100^2))))))","v":0},{"$f":"ABS((0.85*Sheet1!B10/Sheet1!B9)*(1-(SQRT(1-(2*Q64/(0.85*Sheet1!B10*100^2))))))","v":0},{"$f":"ABS((0.85*Sheet1!B10/Sheet1!B9)*(1-(SQRT(1-(2*R64/(0.85*Sheet1!B10*100^2))))))","v":0},{"$f":"ABS((0.85*Sheet1!B10/Sheet1!B9)*(1-(SQRT(1-(2*S64/(0.85*Sheet1!B10*100^2))))))","v":0},{"$f":"ABS((0.85*Sheet1!B10/Sheet1!B9)*(1-(SQRT(1-(2*T64/(0.85*Sheet1!B10*100^2))))))","v":0}]
[null,null,null,null,null,null,null,"As+","mm^2/m",{"$f":"IF(J53=0,(0),(IF(J65>(0.0018*4000/Sheet1!$B$9),(ABS(J65*1000*(Sheet1!$B$16*1000-Sheet1!$B$13*10)*-1)),(ABS((0.0018*4000/Sheet1!$B$9)*1000*(Sheet1!$B$16*1000-Sheet1!$B$13*10)*-1)))))","v":1090.1209783827546},{"$f":"IF(K53=0,(0),(IF(K65>(0.0018*4000/Sheet1!$B$9),(ABS(K65*1000*(Sheet1!$B$16*1000-Sheet1!$B$13*10)*-1)),(ABS((0.0018*4000/Sheet1!$B$9)*1000*(Sheet1!$B$16*1000-Sheet1!$B$13*10)*-1)))))","v":719.90221323000492},null,{"$f":"IF(M53=0,(0),(IF(M65>(0.0018*4000/Sheet1!$B$9),(ABS(M65*1000*(Sheet1!$B$16*1000-Sheet1!$B$13*10)*-1)),(ABS((0.0018*4000/Sheet1!$B$9)*1000*(Sheet1!$B$16*1000-Sheet1!$B$13*10)*-1)))))","v":685.92044438504263},{"$f":"IF(N53=0,(0),(IF(N65>(0.0018*4000/Sheet1!$B$9),(ABS(N65*1000*(Sheet1!$B$16*1000-Sheet1!$B$13*10)*-1)),(ABS((0.0018*4000/Sheet1!$B$9)*1000*(Sheet1!$B$16*1000-Sheet1!$B$13*10)*-1)))))","v":529.75801177240021},{"$f":"IF(O53=0,(0),(IF(O65>(0.0018*4000/Sheet1!$B$9),(ABS(O65*1000*(Sheet1!$B$16*1000-Sheet1!$B$13*10)*-1)),(ABS((0.0018*4000/Sheet1!$B$9)*1000*(Sheet1!$B$16*1000-Sheet1!$B$13*10)*-1)))))","v":0},{"$f":"IF(P53=0,(0),(IF(P65>(0.0018*4000/Sheet1!$B$9),(ABS(P65*1000*(Sheet1!$B$16*1000-Sheet1!$B$13*10)*-1)),(ABS((0.0018*4000/Sheet1!$B$9)*1000*(Sheet1!$B$16*1000-Sheet1!$B$13*10)*-1)))))","v":0},{"$f":"IF(Q53=0,(0),(IF(Q65>(0.0018*4000/Sheet1!$B$9),(ABS(Q65*1000*(Sheet1!$B$16*1000-Sheet1!$B$13*10)*-1)),(ABS((0.0018*4000/Sheet1!$B$9)*1000*(Sheet1!$B$16*1000-Sheet1!$B$13*10)*-1)))))","v":0},{"$f":"IF(R53=0,(0),(IF(R65>(0.0018*4000/Sheet1!$B$9),(ABS(R65*1000*(Sheet1!$B$16*1000-Sheet1!$B$13*10)*-1)),(ABS((0.0018*4000/Sheet1!$B$9)*1000*(Sheet1!$B$16*1000-Sheet1!$B$13*10)*-1)))))","v":0},{"$f":"IF(S53=0,(0),(IF(S65>(0.0018*4000/Sheet1!$B$9),(ABS(S65*1000*(Sheet1!$B$16*1000-Sheet1!$B$13*10)*-1)),(ABS((0.0018*4000/Sheet1!$B$9)*1000*(Sheet1!$B$16*1000-Sheet1!$B$13*10)*-1)))))","v":0},{"$f":"IF(T53=0,(0),(IF(T65>(0.0018*4000/Sheet1!$B$9),(ABS(T65*1000*(Sheet1!$B$16*1000-Sheet1!$B$13*10)*-1)),(ABS((0.0018*4000/Sheet1!$B$9)*1000*(Sheet1!$B$16*1000-Sheet1!$B$13*10)*-1)))))","v":0}]
[null,null,null,null,null,null,null,"โมเมนต์ลบซ้าย","kg-m/m",{"$f":"J54/(0.9*J58)","v":-2785.9818410996604},{"$f":"K54/(0.9*K58)","v":0},null,{"$f":"M54/(0.9*M58)","v":-11670.792305944695},{"$f":"N54/(0.9*N58)","v":-3890.2641019815646},{"$f":"O54/(0.9*O58)","v":0},{"$f":"P54/(0.9*P58)","v":0},0,0,0,0]
[null,null,null,null,null,null,null,"Rn","kg/m^2",{"$f":"J67/(((Sheet1!B16)-(Sheet1!B13/100))^2)","v":-55031.740071104403},{"$f":"K67/(((Sheet1!B16)-(Sheet1!B13/100))^2)","v":0},null,{"$f":"M67/(((Sheet1!B16)-(Sheet1!B13/100))^2)","v":-230534.16900631494},{"$f":"N67/(((Sheet1!B16)-(Sheet1!B13/100))^2)","v":-76844.723002104976},{"$f":"O67/(((Sheet1!B16)-(Sheet1!B13/100))^2)","v":0},{"$f":"P67/(((Sheet1!B16)-(Sheet1!B13/100))^2)","v":0},{"$f":"Q67/(((Sheet1!B16)-(Sheet1!B13/100))^2)","v":0},{"$f":"R67/(((Sheet1!B16)-(Sheet1!B13/100))^2)","v":0},{"$f":"S67/(((Sheet1!B16)-(Sheet1!B13/100))^2)","v":0},{"$f":"T67/(((Sheet1!B16)-(Sheet1!B13/100))^2)","v":0}]
[null,null,null,null,null,null,null,"p",null,{"$f":"ABS((0.85*Sheet1!B10/Sheet1!B9)*(1-(SQRT(1-(2*J68/(0.85*Sheet1!B10*100^2))))))","v":1.7817533794664453E-3},{"$f":"(0.85*Sheet1!B10/Sheet1!B9)*(1-(SQRT(1-(2*K68/(0.85*Sheet1!B10*100^2)))))","v":0},null,{"$f":"ABS((0.85*Sheet1!B10/Sheet1!B9)*(1-(SQRT(1-(2*M68/(0.85*Sheet1!B10*100^2))))))","v":7.2437611314255445E-3},{"$f":"ABS((0.85*Sheet1!B10/Sheet1!B9)*(1-(SQRT(1-(2*N68/(0.85*Sheet1!B10*100^2))))))","v":2.478379656090263E-3},{"$f":"ABS((0.85*Sheet1!B10/Sheet1!B9)*(1-(SQRT(1-(2*O68/(0.85*Sheet1!B10*100^2))))))","v":0},{"$f":"ABS((0.85*Sheet1!B10/Sheet1!B9)*(1-(SQRT(1-(2*P68/(0.85*Sheet1!B10*100^2))))))","v":0},{"$f":"ABS((0.85*Sheet1!B10/Sheet1!B9)*(1-(SQRT(1-(2*Q68/(0.85*Sheet1!B10*100^2))))))","v":0},{"$f":"ABS((0.85*Sheet1!B10/Sheet1!B9)*(1-(SQRT(1-(2*R68/(0.85*Sheet1!B10*100^2))))))","v":0},{"$f":"ABS((0.85*Sheet1!B10/Sheet1!B9)*(1-(SQRT(1-(2*S68/(0.85*Sheet1!B10*100^2))))))","v":0},{"$f":"ABS((0.85*Sheet1!B10/Sheet1!B9)*(1-(SQRT(1-(2*T68/(0.85*Sheet1!B10*100^2))))))","v":0}]
[null,null,null,null,null,null,null,"As-","mm^2/m",{"$f":"IF(J53=0,(0),(IF(J69>(0.0018*4000/Sheet1!$B$9),(ABS(J69*1000*(Sheet1!$B$16*1000-Sheet1!$B$13*10)*-1)),(ABS((0.0018*4000/Sheet1!$B$9)*1000*(Sheet1!$B$16*1000-Sheet1!$B$13*10)*-1)))))","v":529.75801177240021},{"$f":"IF(K53=0,(0),(IF(K69>(0.0018*4000/Sheet1!$B$9),(ABS(K69*1000*(Sheet1!$B$16*1000-Sheet1!$B$13*10)*-1)),(ABS((0.0018*4000/Sheet1!$B$9)*1000*(Sheet1!$B$16*1000-Sheet1!$B$13*10)*-1)))))","v":529.75801177240021},null,{"$f":"IF(M53=0,(0),(IF(M69>(0.0018*4000/Sheet1!$B$9),(ABS(M69*1000*(Sheet1!$B$16*1000-Sheet1!$B$13*10)*-1)),(ABS((0.0018*4000/Sheet1!$B$9)*1000*(Sheet1!$B$16*1000-Sheet1!$B$13*10)*-1)))))","v":1629.8462545707475},{"$f":"IF(N53=0,(0),(IF(N69>(0.0018*4000/Sheet1!$B$9),(ABS(N69*1000*(Sheet1!$B$16*1000-Sheet1!$B$13*10)*-1)),(ABS((0.0018*4000/Sheet1!$B$9)*1000*(Sheet1!$B$16*1000-Sheet1!$B$13*10)*-1)))))","v":557.6354226203091},{"$f":"IF(O53=0,(0),(IF(O69>(0.0018*4000/Sheet1!$B$9),(ABS(O69*1000*(Sheet1!$B$16*1000-Sheet1!$B$13*10)*-1)),(ABS((0.0018*4000/Sheet1!$B$9)*1000*(Sheet1!$B$16*1000-Sheet1!$B$13*10)*-1)))))","v":0},{"$f":"IF(P53=0,(0),(IF(P69>(0.0018*4000/Sheet1!$B$9),(ABS(P69*1000*(Sheet1!$B$16*1000-Sheet1!$B$13*10)*-1)),(ABS((0.0018*4000/Sheet1!$B$9)*1000*(Sheet1!$B$16*1000-Sheet1!$B$13*10)*-1)))))","v":0},{"$f":"IF(Q53=0,(0),(IF(Q69>(0.0018*4000/Sheet1!$B$9),(ABS(Q69*1000*(Sheet1!$B$16*1000-Sheet1!$B$13*10)*-1)),(ABS((0.0018*4000/Sheet1!$B$9)*1000*(Sheet1!$B$16*1000-Sheet1!$B$13*10)*-1)))))","v":0},{"$f":"IF(R53=0,(0),(IF(R69>(0.0018*4000/Sheet1!$B$9),(ABS(R69*1000*(Sheet1!$B$16*1000-Sheet1!$B$13*10)*-1)),(ABS((0.0018*4000/Sheet1!$B$9)*1000*(Sheet1!$B$16*1000-Sheet1!$B$13*10)*-1)))))","v":0},{"$f":"IF(S53=0,(0),(IF(S69>(0.0018*4000/Sheet1!$B$9),(ABS(S69*1000*(Sheet1!$B$16*1000-Sheet1!$B$13*10)*-1)),(ABS((0.0018*4000/Sheet1!$B$9)*1000*(Sheet1!$B$16*1000-Sheet1!$B$13*10)*-1)))))","v":0},{"$f":"IF(T53=0,(0),(IF(T69>(0.0018*4000/Sheet1!$B$9),(ABS(T69*1000*(Sheet1!$B$16*1000-Sheet1!$B$13*10)*-1)),(ABS((0.0018*4000/Sheet1!$B$9)*1000*(Sheet1!$B$16*1000-Sheet1!$B$13*10)*-1)))))","v":0}]
[]
[null,null,null,null,null,null,"เช็ค punching shear  "]
[null,null,null,null,null,null,null,null,null,null,null,null,null,null,null,null,null,"เช็ค punching shear  "]
[null,null,null,null,null,null,"V",null,"kg",{"$f":"$K$107","v":33247.680876197097},null,null,{"$f":"$N$107+$Z$107","v":83481.708726551326},{"$f":"$AC$108+$AL$107","v":25782.580036544332},{"$f":"$AO$107+$AX$107","v":0},{"$f":"$BA$107+$BJ$107","v":0},{"$f":"$BM107","v":0}]
[null,null,null,null,null,null,"V(max) ",null,"kg",{"$f":"MAX(J74,M74,N74,O74,P74,Q74)","v":83481.708726551326}]
[null,null,null,null,null,null,"Vc",null,"kg",{"$f":"1.06*SQRT(Sheet1!$B$10)","v":18.961856449198219},null,null,null,null,null,null,null,"Vmax","kg",{"$f":"IF(Sheet1!$B$4=2,(MAX($J$74,$N$74)),(IF(Sheet1!$B$4=3,(MAX($J$74,$O$74)),(IF(Sheet1!$B$4=4,(MAX($J$74,P74)),(IF(Sheet1!$B$4=5,(MAX($J$74,Q74)),(0))))))))","v":33247.680876197097}]
[null,null,null,null,null,null,"b1",null,"cm",{"$f":"(Sheet1!D10*100)+(Sheet1!$B$16*100)-Sheet1!$B$13","v":62.5},null,null,null,null,null,null,null,"Vc","kg",{"$f":"1.06*SQRT(Sheet1!$B$10)","v":18.961856449198219}]
[null,null,null,null,null,null,"b2",null,"cm",{"$f":"(Sheet1!$D$9*100)+(Sheet1!$B$16*100)-Sheet1!$B$13","v":72.5},null,null,null,null,null,null,null,"b1","cm",{"$f":"(Sheet1!$D$10*100)+((Sheet1!$B$16*100)-Sheet1!$B$13)/2","v":51.25}]
[null,null,null,null,null,null,"d",null,"cm",{"$f":"((Sheet1!$B$16*100)-Sheet1!$B$13)","v":22.5},null,null,null,null,null,null,null,"b2","cm",{"$f":"(Sheet1!$D$9*100)+(Sheet1!$B$16*100)-Sheet1!$B$13","v":72.5}]
[null,null,null,null,null,null,"Ac",null,"cm^2",{"$f":"(J77*J79*2)+(J78*J79*2)","v":6075},null,null,null,null,null,null,null,"d","cm",{"$f":"((Sheet1!$B$16*100)-Sheet1!$B$13)","v":22.5}]
[null,null,null,null,null,null,"X1",null,"cm",{"$f":"J77/2","v":31.25},null,null,null,null,null,null,null,"Ac","cm^2",{"$f":"2*($T$78*$T$80)+($T$79*$T$80)","v":3937.5}]
[null,null,null,null,null,null,"Jc",null,"cm^4",{"$f":"(J77^3*J79/6)+(J77*J79^3/6)+(J78*J77^2*J79/2)","v":4220214.84375},null,null,null,null,null,null,null,"X2,X1","cm",{"$f":"$T$78^2*$T$80/$T$81","v":15.008928571428571},{"$f":"T78-T82","v":36.241071428571431}]
[null,null,null,null,null,null,"Mu",null,"kg*m",{"$f":"IF(M74=J75,ABS(N106-Z105),(IF(N74=J75,ABS(AC106-AL105),(IF(O74=J75,ABS(AO106-AX105),(IF(R73=J75,ABS(BA106-BJ105),(0))))))))","v":4319.5345030972239},null,null,null,null,null,null,null,"J","cm^4",{"$f":"(T78*T80^3/6)+(2/3*(U82^3+T82^3)*T80)+T79*T82^2*T80","v":1229472.3423549107}]
[null,null,null,null,null,null,"Mub",null,"kg*m",{"$f":"J83/(1+(2/3)*SQRT(J77/J78))","v":2668.0518610553013},null,null,null,null,null,null,null,"Mu","kg*m",{"$f":"IF(Sheet1!$B$4=2,(MAX(K105,AC106)),(IF(Sheet1!$B$4=3,(MAX(K105,AO106)),(IF(Sheet1!$B$4=4,(MAX(K105,BA106)),(IF(Sheet1!$B$4=5,(MAX(K105,BM106)),(0))))))))","v":13032.241231961079}]
[null,null,null,null,null,null,"Muv",null,"kg*m",{"$f":"J83-J84","v":1651.4826420419226},null,null,null,null,null,null,null,"Mub","kg*m",{"$f":"T84/(1+2/3*SQRT(T78/T79))","v":8351.2477231939083}]
[null,null,null,null,null,null,"Vu2",null,"kg/cm^2",{"$f":"(J75/J80)+((J85*100)*J81/J82)","v":14.964740916837442},null,null,null,null,null,null,null,"Muv","kg*m",{"$f":"T84-T85","v":4680.9935087671711}]
[null,null,null,null,null,null,"Vc",null,"kg/cm^2",{"$f":"1.06*SQRT(Sheet1!$B$10)","v":18.961856449198219},null,null,null,null,null,null,null,"Vu","kg/cm^2",{"$f":"T76/T81+(T86*100*T82/T83)","v":14.15823347435043}]
[null,null,null,null,null,null,null,null,null,null,null,null,null,null,null,null,null,"Vc","kg/cm^2",{"$f":"1.06*SQRT(Sheet1!$B$10)","v":18.961856449198219}]
[]
[]
[]
[]
[]
[]
[]
[]
[]
[]
[]
[]
[]
[]
[]
[null,null,null,null,null,null,null,null,null,"โมเมนต์บวก span 1",null,null,"โมเมนต์ลบ span 1  ขวา",null,null,"โมเมนต์ลบ span 1 ซ้าย",null,null,null,null,null,"โมเมนต์บวก span 2",null,null,"โมเมนต์ลบ span 2  ซ้าย",null,null,"โมเมนต์ลบspan 2 ขวา",null,null,null,null,null,"โมเมนต์บวกสแปน 3",null,null,"โมเมนต์ลบspan 3 ซ้าย",null,null,"โมเมนต์ลบspan 3 ขวา",null,null,null,null,null,"โมเมนต์บวกสแปน 4",null,null,"โมเมนต์ลบสแปน 4 ซ้าย",null,null,"โมเมนต์ลบสแปน 4 ขวา",null,null,null,null,null,"โมเมนต์บวกสแปน 5",null,null,"โมเมนต์ลบ span 5 ซ้าย",null,null,"โมเมนต์ลบ span 5 ขวา"]
[null,null,null,null,null,null,null,null,null,"M 1l =",{"$f":"(K46+AI46+BG46+BS46)*-1","v":13032.241231961079},null,"M 1l =",{"$f":"(K46+W46+AU46+BS46)*-1","v":12552.796596295588},null,"M- max span1l =",{"$f":"IF(K105=0,(0),-K105+0.5*K107*Sheet1!D10-0.25*'l2'!E2*('l2'!B7+'l2'!E7)*Sheet1!D10^2)","v":-6895.3050567216596},null,null,null,null,"M 2l =",{"$f":"(Y46+AW46+BU46)*-1","v":38076.447795646884},null,"M 2l =",{"$f":"(M46+Y46+AW46+BU46)*-1","v":42513.14279663482},null,"M 2l =",{"$f":"(Y46+AK46+BU46+BI46)*-1","v":38076.447795646884},null,null,null,null,"M 3l =",{"$f":"(AM46+O46+BK46+BW46)*-1","v":0},null,"M3l =",{"$f":"(AM46+AA46+BW46+BK46)*-1","v":0},null,"M3l =",{"$f":"(AM46+AY46+O46+BW46)*-1","v":0},null,null,null,null,"m 4l =",{"$f":"(BA46+AC46+BY46)*-1","v":0},null,"m4l =",{"$f":"(BA46+AO46+Q46+BY46)*-1","v":0},null," m4l =",{"$f":"(BA46+BM46+AC46+BY46)*-1","v":0},null,null,null,null,"m5l =",{"$f":"(BO46+AQ46+S46+CA46)*-1","v":0},null,"m5l =",{"$f":"(BO46+BC46+AE46+CA46)*-1","v":0},null,"m5l =",{"$f":"(BO46+AQ46+S46+CA46)*-1","v":0}]
[null,null,null,null,null,null,null,null,null,"M 1r =",{"$f":"(L46+AJ46+BH46+BT46)","v":44216.155974778485},null,"M 1r =",{"$f":"(L46+X46+AV46+BT46)","v":46832.677299732044},null,null,null,null,null,null,null,"M 2r =",{"$f":"(Z46+AX46+BV46)","v":6801.8479783685443},null,"M 2r =",{"$f":"Z46+N46+AX46+BV46","v":6083.666416741843},null,"M 2r =",{"$f":"(Z46+AL46+BV46)+BJ46","v":6801.8479783685443},null,null,null,null,"M 3r =",{"$f":"(AN46+P46+BL46+BX46)","v":0},null,"M3r =",{"$f":"AN46+AB46+BL46+BX46","v":0},null,"M3r =",{"$f":"AN46+AZ46+P46+BX46","v":0},null,null,null,null,"m 4r =",{"$f":"(BB46+AD46+BZ46)","v":0},null,"m4r =",{"$f":"BB46+AP46+R46+BZ46","v":0},null,"m4r =",{"$f":"(BB46+BN46+BZ46+AD46)","v":0},null,null,null,null,"m5r =",{"$f":"(BP46+AR46+T46+CB46)","v":0},null,"m5r =",{"$f":"BP46+CB46+BD46+AF46","v":0},null,"m5r =",{"$f":"BP46+CB46+AR46+T46","v":0}]
[null,null,null,null,null,null,null,null,null,"V1l =",{"$f":"(-K106+K105+(0.5*(B7+E7)*E2*Sheet1!L9^2))/Sheet1!L9","v":33247.680876197097},null,"V 1r =",{"$f":"(N106-N105+0.5*(B7+E7)*E2*Sheet1!$L$9^2)/Sheet1!$L$9","v":44158.313450572743},null,null,null,null,null,null,null,"V2l =",{"$f":"(-W106+W105+0.5*(B8+E8)*E2*Sheet1!L10^2)/Sheet1!L10","v":38292.419963455664},null,"V2l  =",{"$f":"(-Z106+Z105+0.5*(B8+E8)*E2*Sheet1!L10^2)/Sheet1!L10","v":39323.39527597859},null,"V2l =",{"$f":"(-AC106+AC105+0.5*(B8+E8)*E2*Sheet1!L10^2)/Sheet1!L10","v":38292.419963455664},null,null,null,null,"V3l =",{"$f":"(-AI106+AI105+0.5*(B9+E9)*E2*Sheet1!L11^2)/Sheet1!L11","v":{"$error":"#DIV/0!"}},null,"V3l =",{"$f":"IF(AL105=0,(0),((-AL106+AL105+0.5*(B9+E9)*Sheet1!L11^2*E2)/Sheet1!L11))","v":0},null,"V3r =",{"$f":"IF(AO105=0,(0),((AO106-AO105+0.5*(B9+E9)*E2*Sheet1!L11^2)/Sheet1!L11))","v":0},null,null,null,null,"v4l =",{"$f":"IF(AU105=0,(0),((-AU106+AU105+0.5*(B10+E10)*E2*Sheet1!L12^2)/Sheet1!L12))","v":0},null,"V4l =",{"$f":"IF(AX105=0,(0),((-AX106+AX105+0.5*(B10+E10)*Sheet1!L12^2*E2)/Sheet1!L12))","v":0},null,"v4r =",{"$f":"IF(BA105=0,(0),((BA106-BA105+0.5*(B10+E10)*E2*Sheet1!L12^2)/Sheet1!L12))","v":0},null,null,null,null,"v5l =",{"$f":"IF(BG105=0,(0),((-BG106+BG105+0.5*(B11+E11)*E2*Sheet1!L13^2)/Sheet1!L13))","v":0},null,"v5l =",{"$f":"IF(BJ105=0,(0),((-BJ106+BJ105+0.5*(B11+E11)*E2*Sheet1!L13^2)/Sheet1!L13))","v":0},null,"v5r =",{"$f":"IF(BM105=0,(0),((BM106-BM105+0.5*(B11+E11)*E2*Sheet1!L13^2)/Sheet1!L13))","v":0}]
[null,null,null,null,null,null,null,null,null,"ระยะที่ V=0",{"$f":"K107/((B7+E7)*E2)","v":2.5944347152709399},null,"M- max span1r =",{"$f":"0.5*Sheet1!$D$10*'l2'!N107-'l2'!N106-0.25*('l2'!B7+'l2'!E7)*'l2'!E2*Sheet1!$D$10^2","v":-38513.614609617493},null,null,null,null,null,null,null,"ระยะที่ V=0",{"$f":"W107/((B8+E8)*E2)","v":2.9880936374136295},null,"V2 r =",{"$f":"(Z106-Z105+0.5*(B8+E8)*E2*Sheet1!L10^2)/Sheet1!L10","v":24751.604724021403},null,"v2r =",{"$f":"(AC106-AC105+0.5*(B8+E8)*E2*Sheet1!L10^2)/Sheet1!L10","v":25782.580036544332},null,null,null,null,"ระยะที่ V=0",{"$f":"AI107/((B9+E9)*E2)","v":{"$error":"#DIV/0!"}},null,"M- max span3l =",{"$f":"IF(AL105=0,(0),-AL105+0.5*AL107*Sheet1!D10-0.25*Sheet1!D10^2*'l2'!E2*('l2'!B9+'l2'!E9))","v":0},null,"M- max span3r =",{"$f":"IF(AO105=0,(0),0.5*AO107*Sheet1!D10-'l2'!AO106-0.25*('l2'!B9+'l2'!E9)*'l2'!E2*Sheet1!D10^2)","v":0},null,null,null,null,"ระยะที่ v=0",{"$f":"AU107/((B10+E10)*E2)","v":{"$error":"#DIV/0!"}},null,"M- max span4l =",{"$f":"IF(AX105=0,(0),-AX105+0.5*AX107*Sheet1!D10-0.25*Sheet1!D10^2*'l2'!E2*('l2'!B10+'l2'!E10))","v":0},null,"M- max span4r =",{"$f":"IF(BA105=0,(0),0.5*BA107*Sheet1!D10-'l2'!BA106-0.25*('l2'!B10+'l2'!E10)*'l2'!E2*Sheet1!D10^2)","v":0},null,null,null,null,"ระยะที่ v=0",{"$f":"BG107/((B11+E11)*E2)","v":{"$error":"#DIV/0!"}},null,"M- max span 5l =",{"$f":"IF(BJ105=0,(0),-BJ105+0.5*BJ107*Sheet1!D10-0.25*Sheet1!D10^2*'l2'!E2*('l2'!B11+'l2'!E11))","v":0},null,"M- max span 5r =",{"$f":"IF(BM105=0,(0),0.5*BM107*Sheet1!D10-'l2'!BM106-0.25*('l2'!B11+'l2'!E11)*'l2'!E2*Sheet1!D10^2)","v":0}]
[null,null,null,null,null,null,null,null,null,"M1+max=",{"$f":"IF(K105=0,(0),K107*K108-0.5*(B7+E7)*K108^2*E2-K105)","v":30097.227501766662},null,"V1l =",{"$f":"IF(N105=0,(0),(B7+E7)*E2*Sheet1!$L$10-'l2'!N107)","v":19916.686549427257},null,null,null,null,null,null,null,"M2+max=",{"$f":"IF(W105=0,(0),(W107*W108)-0.5*(B8+E8)*E2*W108^2-W105)","v":19134.220431339374},null,"M- max span2l =",{"$f":"IF(Z105=0,(0),-Z105+0.5*Z107*Sheet1!D10-0.25*(B8+E8)*E2*Sheet1!D10^2)","v":-35161.063741439102},null,"M- max span2r =",{"$f":"IF(AC105=0,(0),0.5*AC108*Sheet1!D10-'l2'!AC106-0.25*('l2'!B8+'l2'!E8)*'l2'!E2*Sheet1!D10^2)","v":-2157.9319710596783},null,null,null,null,"M3+ max =",{"$f":"IF(AI105=0,(0),AI107*AI108-0.5*(B9+E9)*E2*AI108^2-AI105)","v":0},null,null,null,null,null,null,null,null,null,null,"M4+ max =",{"$f":"IF(AU105=0,(0),AU107*AU108-0.5*(B10+E10)*AU108^2*E2-AU105)","v":0},null,null,null,null,null,null,null,null,null,null,"M5+ max =",{"$f":"IF(BG105=0,(0),BG107*BG108-0.5*(B11+E11)*E2*BG108^2-BG105)","v":0},null,null,null,null,null,null,null,null,null,null,null,null,null,null,null,null,null,null,null,null,null,null,null,null,null,null," "]

{"sheet":"l3","index":9,"n_rows":111,"n_cols":86,"rows_kept":111,"cut":false,"hidden":false,"merged":[[86,6,86,7],[86,9,86,11],[86,12,86,13],[81,6,81,7],[82,6,82,7],[83,6,83,7],[84,6,84,7],[85,6,85,7],[76,6,76,7],[77,6,77,7],[78,6,78,7],[79,6,79,7],[80,6,80,7],[71,12,72,12],[71,13,72,13],[58,10,58,11],[59,10,59,11],[60,10,60,11],[73,6,73,7],[74,6,74,7],[75,6,75,7],[55,6,55,8],[71,6,72,11],[56,10,56,11],[57,10,57,11],[55,18,55,19],[74,9,74,11],[75,9,75,11],[55,14,55,15],[61,10,61,11],[67,10,67,11],[68,10,68,11],[69,10,69,11],[62,10,62,11],[63,10,63,11],[64,10,64,11],[65,10,65,11],[66,10,66,11],[55,16,55,17],[55,9,55,11],[55,12,55,13],[0,0,0,4],[5,0,5,1],[5,3,5,4],[12,0,12,1],[12,3,12,4],[50,10,50,11],[51,10,51,11],[52,10,52,11],[53,10,53,11],[54,10,54,11],[105,15,105,16],[73,9,73,11],[80,9,80,11],[79,9,79,11],[78,9,78,11],[77,9,77,11],[76,9,76,11],[85,9,85,11],[84,9,84,11],[83,9,83,11],[105,9,105,10],[105,12,105,13],[81,9,81,11],[82,9,82,11],[20,69,20,79],[49,9,49,11],[49,12,49,13],[49,14,49,15],[49,16,49,17],[49,18,49,19],[20,9,20,19],[20,21,20,31],[20,33,20,43],[20,45,20,55],[20,57,20,67],[46,10,46,11],[47,10,47,11],[48,10,48,11],[72,17,74,19],[105,21,105,22],[105,63,105,64],[105,39,105,40],[105,45,105,46],[105,48,105,49],[105,51,105,52],[105,57,105,58],[105,33,105,34],[105,36,105,37],[105,27,105,28],[105,60,105,61],[105,24,105,25]]}
["รายการคำนวณโมเมนต์แถบในและกลางตามแกน x"]
["ระยะช่วงพื้น (unit: m)",{"$f":"MAX(Sheet1!F9,Sheet1!F10,Sheet1!F11,Sheet1!F12,Sheet1!F13,Sheet1!L9,Sheet1!L10,Sheet1!L11,Sheet1!L12,Sheet1!F13)","v":6},null,"ความกว้างแถบเสา =",{"$f":"(Sheet1!F10+Sheet1!F11)/2","v":5.5}]
["ตัวคูณหาความหนาพื้นขั้นต่ำ",{"$f":"0.01*LN(Sheet1!B9)-0.05","v":3.0255163864890078E-2}]
[]
["ความหนาพื้น (unit:m)",{"$f":"IF((B2*B3)>0.12,(B2*B3),(0.12))","v":0.18153098318934047}]
["น้ำหนัก DL+WDS",null,null,"น้ำหนัก LL"]
["Wdl1+Wsd1 (unit:KG/m^2) =",{"$f":"IF(Sheet1!$B$3=2,(IF(Sheet1!$B$4>=2,(((Sheet1!$B$16*Sheet1!$B$11)+(Sheet1!$J$10))*1.4),(0))),(IF(Sheet1!$B$4>=2,(((Sheet1!$B$16*Sheet1!$B$11)+(Sheet1!$J$10+Sheet1!$J$11)/2)*1.4),(0))))","v":1819.9999999999998},null,"Wtl1 (unit:kg/m^2) =",{"$f":"IF(Sheet1!$B$3=2,(IF(Sheet1!$B$4>=2,((Sheet1!$H$10*1.7)),(0))),(IF(Sheet1!$B$4>=2,((Sheet1!$H$10+Sheet1!$H$11)/2*1.7),(0))))","v":510}]
["Wdl2+Wsd2 (unit:KG/m^2) =",{"$f":"IF(Sheet1!$B$3=2,(IF(Sheet1!$B$4>=2,(((Sheet1!$B$16*Sheet1!$B$11)+(Sheet1!$J$10))*1.4),(0))),(IF(Sheet1!$B$4>=2,(((Sheet1!$B$16*Sheet1!$B$11)+(Sheet1!$J$10+Sheet1!$J$11)/2)*1.4),(0))))","v":1819.9999999999998},null,"Wtl2 (unit:kg/m^2) =",{"$f":"IF(Sheet1!$B$3=2,(IF(Sheet1!$B$4>=2,((Sheet1!$H$10*1.7)),(0))),(IF(Sheet1!$B$4>=2,((Sheet1!$H$10+Sheet1!$H$11)/2*1.7),(0))))","v":510}]
[{"$f":"IF(Sheet1!B3>2,(\"Wdl3+Wsd3 (unit:KG/m^2) =\"),(\"\"))","v":"Wdl3+Wsd3 (unit:KG/m^2) ="},{"$f":"IF(Sheet1!$B$3=2,(IF(Sheet1!$B$4>=3,(((Sheet1!$B$16*Sheet1!$B$11)+(Sheet1!$J$10))*1.4),(0))),(IF(Sheet1!$B$4>=3,(((Sheet1!$B$16*Sheet1!$B$11)+(Sheet1!$J$10+Sheet1!$J$11)/2)*1.4),(0))))","v":0},null,{"$f":"IF(Sheet1!B3>2,(\"Wtl3 (unit:KG/m^2) =\"),(\"\"))","v":"Wtl3 (unit:KG/m^2) ="},{"$f":"IF(Sheet1!$B$3=2,(IF(Sheet1!$B$4>=3,((Sheet1!$H$10*1.7)),(0))),(IF(Sheet1!$B$4>=3,((Sheet1!$H$10+Sheet1!$H$11)/2*1.7),(0))))","v":0}]
[{"$f":"IF(Sheet1!B3>3,(\"Wdl4+Wsd4 (unit:KG/m^2) =\"),(\"\"))","v":""},{"$f":"IF(Sheet1!$B$3=2,(IF(Sheet1!$B$4>=4,(((Sheet1!$B$16*Sheet1!$B$11)+(Sheet1!$J$10))*1.4),(0))),(IF(Sheet1!$B$4>=4,(((Sheet1!$B$16*Sheet1!$B$11)+(Sheet1!$J$10+Sheet1!$J$11)/2)*1.4),(0))))","v":0},null,{"$f":"IF(Sheet1!B3>3,(\"Wtl4 (unit:KG/m^2) =\"),(\"\"))","v":""},{"$f":"IF(Sheet1!$B$3=2,(IF(Sheet1!$B$4>=4,((Sheet1!$H$10*1.7)),(0))),(IF(Sheet1!$B$4>=4,((Sheet1!$H$10+Sheet1!$H$11)/2*1.7),(0))))","v":0}]
[{"$f":"IF(Sheet1!B3>4,(\"Wdl5+Wsd5 (unit:KG/m^2) =\"),(\"\"))","v":""},{"$f":"IF(Sheet1!$B$3=2,(IF(Sheet1!$B$4>=5,(((Sheet1!$B$16*Sheet1!$B$11)+(Sheet1!$J$10))*1.4),(0))),(IF(Sheet1!$B$4>=5,(((Sheet1!$B$16*Sheet1!$B$11)+(Sheet1!$J$10+Sheet1!$J$11)/2)*1.4),(0))))","v":0},null,{"$f":"IF(Sheet1!B3>4,(\"Wtl5 (unit:KG/m^2) =\"),(\"\"))","v":""},{"$f":"IF(Sheet1!$B$3=2,(IF(Sheet1!$B$4>=5,((Sheet1!$H$10*1.7)),(0))),(IF(Sheet1!$B$4>=5,((Sheet1!$H$10+Sheet1!$H$11)/2*1.7),(0))))","v":0}]
[]
["โมเมนต์ DL+WSD",null,null,"โมเมนต LL"]
["FEM.DL1 (unit:kg*m) =",{"$f":"B7*E2*Sheet1!L9^2/12","v":30029.999999999996},null,"FEM.TL1 (unit:kg*m) =",{"$f":"E7*E2*Sheet1!L9^2/12","v":8415}]
["FEM.DL2 (unit:kg*m) =",{"$f":"B8*E2*Sheet1!L10^2/12","v":20854.166666666661},null,"FEM.TL2 (unit:kg*m) =",{"$f":"E8*E2*Sheet1!L10^2/12","v":5843.75}]
[{"$f":"IF(Sheet1!B4>=3,(\"FEM.DL3 (unit:kg*m) =\"),(\"\"))","v":""},{"$f":"B9*E2*Sheet1!L11^2/12","v":0},null,{"$f":"IF(Sheet1!B4>=3,(\"FEM.TL3 (unit:kg*m) =\"),(\"\"))","v":""},{"$f":"E9*E2*Sheet1!L11^2/12","v":0}]
[{"$f":"IF(Sheet1!B4>=4,(\"FEM.DL4 (unit:kg*m) =\"),(\"\"))","v":""},{"$f":"B10*E2*Sheet1!L12^2/12","v":0},null,{"$f":"IF(Sheet1!B4>=4,(\"FEM.TL4 (unit:kg*m) =\"),(\"\"))","v":""},{"$f":"E10*E2*Sheet1!L12^2/12","v":0}]
[{"$f":"IF(Sheet1!B4>=5,(\"FEM.DL5 (unit:kg*m) =\"),(\"\"))","v":""},{"$f":"B11*E2*Sheet1!L13^2/12","v":0},null,{"$f":"IF(Sheet1!B4>=5,(\"FEM.TL5 (unit:kg*m) =\"),(\"\"))","v":""},{"$f":"E11*E2*Sheet1!L13^2/12","v":0}]
[]
[]
[null,null,null,null,null,null,null,null,null,"วางน้ำหนัก LL    สแปน 1",null,null,null,null,null,null,null,null,null,null,null,"วางน้ำหนัก LL  สแปน 2",null,null,null,null,null,null,null,null,null,null,null,"วางน้ำหนัก LL สแปน 3",null,null,null,null,null,null,null,null,null,null,null,"วางน้ำหนัก LL สแปน 4",null,null,null,null,null,null,null,null,null,null,null,"วางน้ำหนัก LL  สแปน 5",null,null,null,null,null,null,null,null,null,null,null,"วางน้ำหนัก DL ทุกสแปน"]
[null,null,null,null,null,null,null,null,null,null,"1r","2l","2r","3l","3r","4l","4r","5l","5r","6l",null,null,"1r","2l","2r","3l","3r","4l","4r","5l","5r","6l",null,null,"1r","2l","2r","3l","3r","4l","4r","5l","5r","6l",null,null,"1r","2l","2r","3l","3r","4l","4r","5l","5r","6l",null,null,"1r","2l","2r","3l","3r","4l","4r","5l","5r","6l",null,null,"1r","2l","2r","3l","3r","4l","4r","5l","5r","6l"]
[null,null,null,null,null,null,null,null,null,"D.o.f",0.69740468228840025,0.34257752639958489,0.41394784439949839,0.73579214029936291,null,null,null,null,null,null,null,"D.o.f",0.69740468228840025,0.34257752639958489,0.41394784439949839,0.73579214029936291,null,null,null,null,null,null,null,"D.o.f",0.69740468228840025,0.34257752639958489,0.41394784439949839,0.73579214029936291,null,null,null,null,null,null,null,"D.o.f",0.69740468228840025,0.34257752639958489,0.41394784439949839,0.73579214029936291,null,null,null,null,null,null,null,"D.o.f",0.69740468228840025,0.34257752639958489,0.41394784439949839,0.73579214029936291,null,null,null,null,null,null,null,"D.o.f",0.69740468228840025,0.34257752639958489,0.41394784439949839,0.73579214029936291]
[null,null,null,null,null,null,null,null,null,"FEM",{"$f":"E14*-1","v":-8415},{"$f":"E14","v":8415},null,null,null,null,null,null,null,null,null,"FEM",null,null,{"$f":"-E15","v":-5843.75},{"$f":"E15","v":5843.75},null,null,null,null,null,null,null,"FEM",null,null,null,null,{"$f":"-E16","v":0},{"$f":"E16","v":0},null,null,null,null,null,"FEM",null,null,null,null,null,null,{"$f":"-E17","v":0},{"$f":"E17","v":0},null,null,null,"FEM",null,null,null,null,null,null,null,null,{"$f":"-E18","v":0},{"$f":"E18","v":0},null,"FEM",{"$f":"-B14","v":-30029.999999999996},{"$f":"B14","v":30029.999999999996},{"$f":"-B15","v":-20854.166666666661},{"$f":"B15","v":20854.166666666661},{"$f":"-B16","v":0},{"$f":"B16","v":0},{"$f":"-B17","v":0},{"$f":"B17","v":0},{"$f":"-B18","v":0},{"$f":"B18","v":0}]
[null,null,null,null,null,null,null,null,null,"Dis",{"$f":"(K24)*K23*-1","v":5868.6604014568884},{"$f":"(L24+M24)*L23*-1","v":-2882.7898846525068},{"$f":"(M24+L24)*M23*-1","v":-3483.3711106217788},{"$f":"(N24+O24)*N23*-1","v":0},{"$f":"(O24+N24)*O23*-1","v":0},{"$f":"(P24+Q24)*P23*-1","v":0},{"$f":"(Q24+P24)*Q23*-1","v":0},{"$f":"(R24+S24)*R23*-1","v":0},{"$f":"(S24+R24)*S23*-1","v":0},{"$f":"(T24+U24)*T23*-1","v":0},null,"Dis",{"$f":"(W24)*W23*-1","v":0},{"$f":"(X24+Y24)*X23*-1","v":2001.9374198975743},{"$f":"(Y24+X24)*Y23*-1","v":2419.0077157095689},{"$f":"(Z24+AA24)*Z23*-1","v":-4299.7853198744024},{"$f":"(AA24+Z24)*AA23*-1","v":0},{"$f":"(AB24+AC24)*AB23*-1","v":0},{"$f":"(AC24+AB24)*AC23*-1","v":0},{"$f":"(AD24+AE24)*AD23*-1","v":0},{"$f":"(AE24+AD24)*AE23*-1","v":0},{"$f":"(AF24+AG24)*AF23*-1","v":0},null,"Dis",{"$f":"(AI24)*AI23*-1","v":0},{"$f":"(AJ24+AK24)*AJ23*-1","v":0},{"$f":"(AK24+AJ24)*AK23*-1","v":0},{"$f":"(AL24+AM24)*AL23*-1","v":0},{"$f":"(AM24+AL24)*AM23*-1","v":0},{"$f":"(AN24+AO24)*AN23*-1","v":0},{"$f":"(AO24+AN24)*AO23*-1","v":0},{"$f":"(AP24+AQ24)*AP23*-1","v":0},{"$f":"(AQ24+AP24)*AQ23*-1","v":0},{"$f":"(AR24+AS24)*AR23*-1","v":0},null,"Dis",{"$f":"(AU24)*AU23*-1","v":0},{"$f":"(AV24+AW24)*AV23*-1","v":0},{"$f":"(AW24+AV24)*AW23*-1","v":0},{"$f":"(AX24+AY24)*AX23*-1","v":0},{"$f":"(AY24+AX24)*AY23*-1","v":0},{"$f":"(AZ24+BA24)*AZ23*-1","v":0},{"$f":"(BA24+AZ24)*BA23*-1","v":0},{"$f":"(BB24+BC24)*BB23*-1","v":0},{"$f":"(BC24+BB24)*BC23*-1","v":0},{"$f":"(BD24+BE24)*BD23*-1","v":0},null,"Dis",{"$f":"(BG24)*BG23*-1","v":0},{"$f":"(BH24+BI24)*BH23*-1","v":0},{"$f":"(BI24+BH24)*BI23*-1","v":0},{"$f":"(BJ24+BK24)*BJ23*-1","v":0},{"$f":"(BK24+BJ24)*BK23*-1","v":0},{"$f":"(BL24+BM24)*BL23*-1","v":0},{"$f":"(BM24+BL24)*BM23*-1","v":0},{"$f":"(BN24+BO24)*BN23*-1","v":0},{"$f":"(BO24+BN24)*BO23*-1","v":0},{"$f":"(BP24+BQ24)*BP23*-1","v":0},null,"Dis",{"$f":"(BS24)*BS23*-1","v":20943.062609120658},{"$f":"(BT24+BU24)*BT23*-1","v":-3143.4342859881917},{"$f":"(BU24+BT24)*BU23*-1","v":-3798.3164289023985},{"$f":"(BV24+BW24)*BV23*-1","v":-15344.331925826293},{"$f":"(BW24+BV24)*BW23*-1","v":0},{"$f":"(BX24+BY24)*BX23*-1","v":0},{"$f":"(BY24+BX24)*BY23*-1","v":0},{"$f":"(BZ24+CA24)*BZ23*-1","v":0},{"$f":"(CA24+BZ24)*CA23*-1","v":0},{"$f":"(CB24+CC24)*CB23*-1","v":0}]
[null,null,null,null,null,null,null,null,null,"Co",{"$f":"L25/2","v":-1441.3949423262534},{"$f":"K25/2","v":2934.3302007284442},{"$f":"N25/2","v":0},{"$f":"M25/2","v":-1741.6855553108894},{"$f":"P25/2","v":0},{"$f":"O25/2","v":0},{"$f":"R25/2","v":0},{"$f":"Q25/2","v":0},{"$f":"T25/2","v":0},{"$f":"S25/2","v":0},null,"Co",{"$f":"X25/2","v":1000.9687099487871},{"$f":"W25/2","v":0},{"$f":"Z25/2","v":-2149.8926599372012},{"$f":"Y25/2","v":1209.5038578547844},{"$f":"AB25/2","v":0},{"$f":"AA25/2","v":0},{"$f":"AD25/2","v":0},{"$f":"AC25/2","v":0},{"$f":"AF25/2","v":0},{"$f":"AE25/2","v":0},null,"Co",{"$f":"AJ25/2","v":0},{"$f":"AI25/2","v":0},{"$f":"AL25/2","v":0},{"$f":"AK25/2","v":0},{"$f":"AN25/2","v":0},{"$f":"AM25/2","v":0},{"$f":"AP25/2","v":0},{"$f":"AO25/2","v":0},{"$f":"AR25/2","v":0},{"$f":"AQ25/2","v":0},null,"Co",{"$f":"AV25/2","v":0},{"$f":"AU25/2","v":0},{"$f":"AX25/2","v":0},{"$f":"AW25/2","v":0},{"$f":"AZ25/2","v":0},{"$f":"AY25/2","v":0},{"$f":"BB25/2","v":0},{"$f":"BA25/2","v":0},{"$f":"BD25/2","v":0},{"$f":"BC25/2","v":0},null,"Co",{"$f":"BH25/2","v":0},{"$f":"BG25/2","v":0},{"$f":"BJ25/2","v":0},{"$f":"BI25/2","v":0},{"$f":"BL25/2","v":0},{"$f":"BK25/2","v":0},{"$f":"BN25/2","v":0},{"$f":"BM25/2","v":0},{"$f":"BP25/2","v":0},{"$f":"BO25/2","v":0},null,"Co",{"$f":"BT25/2","v":-1571.7171429940959},{"$f":"BS25/2","v":10471.531304560329},{"$f":"BV25/2","v":-7672.1659629131464},{"$f":"BU25/2","v":-1899.1582144511992},{"$f":"BX25/2","v":0},{"$f":"BW25/2","v":0},{"$f":"BZ25/2","v":0},{"$f":"BY25/2","v":0},{"$f":"CB25/2","v":0},{"$f":"CA25/2","v":0}]
[null,null,null,null,null,null,null,null,null,"dis",{"$f":"(K26)*K23*-1","v":1005.2355818051477},{"$f":"(L26+M26)*L23*-1","v":-1005.2355818051478},{"$f":"(M26+L26)*M23*-1","v":-1214.6596613478869},{"$f":"(N26+O26)*N23*-1","v":1281.5185424706838},{"$f":"(O26+N26)*O23*-1","v":0},{"$f":"(P26+Q26)*P23*-1","v":0},{"$f":"(Q26+P26)*Q23*-1","v":0},{"$f":"(R26+S26)*R23*-1","v":0},{"$f":"(S26+R26)*S23*-1","v":0},{"$f":"(T26+U26)*T23*-1","v":0},null,"dis",{"$f":"(W26)*W23*-1","v":-698.08026514246376},{"$f":"(X26+Y26)*X23*-1","v":736.50490946591026},{"$f":"(Y26+X26)*Y23*-1","v":889.94343227130821},{"$f":"(Z26+AA26)*Z23*-1","v":-889.94343227130821},{"$f":"(AA26+Z26)*AA23*-1","v":0},{"$f":"(AB26+AC26)*AB23*-1","v":0},{"$f":"(AC26+AB26)*AC23*-1","v":0},{"$f":"(AD26+AE26)*AD23*-1","v":0},{"$f":"(AE26+AD26)*AE23*-1","v":0},{"$f":"(AF26+AG26)*AF23*-1","v":0},null,"dis",{"$f":"(AI26)*AI23*-1","v":0},{"$f":"(AJ26+AK26)*AJ23*-1","v":0},{"$f":"(AK26+AJ26)*AK23*-1","v":0},{"$f":"(AL26+AM26)*AL23*-1","v":0},{"$f":"(AM26+AL26)*AM23*-1","v":0},{"$f":"(AN26+AO26)*AN23*-1","v":0},{"$f":"(AO26+AN26)*AO23*-1","v":0},{"$f":"(AP26+AQ26)*AP23*-1","v":0},{"$f":"(AQ26+AP26)*AQ23*-1","v":0},{"$f":"(AR26+AS26)*AR23*-1","v":0},null,"dis",{"$f":"(AU26)*AU23*-1","v":0},{"$f":"(AV26+AW26)*AV23*-1","v":0},{"$f":"(AW26+AV26)*AW23*-1","v":0},{"$f":"(AX26+AY26)*AX23*-1","v":0},{"$f":"(AY26+AX26)*AY23*-1","v":0},{"$f":"(AZ26+BA26)*AZ23*-1","v":0},{"$f":"(BA26+AZ26)*BA23*-1","v":0},{"$f":"(BB26+BC26)*BB23*-1","v":0},{"$f":"(BC26+BB26)*BC23*-1","v":0},{"$f":"(BD26+BE26)*BD23*-1","v":0},null,"dis",{"$f":"(BG26)*BG23*-1","v":0},{"$f":"(BH26+BI26)*BH23*-1","v":0},{"$f":"(BI26+BH26)*BI23*-1","v":0},{"$f":"(BJ26+BK26)*BJ23*-1","v":0},{"$f":"(BK26+BJ26)*BK23*-1","v":0},{"$f":"(BL26+BM26)*BL23*-1","v":0},{"$f":"(BM26+BL26)*BM23*-1","v":0},{"$f":"(BN26+BO26)*BN23*-1","v":0},{"$f":"(BO26+BN26)*BO23*-1","v":0},{"$f":"(BP26+BQ26)*BP23*-1","v":0},null,"dis",{"$f":"(BS26)*BS23*-1","v":1096.1228947570296},{"$f":"(BT26+BU26)*BT23*-1","v":-958.99965423022059},{"$f":"(BU26+BT26)*BU23*-1","v":-1158.7912488615166},{"$f":"(BV26+BW26)*BV23*-1","v":1397.3856873781642},{"$f":"(BW26+BV26)*BW23*-1","v":0},{"$f":"(BX26+BY26)*BX23*-1","v":0},{"$f":"(BY26+BX26)*BY23*-1","v":0},{"$f":"(BZ26+CA26)*BZ23*-1","v":0},{"$f":"(CA26+BZ26)*CA23*-1","v":0},{"$f":"(CB26+CC26)*CB23*-1","v":0}]
[null,null,null,null,null,null,null,null,null,"co",{"$f":"L27/2","v":-502.61779090257392},{"$f":"K27/2","v":502.61779090257386},{"$f":"N27/2","v":640.75927123534188},{"$f":"M27/2","v":-607.32983067394343},{"$f":"P27/2","v":0},{"$f":"O27/2","v":0},{"$f":"R27/2","v":0},{"$f":"Q27/2","v":0},{"$f":"T27/2","v":0},{"$f":"S27/2","v":0},null,"co",{"$f":"X27/2","v":368.25245473295513},{"$f":"W27/2","v":-349.04013257123188},{"$f":"Z27/2","v":-444.97171613565411},{"$f":"Y27/2","v":444.97171613565411},{"$f":"AB27/2","v":0},{"$f":"AA27/2","v":0},{"$f":"AD27/2","v":0},{"$f":"AC27/2","v":0},{"$f":"AF27/2","v":0},{"$f":"AE27/2","v":0},null,"co",{"$f":"AJ27/2","v":0},{"$f":"AI27/2","v":0},{"$f":"AL27/2","v":0},{"$f":"AK27/2","v":0},{"$f":"AN27/2","v":0},{"$f":"AM27/2","v":0},{"$f":"AP27/2","v":0},{"$f":"AO27/2","v":0},{"$f":"AR27/2","v":0},{"$f":"AQ27/2","v":0},null,"co",{"$f":"AV27/2","v":0},{"$f":"AU27/2","v":0},{"$f":"AX27/2","v":0},{"$f":"AW27/2","v":0},{"$f":"AZ27/2","v":0},{"$f":"AY27/2","v":0},{"$f":"BB27/2","v":0},{"$f":"BA27/2","v":0},{"$f":"BD27/2","v":0},{"$f":"BC27/2","v":0},null,"co",{"$f":"BH27/2","v":0},{"$f":"BG27/2","v":0},{"$f":"BJ27/2","v":0},{"$f":"BI27/2","v":0},{"$f":"BL27/2","v":0},{"$f":"BK27/2","v":0},{"$f":"BN27/2","v":0},{"$f":"BM27/2","v":0},{"$f":"BP27/2","v":0},{"$f":"BO27/2","v":0},null,"co",{"$f":"BT27/2","v":-479.49982711511029},{"$f":"BS27/2","v":548.0614473785148},{"$f":"BV27/2","v":698.69284368908211},{"$f":"BU27/2","v":-579.39562443075829},{"$f":"BX27/2","v":0},{"$f":"BW27/2","v":0},{"$f":"BZ27/2","v":0},{"$f":"BY27/2","v":0},{"$f":"CB27/2","v":0},{"$f":"CA27/2","v":0}]
[null,null,null,null,null,null,null,null,null,"dis",{"$f":"(K28)*K23*-1","v":350.52800077690716},{"$f":"(L28+M28)*L23*-1","v":-391.69528568923164},{"$f":"(M28+L28)*M23*-1","v":-473.29847020782159},{"$f":"(N28+O28)*N23*-1","v":446.86851597923049},{"$f":"(O28+N28)*O23*-1","v":0},{"$f":"(P28+Q28)*P23*-1","v":0},{"$f":"(Q28+P28)*Q23*-1","v":0},{"$f":"(R28+S28)*R23*-1","v":0},{"$f":"(S28+R28)*S23*-1","v":0},{"$f":"(T28+U28)*T23*-1","v":0},null,"dis",{"$f":"(W28)*W23*-1","v":-256.82098619496008},{"$f":"(X28+Y28)*X23*-1","v":272.01061506196646},{"$f":"(Y28+X28)*Y23*-1","v":328.67949319987611},{"$f":"(Z28+AA28)*Z23*-1","v":-327.40669138813348},{"$f":"(AA28+Z28)*AA23*-1","v":0},{"$f":"(AB28+AC28)*AB23*-1","v":0},{"$f":"(AC28+AB28)*AC23*-1","v":0},{"$f":"(AD28+AE28)*AD23*-1","v":0},{"$f":"(AE28+AD28)*AE23*-1","v":0},{"$f":"(AF28+AG28)*AF23*-1","v":0},null,"dis",{"$f":"(AI28)*AI23*-1","v":0},{"$f":"(AJ28+AK28)*AJ23*-1","v":0},{"$f":"(AK28+AJ28)*AK23*-1","v":0},{"$f":"(AL28+AM28)*AL23*-1","v":0},{"$f":"(AM28+AL28)*AM23*-1","v":0},{"$f":"(AN28+AO28)*AN23*-1","v":0},{"$f":"(AO28+AN28)*AO23*-1","v":0},{"$f":"(AP28+AQ28)*AP23*-1","v":0},{"$f":"(AQ28+AP28)*AQ23*-1","v":0},{"$f":"(AR28+AS28)*AR23*-1","v":0},null,"dis",{"$f":"(AU28)*AU23*-1","v":0},{"$f":"(AV28+AW28)*AV23*-1","v":0},{"$f":"(AW28+AV28)*AW23*-1","v":0},{"$f":"(AX28+AY28)*AX23*-1","v":0},{"$f":"(AY28+AX28)*AY23*-1","v":0},{"$f":"(AZ28+BA28)*AZ23*-1","v":0},{"$f":"(BA28+AZ28)*BA23*-1","v":0},{"$f":"(BB28+BC28)*BB23*-1","v":0},{"$f":"(BC28+BB28)*BC23*-1","v":0},{"$f":"(BD28+BE28)*BD23*-1","v":0},null,"dis",{"$f":"(BG28)*BG23*-1","v":0},{"$f":"(BH28+BI28)*BH23*-1","v":0},{"$f":"(BI28+BH28)*BI23*-1","v":0},{"$f":"(BJ28+BK28)*BJ23*-1","v":0},{"$f":"(BK28+BJ28)*BK23*-1","v":0},{"$f":"(BL28+BM28)*BL23*-1","v":0},{"$f":"(BM28+BL28)*BM23*-1","v":0},{"$f":"(BN28+BO28)*BN23*-1","v":0},{"$f":"(BO28+BN28)*BO23*-1","v":0},{"$f":"(BP28+BQ28)*BP23*-1","v":0},null,"dis",{"$f":"(BS28)*BS23*-1","v":334.40542458655636},{"$f":"(BT28+BU28)*BT23*-1","v":-427.11000106200544},{"$f":"(BU28+BT28)*BU23*-1","v":-516.09125128325661},{"$f":"(BV28+BW28)*BV23*-1","v":426.31474657999348},{"$f":"(BW28+BV28)*BW23*-1","v":0},{"$f":"(BX28+BY28)*BX23*-1","v":0},{"$f":"(BY28+BX28)*BY23*-1","v":0},{"$f":"(BZ28+CA28)*BZ23*-1","v":0},{"$f":"(CA28+BZ28)*CA23*-1","v":0},{"$f":"(CB28+CC28)*CB23*-1","v":0}]
[null,null,null,null,null,null,null,null,null,"co",{"$f":"L29/2","v":-195.84764284461582},{"$f":"K29/2","v":175.26400038845358},{"$f":"N29/2","v":223.43425798961525},{"$f":"M29/2","v":-236.6492351039108},{"$f":"P29/2","v":0},{"$f":"O29/2","v":0},{"$f":"R29/2","v":0},{"$f":"Q29/2","v":0},{"$f":"T29/2","v":0},{"$f":"S29/2","v":0},null,"co",{"$f":"X29/2","v":136.00530753098323},-128.41049309748004,{"$f":"Z29/2","v":-163.70334569406674},{"$f":"Y29/2","v":164.33974659993805},{"$f":"AB29/2","v":0},{"$f":"AA29/2","v":0},{"$f":"AD29/2","v":0},{"$f":"AC29/2","v":0},{"$f":"AF29/2","v":0},{"$f":"AE29/2","v":0},null,"co",{"$f":"AJ29/2","v":0},{"$f":"AI29/2","v":0},{"$f":"AL29/2","v":0},{"$f":"AK29/2","v":0},{"$f":"AN29/2","v":0},{"$f":"AM29/2","v":0},{"$f":"AP29/2","v":0},{"$f":"AO29/2","v":0},{"$f":"AR29/2","v":0},{"$f":"AQ29/2","v":0},null,"co",{"$f":"AV29/2","v":0},{"$f":"AU29/2","v":0},{"$f":"AX29/2","v":0},{"$f":"AW29/2","v":0},{"$f":"AZ29/2","v":0},{"$f":"AY29/2","v":0},{"$f":"BB29/2","v":0},{"$f":"BA29/2","v":0},{"$f":"BD29/2","v":0},{"$f":"BC29/2","v":0},null,"co",{"$f":"BH29/2","v":0},{"$f":"BG29/2","v":0},{"$f":"BJ29/2","v":0},{"$f":"BI29/2","v":0},{"$f":"BL29/2","v":0},{"$f":"BK29/2","v":0},{"$f":"BN29/2","v":0},{"$f":"BM29/2","v":0},{"$f":"BP29/2","v":0},{"$f":"BO29/2","v":0},null,"co",{"$f":"BT29/2","v":-213.55500053100272},{"$f":"BS29/2","v":167.20271229327818},{"$f":"BV29/2","v":213.15737328999674},{"$f":"BU29/2","v":-258.04562564162831},{"$f":"BX29/2","v":0},{"$f":"BW29/2","v":0},{"$f":"BZ29/2","v":0},{"$f":"BY29/2","v":0},{"$f":"CB29/2","v":0},{"$f":"CA29/2","v":0}]
[null,null,null,null,null,null,null,null,null,"dis",{"$f":"(K30)*K23*-1","v":136.58506313498137},{"$f":"(L30+M30)*L23*-1","v":-136.5850631349814},{"$f":"(M30+L30)*M23*-1","v":-165.04028462143583},{"$f":"(N30+O30)*N23*-1","v":174.12464719731366},{"$f":"(O30+N30)*O23*-1","v":0},{"$f":"(P30+Q30)*P23*-1","v":0},{"$f":"(Q30+P30)*Q23*-1","v":0},{"$f":"(R30+S30)*R23*-1","v":0},{"$f":"(S30+R30)*S23*-1","v":0},{"$f":"(T30+U30)*T23*-1","v":0},null,"dis",{"$f":"(W30)*W23*-1","v":-94.850738288181532},{"$f":"(X30+Y30)*X23*-1","v":100.0716363202952},{"$f":"(Y30+X30)*Y23*-1","v":120.91989388702335},{"$f":"(Z30+AA30)*Z23*-1","v":-120.91989388702336},{"$f":"(AA30+Z30)*AA23*-1","v":0},{"$f":"(AB30+AC30)*AB23*-1","v":0},{"$f":"(AC30+AB30)*AC23*-1","v":0},{"$f":"(AD30+AE30)*AD23*-1","v":0},{"$f":"(AE30+AD30)*AE23*-1","v":0},{"$f":"(AF30+AG30)*AF23*-1","v":0},null,"dis",{"$f":"(AI30)*AI23*-1","v":0},{"$f":"(AJ30+AK30)*AJ23*-1","v":0},{"$f":"(AK30+AJ30)*AK23*-1","v":0},{"$f":"(AL30+AM30)*AL23*-1","v":0},{"$f":"(AM30+AL30)*AM23*-1","v":0},{"$f":"(AN30+AO30)*AN23*-1","v":0},{"$f":"(AO30+AN30)*AO23*-1","v":0},{"$f":"(AP30+AQ30)*AP23*-1","v":0},{"$f":"(AQ30+AP30)*AQ23*-1","v":0},{"$f":"(AR30+AS30)*AR23*-1","v":0},null,"dis",{"$f":"(AU30)*AU23*-1","v":0},{"$f":"(AV30+AW30)*AV23*-1","v":0},{"$f":"(AW30+AV30)*AW23*-1","v":0},{"$f":"(AX30+AY30)*AX23*-1","v":0},{"$f":"(AY30+AX30)*AY23*-1","v":0},{"$f":"(AZ30+BA30)*AZ23*-1","v":0},{"$f":"(BA30+AZ30)*BA23*-1","v":0},{"$f":"(BB30+BC30)*BB23*-1","v":0},{"$f":"(BC30+BB30)*BC23*-1","v":0},{"$f":"(BD30+BE30)*BD23*-1","v":0},null,"dis",{"$f":"(BG30)*BG23*-1","v":0},{"$f":"(BH30+BI30)*BH23*-1","v":0},{"$f":"(BI30+BH30)*BI23*-1","v":0},{"$f":"(BJ30+BK30)*BJ23*-1","v":0},{"$f":"(BK30+BJ30)*BK23*-1","v":0},{"$f":"(BL30+BM30)*BL23*-1","v":0},{"$f":"(BM30+BL30)*BM23*-1","v":0},{"$f":"(BN30+BO30)*BN23*-1","v":0},{"$f":"(BO30+BN30)*BO23*-1","v":0},{"$f":"(BP30+BQ30)*BP23*-1","v":0},null,"dis",{"$f":"(BS30)*BS23*-1","v":148.93425729642308},{"$f":"(BT30+BU30)*BT23*-1","v":-130.30281726025271},{"$f":"(BU30+BT30)*BU23*-1","v":-157.44923752280536},{"$f":"(BV30+BW30)*BV23*-1","v":189.86794318574186},{"$f":"(BW30+BV30)*BW23*-1","v":0},{"$f":"(BX30+BY30)*BX23*-1","v":0},{"$f":"(BY30+BX30)*BY23*-1","v":0},{"$f":"(BZ30+CA30)*BZ23*-1","v":0},{"$f":"(CA30+BZ30)*CA23*-1","v":0},{"$f":"(CB30+CC30)*CB23*-1","v":0}]
[null,null,null,null,null,null,null,null,null,"co",{"$f":"L31/2","v":-68.292531567490698},{"$f":"K31/2","v":68.292531567490684},{"$f":"N31/2","v":87.062323598656832},{"$f":"M31/2","v":-82.520142310717915},{"$f":"P31/2","v":0},{"$f":"O31/2","v":0},{"$f":"R31/2","v":0},{"$f":"Q31/2","v":0},{"$f":"T31/2","v":0},{"$f":"S31/2","v":0},null,"co",{"$f":"X31/2","v":50.035818160147599},{"$f":"W31/2","v":-47.425369144090766},{"$f":"Z31/2","v":-60.459946943511682},{"$f":"Y31/2","v":60.459946943511675},{"$f":"AB31/2","v":0},{"$f":"AA31/2","v":0},{"$f":"AD31/2","v":0},{"$f":"AC31/2","v":0},{"$f":"AF31/2","v":0},{"$f":"AE31/2","v":0},null,"co",{"$f":"AJ31/2","v":0},{"$f":"AI31/2","v":0},{"$f":"AL31/2","v":0},{"$f":"AK31/2","v":0},{"$f":"AN31/2","v":0},{"$f":"AM31/2","v":0},{"$f":"AP31/2","v":0},{"$f":"AO31/2","v":0},{"$f":"AR31/2","v":0},{"$f":"AQ31/2","v":0},null,"co",{"$f":"AV31/2","v":0},{"$f":"AU31/2","v":0},{"$f":"AX31/2","v":0},{"$f":"AW31/2","v":0},{"$f":"AZ31/2","v":0},{"$f":"AY31/2","v":0},{"$f":"BB31/2","v":0},{"$f":"BA31/2","v":0},{"$f":"BD31/2","v":0},{"$f":"BC31/2","v":0},null,"co",{"$f":"BH31/2","v":0},{"$f":"BG31/2","v":0},{"$f":"BJ31/2","v":0},{"$f":"BI31/2","v":0},{"$f":"BL31/2","v":0},{"$f":"BK31/2","v":0},{"$f":"BN31/2","v":0},{"$f":"BM31/2","v":0},{"$f":"BP31/2","v":0},{"$f":"BO31/2","v":0},null,"co",{"$f":"BT31/2","v":-65.151408630126355},{"$f":"BS31/2","v":74.467128648211542},{"$f":"BV31/2","v":94.933971592870932},{"$f":"BU31/2","v":-78.724618761402681},{"$f":"BX31/2","v":0},{"$f":"BW31/2","v":0},{"$f":"BZ31/2","v":0},{"$f":"BY31/2","v":0},{"$f":"CB31/2","v":0},{"$f":"CA31/2","v":0}]
[null,null,null,null,null,null,null,null,null,"dis",{"$f":"(K32)*K23*-1","v":47.627531280496392},{"$f":"(L32+M32)*L23*-1","v":-53.22108199698458},{"$f":"(M32+L32)*M23*-1","v":-64.308807413023032},{"$f":"(N32+O32)*N23*-1","v":60.717672128611149},{"$f":"(O32+N32)*O23*-1","v":0},{"$f":"(P32+Q32)*P23*-1","v":0},{"$f":"(Q32+P32)*Q23*-1","v":0},{"$f":"(R32+S32)*R23*-1","v":0},{"$f":"(S32+R32)*S23*-1","v":0},{"$f":"(T32+U32)*T23*-1","v":0},null,"dis",{"$f":"(W32)*W23*-1","v":-34.895213867017901},{"$f":"(X32+Y32)*X23*-1","v":36.959084720128189},{"$f":"(Y32+X32)*Y23*-1","v":44.658894036821557},{"$f":"(Z32+AA32)*Z23*-1","v":-44.485953763952381},{"$f":"(AA32+Z32)*AA23*-1","v":0},{"$f":"(AB32+AC32)*AB23*-1","v":0},{"$f":"(AC32+AB32)*AC23*-1","v":0},{"$f":"(AD32+AE32)*AD23*-1","v":0},{"$f":"(AE32+AD32)*AE23*-1","v":0},{"$f":"(AF32+AG32)*AF23*-1","v":0},null,"dis",{"$f":"(AI32)*AI23*-1","v":0},{"$f":"(AJ32+AK32)*AJ23*-1","v":0},{"$f":"(AK32+AJ32)*AK23*-1","v":0},{"$f":"(AL32+AM32)*AL23*-1","v":0},{"$f":"(AM32+AL32)*AM23*-1","v":0},{"$f":"(AN32+AO32)*AN23*-1","v":0},{"$f":"(AO32+AN32)*AO23*-1","v":0},{"$f":"(AP32+AQ32)*AP23*-1","v":0},{"$f":"(AQ32+AP32)*AQ23*-1","v":0},{"$f":"(AR32+AS32)*AR23*-1","v":0},null,"dis",{"$f":"(AU32)*AU23*-1","v":0},{"$f":"(AV32+AW32)*AV23*-1","v":0},{"$f":"(AW32+AV32)*AW23*-1","v":0},{"$f":"(AX32+AY32)*AX23*-1","v":0},{"$f":"(AY32+AX32)*AY23*-1","v":0},{"$f":"(AZ32+BA32)*AZ23*-1","v":0},{"$f":"(BA32+AZ32)*BA23*-1","v":0},{"$f":"(BB32+BC32)*BB23*-1","v":0},{"$f":"(BC32+BB32)*BC23*-1","v":0},{"$f":"(BD32+BE32)*BD23*-1","v":0},null,"dis",{"$f":"(BG32)*BG23*-1","v":0},{"$f":"(BH32+BI32)*BH23*-1","v":0},{"$f":"(BI32+BH32)*BI23*-1","v":0},{"$f":"(BJ32+BK32)*BJ23*-1","v":0},{"$f":"(BK32+BJ32)*BK23*-1","v":0},{"$f":"(BL32+BM32)*BL23*-1","v":0},{"$f":"(BM32+BL32)*BM23*-1","v":0},{"$f":"(BN32+BO32)*BN23*-1","v":0},{"$f":"(BO32+BN32)*BO23*-1","v":0},{"$f":"(BP32+BQ32)*BP23*-1","v":0},null,"dis",{"$f":"(BS32)*BS23*-1","v":45.436897436335009},{"$f":"(BT32+BU32)*BT23*-1","v":-58.033009889958159},{"$f":"(BU32+BT32)*BU23*-1","v":-70.123220283699439},{"$f":"(BV32+BW32)*BV23*-1","v":57.924955732703857},{"$f":"(BW32+BV32)*BW23*-1","v":0},{"$f":"(BX32+BY32)*BX23*-1","v":0},{"$f":"(BY32+BX32)*BY23*-1","v":0},{"$f":"(BZ32+CA32)*BZ23*-1","v":0},{"$f":"(CA32+BZ32)*CA23*-1","v":0},{"$f":"(CB32+CC32)*CB23*-1","v":0}]
[null,null,null,null,null,null,null,null,null,"co",{"$f":"L33/2","v":-26.61054099849229},{"$f":"K33/2","v":23.813765640248196},{"$f":"N33/2","v":30.358836064305574},{"$f":"M33/2","v":-32.154403706511516},{"$f":"P33/2","v":0},{"$f":"O33/2","v":0},{"$f":"R33/2","v":0},{"$f":"Q33/2","v":0},{"$f":"T33/2","v":0},{"$f":"S33/2","v":0},null,"co",{"$f":"X33/2","v":18.479542360064094},{"$f":"W33/2","v":-17.447606933508951},{"$f":"Z33/2","v":-22.24297688197619},{"$f":"Y33/2","v":22.329447018410779},{"$f":"AB33/2","v":0},{"$f":"AA33/2","v":0},{"$f":"AD33/2","v":0},{"$f":"AC33/2","v":0},{"$f":"AF33/2","v":0},{"$f":"AE33/2","v":0},null,"co",{"$f":"AJ33/2","v":0},{"$f":"AI33/2","v":0},{"$f":"AL33/2","v":0},{"$f":"AK33/2","v":0},{"$f":"AN33/2","v":0},{"$f":"AM33/2","v":0},{"$f":"AP33/2","v":0},{"$f":"AO33/2","v":0},{"$f":"AR33/2","v":0},{"$f":"AQ33/2","v":0},null,"co",{"$f":"AV33/2","v":0},{"$f":"AU33/2","v":0},{"$f":"AX33/2","v":0},{"$f":"AW33/2","v":0},{"$f":"AZ33/2","v":0},{"$f":"AY33/2","v":0},{"$f":"BB33/2","v":0},{"$f":"BA33/2","v":0},{"$f":"BD33/2","v":0},{"$f":"BC33/2","v":0},null,"co",{"$f":"BH33/2","v":0},{"$f":"BG33/2","v":0},{"$f":"BJ33/2","v":0},{"$f":"BI33/2","v":0},{"$f":"BL33/2","v":0},{"$f":"BK33/2","v":0},{"$f":"BN33/2","v":0},{"$f":"BM33/2","v":0},{"$f":"BP33/2","v":0},{"$f":"BO33/2","v":0},null,"co",{"$f":"BT33/2","v":-29.016504944979079},{"$f":"BS33/2","v":22.718448718167505},{"$f":"BV33/2","v":28.962477866351929},{"$f":"BU33/2","v":-35.061610141849719},{"$f":"BX33/2","v":0},{"$f":"BW33/2","v":0},{"$f":"BZ33/2","v":0},{"$f":"BY33/2","v":0},{"$f":"CB33/2","v":0},{"$f":"CA33/2","v":0}]
[null,null,null,null,null,null,null,null,null,"dis",{"$f":"(K34)*K23*-1","v":18.558315890575965},{"$f":"(L34+M34)*L23*-1","v":-18.558315890575965},{"$f":"(M34+L34)*M23*-1","v":-22.424631701112624},{"$f":"(N34+O34)*N23*-1","v":23.658957523263876},{"$f":"(O34+N34)*O23*-1","v":0},{"$f":"(P34+Q34)*P23*-1","v":0},{"$f":"(Q34+P34)*Q23*-1","v":0},{"$f":"(R34+S34)*R23*-1","v":0},{"$f":"(S34+R34)*S23*-1","v":0},{"$f":"(T34+U34)*T23*-1","v":0},null,"dis",{"$f":"(W34)*W23*-1","v":-12.887719368455533},{"$f":"(X34+Y34)*X23*-1","v":13.597102024864297},{"$f":"(Y34+X34)*Y23*-1","v":16.429831613377694},{"$f":"(Z34+AA34)*Z23*-1","v":-16.429831613377694},{"$f":"(AA34+Z34)*AA23*-1","v":0},{"$f":"(AB34+AC34)*AB23*-1","v":0},{"$f":"(AC34+AB34)*AC23*-1","v":0},{"$f":"(AD34+AE34)*AD23*-1","v":0},{"$f":"(AE34+AD34)*AE23*-1","v":0},{"$f":"(AF34+AG34)*AF23*-1","v":0},null,"dis",{"$f":"(AI34)*AI23*-1","v":0},{"$f":"(AJ34+AK34)*AJ23*-1","v":0},{"$f":"(AK34+AJ34)*AK23*-1","v":0},{"$f":"(AL34+AM34)*AL23*-1","v":0},{"$f":"(AM34+AL34)*AM23*-1","v":0},{"$f":"(AN34+AO34)*AN23*-1","v":0},{"$f":"(AO34+AN34)*AO23*-1","v":0},{"$f":"(AP34+AQ34)*AP23*-1","v":0},{"$f":"(AQ34+AP34)*AQ23*-1","v":0},{"$f":"(AR34+AS34)*AR23*-1","v":0},null,"dis",{"$f":"(AU34)*AU23*-1","v":0},{"$f":"(AV34+AW34)*AV23*-1","v":0},{"$f":"(AW34+AV34)*AW23*-1","v":0},{"$f":"(AX34+AY34)*AX23*-1","v":0},{"$f":"(AY34+AX34)*AY23*-1","v":0},{"$f":"(AZ34+BA34)*AZ23*-1","v":0},{"$f":"(BA34+AZ34)*BA23*-1","v":0},{"$f":"(BB34+BC34)*BB23*-1","v":0},{"$f":"(BC34+BB34)*BC23*-1","v":0},{"$f":"(BD34+BE34)*BD23*-1","v":0},null,"dis",{"$f":"(BG34)*BG23*-1","v":0},{"$f":"(BH34+BI34)*BH23*-1","v":0},{"$f":"(BI34+BH34)*BI23*-1","v":0},{"$f":"(BJ34+BK34)*BJ23*-1","v":0},{"$f":"(BK34+BJ34)*BK23*-1","v":0},{"$f":"(BL34+BM34)*BL23*-1","v":0},{"$f":"(BM34+BL34)*BM23*-1","v":0},{"$f":"(BN34+BO34)*BN23*-1","v":0},{"$f":"(BO34+BN34)*BO23*-1","v":0},{"$f":"(BP34+BQ34)*BP23*-1","v":0},null,"dis",{"$f":"(BS34)*BS23*-1","v":20.23624641227293},{"$f":"(BT34+BU34)*BT23*-1","v":-17.704723991363213},{"$f":"(BU34+BT34)*BU23*-1","v":-21.39320815623055},{"$f":"(BV34+BW34)*BV23*-1","v":25.798057168613454},{"$f":"(BW34+BV34)*BW23*-1","v":0},{"$f":"(BX34+BY34)*BX23*-1","v":0},{"$f":"(BY34+BX34)*BY23*-1","v":0},{"$f":"(BZ34+CA34)*BZ23*-1","v":0},{"$f":"(CA34+BZ34)*CA23*-1","v":0},{"$f":"(CB34+CC34)*CB23*-1","v":0}]
[null,null,null,null,null,null,null,null,null,"co",{"$f":"L35/2","v":-9.2791579452879827},{"$f":"K35/2","v":9.2791579452879827},{"$f":"N35/2","v":11.829478761631938},{"$f":"M35/2","v":-11.212315850556312},{"$f":"P35/2","v":0},{"$f":"O35/2","v":0},{"$f":"R35/2","v":0},{"$f":"Q35/2","v":0},{"$f":"T35/2","v":0},{"$f":"S35/2","v":0},null,"co",{"$f":"X35/2","v":6.7985510124321484},-6.4438596842277667,{"$f":"Z35/2","v":-8.2149158066888468},{"$f":"Y35/2","v":8.2149158066888468},{"$f":"AB35/2","v":0},{"$f":"AA35/2","v":0},{"$f":"AD35/2","v":0},{"$f":"AC35/2","v":0},{"$f":"AF35/2","v":0},{"$f":"AE35/2","v":0},null,"co",{"$f":"AJ35/2","v":0},{"$f":"AI35/2","v":0},{"$f":"AL35/2","v":0},{"$f":"AK35/2","v":0},{"$f":"AN35/2","v":0},{"$f":"AM35/2","v":0},{"$f":"AP35/2","v":0},{"$f":"AO35/2","v":0},{"$f":"AR35/2","v":0},{"$f":"AQ35/2","v":0},null,"co",{"$f":"AV35/2","v":0},{"$f":"AU35/2","v":0},{"$f":"AX35/2","v":0},{"$f":"AW35/2","v":0},{"$f":"AZ35/2","v":0},{"$f":"AY35/2","v":0},{"$f":"BB35/2","v":0},{"$f":"BA35/2","v":0},{"$f":"BD35/2","v":0},{"$f":"BC35/2","v":0},null,"co",{"$f":"BH35/2","v":0},{"$f":"BG35/2","v":0},{"$f":"BJ35/2","v":0},{"$f":"BI35/2","v":0},{"$f":"BL35/2","v":0},{"$f":"BK35/2","v":0},{"$f":"BN35/2","v":0},{"$f":"BM35/2","v":0},{"$f":"BP35/2","v":0},{"$f":"BO35/2","v":0},null,"co",{"$f":"BT35/2","v":-8.8523619956816066},{"$f":"BS35/2","v":10.118123206136465},{"$f":"BV35/2","v":12.899028584306727},{"$f":"BU35/2","v":-10.696604078115275},{"$f":"BX35/2","v":0},{"$f":"BW35/2","v":0},{"$f":"BZ35/2","v":0},{"$f":"BY35/2","v":0},{"$f":"CB35/2","v":0},{"$f":"CA35/2","v":0}]
[null,null,null,null,null,null,null,null,null,"dis",{"$f":"(K36)*K23*-1","v":6.4713281987374502},{"$f":"(L36+M36)*L23*-1","v":-7.2313445487241053},{"$f":"(M36+L36)*M23*-1","v":-8.7378746630416266},{"$f":"(N36+O36)*N23*-1","v":8.2499338773932998},{"$f":"(O36+N36)*O23*-1","v":0},{"$f":"(P36+Q36)*P23*-1","v":0},{"$f":"(Q36+P36)*Q23*-1","v":0},{"$f":"(R36+S36)*R23*-1","v":0},{"$f":"(S36+R36)*S23*-1","v":0},{"$f":"(T36+U36)*T23*-1","v":0},null,"dis",{"$f":"(W36)*W23*-1","v":-4.7413413088467244},{"$f":"(X36+Y36)*X23*-1","v":5.0217670477250742},{"$f":"(Y36+X36)*Y23*-1","v":6.0679685160011312},{"$f":"(Z36+AA36)*Z23*-1","v":-6.0444704837826544},{"$f":"(AA36+Z36)*AA23*-1","v":0},{"$f":"(AB36+AC36)*AB23*-1","v":0},{"$f":"(AC36+AB36)*AC23*-1","v":0},{"$f":"(AD36+AE36)*AD23*-1","v":0},{"$f":"(AE36+AD36)*AE23*-1","v":0},{"$f":"(AF36+AG36)*AF23*-1","v":0},null,"dis",{"$f":"(AI36)*AI23*-1","v":0},{"$f":"(AJ36+AK36)*AJ23*-1","v":0},{"$f":"(AK36+AJ36)*AK23*-1","v":0},{"$f":"(AL36+AM36)*AL23*-1","v":0},{"$f":"(AM36+AL36)*AM23*-1","v":0},{"$f":"(AN36+AO36)*AN23*-1","v":0},{"$f":"(AO36+AN36)*AO23*-1","v":0},{"$f":"(AP36+AQ36)*AP23*-1","v":0},{"$f":"(AQ36+AP36)*AQ23*-1","v":0},{"$f":"(AR36+AS36)*AR23*-1","v":0},null,"dis",{"$f":"(AU36)*AU23*-1","v":0},{"$f":"(AV36+AW36)*AV23*-1","v":0},{"$f":"(AW36+AV36)*AW23*-1","v":0},{"$f":"(AX36+AY36)*AX23*-1","v":0},{"$f":"(AY36+AX36)*AY23*-1","v":0},{"$f":"(AZ36+BA36)*AZ23*-1","v":0},{"$f":"(BA36+AZ36)*BA23*-1","v":0},{"$f":"(BB36+BC36)*BB23*-1","v":0},{"$f":"(BC36+BB36)*BC23*-1","v":0},{"$f":"(BD36+BE36)*BD23*-1","v":0},null,"dis",{"$f":"(BG36)*BG23*-1","v":0},{"$f":"(BH36+BI36)*BH23*-1","v":0},{"$f":"(BI36+BH36)*BI23*-1","v":0},{"$f":"(BJ36+BK36)*BJ23*-1","v":0},{"$f":"(BK36+BJ36)*BK23*-1","v":0},{"$f":"(BL36+BM36)*BL23*-1","v":0},{"$f":"(BM36+BL36)*BM23*-1","v":0},{"$f":"(BN36+BO36)*BN23*-1","v":0},{"$f":"(BO36+BN36)*BO23*-1","v":0},{"$f":"(BP36+BQ36)*BP23*-1","v":0},null,"dis",{"$f":"(BS36)*BS23*-1","v":6.1736787051002393},{"$f":"(BT36+BU36)*BT23*-1","v":-7.8851589251338057},{"$f":"(BU36+BT36)*BU23*-1","v":-9.5279003678700143},{"$f":"(BV36+BW36)*BV23*-1","v":7.8704772085713319},{"$f":"(BW36+BV36)*BW23*-1","v":0},{"$f":"(BX36+BY36)*BX23*-1","v":0},{"$f":"(BY36+BX36)*BY23*-1","v":0},{"$f":"(BZ36+CA36)*BZ23*-1","v":0},{"$f":"(CA36+BZ36)*CA23*-1","v":0},{"$f":"(CB36+CC36)*CB23*-1","v":0}]
[null,null,null,null,null,null,null,null,null,"co",{"$f":"L37/2","v":-3.6156722743620526},{"$f":"K37/2","v":3.2356640993687251},{"$f":"N37/2","v":4.1249669386966499},{"$f":"M37/2","v":-4.3689373315208133},{"$f":"P37/2","v":0},{"$f":"O37/2","v":0},{"$f":"R37/2","v":0},{"$f":"Q37/2","v":0},{"$f":"T37/2","v":0},{"$f":"S37/2","v":0},null,"co",{"$f":"X37/2","v":2.5108835238625371},{"$f":"W37/2","v":-2.3706706544233622},{"$f":"Z37/2","v":-3.0222352418913272},{"$f":"Y37/2","v":3.0339842580005656},{"$f":"AB37/2","v":0},{"$f":"AA37/2","v":0},{"$f":"AD37/2","v":0},{"$f":"AC37/2","v":0},{"$f":"AF37/2","v":0},{"$f":"AE37/2","v":0},null,"co",{"$f":"AJ37/2","v":0},{"$f":"AI37/2","v":0},{"$f":"AL37/2","v":0},{"$f":"AK37/2","v":0},{"$f":"AN37/2","v":0},{"$f":"AM37/2","v":0},{"$f":"AP37/2","v":0},{"$f":"AO37/2","v":0},{"$f":"AR37/2","v":0},{"$f":"AQ37/2","v":0},null,"co",{"$f":"AV37/2","v":0},{"$f":"AU37/2","v":0},{"$f":"AX37/2","v":0},{"$f":"AW37/2","v":0},{"$f":"AZ37/2","v":0},{"$f":"AY37/2","v":0},{"$f":"BB37/2","v":0},{"$f":"BA37/2","v":0},{"$f":"BD37/2","v":0},{"$f":"BC37/2","v":0},null,"co",{"$f":"BH37/2","v":0},{"$f":"BG37/2","v":0},{"$f":"BJ37/2","v":0},{"$f":"BI37/2","v":0},{"$f":"BL37/2","v":0},{"$f":"BK37/2","v":0},{"$f":"BN37/2","v":0},{"$f":"BM37/2","v":0},{"$f":"BP37/2","v":0},{"$f":"BO37/2","v":0},null,"co",{"$f":"BT37/2","v":-3.9425794625669028},{"$f":"BS37/2","v":3.0868393525501197},{"$f":"BV37/2","v":3.935238604285666},{"$f":"BU37/2","v":-4.7639501839350071},{"$f":"BX37/2","v":0},{"$f":"BW37/2","v":0},{"$f":"BZ37/2","v":0},{"$f":"BY37/2","v":0},{"$f":"CB37/2","v":0},{"$f":"CA37/2","v":0}]
[null,null,null,null,null,null,null,null,null,"dis",{"$f":"(K38)*K23*-1","v":2.5215867737604447},{"$f":"(L38+M38)*L23*-1","v":-2.5215867737604447},{"$f":"(M38+L38)*M23*-1","v":-3.0469173516272039},{"$f":"(N38+O38)*N23*-1","v":3.2146297499934864},{"$f":"(O38+N38)*O23*-1","v":0},{"$f":"(P38+Q38)*P23*-1","v":0},{"$f":"(Q38+P38)*Q23*-1","v":0},{"$f":"(R38+S38)*R23*-1","v":0},{"$f":"(S38+R38)*S23*-1","v":0},{"$f":"(T38+U38)*T23*-1","v":0},null,"dis",{"$f":"(W38)*W23*-1","v":-1.7511019262225316},{"$f":"(X38+Y38)*X23*-1","v":1.8474883620652223},{"$f":"(Y38+X38)*Y23*-1","v":2.2323817708288103},{"$f":"(Z38+AA38)*Z23*-1","v":-2.2323817708288107},{"$f":"(AA38+Z38)*AA23*-1","v":0},{"$f":"(AB38+AC38)*AB23*-1","v":0},{"$f":"(AC38+AB38)*AC23*-1","v":0},{"$f":"(AD38+AE38)*AD23*-1","v":0},{"$f":"(AE38+AD38)*AE23*-1","v":0},{"$f":"(AF38+AG38)*AF23*-1","v":0},null,"dis",{"$f":"(AI38)*AI23*-1","v":0},{"$f":"(AJ38+AK38)*AJ23*-1","v":0},{"$f":"(AK38+AJ38)*AK23*-1","v":0},{"$f":"(AL38+AM38)*AL23*-1","v":0},{"$f":"(AM38+AL38)*AM23*-1","v":0},{"$f":"(AN38+AO38)*AN23*-1","v":0},{"$f":"(AO38+AN38)*AO23*-1","v":0},{"$f":"(AP38+AQ38)*AP23*-1","v":0},{"$f":"(AQ38+AP38)*AQ23*-1","v":0},{"$f":"(AR38+AS38)*AR23*-1","v":0},null,"dis",{"$f":"(AU38)*AU23*-1","v":0},{"$f":"(AV38+AW38)*AV23*-1","v":0},{"$f":"(AW38+AV38)*AW23*-1","v":0},{"$f":"(AX38+AY38)*AX23*-1","v":0},{"$f":"(AY38+AX38)*AY23*-1","v":0},{"$f":"(AZ38+BA38)*AZ23*-1","v":0},{"$f":"(BA38+AZ38)*BA23*-1","v":0},{"$f":"(BB38+BC38)*BB23*-1","v":0},{"$f":"(BC38+BB38)*BC23*-1","v":0},{"$f":"(BD38+BE38)*BD23*-1","v":0},null,"dis",{"$f":"(BG38)*BG23*-1","v":0},{"$f":"(BH38+BI38)*BH23*-1","v":0},{"$f":"(BI38+BH38)*BI23*-1","v":0},{"$f":"(BJ38+BK38)*BJ23*-1","v":0},{"$f":"(BK38+BJ38)*BK23*-1","v":0},{"$f":"(BL38+BM38)*BL23*-1","v":0},{"$f":"(BM38+BL38)*BM23*-1","v":0},{"$f":"(BN38+BO38)*BN23*-1","v":0},{"$f":"(BO38+BN38)*BO23*-1","v":0},{"$f":"(BP38+BQ38)*BP23*-1","v":0},null,"dis",{"$f":"(BS38)*BS23*-1","v":2.7495733774882427},{"$f":"(BT38+BU38)*BT23*-1","v":-2.4056060966378543},{"$f":"(BU38+BT38)*BU23*-1","v":-2.906774033437407},{"$f":"(BV38+BW38)*BV23*-1","v":3.5052771021170823},{"$f":"(BW38+BV38)*BW23*-1","v":0},{"$f":"(BX38+BY38)*BX23*-1","v":0},{"$f":"(BY38+BX38)*BY23*-1","v":0},{"$f":"(BZ38+CA38)*BZ23*-1","v":0},{"$f":"(CA38+BZ38)*CA23*-1","v":0},{"$f":"(CB38+CC38)*CB23*-1","v":0}]
[null,null,null,null,null,null,null,null,null,"co",{"$f":"L39/2","v":-1.2607933868802224},{"$f":"K39/2","v":1.2607933868802224},{"$f":"N39/2","v":1.6073148749967432},{"$f":"M39/2","v":-1.5234586758136019},{"$f":"P39/2","v":0},{"$f":"O39/2","v":0},{"$f":"R39/2","v":0},{"$f":"Q39/2","v":0},{"$f":"T39/2","v":0},{"$f":"S39/2","v":0},null,"co",{"$f":"X39/2","v":0.92374418103261113},{"$f":"W39/2","v":-0.87555096311126579},{"$f":"Z39/2","v":-1.1161908854144054},{"$f":"Y39/2","v":1.1161908854144051},{"$f":"AB39/2","v":0},{"$f":"AA39/2","v":0},{"$f":"AD39/2","v":0},{"$f":"AC39/2","v":0},{"$f":"AF39/2","v":0},{"$f":"AE39/2","v":0},null,"co",{"$f":"AJ39/2","v":0},{"$f":"AI39/2","v":0},{"$f":"AL39/2","v":0},{"$f":"AK39/2","v":0},{"$f":"AN39/2","v":0},{"$f":"AM39/2","v":0},{"$f":"AP39/2","v":0},{"$f":"AO39/2","v":0},{"$f":"AR39/2","v":0},{"$f":"AQ39/2","v":0},null,"co",{"$f":"AV39/2","v":0},{"$f":"AU39/2","v":0},{"$f":"AX39/2","v":0},{"$f":"AW39/2","v":0},{"$f":"AZ39/2","v":0},{"$f":"AY39/2","v":0},{"$f":"BB39/2","v":0},{"$f":"BA39/2","v":0},{"$f":"BD39/2","v":0},{"$f":"BC39/2","v":0},null,"co",{"$f":"BH39/2","v":0},{"$f":"BG39/2","v":0},{"$f":"BJ39/2","v":0},{"$f":"BI39/2","v":0},{"$f":"BL39/2","v":0},{"$f":"BK39/2","v":0},{"$f":"BN39/2","v":0},{"$f":"BM39/2","v":0},{"$f":"BP39/2","v":0},{"$f":"BO39/2","v":0},null,"co",{"$f":"BT39/2","v":-1.2028030483189271},{"$f":"BS39/2","v":1.3747866887441214},{"$f":"BV39/2","v":1.7526385510585412},{"$f":"BU39/2","v":-1.4533870167187035},{"$f":"BX39/2","v":0},{"$f":"BW39/2","v":0},{"$f":"BZ39/2","v":0},{"$f":"BY39/2","v":0},{"$f":"CB39/2","v":0},{"$f":"CA39/2","v":0}]
[null,null,null,null,null,null,null,null,null,"dis",{"$f":"(K40)*K23*-1","v":0.87928321140851762},{"$f":"(L40+M40)*L23*-1","v":-0.9825494338000238},{"$f":"(M40+L40)*M23*-1","v":-1.1872472325083621},{"$f":"(N40+O40)*N23*-1","v":1.1209489197345235},{"$f":"(O40+N40)*O23*-1","v":0},{"$f":"(P40+Q40)*P23*-1","v":0},{"$f":"(Q40+P40)*Q23*-1","v":0},{"$f":"(R40+S40)*R23*-1","v":0},{"$f":"(S40+R40)*S23*-1","v":0},{"$f":"(T40+U40)*T23*-1","v":0},null,"dis",{"$f":"(W40)*W23*-1","v":-0.64422351708880665},{"$f":"(X40+Y40)*X23*-1","v":0.68232599569446117},{"$f":"(Y40+X40)*Y23*-1","v":0.82447724479747386},{"$f":"(Z40+AA40)*Z23*-1","v":-0.82128448056170611},{"$f":"(AA40+Z40)*AA23*-1","v":0},{"$f":"(AB40+AC40)*AB23*-1","v":0},{"$f":"(AC40+AB40)*AC23*-1","v":0},{"$f":"(AD40+AE40)*AD23*-1","v":0},{"$f":"(AE40+AD40)*AE23*-1","v":0},{"$f":"(AF40+AG40)*AF23*-1","v":0},null,"dis",{"$f":"(AI40)*AI23*-1","v":0},{"$f":"(AJ40+AK40)*AJ23*-1","v":0},{"$f":"(AK40+AJ40)*AK23*-1","v":0},{"$f":"(AL40+AM40)*AL23*-1","v":0},{"$f":"(AM40+AL40)*AM23*-1","v":0},{"$f":"(AN40+AO40)*AN23*-1","v":0},{"$f":"(AO40+AN40)*AO23*-1","v":0},{"$f":"(AP40+AQ40)*AP23*-1","v":0},{"$f":"(AQ40+AP40)*AQ23*-1","v":0},{"$f":"(AR40+AS40)*AR23*-1","v":0},null,"dis",{"$f":"(AU40)*AU23*-1","v":0},{"$f":"(AV40+AW40)*AV23*-1","v":0},{"$f":"(AW40+AV40)*AW23*-1","v":0},{"$f":"(AX40+AY40)*AX23*-1","v":0},{"$f":"(AY40+AX40)*AY23*-1","v":0},{"$f":"(AZ40+BA40)*AZ23*-1","v":0},{"$f":"(BA40+AZ40)*BA23*-1","v":0},{"$f":"(BB40+BC40)*BB23*-1","v":0},{"$f":"(BC40+BB40)*BC23*-1","v":0},{"$f":"(BD40+BE40)*BD23*-1","v":0},null,"dis",{"$f":"(BG40)*BG23*-1","v":0},{"$f":"(BH40+BI40)*BH23*-1","v":0},{"$f":"(BI40+BH40)*BI23*-1","v":0},{"$f":"(BJ40+BK40)*BJ23*-1","v":0},{"$f":"(BK40+BJ40)*BK23*-1","v":0},{"$f":"(BL40+BM40)*BL23*-1","v":0},{"$f":"(BM40+BL40)*BM23*-1","v":0},{"$f":"(BN40+BO40)*BN23*-1","v":0},{"$f":"(BO40+BN40)*BO23*-1","v":0},{"$f":"(BP40+BQ40)*BP23*-1","v":0},null,"dis",{"$f":"(BS40)*BS23*-1","v":0.83884047776838067},{"$f":"(BT40+BU40)*BT23*-1","v":-1.0713856026512247},{"$f":"(BU40+BT40)*BU23*-1","v":-1.2945909365368966},{"$f":"(BV40+BW40)*BV23*-1","v":1.0693907437147607},{"$f":"(BW40+BV40)*BW23*-1","v":0},{"$f":"(BX40+BY40)*BX23*-1","v":0},{"$f":"(BY40+BX40)*BY23*-1","v":0},{"$f":"(BZ40+CA40)*BZ23*-1","v":0},{"$f":"(CA40+BZ40)*CA23*-1","v":0},{"$f":"(CB40+CC40)*CB23*-1","v":0}]
[null,null,null,null,null,null,null,null,null,"co",{"$f":"L41/2","v":-0.4912747169000119},{"$f":"K41/2","v":0.43964160570425881},{"$f":"N41/2","v":0.56047445986726174},{"$f":"M41/2","v":-0.59362361625418103},{"$f":"P41/2","v":0},{"$f":"O41/2","v":0},{"$f":"R41/2","v":0},{"$f":"Q41/2","v":0},{"$f":"T41/2","v":0},{"$f":"S41/2","v":0},null,"co",{"$f":"X41/2","v":0.34116299784723059},{"$f":"W41/2","v":-0.32211175854440333},{"$f":"Z41/2","v":-0.41064224028085305},{"$f":"Y41/2","v":0.41223862239873693},{"$f":"AB41/2","v":0},{"$f":"AA41/2","v":0},{"$f":"AD41/2","v":0},{"$f":"AC41/2","v":0},{"$f":"AF41/2","v":0},{"$f":"AE41/2","v":0},null,"co",{"$f":"AJ41/2","v":0},{"$f":"AI41/2","v":0},{"$f":"AL41/2","v":0},{"$f":"AK41/2","v":0},{"$f":"AN41/2","v":0},{"$f":"AM41/2","v":0},{"$f":"AP41/2","v":0},{"$f":"AO41/2","v":0},{"$f":"AR41/2","v":0},{"$f":"AQ41/2","v":0},null,"co",{"$f":"AV41/2","v":0},{"$f":"AU41/2","v":0},{"$f":"AX41/2","v":0},{"$f":"AW41/2","v":0},{"$f":"AZ41/2","v":0},{"$f":"AY41/2","v":0},{"$f":"BB41/2","v":0},{"$f":"BA41/2","v":0},{"$f":"BD41/2","v":0},{"$f":"BC41/2","v":0},null,"co",{"$f":"BH41/2","v":0},{"$f":"BG41/2","v":0},{"$f":"BJ41/2","v":0},{"$f":"BI41/2","v":0},{"$f":"BL41/2","v":0},{"$f":"BK41/2","v":0},{"$f":"BN41/2","v":0},{"$f":"BM41/2","v":0},{"$f":"BP41/2","v":0},{"$f":"BO41/2","v":0},null,"co",{"$f":"BT41/2","v":-0.53569280132561237},{"$f":"BS41/2","v":0.41942023888419033},{"$f":"BV41/2","v":0.53469537185738036},{"$f":"BU41/2","v":-0.6472954682684483},{"$f":"BX41/2","v":0},{"$f":"BW41/2","v":0},{"$f":"BZ41/2","v":0},{"$f":"BY41/2","v":0},{"$f":"CB41/2","v":0},{"$f":"CA41/2","v":0}]
[null,null,null,null,null,null,null,null,null,"dis",{"$f":"(K42)*K23*-1","v":0.34261728785597656},{"$f":"(L42+M42)*L23*-1","v":-0.3426172878559765},{"$f":"(M42+L42)*M23*-1","v":-0.41399588949263827},{"$f":"(N42+O42)*N23*-1","v":0.43678359113591153},{"$f":"(O42+N42)*O23*-1","v":0},{"$f":"(P42+Q42)*P23*-1","v":0},{"$f":"(Q42+P42)*Q23*-1","v":0},{"$f":"(R42+S42)*R23*-1","v":0},{"$f":"(S42+R42)*S23*-1","v":0},{"$f":"(T42+U42)*T23*-1","v":0},null,"dis",{"$f":"(W42)*W23*-1","v":-0.23792867212220603},{"$f":"(X42+Y42)*X23*-1","v":0.25102505237696066},{"$f":"(Y42+X42)*Y23*-1","v":0.30332193828882748},{"$f":"(Z42+AA42)*Z23*-1","v":-0.30332193828882753},{"$f":"(AA42+Z42)*AA23*-1","v":0},{"$f":"(AB42+AC42)*AB23*-1","v":0},{"$f":"(AC42+AB42)*AC23*-1","v":0},{"$f":"(AD42+AE42)*AD23*-1","v":0},{"$f":"(AE42+AD42)*AE23*-1","v":0},{"$f":"(AF42+AG42)*AF23*-1","v":0},null,"dis",{"$f":"(AI42)*AI23*-1","v":0},{"$f":"(AJ42+AK42)*AJ23*-1","v":0},{"$f":"(AK42+AJ42)*AK23*-1","v":0},{"$f":"(AL42+AM42)*AL23*-1","v":0},{"$f":"(AM42+AL42)*AM23*-1","v":0},{"$f":"(AN42+AO42)*AN23*-1","v":0},{"$f":"(AO42+AN42)*AO23*-1","v":0},{"$f":"(AP42+AQ42)*AP23*-1","v":0},{"$f":"(AQ42+AP42)*AQ23*-1","v":0},{"$f":"(AR42+AS42)*AR23*-1","v":0},null,"dis",{"$f":"(AU42)*AU23*-1","v":0},{"$f":"(AV42+AW42)*AV23*-1","v":0},{"$f":"(AW42+AV42)*AW23*-1","v":0},{"$f":"(AX42+AY42)*AX23*-1","v":0},{"$f":"(AY42+AX42)*AY23*-1","v":0},{"$f":"(AZ42+BA42)*AZ23*-1","v":0},{"$f":"(BA42+AZ42)*BA23*-1","v":0},{"$f":"(BB42+BC42)*BB23*-1","v":0},{"$f":"(BC42+BB42)*BC23*-1","v":0},{"$f":"(BD42+BE42)*BD23*-1","v":0},null,"dis",{"$f":"(BG42)*BG23*-1","v":0},{"$f":"(BH42+BI42)*BH23*-1","v":0},{"$f":"(BI42+BH42)*BI23*-1","v":0},{"$f":"(BJ42+BK42)*BJ23*-1","v":0},{"$f":"(BK42+BJ42)*BK23*-1","v":0},{"$f":"(BL42+BM42)*BL23*-1","v":0},{"$f":"(BM42+BL42)*BM23*-1","v":0},{"$f":"(BN42+BO42)*BN23*-1","v":0},{"$f":"(BO42+BN42)*BO23*-1","v":0},{"$f":"(BP42+BQ42)*BP23*-1","v":0},null,"dis",{"$f":"(BS42)*BS23*-1","v":0.37359466791267182},{"$f":"(BT42+BU42)*BT23*-1","v":-0.32685856582707651},{"$f":"(BU42+BT42)*BU23*-1","v":-0.39495410037438405},{"$f":"(BV42+BW42)*BV23*-1","v":0.47627491800331995},{"$f":"(BW42+BV42)*BW23*-1","v":0},{"$f":"(BX42+BY42)*BX23*-1","v":0},{"$f":"(BY42+BX42)*BY23*-1","v":0},{"$f":"(BZ42+CA42)*BZ23*-1","v":0},{"$f":"(CA42+BZ42)*CA23*-1","v":0},{"$f":"(CB42+CC42)*CB23*-1","v":0}]
[null,null,null,null,null,null,null,null,null,"co",{"$f":"L43/2","v":-0.17130864392798825},{"$f":"K43/2","v":0.17130864392798828},{"$f":"N43/2","v":0.21839179556795577},{"$f":"M43/2","v":-0.20699794474631913},{"$f":"P43/2","v":0},{"$f":"O43/2","v":0},{"$f":"R43/2","v":0},{"$f":"Q43/2","v":0},{"$f":"T43/2","v":0},{"$f":"S43/2","v":0},null,"co",{"$f":"X43/2","v":0.12551252618848033},{"$f":"W43/2","v":-0.11896433606110302},{"$f":"Z43/2","v":-0.15166096914441377},{"$f":"Y43/2","v":0.15166096914441374},{"$f":"AB43/2","v":0},{"$f":"AA43/2","v":0},{"$f":"AD43/2","v":0},{"$f":"AC43/2","v":0},{"$f":"AF43/2","v":0},{"$f":"AE43/2","v":0},null,"co",{"$f":"AJ43/2","v":0},{"$f":"AI43/2","v":0},{"$f":"AL43/2","v":0},{"$f":"AK43/2","v":0},{"$f":"AN43/2","v":0},{"$f":"AM43/2","v":0},{"$f":"AP43/2","v":0},{"$f":"AO43/2","v":0},{"$f":"AR43/2","v":0},{"$f":"AQ43/2","v":0},null,"co",{"$f":"AV43/2","v":0},{"$f":"AU43/2","v":0},{"$f":"AX43/2","v":0},{"$f":"AW43/2","v":0},{"$f":"AZ43/2","v":0},{"$f":"AY43/2","v":0},{"$f":"BB43/2","v":0},{"$f":"BA43/2","v":0},{"$f":"BD43/2","v":0},{"$f":"BC43/2","v":0},null,"co",{"$f":"BH43/2","v":0},{"$f":"BG43/2","v":0},{"$f":"BJ43/2","v":0},{"$f":"BI43/2","v":0},{"$f":"BL43/2","v":0},{"$f":"BK43/2","v":0},{"$f":"BN43/2","v":0},{"$f":"BM43/2","v":0},{"$f":"BP43/2","v":0},{"$f":"BO43/2","v":0},null,"co",{"$f":"BT43/2","v":-0.16342928291353825},{"$f":"BS43/2","v":0.18679733395633591},{"$f":"BV43/2","v":0.23813745900165997},{"$f":"BU43/2","v":-0.19747705018719203},{"$f":"BX43/2","v":0},{"$f":"BW43/2","v":0},{"$f":"BZ43/2","v":0},{"$f":"BY43/2","v":0},{"$f":"CB43/2","v":0},{"$f":"CA43/2","v":0}]
[null,null,null,null,null,null,null,null,null,"dis",{"$f":"(K44)*K23*-1","v":0.11947145039185533},{"$f":"(L44+M44)*L23*-1","v":-0.13350261259935159},{"$f":"(M44+L44)*M23*-1","v":-0.16131565689088317},{"$f":"(N44+O44)*N23*-1","v":0.15230746080246341},{"$f":"(O44+N44)*O23*-1","v":0},{"$f":"(P44+Q44)*P23*-1","v":0},{"$f":"(Q44+P44)*Q23*-1","v":0},{"$f":"(R44+S44)*R23*-1","v":0},{"$f":"(S44+R44)*S23*-1","v":0},{"$f":"(T44+U44)*T23*-1","v":0},null,"dis",{"$f":"(W44)*W23*-1","v":-8.7533023449691633E-2},{"$f":"(X44+Y44)*X23*-1","v":9.2710147638438628E-2},{"$f":"(Y44+X44)*Y23*-1","v":0.11202476172978001},{"$f":"(Z44+AA44)*Z23*-1","v":-0.11159094908664383},{"$f":"(AA44+Z44)*AA23*-1","v":0},{"$f":"(AB44+AC44)*AB23*-1","v":0},{"$f":"(AC44+AB44)*AC23*-1","v":0},{"$f":"(AD44+AE44)*AD23*-1","v":0},{"$f":"(AE44+AD44)*AE23*-1","v":0},{"$f":"(AF44+AG44)*AF23*-1","v":0},null,"dis",{"$f":"(AI44)*AI23*-1","v":0},{"$f":"(AJ44+AK44)*AJ23*-1","v":0},{"$f":"(AK44+AJ44)*AK23*-1","v":0},{"$f":"(AL44+AM44)*AL23*-1","v":0},{"$f":"(AM44+AL44)*AM23*-1","v":0},{"$f":"(AN44+AO44)*AN23*-1","v":0},{"$f":"(AO44+AN44)*AO23*-1","v":0},{"$f":"(AP44+AQ44)*AP23*-1","v":0},{"$f":"(AQ44+AP44)*AQ23*-1","v":0},{"$f":"(AR44+AS44)*AR23*-1","v":0},null,"dis",{"$f":"(AU44)*AU23*-1","v":0},{"$f":"(AV44+AW44)*AV23*-1","v":0},{"$f":"(AW44+AV44)*AW23*-1","v":0},{"$f":"(AX44+AY44)*AX23*-1","v":0},{"$f":"(AY44+AX44)*AY23*-1","v":0},{"$f":"(AZ44+BA44)*AZ23*-1","v":0},{"$f":"(BA44+AZ44)*BA23*-1","v":0},{"$f":"(BB44+BC44)*BB23*-1","v":0},{"$f":"(BC44+BB44)*BC23*-1","v":0},{"$f":"(BD44+BE44)*BD23*-1","v":0},null,"dis",{"$f":"(BG44)*BG23*-1","v":0},{"$f":"(BH44+BI44)*BH23*-1","v":0},{"$f":"(BI44+BH44)*BI23*-1","v":0},{"$f":"(BJ44+BK44)*BJ23*-1","v":0},{"$f":"(BK44+BJ44)*BK23*-1","v":0},{"$f":"(BL44+BM44)*BL23*-1","v":0},{"$f":"(BM44+BL44)*BM23*-1","v":0},{"$f":"(BN44+BO44)*BN23*-1","v":0},{"$f":"(BO44+BN44)*BO23*-1","v":0},{"$f":"(BP44+BQ44)*BP23*-1","v":0},null,"dis",{"$f":"(BS44)*BS23*-1","v":0.11397634712693723},{"$f":"(BT44+BU44)*BT23*-1","v":-0.14557311025266997},{"$f":"(BU44+BT44)*BU23*-1","v":-0.17590084155530952},{"$f":"(BV44+BW44)*BV23*-1","v":0.14530206141723873},{"$f":"(BW44+BV44)*BW23*-1","v":0},{"$f":"(BX44+BY44)*BX23*-1","v":0},{"$f":"(BY44+BX44)*BY23*-1","v":0},{"$f":"(BZ44+CA44)*BZ23*-1","v":0},{"$f":"(CA44+BZ44)*CA23*-1","v":0},{"$f":"(CB44+CC44)*CB23*-1","v":0}]
[null,null,null,null,null,null,null,null,null,"sum",{"$f":"SUM(K24:K45)","v":-3227.0524743396327},{"$f":"SUM(L24:L45)","v":7634.4080410822125},{"$f":"SUM(M24:M45)","v":-4436.6950009879401},{"$f":"SUM(N24:N45)","v":-718.18156162670141},{"$f":"SUM(O24:O45)","v":0},0,0,0,0,0,null,"sum",{"$f":"SUM(W24:W45)","v":479.44463566549138},2616.5213249535586,-4868.7568557862078,2049.7995326731998,0,0,0,0,0,0,null,"sum",{"$f":"SUM(AI24:AI45)","v":0},0,0,0,0,0,0,0,0,0,null,"sum",{"$f":"SUM(AU24:AU45)","v":0},0,0,0,0,0,0,0,0,0,null,"sum",{"$f":"SUM(BG24:BG45)","v":0},0,0,0,0,0,0,0,0,0,null,"sum",{"$f":"SUM(BS24:BS45)","v":-9805.1887576214467},36581.747933696272,-33207.690939860673,4752.0484456953445,0,0,0,0,0,0]
[null,null,null,null,null,null,null,null,null,"โมเมนต์บวก span 1 =",{"$f":"K111","v":30097.227501766662},null,"โมเมนต์บวก span 2 =",{"$f":"W111","v":19134.220431339374},"โมเมนต์บวก span 3 =",{"$f":"AI111","v":0},"โมเมนต์บวก span 4 =",{"$f":"AU111","v":0},"โมเมนต์บวก span 5 =",{"$f":"BG111","v":0}]
[null,null,null,null,null,null,null,null,null,"โมเมนต์ลบ span 1 ขวา =",{"$f":"N110","v":-38513.614609617493},null,"โมเมนต์ลบ span 2 ขวา =",{"$f":"AC111","v":-2157.9319710596783},"โมเมนต์ลบ span 3 ขวา =",{"$f":"AO110","v":0},"โมเมนต์ลบ span 4 ขวา =",{"$f":"BA110","v":0},"โมเมนต์ลบ span 5 ขวา =",{"$f":"BM110","v":0}]
[null,null,null,null,null,null,null,null,null,"โมเมนต์ลบ span 1 ซ้าย =",{"$f":"-K107+0.5*K109*Sheet1!D10-0.25*'l3'!E2*('l3'!B7+'l3'!E7)*Sheet1!D10^2","v":-6895.3050567216596},null,"โมเมนต์ลบ span 2 ซ้าย =",{"$f":"Z111","v":-35161.063741439102},"โมเมนต์ลบ span 3 ซ้าย =",{"$f":"AL110","v":0},"โมเมนต์ลบ span 4 ซ้าย =",{"$f":"AX110","v":0},"โมเมนต์ลบ span 5 ซ้าย =",{"$f":"BJ110","v":0}]
[null,null,null,null,null,null,null,null,null,"span1",null,null,"span2",null,"span3",null,"span4",null,"span5"]
[null,null,null,null,null,null,"ทิศทาง","ช่วงเสา","สัมประสิทธ์ร้อยละ","แถบเสา","แถบกลาง",null,"แถบเสา","แถบกลาง","แถบเสา","แถบกลาง","แถบเสา","แถบกลาง","แถบเสา","แถบกลาง"]
[null,null,null,null,null,null,null,"โมเมนต์ลบขวา",0.75,{"$f":"IF((-K48>-N49),(K48),(N49))*I52","v":-28885.210957213119},{"$f":"IF((-K48>-N49),(K48),(N49))-J52","v":-9628.4036524043731},null,{"$f":"IF((-N48>-P49),(N48),(P49))*IF(Sheet1!$B$4=2,(I54),(I52))","v":-2157.9319710596783},{"$f":"IF((-N48>-P49),(N48),(P49))-M52","v":0},{"$f":"IF(-P48>-R49,(P48),(R49))*IF(Sheet1!$B$3=3,(1),(0.75))","v":0},{"$f":"IF(-P48>-R49,(P48),(R49))*IF(Sheet1!$B$4=3,(1),(0.75))-O52","v":0},{"$f":"IF(-R48>-T49,(R48),(T49))*IF(Sheet1!$B$4=4,(1),(0.75))","v":0},{"$f":"IF(-R48>-T49,(R48),(T49))*IF(Sheet1!$B$4=4,(1),(0.75))-Q52","v":0},{"$f":"IF(-T48>-V49,(T48),(V49))*IF(Sheet1!$B$4=5,(1),(0.75))","v":0},{"$f":"IF(-T48>-V49,(T48),(V49))*IF(Sheet1!$B$4=5,(1),(0.75))-S52","v":0}]
[null,null,null,null,null,null,null,"โมเมนต์กลางช่วงโมเมนต์บวก",0.6,{"$f":"K47*$I$53","v":18058.336501059995},{"$f":"K47-J53","v":12038.891000706666},null,{"$f":"N47*$I$53","v":11480.532258803623},{"$f":"N47-M53","v":7653.6881725357507},{"$f":"P47*$I$53","v":0},{"$f":"P47-O53","v":0},{"$f":"R47*$I$53","v":0},{"$f":"R47-Q53","v":0},{"$f":"T47*$I$53","v":0},{"$f":"T47-S53","v":0}]
[null,null,null,null,null,null,null,"โมเมนต์ลบซ้าย",1,{"$f":"K49*I54","v":-6895.3050567216596},{"$f":"K49-J54","v":0},null,{"$f":"IF((-K48>-N49),(K48),(N49))*I52","v":-28885.210957213119},{"$f":"IF((-K48>-N49),(K48),(N49))-M54","v":-9628.4036524043731},{"$f":"IF((-N48>-P49),(N48),(P49))*IF(Sheet1!$B$4<3,(0),(0.75))","v":0},{"$f":"IF(O54=0,(0),(IF((-N48>-P49),(N48),(P49))-O54))","v":0},{"$f":"IF((-P48>-R49),(P48),(R49))*IF(Sheet1!$B$4<4,(0),(0.75))","v":0},{"$f":"IF(Q54=0,(0),(IF((-P48>-R49),(P48),(R49))-Q54))","v":0},{"$f":"IF((-R48>-T49),(R48),(T49))*IF(Sheet1!$B$4<5,(0),(0.75))","v":0},{"$f":"IF(S54=0,(0),(IF((-R48>-T49),(R48),(T49))-S54))","v":0}]
[]
[null,null,null,null,null,null,"เหล็กเสริมในแผ่นพื้น",null,null,"span l1",null,null,"span l2",null,"span l3",null,"span l4",null,"span l5"]
[null,null,null,null,null,null,null,"รายการ","หน่วย","แถบเสา","แถบกลาง",null,"แถบเสา","แถบกลาง","แถบเสา","แถบกลาง","แถบเสา","แถบกลาง","แถบเสา","แถบกลาง"]
[null,null,null,null,null,null,null,"ความกว้าง","m",{"$f":"E2*0.5","v":2.75},{"$f":"$E$2-J58","v":2.75},null,{"$f":"J58","v":2.75},{"$f":"$E$2-M58","v":2.75},{"$f":"M58","v":2.75},{"$f":"$E$2-O58","v":2.75},2.75,{"$f":"$E$2-Q58","v":2.75},2.75,{"$f":"$E$2-S58","v":2.75}]
[null,null,null,null,null,null,null,"โมเมนต์ลบขวา","kg-m/m",{"$f":"J52/(0.9*J58)","v":-11670.792305944695},{"$f":"K52/(K58*0.9)","v":-3890.2641019815646},null,{"$f":"M52/(0.9*M58)","v":-871.89170547865785},{"$f":"N52/(0.9*N58)","v":0},{"$f":"O52/(0.9*O58)","v":0},{"$f":"P52/(0.9*P58)","v":0},{"$f":"Q52/(0.9*Q58)","v":0},0,{"$f":"S52/(0.9*S58)","v":0},{"$f":"T52/(0.9*T58)","v":0}]
[null,null,null,null,null,null,null,"Rn","kg/m^2",{"$f":"J59/(((Sheet1!B16)-(Sheet1!B13/100))^2)","v":-230534.16900631494},{"$f":"K59/(((Sheet1!B16)-(Sheet1!B13/100))^2)","v":-76844.723002104976},null,{"$f":"M59/(((Sheet1!B16)-(Sheet1!B13/100))^2)","v":-17222.552206985834},{"$f":"N59/(((Sheet1!B16)-(Sheet1!B13/100))^2)","v":0},{"$f":"O59/(((Sheet1!B16)-(Sheet1!B13/100))^2)","v":0},{"$f":"P59/(((Sheet1!B16)-(Sheet1!B13/100))^2)","v":0},{"$f":"Q59/(((Sheet1!B16)-(Sheet1!B13/100))^2)","v":0},{"$f":"R59/(((Sheet1!B16)-(Sheet1!B13/100))^2)","v":0},{"$f":"S59/(((Sheet1!B16)-(Sheet1!B13/100))^2)","v":0},{"$f":"T59/(((Sheet1!B16)-(Sheet1!B13/100))^2)","v":0}]
[null,null,null,null,null,null,null,"p",null,{"$f":"ABS((0.85*Sheet1!B10/Sheet1!B9)*(1-(SQRT(1-(2*J60/(0.85*Sheet1!B10*100^2))))))","v":7.2437611314255445E-3},{"$f":"ABS((0.85*Sheet1!B10/Sheet1!B9)*(1-(SQRT(1-(2*K60/(0.85*Sheet1!B10*100^2))))))","v":2.478379656090263E-3},null,{"$f":"ABS((0.85*Sheet1!B10/Sheet1!B9)*(1-(SQRT(1-(2*M60/(0.85*Sheet1!B10*100^2))))))","v":5.6142477715364313E-4},{"$f":"ABS((0.85*Sheet1!B10/Sheet1!B9)*(1-(SQRT(1-(2*N60/(0.85*Sheet1!B10*100^2))))))","v":0},{"$f":"ABS((0.85*Sheet1!B10/Sheet1!B9)*(1-(SQRT(1-(2*O60/(0.85*Sheet1!B10*100^2))))))","v":0},{"$f":"ABS((0.85*Sheet1!B10/Sheet1!B9)*(1-(SQRT(1-(2*P60/(0.85*Sheet1!B10*100^2))))))","v":0},{"$f":"ABS((0.85*Sheet1!B10/Sheet1!B9)*(1-(SQRT(1-(2*Q60/(0.85*Sheet1!B10*100^2))))))","v":0},{"$f":"ABS((0.85*Sheet1!B10/Sheet1!B9)*(1-(SQRT(1-(2*R60/(0.85*Sheet1!B10*100^2))))))","v":0},{"$f":"ABS((0.85*Sheet1!B10/Sheet1!B9)*(1-(SQRT(1-(2*S60/(0.85*Sheet1!B10*100^2))))))","v":0},{"$f":"ABS((0.85*Sheet1!B10/Sheet1!B9)*(1-(SQRT(1-(2*T60/(0.85*Sheet1!B10*100^2))))))","v":0}]
[null,null,null,null,null,null,null,"As-","mm^2/m",{"$f":"IF(J53=0,(0),(IF(J61>(0.0018*4000/Sheet1!$B$9),(ABS(J61*1000*(Sheet1!$B$16*1000-Sheet1!$B$13*10)*-1)),(ABS((0.0018*4000/Sheet1!$B$9)*1000*(Sheet1!$B$16*1000-Sheet1!$B$13*10)*-1)))))","v":1629.8462545707475},{"$f":"IF(K53=0,(0),(IF(K61>(0.0018*4000/Sheet1!$B$9),(ABS(K61*1000*(Sheet1!$B$16*1000-Sheet1!$B$13*10)*-1)),(ABS((0.0018*4000/Sheet1!$B$9)*1000*(Sheet1!$B$16*1000-Sheet1!$B$13*10)*-1)))))","v":557.6354226203091},null,{"$f":"IF(M53=0,(0),(IF(M61>(0.0018*4000/Sheet1!$B$9),(ABS(M61*1000*(Sheet1!$B$16*1000-Sheet1!$B$13*10)*-1)),(ABS((0.0018*4000/Sheet1!$B$9)*1000*(Sheet1!$B$16*1000-Sheet1!$B$13*10)*-1)))))","v":529.75801177240021},{"$f":"IF(N53=0,(0),(IF(N61>(0.0018*4000/Sheet1!$B$9),(ABS(N61*1000*(Sheet1!$B$16*1000-Sheet1!$B$13*10)*-1)),(ABS((0.0018*4000/Sheet1!$B$9)*1000*(Sheet1!$B$16*1000-Sheet1!$B$13*10)*-1)))))","v":529.75801177240021},{"$f":"IF(O53=0,(0),(IF(O61>(0.0018*4000/Sheet1!$B$9),(ABS(O61*1000*(Sheet1!$B$16*1000-Sheet1!$B$13*10)*-1)),(ABS((0.0018*4000/Sheet1!$B$9)*1000*(Sheet1!$B$16*1000-Sheet1!$B$13*10)*-1)))))","v":0},{"$f":"IF(P53=0,(0),(IF(P61>(0.0018*4000/Sheet1!$B$9),(ABS(P61*1000*(Sheet1!$B$16*1000-Sheet1!$B$13*10)*-1)),(ABS((0.0018*4000/Sheet1!$B$9)*1000*(Sheet1!$B$16*1000-Sheet1!$B$13*10)*-1)))))","v":0},{"$f":"IF(Q53=0,(0),(IF(Q61>(0.0018*4000/Sheet1!$B$9),(ABS(Q61*1000*(Sheet1!$B$16*1000-Sheet1!$B$13*10)*-1)),(ABS((0.0018*4000/Sheet1!$B$9)*1000*(Sheet1!$B$16*1000-Sheet1!$B$13*10)*-1)))))","v":0},{"$f":"IF(R53=0,(0),(IF(R61>(0.0018*4000/Sheet1!$B$9),(ABS(R61*1000*(Sheet1!$B$16*1000-Sheet1!$B$13*10)*-1)),(ABS((0.0018*4000/Sheet1!$B$9)*1000*(Sheet1!$B$16*1000-Sheet1!$B$13*10)*-1)))))","v":0},{"$f":"IF(S53=0,(0),(IF(S61>(0.0018*4000/Sheet1!$B$9),(ABS(S61*1000*(Sheet1!$B$16*1000-Sheet1!$B$13*10)*-1)),(ABS((0.0018*4000/Sheet1!$B$9)*1000*(Sheet1!$B$16*1000-Sheet1!$B$13*10)*-1)))))","v":0},{"$f":"IF(T53=0,(0),(IF(T61>(0.0018*4000/Sheet1!$B$9),(ABS(T61*1000*(Sheet1!$B$16*1000-Sheet1!$B$13*10)*-1)),(ABS((0.0018*4000/Sheet1!$B$9)*1000*(Sheet1!$B$16*1000-Sheet1!$B$13*10)*-1)))))","v":0}]
[null,null,null,null,null,null,null,"โมเมนต์บวกกลาง","kg-m/m",{"$f":"J53/(0.9*J58)","v":7296.2975761858561},{"$f":"K53/(0.9*K58)","v":4864.1983841239053},null,{"$f":"M53/(0.9*M58)","v":4638.5988924459079},{"$f":"N53/(0.9*N58)","v":3092.3992616306064},{"$f":"O53/(0.9*O58)","v":0},0,0,{"$f":"R53/(0.9*R58)","v":0},0,{"$f":"T53/(0.9*T58)","v":0}]
[null,null,null,null,null,null,null,"Rn","kg/m^2",{"$f":"J63/(((Sheet1!B16)-(Sheet1!B13/100))^2)","v":144124.39656663418},{"$f":"K63/(((Sheet1!B16)-(Sheet1!B13/100))^2)","v":96082.931044422818},null,{"$f":"M63/(((Sheet1!B16)-(Sheet1!B13/100))^2)","v":91626.644789054961},{"$f":"N63/(((Sheet1!B16)-(Sheet1!B13/100))^2)","v":61084.42985937},{"$f":"O63/(((Sheet1!B16)-(Sheet1!B13/100))^2)","v":0},{"$f":"P63/(((Sheet1!B16)-(Sheet1!B13/100))^2)","v":0},{"$f":"Q63/(((Sheet1!B16)-(Sheet1!B13/100))^2)","v":0},{"$f":"R63/(((Sheet1!B16)-(Sheet1!B13/100))^2)","v":0},{"$f":"S63/(((Sheet1!B16)-(Sheet1!B13/100))^2)","v":0},{"$f":"T63/(((Sheet1!B16)-(Sheet1!B13/100))^2)","v":0}]
[null,null,null,null,null,null,null,"p",null,{"$f":"ABS((0.85*Sheet1!B10/Sheet1!B9)*(1-(SQRT(1-(2*J64/(0.85*Sheet1!B10*100^2))))))","v":4.844982126145576E-3},{"$f":"(0.85*Sheet1!B10/Sheet1!B9)*(1-(SQRT(1-(2*K64/(0.85*Sheet1!B10*100^2)))))","v":3.1995653921333554E-3},null,{"$f":"ABS((0.85*Sheet1!B10/Sheet1!B9)*(1-(SQRT(1-(2*M64/(0.85*Sheet1!B10*100^2))))))","v":3.0485353083779675E-3},{"$f":"ABS((0.85*Sheet1!B10/Sheet1!B9)*(1-(SQRT(1-(2*N64/(0.85*Sheet1!B10*100^2))))))","v":2.0204768515562545E-3},{"$f":"ABS((0.85*Sheet1!B10/Sheet1!B9)*(1-(SQRT(1-(2*O64/(0.85*Sheet1!B10*100^2))))))","v":0},{"$f":"ABS((0.85*Sheet1!B10/Sheet1!B9)*(1-(SQRT(1-(2*P64/(0.85*Sheet1!B10*100^2))))))","v":0},{"$f":"ABS((0.85*Sheet1!B10/Sheet1!B9)*(1-(SQRT(1-(2*Q64/(0.85*Sheet1!B10*100^2))))))","v":0},{"$f":"ABS((0.85*Sheet1!B10/Sheet1!B9)*(1-(SQRT(1-(2*R64/(0.85*Sheet1!B10*100^2))))))","v":0},{"$f":"ABS((0.85*Sheet1!B10/Sheet1!B9)*(1-(SQRT(1-(2*S64/(0.85*Sheet1!B10*100^2))))))","v":0},{"$f":"ABS((0.85*Sheet1!B10/Sheet1!B9)*(1-(SQRT(1-(2*T64/(0.85*Sheet1!B10*100^2))))))","v":0}]
[null,null,null,null,null,null,null,"As+","mm^2/m",{"$f":"IF(J53=0,(0),(IF(J65>(0.0018*4000/Sheet1!$B$9),(ABS(J65*1000*(Sheet1!$B$16*1000-Sheet1!$B$13*10)*-1)),(ABS((0.0018*4000/Sheet1!$B$9)*1000*(Sheet1!$B$16*1000-Sheet1!$B$13*10)*-1)))))","v":1090.1209783827546},{"$f":"IF(K53=0,(0),(IF(K65>(0.0018*4000/Sheet1!$B$9),(ABS(K65*1000*(Sheet1!$B$16*1000-Sheet1!$B$13*10)*-1)),(ABS((0.0018*4000/Sheet1!$B$9)*1000*(Sheet1!$B$16*1000-Sheet1!$B$13*10)*-1)))))","v":719.90221323000492},null,{"$f":"IF(M53=0,(0),(IF(M65>(0.0018*4000/Sheet1!$B$9),(ABS(M65*1000*(Sheet1!$B$16*1000-Sheet1!$B$13*10)*-1)),(ABS((0.0018*4000/Sheet1!$B$9)*1000*(Sheet1!$B$16*1000-Sheet1!$B$13*10)*-1)))))","v":685.92044438504263},{"$f":"IF(N53=0,(0),(IF(N65>(0.0018*4000/Sheet1!$B$9),(ABS(N65*1000*(Sheet1!$B$16*1000-Sheet1!$B$13*10)*-1)),(ABS((0.0018*4000/Sheet1!$B$9)*1000*(Sheet1!$B$16*1000-Sheet1!$B$13*10)*-1)))))","v":529.75801177240021},{"$f":"IF(O53=0,(0),(IF(O65>(0.0018*4000/Sheet1!$B$9),(ABS(O65*1000*(Sheet1!$B$16*1000-Sheet1!$B$13*10)*-1)),(ABS((0.0018*4000/Sheet1!$B$9)*1000*(Sheet1!$B$16*1000-Sheet1!$B$13*10)*-1)))))","v":0},{"$f":"IF(P53=0,(0),(IF(P65>(0.0018*4000/Sheet1!$B$9),(ABS(P65*1000*(Sheet1!$B$16*1000-Sheet1!$B$13*10)*-1)),(ABS((0.0018*4000/Sheet1!$B$9)*1000*(Sheet1!$B$16*1000-Sheet1!$B$13*10)*-1)))))","v":0},{"$f":"IF(Q53=0,(0),(IF(Q65>(0.0018*4000/Sheet1!$B$9),(ABS(Q65*1000*(Sheet1!$B$16*1000-Sheet1!$B$13*10)*-1)),(ABS((0.0018*4000/Sheet1!$B$9)*1000*(Sheet1!$B$16*1000-Sheet1!$B$13*10)*-1)))))","v":0},{"$f":"IF(R53=0,(0),(IF(R65>(0.0018*4000/Sheet1!$B$9),(ABS(R65*1000*(Sheet1!$B$16*1000-Sheet1!$B$13*10)*-1)),(ABS((0.0018*4000/Sheet1!$B$9)*1000*(Sheet1!$B$16*1000-Sheet1!$B$13*10)*-1)))))","v":0},{"$f":"IF(S53=0,(0),(IF(S65>(0.0018*4000/Sheet1!$B$9),(ABS(S65*1000*(Sheet1!$B$16*1000-Sheet1!$B$13*10)*-1)),(ABS((0.0018*4000/Sheet1!$B$9)*1000*(Sheet1!$B$16*1000-Sheet1!$B$13*10)*-1)))))","v":0},{"$f":"IF(T53=0,(0),(IF(T65>(0.0018*4000/Sheet1!$B$9),(ABS(T65*1000*(Sheet1!$B$16*1000-Sheet1!$B$13*10)*-1)),(ABS((0.0018*4000/Sheet1!$B$9)*1000*(Sheet1!$B$16*1000-Sheet1!$B$13*10)*-1)))))","v":0}]
[null,null,null,null,null,null,null,"โมเมนต์ลบซ้าย","kg-m/m",{"$f":"J54/(0.9*J58)","v":-2785.9818410996604},{"$f":"K54/(0.9*K58)","v":0},null,{"$f":"M54/(0.9*M58)","v":-11670.792305944695},{"$f":"N54/(0.9*N58)","v":-3890.2641019815646},{"$f":"O54/(0.9*O58)","v":0},{"$f":"P54/(0.9*P58)","v":0},0,0,0,0]
[null,null,null,null,null,null,null,"Rn","kg/m^2",{"$f":"J67/(((Sheet1!B16)-(Sheet1!B13/100))^2)","v":-55031.740071104403},{"$f":"K67/(((Sheet1!B16)-(Sheet1!B13/100))^2)","v":0},null,{"$f":"M67/(((Sheet1!B16)-(Sheet1!B13/100))^2)","v":-230534.16900631494},{"$f":"N67/(((Sheet1!B16)-(Sheet1!B13/100))^2)","v":-76844.723002104976},{"$f":"O67/(((Sheet1!B16)-(Sheet1!B13/100))^2)","v":0},{"$f":"P67/(((Sheet1!B16)-(Sheet1!B13/100))^2)","v":0},{"$f":"Q67/(((Sheet1!B16)-(Sheet1!B13/100))^2)","v":0},{"$f":"R67/(((Sheet1!B16)-(Sheet1!B13/100))^2)","v":0},{"$f":"S67/(((Sheet1!B16)-(Sheet1!B13/100))^2)","v":0},{"$f":"T67/(((Sheet1!B16)-(Sheet1!B13/100))^2)","v":0}]
[null,null,null,null,null,null,null,"p",null,{"$f":"ABS((0.85*Sheet1!B10/Sheet1!B9)*(1-(SQRT(1-(2*J68/(0.85*Sheet1!B10*100^2))))))","v":1.7817533794664453E-3},{"$f":"(0.85*Sheet1!B10/Sheet1!B9)*(1-(SQRT(1-(2*K68/(0.85*Sheet1!B10*100^2)))))","v":0},null,{"$f":"ABS((0.85*Sheet1!B10/Sheet1!B9)*(1-(SQRT(1-(2*M68/(0.85*Sheet1!B10*100^2))))))","v":7.2437611314255445E-3},{"$f":"ABS((0.85*Sheet1!B10/Sheet1!B9)*(1-(SQRT(1-(2*N68/(0.85*Sheet1!B10*100^2))))))","v":2.478379656090263E-3},{"$f":"ABS((0.85*Sheet1!B10/Sheet1!B9)*(1-(SQRT(1-(2*O68/(0.85*Sheet1!B10*100^2))))))","v":0},{"$f":"ABS((0.85*Sheet1!B10/Sheet1!B9)*(1-(SQRT(1-(2*P68/(0.85*Sheet1!B10*100^2))))))","v":0},{"$f":"ABS((0.85*Sheet1!B10/Sheet1!B9)*(1-(SQRT(1-(2*Q68/(0.85*Sheet1!B10*100^2))))))","v":0},{"$f":"ABS((0.85*Sheet1!B10/Sheet1!B9)*(1-(SQRT(1-(2*R68/(0.85*Sheet1!B10*100^2))))))","v":0},{"$f":"ABS((0.85*Sheet1!B10/Sheet1!B9)*(1-(SQRT(1-(2*S68/(0.85*Sheet1!B10*100^2))))))","v":0},{"$f":"ABS((0.85*Sheet1!B10/Sheet1!B9)*(1-(SQRT(1-(2*T68/(0.85*Sheet1!B10*100^2))))))","v":0}]
[null,null,null,null,null,null,null,"As-","mm^2/m",{"$f":"IF(J53=0,(0),(IF(J69>(0.0018*4000/Sheet1!$B$9),(ABS(J69*1000*(Sheet1!$B$16*1000-Sheet1!$B$13*10)*-1)),(ABS((0.0018*4000/Sheet1!$B$9)*1000*(Sheet1!$B$16*1000-Sheet1!$B$13*10)*-1)))))","v":529.75801177240021},{"$f":"IF(K53=0,(0),(IF(K69>(0.0018*4000/Sheet1!$B$9),(ABS(K69*1000*(Sheet1!$B$16*1000-Sheet1!$B$13*10)*-1)),(ABS((0.0018*4000/Sheet1!$B$9)*1000*(Sheet1!$B$16*1000-Sheet1!$B$13*10)*-1)))))","v":529.75801177240021},null,{"$f":"IF(M53=0,(0),(IF(M69>(0.0018*4000/Sheet1!$B$9),(ABS(M69*1000*(Sheet1!$B$16*1000-Sheet1!$B$13*10)*-1)),(ABS((0.0018*4000/Sheet1!$B$9)*1000*(Sheet1!$B$16*1000-Sheet1!$B$13*10)*-1)))))","v":1629.8462545707475},{"$f":"IF(N53=0,(0),(IF(N69>(0.0018*4000/Sheet1!$B$9),(ABS(N69*1000*(Sheet1!$B$16*1000-Sheet1!$B$13*10)*-1)),(ABS((0.0018*4000/Sheet1!$B$9)*1000*(Sheet1!$B$16*1000-Sheet1!$B$13*10)*-1)))))","v":557.6354226203091},{"$f":"IF(O53=0,(0),(IF(O69>(0.0018*4000/Sheet1!$B$9),(ABS(O69*1000*(Sheet1!$B$16*1000-Sheet1!$B$13*10)*-1)),(ABS((0.0018*4000/Sheet1!$B$9)*1000*(Sheet1!$B$16*1000-Sheet1!$B$13*10)*-1)))))","v":0},{"$f":"IF(P53=0,(0),(IF(P69>(0.0018*4000/Sheet1!$B$9),(ABS(P69*1000*(Sheet1!$B$16*1000-Sheet1!$B$13*10)*-1)),(ABS((0.0018*4000/Sheet1!$B$9)*1000*(Sheet1!$B$16*1000-Sheet1!$B$13*10)*-1)))))","v":0},{"$f":"IF(Q53=0,(0),(IF(Q69>(0.0018*4000/Sheet1!$B$9),(ABS(Q69*1000*(Sheet1!$B$16*1000-Sheet1!$B$13*10)*-1)),(ABS((0.0018*4000/Sheet1!$B$9)*1000*(Sheet1!$B$16*1000-Sheet1!$B$13*10)*-1)))))","v":0},{"$f":"IF(R53=0,(0),(IF(R69>(0.0018*4000/Sheet1!$B$9),(ABS(R69*1000*(Sheet1!$B$16*1000-Sheet1!$B$13*10)*-1)),(ABS((0.0018*4000/Sheet1!$B$9)*1000*(Sheet1!$B$16*1000-Sheet1!$B$13*10)*-1)))))","v":0},{"$f":"IF(S53=0,(0),(IF(S69>(0.0018*4000/Sheet1!$B$9),(ABS(S69*1000*(Sheet1!$B$16*1000-Sheet1!$B$13*10)*-1)),(ABS((0.0018*4000/Sheet1!$B$9)*1000*(Sheet1!$B$16*1000-Sheet1!$B$13*10)*-1)))))","v":0},{"$f":"IF(T53=0,(0),(IF(T69>(0.0018*4000/Sheet1!$B$9),(ABS(T69*1000*(Sheet1!$B$16*1000-Sheet1!$B$13*10)*-1)),(ABS((0.0018*4000/Sheet1!$B$9)*1000*(Sheet1!$B$16*1000-Sheet1!$B$13*10)*-1)))))","v":0}]
[]
[null,null,null,null,null,null,"เช็ค punching shear  "]
[null,null,null,null,null,null,null,null,null,null,null,null,null,null,null,null,null,"เช็ค punching shear  "]
[null,null,null,null,null,null,"V",null,"kg",{"$f":"$K$109","v":33247.680876197097},null,null,{"$f":"$N$109+$Z$109","v":83481.708726551326},{"$f":"$AC$110+$AL$109","v":25782.580036544332},{"$f":"AO109+AX109","v":0},{"$f":"BA109+BJ109","v":0},{"$f":"BM109","v":0}]
[null,null,null,null,null,null,"V(max) ",null,"kg",{"$f":"MAX(J74,M74,N74,O74,P74,Q74)","v":83481.708726551326}]
[null,null,null,null,null,null,"Vc",null,"kg",{"$f":"1.06*SQRT(Sheet1!$B$10)","v":18.961856449198219},null,null,null,null,null,null,null,"Vmax","kg",{"$f":"IF(Sheet1!$B$4=2,(MAX($J$74,$N$74)),(IF(Sheet1!$B$4=3,(MAX($J$74,O74)),(IF(Sheet1!$B$4=4,(MAX($J$74,P74)),(IF(Sheet1!$B$4=5,(MAX($J$74,Q74)),(0))))))))","v":33247.680876197097}]
[null,null,null,null,null,null,"b1",null,"cm",{"$f":"(Sheet1!D10*100)+(Sheet1!$B$16*100)-Sheet1!$B$13","v":62.5},null,null,null,null,null,null,null,"Vc","kg",{"$f":"1.06*SQRT(Sheet1!$B$10)","v":18.961856449198219}]
[null,null,null,null,null,null,"b2",null,"cm",{"$f":"(Sheet1!$D$9*100)+(Sheet1!$B$16*100)-Sheet1!$B$13","v":72.5},null,null,null,null,null,null,null,"b1","cm",{"$f":"(Sheet1!$D$10*100)+((Sheet1!$B$16*100)-Sheet1!$B$13)/2","v":51.25}]
[null,null,null,null,null,null,"d",null,"cm",{"$f":"((Sheet1!$B$16*100)-Sheet1!$B$13)","v":22.5},null,null,null,null,null,null,null,"b2","cm",{"$f":"(Sheet1!$D$9*100)+(Sheet1!$B$16*100)-Sheet1!$B$13","v":72.5}]
[null,null,null,null,null,null,"Ac",null,"cm^2",{"$f":"(J77*J79*2)+(J78*J79*2)","v":6075},null,null,null,null,null,null,null,"d","cm",{"$f":"((Sheet1!$B$16*100)-Sheet1!$B$13)","v":22.5}]
[null,null,null,null,null,null,"X1",null,"cm",{"$f":"J77/2","v":31.25},null,null,null,null,null,null,null,"Ac","cm^2",{"$f":"2*($T$78*$T$80)+($T$79*$T$80)","v":3937.5}]
[null,null,null,null,null,null,"Jc",null,"cm^4",{"$f":"(J77^3*J79/6)+(J77*J79^3/6)+(J78*J77^2*J79/2)","v":4220214.84375},null,null,null,null,null,null,null,"X2,X1","cm",{"$f":"$T$78^2*$T$80/$T$81","v":15.008928571428571},{"$f":"T78-T82","v":36.241071428571431}]
[null,null,null,null,null,null,"Mu",null,"kg*m",{"$f":"IF(M74=J75,ABS(N108-Z107),(IF(N74=J75,ABS(AC108-AL107),(IF(R73=J75,ABS(AO108-AX107),(IF(S74=J75,ABS(BA108-BJ107),(0))))))))","v":4319.5345030972239},null,null,null,null,null,null,null,"J","cm^4",{"$f":"(T78*T80^3/6)+(2/3*(U82^3+T82^3)*T80)+T79*T82^2*T80","v":1229472.3423549107}]
[null,null,null,null,null,null,"Mub",null,"kg*m",{"$f":"J83/(1+(2/3)*SQRT(J77/J78))","v":2668.0518610553013},null,null,null,null,null,null,null,"Mu","kg*m",{"$f":"IF(Sheet1!$B$4=2,(MAX(K107,AC108)),(IF(Sheet1!$B$4=3,(MAX(K107,AO108)),(IF(Sheet1!$B$4=4,(MAX(K107,BA108)),(IF(Sheet1!$B$4=5,(MAX(K107,BM108)),(0))))))))","v":13032.241231961079}]
[null,null,null,null,null,null,"Muv",null,"kg*m",{"$f":"J83-J84","v":1651.4826420419226},null,null,null,null,null,null,null,"Mub","kg*m",{"$f":"T84/(1+2/3*SQRT(T78/T79))","v":8351.2477231939083}]
[null,null,null,null,null,null,"Vu2",null,"kg/cm^2",{"$f":"(J75/J80)+((J85*100)*J81/J82)","v":14.964740916837442},null,null,null,null,null,null,null,"Muv","kg*m",{"$f":"T84-T85","v":4680.9935087671711}]
[null,null,null,null,null,null,"Vc",null,"kg/cm^2",{"$f":"1.06*SQRT(Sheet1!$B$10)","v":18.961856449198219},null,null,null,null,null,null,null,"Vu","kg/cm^2",{"$f":"T76/T81+(T86*100*T82/T83)","v":14.15823347435043}]
[null,null,null,null,null,null,null,null,null,null,null,null,null,null,null,null,null,"Vc","kg/cm^2",{"$f":"1.06*SQRT(Sheet1!$B$10)","v":18.961856449198219}]
[]
[]
[]
[]
[]
[]
[]
[]
[]
[]
[]
[]
[]
[]
[]
[]
[]
[null,null,null,null,null,null,null,null,null,"โมเมนต์บวก span 1",null,null,"โมเมนต์ลบ span 1  ขวา",null,null,"โมเมนต์ลบ span 1 ซ้าย",null,null,null,null,null,"โมเมนต์บวก span 2",null,null,"โมเมนต์ลบ span 2  ซ้าย",null,null,"โมเมนต์ลบspan 2 ขวา",null,null,null,null,null,"โมเมนต์บวกสแปน 3",null,null,"โมเมนต์ลบspan 3 ซ้าย",null,null,"โมเมนต์ลบspan 3 ขวา",null,null,null,null,null,"โมเมนต์บวกสแปน 4",null,null,"โมเมนต์ลบสแปน 4 ซ้าย",null,null,"โมเมนต์ลบสแปน 4 ขวา",null,null,null,null,null,"โมเมนต์บวกสแปน 5",null,null,"โมเมนต์ลบ span 5 ซ้าย",null,null,"โมเมนต์ลบ span 5 ขวา"]
[null,null,null,null,null,null,null,null,null,"M 1l =",{"$f":"(K46+AI46+BG46+BS46)*-1","v":13032.241231961079},null,"M 1l =",{"$f":"(K46+W46+AU46+BS46)*-1","v":12552.796596295588},null,"M- max span1l =",{"$f":"IF(K107=0,(0),(-K107+0.5*K109*Sheet1!D10-0.25*'l3'!E2*('l3'!B7+'l3'!E7)*Sheet1!D10^2))","v":-6895.3050567216596},null,null,null,null,"M 2l =",{"$f":"(Y46+AW46+BU46)*-1","v":38076.447795646884},null,"M 2l =",{"$f":"(M46+Y46+AW46+BU46)*-1","v":42513.14279663482},null,"M 2l =",{"$f":"(Y46+AK46+BU46+BI46)*-1","v":38076.447795646884},null,null,null,null,"M 3l =",{"$f":"(AM46+O46+BK46+BW46)*-1","v":0},null,"M3l =",{"$f":"(AM46+AA46+BW46+BK46)*-1","v":0},null,"M3l =",{"$f":"(AM46+AY46+O46+BW46)*-1","v":0},null,null,null,null,"m 4l =",{"$f":"(BA46+AC46+BY46)*-1","v":0},null,"m4l =",{"$f":"(BA46+AO46+Q46+BY46)*-1","v":0},null," m4l =",{"$f":"(BA46+BM46+AC46+BY46)*-1","v":0},null,null,null,null,"m5l =",{"$f":"(BO46+AQ46+S46+CA46)*-1","v":0},null,"m5l =",{"$f":"(BO46+BC46+AE46+CA46)*-1","v":0},null,"m5l =",{"$f":"(BO46+AQ46+S46+CA46)*-1","v":0}]
[null,null,null,null,null,null,null,null,null,"M 1r =",{"$f":"(L46+AJ46+BH46+BT46)","v":44216.155974778485},null,"M 1r =",{"$f":"(L46+X46+AV46+BT46)","v":46832.677299732044},null,null,null,null,null,null,null,"M 2r =",{"$f":"(Z46+AX46+BV46)","v":6801.8479783685443},null,"M 2r =",{"$f":"Z46+N46+AX46+BV46","v":6083.666416741843},null,"M 2r =",{"$f":"(Z46+AL46+BV46)+BJ46","v":6801.8479783685443},null,null,null,null,"M 3r =",{"$f":"(AN46+P46+BL46+BX46)","v":0},null,"M3r =",{"$f":"AN46+AB46+BL46+BX46","v":0},null,"M3r =",{"$f":"AN46+AZ46+P46+BX46","v":0},null,null,null,null,"m 4r =",{"$f":"(BB46+AD46+BZ46)","v":0},null,"m4r =",{"$f":"BB46+AP46+R46+BZ46","v":0},null,"m4r =",{"$f":"(BB46+BN46+BZ46+AD46)","v":0},null,null,null,null,"m5r =",{"$f":"(BP46+AR46+T46+CB46)","v":0},null,"m5r =",{"$f":"BP46+CB46+BD46+AF46","v":0},null,"m5r =",{"$f":"BP46+CB46+AR46+T46","v":0}]
[null,null,null,null,null,null,null,null,null,"V1l =",{"$f":"IF(K107=0,(0),((-K108+K107+(0.5*(B7+E7)*E2*Sheet1!L9^2))/Sheet1!L9))","v":33247.680876197097},null,"V 1r =",{"$f":"IF(N107=0,(0),((N108-N107+0.5*(B7+E7)*E2*Sheet1!$L$9^2)/Sheet1!$L$9))","v":44158.313450572743},null,null,null,null,null,null,null,"V2l =",{"$f":"IF(W107=0,(0),((-W108+W107+0.5*(B8+E8)*E2*Sheet1!L10^2)/Sheet1!L10))","v":38292.419963455664},null,"V2l  =",{"$f":"IF(Z107=0,(0),((-Z108+Z107+0.5*(B8+E8)*E2*Sheet1!L10^2)/Sheet1!L10))","v":39323.39527597859},null,"V2l =",{"$f":"(-AC108+AC107+0.5*(B8+E8)*E2*Sheet1!L10^2)/Sheet1!L10","v":38292.419963455664},null,null,null,null,"V3l =",{"$f":"(-AI108+AI107+0.5*(B9+E9)*E2*Sheet1!L11^2)/Sheet1!L11","v":{"$error":"#DIV/0!"}},null,"V3l =",{"$f":"IF(AL107=0,(0),((-AL108+AL107+0.5*(B9+E9)*Sheet1!L11^2*E2)/Sheet1!L11))","v":0},null,"V3r =",{"$f":"IF(AO107=0,(0),((AO108-AO107+0.5*(B9+E9)*E2*Sheet1!L11^2)/Sheet1!L11))","v":0},null,null,null,null,"v4l =",{"$f":"(-AU108+AU107+0.5*(B10+E10)*E2*Sheet1!L12^2)/Sheet1!L12","v":{"$error":"#DIV/0!"}},null,"V4l =",{"$f":"IF(AX107=0,(0),((-AX108+AX107+0.5*(B10+E10)*Sheet1!L12^2*E2)/Sheet1!L12))","v":0},null,"v4r =",{"$f":"IF(BA107=0,(0),((BA108-BA107+0.5*(B10+E10)*E2*Sheet1!L12^2)/Sheet1!L12))","v":0},null,null,null,null,"v5l =",{"$f":"(-BG108+BG107+0.5*(B11+E11)*E2*Sheet1!L13^2)/Sheet1!L13","v":{"$error":"#DIV/0!"}},null,"v5l =",{"$f":"IF(BJ107=0,(0),((-BJ108+BJ107+0.5*(B11+E11)*E2*Sheet1!L13^2)/Sheet1!L13))","v":0},null,"v5r =",{"$f":"IF(BM107=0,(0),((BM108-BM107+0.5*(B11+E11)*E2*Sheet1!L13^2)/Sheet1!L13))","v":0}]
[null,null,null,null,null,null,null,null,null,"ระยะที่ V=0",{"$f":"K109/((B7+E7)*E2)","v":2.5944347152709399},null,"M- max span1r =",{"$f":"IF(N107=0,(0),(0.5*Sheet1!$D$10*'l3'!N109-'l3'!N108-0.25*('l3'!B7+'l3'!E7)*'l3'!E2*Sheet1!$D$10^2))","v":-38513.614609617493},null,null,null,null,null,null,null,"ระยะที่ V=0",{"$f":"W109/((B8+E8)*E2)","v":2.9880936374136295},null,"V2 r =",{"$f":"(Z108-Z107+0.5*(B8+E8)*E2*Sheet1!L10^2)/Sheet1!L10","v":24751.604724021403},null,"v2r =",{"$f":"IF(AC107=0,(0),((AC108-AC107+0.5*(B8+E8)*E2*Sheet1!L10^2)/Sheet1!L10))","v":25782.580036544332},null,null,null,null,"ระยะที่ V=0",{"$f":"AI109/((B9+E9)*E2)","v":{"$error":"#DIV/0!"}},null,"M- max span3l =",{"$f":"IF(AL107=0,(0),(-AL107+0.5*AL109*Sheet1!D10-0.25*Sheet1!D10^2*'l3'!E2*('l3'!B9+'l3'!E9)))","v":0},null,"M- max span3r =",{"$f":"IF(AO107=0,(0),(0.5*AO109*Sheet1!D10-'l3'!AO108-0.25*('l3'!B9+'l3'!E9)*'l3'!E2*Sheet1!D10^2))","v":0},null,null,null,null,"ระยะที่ v=0",{"$f":"AU109/((B10+E10)*E2)","v":{"$error":"#DIV/0!"}},null,"M- max span4l =",{"$f":"IF(AX107=0,(0),(-AX107+0.5*AX109*Sheet1!D10-0.25*Sheet1!D10^2*'l3'!E2*('l3'!B10+'l3'!E10)))","v":0},null,"M- max span4r =",{"$f":"IF(BA107=0,(0),(0.5*BA109*Sheet1!D10-'l3'!BA108-0.25*('l3'!B10+'l3'!E10)*'l3'!E2*Sheet1!D10^2))","v":0},null,null,null,null,"ระยะที่ v=0",{"$f":"BG109/((B11+E11)*E2)","v":{"$error":"#DIV/0!"}},null,"M- max span 5l =",{"$f":"IF(BJ107=0,(0),(-BJ107+0.5*BJ109*Sheet1!D10-0.25*Sheet1!D10^2*'l3'!E2*('l3'!B11+'l3'!E11)))","v":0},null,"M- max span 5r =",{"$f":"IF(BM107=0,(0),(0.5*BM109*Sheet1!D10-'l3'!BM108-0.25*('l3'!B11+'l3'!E11)*'l3'!E2*Sheet1!D10^2))","v":0}]
[null,null,null,null,null,null,null,null,null,"M1+max=",{"$f":"IF(K107=0,(0),(K109*K110-0.5*(B7+E7)*K110^2*E2-K107))","v":30097.227501766662},null,"V1l =",{"$f":"IF(N107=0,(0),(B7+E7)*E2*Sheet1!$L$10-'l3'!N109)","v":19916.686549427257},null,null,null,null,null,null,null,"M2+max=",{"$f":"IF(W107=0,(0),((W109*W110)-0.5*(B8+E8)*E2*W110^2-W107))","v":19134.220431339374},null,"M- max span2l =",{"$f":"IF(Z107=0,(0),(-Z107+0.5*Z109*Sheet1!D10-0.25*(B8+E8)*E2*Sheet1!D10^2))","v":-35161.063741439102},null,"M- max span2r =",{"$f":"IF(AC107=0,(0),(0.5*AC110*Sheet1!D10-'l3'!AC108-0.25*('l3'!B8+'l3'!E8)*'l3'!E2*Sheet1!D10^2))","v":-2157.9319710596783},null,null,null,null,"M3+ max =",{"$f":"IF(AI107=0,(0),(AI109*AI110-0.5*(B9+E9)*E2*AI110^2-AI107))","v":0},null,null,null,null,null,null,null,null,null,null,"M4+ max =",{"$f":"IF(AU107=0,(0),(AU109*AU110-0.5*(B10+E10)*AU110^2*E2-AU107))","v":0},null,null,null,null,null,null,null,null,null,null,"M5+ max =",{"$f":"IF(BG107=0,(0),(BG109*BG110-0.5*(B11+E11)*E2*BG110^2-BG107))","v":0},null,null,null,null,null,null,null,null,null,null,null,null,null,null,null,null,null,null,null,null,null,null,null,null,null,null," "]

{"sheet":"l4","index":10,"n_rows":111,"n_cols":86,"rows_kept":111,"cut":false,"hidden":false,"merged":[[86,6,86,7],[86,9,86,11],[86,12,86,13],[81,6,81,7],[82,6,82,7],[83,6,83,7],[84,6,84,7],[85,6,85,7],[76,6,76,7],[77,6,77,7],[78,6,78,7],[79,6,79,7],[80,6,80,7],[71,12,72,12],[71,13,72,13],[58,10,58,11],[59,10,59,11],[60,10,60,11],[73,6,73,7],[74,6,74,7],[75,6,75,7],[55,6,55,8],[71,6,72,11],[56,10,56,11],[57,10,57,11],[55,18,55,19],[74,9,74,11],[75,9,75,11],[55,14,55,15],[61,10,61,11],[67,10,67,11],[68,10,68,11],[69,10,69,11],[62,10,62,11],[63,10,63,11],[64,10,64,11],[65,10,65,11],[66,10,66,11],[55,16,55,17],[55,9,55,11],[55,12,55,13],[0,0,0,4],[5,0,5,1],[5,3,5,4],[12,0,12,1],[12,3,12,4],[50,10,50,11],[51,10,51,11],[52,10,52,11],[53,10,53,11],[54,10,54,11],[105,15,105,16],[73,9,73,11],[80,9,80,11],[79,9,79,11],[78,9,78,11],[77,9,77,11],[76,9,76,11],[85,9,85,11],[84,9,84,11],[83,9,83,11],[105,9,105,10],[105,12,105,13],[81,9,81,11],[82,9,82,11],[20,69,20,79],[49,9,49,11],[49,12,49,13],[49,14,49,15],[49,16,49,17],[49,18,49,19],[20,9,20,19],[20,21,20,31],[20,33,20,43],[20,45,20,55],[20,57,20,67],[46,10,46,11],[47,10,47,11],[48,10,48,11],[72,17,74,19],[105,21,105,22],[105,63,105,64],[105,39,105,40],[105,45,105,46],[105,48,105,49],[105,51,105,52],[105,57,105,58],[105,33,105,34],[105,36,105,37],[105,27,105,28],[105,60,105,61],[105,24,105,25]]}
["รายการคำนวณโมเมนต์แถบในและกลางตามแกน x"]
["ระยะช่วงพื้น (unit: m)",{"$f":"MAX(Sheet1!F9,Sheet1!F10,Sheet1!F11,Sheet1!F12,Sheet1!F13,Sheet1!L9,Sheet1!L10,Sheet1!L11,Sheet1!L12,Sheet1!F13)","v":6},null,"ความกว้างแถบเสา =",{"$f":"(Sheet1!F11+Sheet1!F12)/2","v":2.5}]
["ตัวคูณหาความหนาพื้นขั้นต่ำ",{"$f":"0.01*LN(Sheet1!B9)-0.05","v":3.0255163864890078E-2}]
[]
["ความหนาพื้น (unit:m)",{"$f":"IF((B2*B3)>0.12,(B2*B3),(0.12))","v":0.18153098318934047}]
["น้ำหนัก DL+WDS",null,null,"น้ำหนัก LL"]
["Wdl1+Wsd1 (unit:KG/m^2) =",{"$f":"IF(Sheet1!$B$3=3,(IF(Sheet1!$B$4>=2,(((Sheet1!$B$16*Sheet1!$B$11)+(Sheet1!$J$11))*1.4),(0))),(IF(Sheet1!$B$4>=2,(((Sheet1!$B$16*Sheet1!$B$11)+(Sheet1!$J$10+Sheet1!$J$11)/2)*1.4),(0))))","v":1819.9999999999998},null,"Wtl1 (unit:kg/m^2) =",{"$f":"IF(Sheet1!$B$3=3,(IF(Sheet1!$B$4>=2,((Sheet1!$H$11*1.7)),(0))),(IF(Sheet1!$B$4>=2,((Sheet1!$H$11+Sheet1!$H$12)/2*1.7),(0))))","v":510}]
["Wdl2+Wsd2 (unit:KG/m^2) =",{"$f":"IF(Sheet1!$B$3=3,(IF(Sheet1!$B$4>=2,(((Sheet1!$B$16*Sheet1!$B$11)+(Sheet1!$J$11))*1.4),(0))),(IF(Sheet1!$B$4>=2,(((Sheet1!$B$16*Sheet1!$B$11)+(Sheet1!$J$10+Sheet1!$J$11)/2)*1.4),(0))))","v":1819.9999999999998},null,"Wtl2 (unit:kg/m^2) =",{"$f":"IF(Sheet1!$B$3=3,(IF(Sheet1!$B$4>=2,((Sheet1!$H$11*1.7)),(0))),(IF(Sheet1!$B$4>=2,((Sheet1!$H$11+Sheet1!$H$12)/2*1.7),(0))))","v":510}]
[{"$f":"IF(Sheet1!B3>2,(\"Wdl3+Wsd3 (unit:KG/m^2) =\"),(\"\"))","v":"Wdl3+Wsd3 (unit:KG/m^2) ="},{"$f":"IF(Sheet1!$B$3=3,(IF(Sheet1!$B$4>=3,(((Sheet1!$B$16*Sheet1!$B$11)+(Sheet1!$J$11))*1.4),(0))),(IF(Sheet1!$B$4>=3,(((Sheet1!$B$16*Sheet1!$B$11)+(Sheet1!$J$10+Sheet1!$J$11)/2)*1.4),(0))))","v":0},null,{"$f":"IF(Sheet1!B3>2,(\"Wtl3 (unit:KG/m^2) =\"),(\"\"))","v":"Wtl3 (unit:KG/m^2) ="},{"$f":"IF(Sheet1!$B$3=3,(IF(Sheet1!$B$4>=3,((Sheet1!$H$11*1.7)),(0))),(IF(Sheet1!$B$4>=3,((Sheet1!$H$11+Sheet1!$H$12)/2*1.7),(0))))","v":0}]
[{"$f":"IF(Sheet1!B3>3,(\"Wdl4+Wsd4 (unit:KG/m^2) =\"),(\"\"))","v":""},{"$f":"IF(Sheet1!$B$3=3,(IF(Sheet1!$B$4>=4,(((Sheet1!$B$16*Sheet1!$B$11)+(Sheet1!$J$11))*1.4),(0))),(IF(Sheet1!$B$4>=4,(((Sheet1!$B$16*Sheet1!$B$11)+(Sheet1!$J$10+Sheet1!$J$11)/2)*1.4),(0))))","v":0},null,{"$f":"IF(Sheet1!B3>3,(\"Wtl4 (unit:KG/m^2) =\"),(\"\"))","v":""},{"$f":"IF(Sheet1!$B$3=3,(IF(Sheet1!$B$4>=4,((Sheet1!$H$11*1.7)),(0))),(IF(Sheet1!$B$4>=4,((Sheet1!$H$11+Sheet1!$H$12)/2*1.7),(0))))","v":0}]
[{"$f":"IF(Sheet1!B3>4,(\"Wdl5+Wsd5 (unit:KG/m^2) =\"),(\"\"))","v":""},{"$f":"IF(Sheet1!$B$3=3,(IF(Sheet1!$B$4>=5,(((Sheet1!$B$16*Sheet1!$B$11)+(Sheet1!$J$11))*1.4),(0))),(IF(Sheet1!$B$4>=5,(((Sheet1!$B$16*Sheet1!$B$11)+(Sheet1!$J$10+Sheet1!$J$11)/2)*1.4),(0))))","v":0},null,{"$f":"IF(Sheet1!B3>4,(\"Wtl5 (unit:KG/m^2) =\"),(\"\"))","v":""},{"$f":"IF(Sheet1!$B$3=3,(IF(Sheet1!$B$4>=5,((Sheet1!$H$11*1.7)),(0))),(IF(Sheet1!$B$4>=5,((Sheet1!$H$11+Sheet1!$H$12)/2*1.7),(0))))","v":0}]
[]
["โมเมนต์ DL+WSD",null,null,"โมเมนต LL"]
["FEM.DL1 (unit:kg*m) =",{"$f":"B7*E2*Sheet1!L9^2/12","v":13649.999999999998},null,"FEM.TL1 (unit:kg*m) =",{"$f":"E7*E2*Sheet1!L9^2/12","v":3825}]
["FEM.DL2 (unit:kg*m) =",{"$f":"B8*E2*Sheet1!L10^2/12","v":9479.1666666666642},null,"FEM.TL2 (unit:kg*m) =",{"$f":"E8*E2*Sheet1!L10^2/12","v":2656.25}]
[{"$f":"IF(Sheet1!B3>=3,(\"FEM.DL3 (unit:kg*m) =\"),(\"\"))","v":"FEM.DL3 (unit:kg*m) ="},{"$f":"B9*E2*Sheet1!L11^2/12","v":0},null,{"$f":"IF(Sheet1!B3>=3,(\"FEM.TL3 (unit:kg*m) =\"),(\"\"))","v":"FEM.TL3 (unit:kg*m) ="},{"$f":"E9*E2*Sheet1!L11^2/12","v":0}]
[{"$f":"IF(Sheet1!B3>=4,(\"FEM.DL4 (unit:kg*m) =\"),(\"\"))","v":""},{"$f":"B10*E2*Sheet1!L12^2/12","v":0},null,{"$f":"IF(Sheet1!B3>=4,(\"FEM.TL4 (unit:kg*m) =\"),(\"\"))","v":""},{"$f":"E10*E2*Sheet1!L12^2/12","v":0}]
[{"$f":"IF(Sheet1!B3>=5,(\"FEM.DL5 (unit:kg*m) =\"),(\"\"))","v":""},{"$f":"B11*E2*Sheet1!L13^2/12","v":0},null,{"$f":"IF(Sheet1!B3>=5,(\"FEM.TL5 (unit:kg*m) =\"),(\"\"))","v":""},{"$f":"E11*E2*Sheet1!L13^2/12","v":0}]
[]
[]
[null,null,null,null,null,null,null,null,null,"วางน้ำหนัก LL    สแปน 1",null,null,null,null,null,null,null,null,null,null,null,"วางน้ำหนัก LL  สแปน 2",null,null,null,null,null,null,null,null,null,null,null,"วางน้ำหนัก LL สแปน 3",null,null,null,null,null,null,null,null,null,null,null,"วางน้ำหนัก LL สแปน 4",null,null,null,null,null,null,null,null,null,null,null,"วางน้ำหนัก LL  สแปน 5",null,null,null,null,null,null,null,null,null,null,null,"วางน้ำหนัก DL ทุกสแปน"]
[null,null,null,null,null,null,null,null,null,null,"1r","2l","2r","3l","3r","4l","4r","5l","5r","6l",null,null,"1r","2l","2r","3l","3r","4l","4r","5l","5r","6l",null,null,"1r","2l","2r","3l","3r","4l","4r","5l","5r","6l",null,null,"1r","2l","2r","3l","3r","4l","4r","5l","5r","6l",null,null,"1r","2l","2r","3l","3r","4l","4r","5l","5r","6l",null,null,"1r","2l","2r","3l","3r","4l","4r","5l","5r","6l"]
[null,null,null,null,null,null,null,null,null,"D.o.f",0.32628502906295709,0.199906753055964,0.2415539932759565,0.36916659097886256,null,null,null,null,null,null,null,"D.o.f",0.32628502906295709,0.199906753055964,0.2415539932759565,0.36916659097886256,null,null,null,null,null,null,null,"D.o.f",0.32628502906295709,0.199906753055964,0.2415539932759565,0.36916659097886256,null,null,null,null,null,null,null,"D.o.f",0.32628502906295709,0.199906753055964,0.2415539932759565,0.36916659097886256,null,null,null,null,null,null,null,"D.o.f",0.32628502906295709,0.199906753055964,0.2415539932759565,0.36916659097886256,null,null,null,null,null,null,null,"D.o.f",0.32628502906295709,0.199906753055964,0.2415539932759565,0.36916659097886256]
[null,null,null,null,null,null,null,null,null,"FEM",{"$f":"E14*-1","v":-3825},{"$f":"E14","v":3825},null,null,null,null,null,null,null,null,null,"FEM",null,null,{"$f":"-E15","v":-2656.25},{"$f":"E15","v":2656.25},null,null,null,null,null,null,null,"FEM",null,null,null,null,{"$f":"-E16","v":0},{"$f":"E16","v":0},null,null,null,null,null,"FEM",null,null,null,null,null,null,{"$f":"-E17","v":0},{"$f":"E17","v":0},null,null,null,"FEM",null,null,null,null,null,null,null,null,{"$f":"-E18","v":0},{"$f":"E18","v":0},null,"FEM",{"$f":"-B14","v":-13649.999999999998},{"$f":"B14","v":13649.999999999998},{"$f":"-B15","v":-9479.1666666666642},{"$f":"B15","v":9479.1666666666642},{"$f":"-B16","v":0},{"$f":"B16","v":0},{"$f":"-B17","v":0},{"$f":"B17","v":0},{"$f":"-B18","v":0},{"$f":"B18","v":0}]
[null,null,null,null,null,null,null,null,null,"Dis",{"$f":"(K24)*K23*-1","v":1248.0402361658109},{"$f":"(L24+M24)*L23*-1","v":-764.64333043906231},{"$f":"(M24+L24)*M23*-1","v":-923.94402428053365},{"$f":"(N24+O24)*N23*-1","v":0},{"$f":"(O24+N24)*O23*-1","v":0},{"$f":"(P24+Q24)*P23*-1","v":0},{"$f":"(Q24+P24)*Q23*-1","v":0},{"$f":"(R24+S24)*R23*-1","v":0},{"$f":"(S24+R24)*S23*-1","v":0},{"$f":"(T24+U24)*T23*-1","v":0},null,"Dis",{"$f":"(W24)*W23*-1","v":0},{"$f":"(X24+Y24)*X23*-1","v":531.00231280490436},{"$f":"(Y24+X24)*Y23*-1","v":641.62779463925949},{"$f":"(Z24+AA24)*Z23*-1","v":-980.59875728760369},{"$f":"(AA24+Z24)*AA23*-1","v":0},{"$f":"(AB24+AC24)*AB23*-1","v":0},{"$f":"(AC24+AB24)*AC23*-1","v":0},{"$f":"(AD24+AE24)*AD23*-1","v":0},{"$f":"(AE24+AD24)*AE23*-1","v":0},{"$f":"(AF24+AG24)*AF23*-1","v":0},null,"Dis",{"$f":"(AI24)*AI23*-1","v":0},{"$f":"(AJ24+AK24)*AJ23*-1","v":0},{"$f":"(AK24+AJ24)*AK23*-1","v":0},{"$f":"(AL24+AM24)*AL23*-1","v":0},{"$f":"(AM24+AL24)*AM23*-1","v":0},{"$f":"(AN24+AO24)*AN23*-1","v":0},{"$f":"(AO24+AN24)*AO23*-1","v":0},{"$f":"(AP24+AQ24)*AP23*-1","v":0},{"$f":"(AQ24+AP24)*AQ23*-1","v":0},{"$f":"(AR24+AS24)*AR23*-1","v":0},null,"Dis",{"$f":"(AU24)*AU23*-1","v":0},{"$f":"(AV24+AW24)*AV23*-1","v":0},{"$f":"(AW24+AV24)*AW23*-1","v":0},{"$f":"(AX24+AY24)*AX23*-1","v":0},{"$f":"(AY24+AX24)*AY23*-1","v":0},{"$f":"(AZ24+BA24)*AZ23*-1","v":0},{"$f":"(BA24+AZ24)*BA23*-1","v":0},{"$f":"(BB24+BC24)*BB23*-1","v":0},{"$f":"(BC24+BB24)*BC23*-1","v":0},{"$f":"(BD24+BE24)*BD23*-1","v":0},null,"Dis",{"$f":"(BG24)*BG23*-1","v":0},{"$f":"(BH24+BI24)*BH23*-1","v":0},{"$f":"(BI24+BH24)*BI23*-1","v":0},{"$f":"(BJ24+BK24)*BJ23*-1","v":0},{"$f":"(BK24+BJ24)*BK23*-1","v":0},{"$f":"(BL24+BM24)*BL23*-1","v":0},{"$f":"(BM24+BL24)*BM23*-1","v":0},{"$f":"(BN24+BO24)*BN23*-1","v":0},{"$f":"(BO24+BN24)*BO23*-1","v":0},{"$f":"(BP24+BQ24)*BP23*-1","v":0},null,"Dis",{"$f":"(BS24)*BS23*-1","v":4453.7906467093635},{"$f":"(BT24+BU24)*BT23*-1","v":-833.77774920424997},{"$f":"(BU24+BT24)*BU23*-1","v":-1007.4814469551354},{"$f":"(BV24+BW24)*BV23*-1","v":-3499.3916436538007},{"$f":"(BW24+BV24)*BW23*-1","v":0},{"$f":"(BX24+BY24)*BX23*-1","v":0},{"$f":"(BY24+BX24)*BY23*-1","v":0},{"$f":"(BZ24+CA24)*BZ23*-1","v":0},{"$f":"(CA24+BZ24)*CA23*-1","v":0},{"$f":"(CB24+CC24)*CB23*-1","v":0}]
[null,null,null,null,null,null,null,null,null,"Co",{"$f":"L25/2","v":-382.32166521953116},{"$f":"K25/2","v":624.02011808290547},{"$f":"N25/2","v":0},{"$f":"M25/2","v":-461.97201214026683},{"$f":"P25/2","v":0},{"$f":"O25/2","v":0},{"$f":"R25/2","v":0},{"$f":"Q25/2","v":0},{"$f":"T25/2","v":0},{"$f":"S25/2","v":0},null,"Co",{"$f":"X25/2","v":265.50115640245218},{"$f":"W25/2","v":0},{"$f":"Z25/2","v":-490.29937864380184},{"$f":"Y25/2","v":320.81389731962975},{"$f":"AB25/2","v":0},{"$f":"AA25/2","v":0},{"$f":"AD25/2","v":0},{"$f":"AC25/2","v":0},{"$f":"AF25/2","v":0},{"$f":"AE25/2","v":0},null,"Co",{"$f":"AJ25/2","v":0},{"$f":"AI25/2","v":0},{"$f":"AL25/2","v":0},{"$f":"AK25/2","v":0},{"$f":"AN25/2","v":0},{"$f":"AM25/2","v":0},{"$f":"AP25/2","v":0},{"$f":"AO25/2","v":0},{"$f":"AR25/2","v":0},{"$f":"AQ25/2","v":0},null,"Co",{"$f":"AV25/2","v":0},{"$f":"AU25/2","v":0},{"$f":"AX25/2","v":0},{"$f":"AW25/2","v":0},{"$f":"AZ25/2","v":0},{"$f":"AY25/2","v":0},{"$f":"BB25/2","v":0},{"$f":"BA25/2","v":0},{"$f":"BD25/2","v":0},{"$f":"BC25/2","v":0},null,"Co",{"$f":"BH25/2","v":0},{"$f":"BG25/2","v":0},{"$f":"BJ25/2","v":0},{"$f":"BI25/2","v":0},{"$f":"BL25/2","v":0},{"$f":"BK25/2","v":0},{"$f":"BN25/2","v":0},{"$f":"BM25/2","v":0},{"$f":"BP25/2","v":0},{"$f":"BO25/2","v":0},null,"Co",{"$f":"BT25/2","v":-416.88887460212499},{"$f":"BS25/2","v":2226.8953233546818},{"$f":"BV25/2","v":-1749.6958218269003},{"$f":"BU25/2","v":-503.74072347756771},{"$f":"BX25/2","v":0},{"$f":"BW25/2","v":0},{"$f":"BZ25/2","v":0},{"$f":"BY25/2","v":0},{"$f":"CB25/2","v":0},{"$f":"CA25/2","v":0}]
[null,null,null,null,null,null,null,null,null,"dis",{"$f":"(K26)*K23*-1","v":124.74583564755288},{"$f":"(L26+M26)*L23*-1","v":-124.74583564755288},{"$f":"(M26+L26)*M23*-1","v":-150.73455140745972},{"$f":"(N26+O26)*N23*-1","v":170.544632849468},{"$f":"(O26+N26)*O23*-1","v":0},{"$f":"(P26+Q26)*P23*-1","v":0},{"$f":"(Q26+P26)*Q23*-1","v":0},{"$f":"(R26+S26)*R23*-1","v":0},{"$f":"(S26+R26)*S23*-1","v":0},{"$f":"(T26+U26)*T23*-1","v":0},null,"dis",{"$f":"(W26)*W23*-1","v":-86.629052533022829},{"$f":"(X26+Y26)*X23*-1","v":98.014156810039083},{"$f":"(Y26+X26)*Y23*-1","v":118.43377281213056},{"$f":"(Z26+AA26)*Z23*-1","v":-118.43377281213057},{"$f":"(AA26+Z26)*AA23*-1","v":0},{"$f":"(AB26+AC26)*AB23*-1","v":0},{"$f":"(AC26+AB26)*AC23*-1","v":0},{"$f":"(AD26+AE26)*AD23*-1","v":0},{"$f":"(AE26+AD26)*AE23*-1","v":0},{"$f":"(AF26+AG26)*AF23*-1","v":0},null,"dis",{"$f":"(AI26)*AI23*-1","v":0},{"$f":"(AJ26+AK26)*AJ23*-1","v":0},{"$f":"(AK26+AJ26)*AK23*-1","v":0},{"$f":"(AL26+AM26)*AL23*-1","v":0},{"$f":"(AM26+AL26)*AM23*-1","v":0},{"$f":"(AN26+AO26)*AN23*-1","v":0},{"$f":"(AO26+AN26)*AO23*-1","v":0},{"$f":"(AP26+AQ26)*AP23*-1","v":0},{"$f":"(AQ26+AP26)*AQ23*-1","v":0},{"$f":"(AR26+AS26)*AR23*-1","v":0},null,"dis",{"$f":"(AU26)*AU23*-1","v":0},{"$f":"(AV26+AW26)*AV23*-1","v":0},{"$f":"(AW26+AV26)*AW23*-1","v":0},{"$f":"(AX26+AY26)*AX23*-1","v":0},{"$f":"(AY26+AX26)*AY23*-1","v":0},{"$f":"(AZ26+BA26)*AZ23*-1","v":0},{"$f":"(BA26+AZ26)*BA23*-1","v":0},{"$f":"(BB26+BC26)*BB23*-1","v":0},{"$f":"(BC26+BB26)*BC23*-1","v":0},{"$f":"(BD26+BE26)*BD23*-1","v":0},null,"dis",{"$f":"(BG26)*BG23*-1","v":0},{"$f":"(BH26+BI26)*BH23*-1","v":0},{"$f":"(BI26+BH26)*BI23*-1","v":0},{"$f":"(BJ26+BK26)*BJ23*-1","v":0},{"$f":"(BK26+BJ26)*BK23*-1","v":0},{"$f":"(BL26+BM26)*BL23*-1","v":0},{"$f":"(BM26+BL26)*BM23*-1","v":0},{"$f":"(BN26+BO26)*BN23*-1","v":0},{"$f":"(BO26+BN26)*BO23*-1","v":0},{"$f":"(BP26+BQ26)*BP23*-1","v":0},null,"dis",{"$f":"(BS26)*BS23*-1","v":136.02459856557783},{"$f":"(BT26+BU26)*BT23*-1","v":-95.395402910343321},{"$f":"(BU26+BT26)*BU23*-1","v":-115.26944518333151},{"$f":"(BV26+BW26)*BV23*-1","v":185.96424562343955},{"$f":"(BW26+BV26)*BW23*-1","v":0},{"$f":"(BX26+BY26)*BX23*-1","v":0},{"$f":"(BY26+BX26)*BY23*-1","v":0},{"$f":"(BZ26+CA26)*BZ23*-1","v":0},{"$f":"(CA26+BZ26)*CA23*-1","v":0},{"$f":"(CB26+CC26)*CB23*-1","v":0}]
[null,null,null,null,null,null,null,null,null,"co",{"$f":"L27/2","v":-62.37291782377644},{"$f":"K27/2","v":62.37291782377644},{"$f":"N27/2","v":85.272316424734001},{"$f":"M27/2","v":-75.36727570372986},{"$f":"P27/2","v":0},{"$f":"O27/2","v":0},{"$f":"R27/2","v":0},{"$f":"Q27/2","v":0},{"$f":"T27/2","v":0},{"$f":"S27/2","v":0},null,"co",{"$f":"X27/2","v":49.007078405019541},{"$f":"W27/2","v":-43.314526266511415},{"$f":"Z27/2","v":-59.216886406065285},{"$f":"Y27/2","v":59.216886406065278},{"$f":"AB27/2","v":0},{"$f":"AA27/2","v":0},{"$f":"AD27/2","v":0},{"$f":"AC27/2","v":0},{"$f":"AF27/2","v":0},{"$f":"AE27/2","v":0},null,"co",{"$f":"AJ27/2","v":0},{"$f":"AI27/2","v":0},{"$f":"AL27/2","v":0},{"$f":"AK27/2","v":0},{"$f":"AN27/2","v":0},{"$f":"AM27/2","v":0},{"$f":"AP27/2","v":0},{"$f":"AO27/2","v":0},{"$f":"AR27/2","v":0},{"$f":"AQ27/2","v":0},null,"co",{"$f":"AV27/2","v":0},{"$f":"AU27/2","v":0},{"$f":"AX27/2","v":0},{"$f":"AW27/2","v":0},{"$f":"AZ27/2","v":0},{"$f":"AY27/2","v":0},{"$f":"BB27/2","v":0},{"$f":"BA27/2","v":0},{"$f":"BD27/2","v":0},{"$f":"BC27/2","v":0},null,"co",{"$f":"BH27/2","v":0},{"$f":"BG27/2","v":0},{"$f":"BJ27/2","v":0},{"$f":"BI27/2","v":0},{"$f":"BL27/2","v":0},{"$f":"BK27/2","v":0},{"$f":"BN27/2","v":0},{"$f":"BM27/2","v":0},{"$f":"BP27/2","v":0},{"$f":"BO27/2","v":0},null,"co",{"$f":"BT27/2","v":-47.697701455171661},{"$f":"BS27/2","v":68.012299282788916},{"$f":"BV27/2","v":92.982122811719776},{"$f":"BU27/2","v":-57.634722591665756},{"$f":"BX27/2","v":0},{"$f":"BW27/2","v":0},{"$f":"BZ27/2","v":0},{"$f":"BY27/2","v":0},{"$f":"CB27/2","v":0},{"$f":"CA27/2","v":0}]
[null,null,null,null,null,null,null,null,null,"dis",{"$f":"(K28)*K23*-1","v":20.351349304872329},{"$f":"(L28+M28)*L23*-1","v":-29.515279382806934},{"$f":"(M28+L28)*M23*-1","v":-35.664295920891711},{"$f":"(N28+O28)*N23*-1","v":27.823080242910006},{"$f":"(O28+N28)*O23*-1","v":0},{"$f":"(P28+Q28)*P23*-1","v":0},{"$f":"(Q28+P28)*Q23*-1","v":0},{"$f":"(R28+S28)*R23*-1","v":0},{"$f":"(S28+R28)*S23*-1","v":0},{"$f":"(T28+U28)*T23*-1","v":0},null,"dis",{"$f":"(W28)*W23*-1","v":-15.990276001672418},{"$f":"(X28+Y28)*X23*-1","v":20.496721793615926},{"$f":"(Y28+X28)*Y23*-1","v":24.766872167285911},{"$f":"(Z28+AA28)*Z23*-1","v":-21.860896082909669},{"$f":"(AA28+Z28)*AA23*-1","v":0},{"$f":"(AB28+AC28)*AB23*-1","v":0},{"$f":"(AC28+AB28)*AC23*-1","v":0},{"$f":"(AD28+AE28)*AD23*-1","v":0},{"$f":"(AE28+AD28)*AE23*-1","v":0},{"$f":"(AF28+AG28)*AF23*-1","v":0},null,"dis",{"$f":"(AI28)*AI23*-1","v":0},{"$f":"(AJ28+AK28)*AJ23*-1","v":0},{"$f":"(AK28+AJ28)*AK23*-1","v":0},{"$f":"(AL28+AM28)*AL23*-1","v":0},{"$f":"(AM28+AL28)*AM23*-1","v":0},{"$f":"(AN28+AO28)*AN23*-1","v":0},{"$f":"(AO28+AN28)*AO23*-1","v":0},{"$f":"(AP28+AQ28)*AP23*-1","v":0},{"$f":"(AQ28+AP28)*AQ23*-1","v":0},{"$f":"(AR28+AS28)*AR23*-1","v":0},null,"dis",{"$f":"(AU28)*AU23*-1","v":0},{"$f":"(AV28+AW28)*AV23*-1","v":0},{"$f":"(AW28+AV28)*AW23*-1","v":0},{"$f":"(AX28+AY28)*AX23*-1","v":0},{"$f":"(AY28+AX28)*AY23*-1","v":0},{"$f":"(AZ28+BA28)*AZ23*-1","v":0},{"$f":"(BA28+AZ28)*BA23*-1","v":0},{"$f":"(BB28+BC28)*BB23*-1","v":0},{"$f":"(BC28+BB28)*BC23*-1","v":0},{"$f":"(BD28+BE28)*BD23*-1","v":0},null,"dis",{"$f":"(BG28)*BG23*-1","v":0},{"$f":"(BH28+BI28)*BH23*-1","v":0},{"$f":"(BI28+BH28)*BI23*-1","v":0},{"$f":"(BJ28+BK28)*BJ23*-1","v":0},{"$f":"(BK28+BJ28)*BK23*-1","v":0},{"$f":"(BL28+BM28)*BL23*-1","v":0},{"$f":"(BM28+BL28)*BM23*-1","v":0},{"$f":"(BN28+BO28)*BN23*-1","v":0},{"$f":"(BO28+BN28)*BO23*-1","v":0},{"$f":"(BP28+BQ28)*BP23*-1","v":0},null,"dis",{"$f":"(BS28)*BS23*-1","v":15.563045905536937},{"$f":"(BT28+BU28)*BT23*-1","v":-32.183872181034587},{"$f":"(BU28+BT28)*BU23*-1","v":-38.88884555208346},{"$f":"(BV28+BW28)*BV23*-1","v":21.276814061177681},{"$f":"(BW28+BV28)*BW23*-1","v":0},{"$f":"(BX28+BY28)*BX23*-1","v":0},{"$f":"(BY28+BX28)*BY23*-1","v":0},{"$f":"(BZ28+CA28)*BZ23*-1","v":0},{"$f":"(CA28+BZ28)*CA23*-1","v":0},{"$f":"(CB28+CC28)*CB23*-1","v":0}]
[null,null,null,null,null,null,null,null,null,"co",{"$f":"L29/2","v":-14.757639691403467},{"$f":"K29/2","v":10.175674652436165},{"$f":"N29/2","v":13.911540121455003},{"$f":"M29/2","v":-17.832147960445855},{"$f":"P29/2","v":0},{"$f":"O29/2","v":0},{"$f":"R29/2","v":0},{"$f":"Q29/2","v":0},{"$f":"T29/2","v":0},{"$f":"S29/2","v":0},null,"co",{"$f":"X29/2","v":10.248360896807963},-7.9951380008362092,{"$f":"Z29/2","v":-10.930448041454834},{"$f":"Y29/2","v":12.383436083642955},{"$f":"AB29/2","v":0},{"$f":"AA29/2","v":0},{"$f":"AD29/2","v":0},{"$f":"AC29/2","v":0},{"$f":"AF29/2","v":0},{"$f":"AE29/2","v":0},null,"co",{"$f":"AJ29/2","v":0},{"$f":"AI29/2","v":0},{"$f":"AL29/2","v":0},{"$f":"AK29/2","v":0},{"$f":"AN29/2","v":0},{"$f":"AM29/2","v":0},{"$f":"AP29/2","v":0},{"$f":"AO29/2","v":0},{"$f":"AR29/2","v":0},{"$f":"AQ29/2","v":0},null,"co",{"$f":"AV29/2","v":0},{"$f":"AU29/2","v":0},{"$f":"AX29/2","v":0},{"$f":"AW29/2","v":0},{"$f":"AZ29/2","v":0},{"$f":"AY29/2","v":0},{"$f":"BB29/2","v":0},{"$f":"BA29/2","v":0},{"$f":"BD29/2","v":0},{"$f":"BC29/2","v":0},null,"co",{"$f":"BH29/2","v":0},{"$f":"BG29/2","v":0},{"$f":"BJ29/2","v":0},{"$f":"BI29/2","v":0},{"$f":"BL29/2","v":0},{"$f":"BK29/2","v":0},{"$f":"BN29/2","v":0},{"$f":"BM29/2","v":0},{"$f":"BP29/2","v":0},{"$f":"BO29/2","v":0},null,"co",{"$f":"BT29/2","v":-16.091936090517294},{"$f":"BS29/2","v":7.7815229527684684},{"$f":"BV29/2","v":10.638407030588841},{"$f":"BU29/2","v":-19.44442277604173},{"$f":"BX29/2","v":0},{"$f":"BW29/2","v":0},{"$f":"BZ29/2","v":0},{"$f":"BY29/2","v":0},{"$f":"CB29/2","v":0},{"$f":"CA29/2","v":0}]
[null,null,null,null,null,null,null,null,null,"dis",{"$f":"(K30)*K23*-1","v":4.8151968956102289},{"$f":"(L30+M30)*L23*-1","v":-4.8151968956102298},{"$f":"(M30+L30)*M23*-1","v":-5.8183629155290273},{"$f":"(N30+O30)*N23*-1","v":6.583033272388473},{"$f":"(O30+N30)*O23*-1","v":0},{"$f":"(P30+Q30)*P23*-1","v":0},{"$f":"(Q30+P30)*Q23*-1","v":0},{"$f":"(R30+S30)*R23*-1","v":0},{"$f":"(S30+R30)*S23*-1","v":0},{"$f":"(T30+U30)*T23*-1","v":0},null,"dis",{"$f":"(W30)*W23*-1","v":-3.3438867330626589},{"$f":"(X30+Y30)*X23*-1","v":3.7833524553956748},{"$f":"(Y30+X30)*Y23*-1","v":4.5715508836031074},{"$f":"(Z30+AA30)*Z23*-1","v":-4.5715508836031065},{"$f":"(AA30+Z30)*AA23*-1","v":0},{"$f":"(AB30+AC30)*AB23*-1","v":0},{"$f":"(AC30+AB30)*AC23*-1","v":0},{"$f":"(AD30+AE30)*AD23*-1","v":0},{"$f":"(AE30+AD30)*AE23*-1","v":0},{"$f":"(AF30+AG30)*AF23*-1","v":0},null,"dis",{"$f":"(AI30)*AI23*-1","v":0},{"$f":"(AJ30+AK30)*AJ23*-1","v":0},{"$f":"(AK30+AJ30)*AK23*-1","v":0},{"$f":"(AL30+AM30)*AL23*-1","v":0},{"$f":"(AM30+AL30)*AM23*-1","v":0},{"$f":"(AN30+AO30)*AN23*-1","v":0},{"$f":"(AO30+AN30)*AO23*-1","v":0},{"$f":"(AP30+AQ30)*AP23*-1","v":0},{"$f":"(AQ30+AP30)*AQ23*-1","v":0},{"$f":"(AR30+AS30)*AR23*-1","v":0},null,"dis",{"$f":"(AU30)*AU23*-1","v":0},{"$f":"(AV30+AW30)*AV23*-1","v":0},{"$f":"(AW30+AV30)*AW23*-1","v":0},{"$f":"(AX30+AY30)*AX23*-1","v":0},{"$f":"(AY30+AX30)*AY23*-1","v":0},{"$f":"(AZ30+BA30)*AZ23*-1","v":0},{"$f":"(BA30+AZ30)*BA23*-1","v":0},{"$f":"(BB30+BC30)*BB23*-1","v":0},{"$f":"(BC30+BB30)*BC23*-1","v":0},{"$f":"(BD30+BE30)*BD23*-1","v":0},null,"dis",{"$f":"(BG30)*BG23*-1","v":0},{"$f":"(BH30+BI30)*BH23*-1","v":0},{"$f":"(BI30+BH30)*BI23*-1","v":0},{"$f":"(BJ30+BK30)*BJ23*-1","v":0},{"$f":"(BK30+BJ30)*BK23*-1","v":0},{"$f":"(BL30+BM30)*BL23*-1","v":0},{"$f":"(BM30+BL30)*BM23*-1","v":0},{"$f":"(BN30+BO30)*BN23*-1","v":0},{"$f":"(BO30+BN30)*BO23*-1","v":0},{"$f":"(BP30+BQ30)*BP23*-1","v":0},null,"dis",{"$f":"(BS30)*BS23*-1","v":5.2505578349736837},{"$f":"(BT30+BU30)*BT23*-1","v":-3.6822683944911567},{"$f":"(BU30+BT30)*BU23*-1","v":-4.4494076433434815},{"$f":"(BV30+BW30)*BV23*-1","v":7.178231269783077},{"$f":"(BW30+BV30)*BW23*-1","v":0},{"$f":"(BX30+BY30)*BX23*-1","v":0},{"$f":"(BY30+BX30)*BY23*-1","v":0},{"$f":"(BZ30+CA30)*BZ23*-1","v":0},{"$f":"(CA30+BZ30)*CA23*-1","v":0},{"$f":"(CB30+CC30)*CB23*-1","v":0}]
[null,null,null,null,null,null,null,null,null,"co",{"$f":"L31/2","v":-2.4075984478051149},{"$f":"K31/2","v":2.4075984478051144},{"$f":"N31/2","v":3.2915166361942365},{"$f":"M31/2","v":-2.9091814577645136},{"$f":"P31/2","v":0},{"$f":"O31/2","v":0},{"$f":"R31/2","v":0},{"$f":"Q31/2","v":0},{"$f":"T31/2","v":0},{"$f":"S31/2","v":0},null,"co",{"$f":"X31/2","v":1.8916762276978374},{"$f":"W31/2","v":-1.6719433665313295},{"$f":"Z31/2","v":-2.2857754418015532},{"$f":"Y31/2","v":2.2857754418015537},{"$f":"AB31/2","v":0},{"$f":"AA31/2","v":0},{"$f":"AD31/2","v":0},{"$f":"AC31/2","v":0},{"$f":"AF31/2","v":0},{"$f":"AE31/2","v":0},null,"co",{"$f":"AJ31/2","v":0},{"$f":"AI31/2","v":0},{"$f":"AL31/2","v":0},{"$f":"AK31/2","v":0},{"$f":"AN31/2","v":0},{"$f":"AM31/2","v":0},{"$f":"AP31/2","v":0},{"$f":"AO31/2","v":0},{"$f":"AR31/2","v":0},{"$f":"AQ31/2","v":0},null,"co",{"$f":"AV31/2","v":0},{"$f":"AU31/2","v":0},{"$f":"AX31/2","v":0},{"$f":"AW31/2","v":0},{"$f":"AZ31/2","v":0},{"$f":"AY31/2","v":0},{"$f":"BB31/2","v":0},{"$f":"BA31/2","v":0},{"$f":"BD31/2","v":0},{"$f":"BC31/2","v":0},null,"co",{"$f":"BH31/2","v":0},{"$f":"BG31/2","v":0},{"$f":"BJ31/2","v":0},{"$f":"BI31/2","v":0},{"$f":"BL31/2","v":0},{"$f":"BK31/2","v":0},{"$f":"BN31/2","v":0},{"$f":"BM31/2","v":0},{"$f":"BP31/2","v":0},{"$f":"BO31/2","v":0},null,"co",{"$f":"BT31/2","v":-1.8411341972455784},{"$f":"BS31/2","v":2.6252789174868418},{"$f":"BV31/2","v":3.5891156348915385},{"$f":"BU31/2","v":-2.2247038216717407},{"$f":"BX31/2","v":0},{"$f":"BW31/2","v":0},{"$f":"BZ31/2","v":0},{"$f":"BY31/2","v":0},{"$f":"CB31/2","v":0},{"$f":"CA31/2","v":0}]
[null,null,null,null,null,null,null,null,null,"dis",{"$f":"(K32)*K23*-1","v":0.7855633295140223},{"$f":"(L32+M32)*L23*-1","v":-1.1392915917345776},{"$f":"(M32+L32)*M23*-1","v":-1.3766440066792813},{"$f":"(N32+O32)*N23*-1","v":1.0739726013018434},{"$f":"(O32+N32)*O23*-1","v":0},{"$f":"(P32+Q32)*P23*-1","v":0},{"$f":"(Q32+P32)*Q23*-1","v":0},{"$f":"(R32+S32)*R23*-1","v":0},{"$f":"(S32+R32)*S23*-1","v":0},{"$f":"(T32+U32)*T23*-1","v":0},null,"dis",{"$f":"(W32)*W23*-1","v":-0.61722563293209387},{"$f":"(X32+Y32)*X23*-1","v":0.79117471648234572},{"$f":"(Y32+X32)*Y23*-1","v":0.95600278241616776},{"$f":"(Z32+AA32)*Z23*-1","v":-0.84383192759308301},{"$f":"(AA32+Z32)*AA23*-1","v":0},{"$f":"(AB32+AC32)*AB23*-1","v":0},{"$f":"(AC32+AB32)*AC23*-1","v":0},{"$f":"(AD32+AE32)*AD23*-1","v":0},{"$f":"(AE32+AD32)*AE23*-1","v":0},{"$f":"(AF32+AG32)*AF23*-1","v":0},null,"dis",{"$f":"(AI32)*AI23*-1","v":0},{"$f":"(AJ32+AK32)*AJ23*-1","v":0},{"$f":"(AK32+AJ32)*AK23*-1","v":0},{"$f":"(AL32+AM32)*AL23*-1","v":0},{"$f":"(AM32+AL32)*AM23*-1","v":0},{"$f":"(AN32+AO32)*AN23*-1","v":0},{"$f":"(AO32+AN32)*AO23*-1","v":0},{"$f":"(AP32+AQ32)*AP23*-1","v":0},{"$f":"(AQ32+AP32)*AQ23*-1","v":0},{"$f":"(AR32+AS32)*AR23*-1","v":0},null,"dis",{"$f":"(AU32)*AU23*-1","v":0},{"$f":"(AV32+AW32)*AV23*-1","v":0},{"$f":"(AW32+AV32)*AW23*-1","v":0},{"$f":"(AX32+AY32)*AX23*-1","v":0},{"$f":"(AY32+AX32)*AY23*-1","v":0},{"$f":"(AZ32+BA32)*AZ23*-1","v":0},{"$f":"(BA32+AZ32)*BA23*-1","v":0},{"$f":"(BB32+BC32)*BB23*-1","v":0},{"$f":"(BC32+BB32)*BC23*-1","v":0},{"$f":"(BD32+BE32)*BD23*-1","v":0},null,"dis",{"$f":"(BG32)*BG23*-1","v":0},{"$f":"(BH32+BI32)*BH23*-1","v":0},{"$f":"(BI32+BH32)*BI23*-1","v":0},{"$f":"(BJ32+BK32)*BJ23*-1","v":0},{"$f":"(BK32+BJ32)*BK23*-1","v":0},{"$f":"(BL32+BM32)*BL23*-1","v":0},{"$f":"(BM32+BL32)*BM23*-1","v":0},{"$f":"(BN32+BO32)*BN23*-1","v":0},{"$f":"(BO32+BN32)*BO23*-1","v":0},{"$f":"(BP32+BQ32)*BP23*-1","v":0},null,"dis",{"$f":"(BS32)*BS23*-1","v":0.6007345250570777},{"$f":"(BT32+BU32)*BT23*-1","v":-1.2422994371746328},{"$f":"(BU32+BT32)*BU23*-1","v":-1.5011118199193478},{"$f":"(BV32+BW32)*BV23*-1","v":0.82128632578420391},{"$f":"(BW32+BV32)*BW23*-1","v":0},{"$f":"(BX32+BY32)*BX23*-1","v":0},{"$f":"(BY32+BX32)*BY23*-1","v":0},{"$f":"(BZ32+CA32)*BZ23*-1","v":0},{"$f":"(CA32+BZ32)*CA23*-1","v":0},{"$f":"(CB32+CC32)*CB23*-1","v":0}]
[null,null,null,null,null,null,null,null,null,"co",{"$f":"L33/2","v":-0.56964579586728881},{"$f":"K33/2","v":0.39278166475701115},{"$f":"N33/2","v":0.53698630065092168},{"$f":"M33/2","v":-0.68832200333964066},{"$f":"P33/2","v":0},{"$f":"O33/2","v":0},{"$f":"R33/2","v":0},{"$f":"Q33/2","v":0},{"$f":"T33/2","v":0},{"$f":"S33/2","v":0},null,"co",{"$f":"X33/2","v":0.39558735824117286},{"$f":"W33/2","v":-0.30861281646604694},{"$f":"Z33/2","v":-0.4219159637965415},{"$f":"Y33/2","v":0.47800139120808388},{"$f":"AB33/2","v":0},{"$f":"AA33/2","v":0},{"$f":"AD33/2","v":0},{"$f":"AC33/2","v":0},{"$f":"AF33/2","v":0},{"$f":"AE33/2","v":0},null,"co",{"$f":"AJ33/2","v":0},{"$f":"AI33/2","v":0},{"$f":"AL33/2","v":0},{"$f":"AK33/2","v":0},{"$f":"AN33/2","v":0},{"$f":"AM33/2","v":0},{"$f":"AP33/2","v":0},{"$f":"AO33/2","v":0},{"$f":"AR33/2","v":0},{"$f":"AQ33/2","v":0},null,"co",{"$f":"AV33/2","v":0},{"$f":"AU33/2","v":0},{"$f":"AX33/2","v":0},{"$f":"AW33/2","v":0},{"$f":"AZ33/2","v":0},{"$f":"AY33/2","v":0},{"$f":"BB33/2","v":0},{"$f":"BA33/2","v":0},{"$f":"BD33/2","v":0},{"$f":"BC33/2","v":0},null,"co",{"$f":"BH33/2","v":0},{"$f":"BG33/2","v":0},{"$f":"BJ33/2","v":0},{"$f":"BI33/2","v":0},{"$f":"BL33/2","v":0},{"$f":"BK33/2","v":0},{"$f":"BN33/2","v":0},{"$f":"BM33/2","v":0},{"$f":"BP33/2","v":0},{"$f":"BO33/2","v":0},null,"co",{"$f":"BT33/2","v":-0.62114971858731638},{"$f":"BS33/2","v":0.30036726252853885},{"$f":"BV33/2","v":0.41064316289210195},{"$f":"BU33/2","v":-0.75055590995967392},{"$f":"BX33/2","v":0},{"$f":"BW33/2","v":0},{"$f":"BZ33/2","v":0},{"$f":"BY33/2","v":0},{"$f":"CB33/2","v":0},{"$f":"CA33/2","v":0}]
[null,null,null,null,null,null,null,null,null,"dis",{"$f":"(K34)*K23*-1","v":0.18586689506014964},{"$f":"(L34+M34)*L23*-1","v":-0.18586689506014972},{"$f":"(M34+L34)*M23*-1","v":-0.22458916486434757},{"$f":"(N34+O34)*N23*-1","v":0.25410548746863637},{"$f":"(O34+N34)*O23*-1","v":0},{"$f":"(P34+Q34)*P23*-1","v":0},{"$f":"(Q34+P34)*Q23*-1","v":0},{"$f":"(R34+S34)*R23*-1","v":0},{"$f":"(S34+R34)*S23*-1","v":0},{"$f":"(T34+U34)*T23*-1","v":0},null,"dis",{"$f":"(W34)*W23*-1","v":-0.12907423268065951},{"$f":"(X34+Y34)*X23*-1","v":0.14603763647622783},{"$f":"(Y34+X34)*Y23*-1","v":0.17646214407544197},{"$f":"(Z34+AA34)*Z23*-1","v":-0.17646214407544197},{"$f":"(AA34+Z34)*AA23*-1","v":0},{"$f":"(AB34+AC34)*AB23*-1","v":0},{"$f":"(AC34+AB34)*AC23*-1","v":0},{"$f":"(AD34+AE34)*AD23*-1","v":0},{"$f":"(AE34+AD34)*AE23*-1","v":0},{"$f":"(AF34+AG34)*AF23*-1","v":0},null,"dis",{"$f":"(AI34)*AI23*-1","v":0},{"$f":"(AJ34+AK34)*AJ23*-1","v":0},{"$f":"(AK34+AJ34)*AK23*-1","v":0},{"$f":"(AL34+AM34)*AL23*-1","v":0},{"$f":"(AM34+AL34)*AM23*-1","v":0},{"$f":"(AN34+AO34)*AN23*-1","v":0},{"$f":"(AO34+AN34)*AO23*-1","v":0},{"$f":"(AP34+AQ34)*AP23*-1","v":0},{"$f":"(AQ34+AP34)*AQ23*-1","v":0},{"$f":"(AR34+AS34)*AR23*-1","v":0},null,"dis",{"$f":"(AU34)*AU23*-1","v":0},{"$f":"(AV34+AW34)*AV23*-1","v":0},{"$f":"(AW34+AV34)*AW23*-1","v":0},{"$f":"(AX34+AY34)*AX23*-1","v":0},{"$f":"(AY34+AX34)*AY23*-1","v":0},{"$f":"(AZ34+BA34)*AZ23*-1","v":0},{"$f":"(BA34+AZ34)*BA23*-1","v":0},{"$f":"(BB34+BC34)*BB23*-1","v":0},{"$f":"(BC34+BB34)*BC23*-1","v":0},{"$f":"(BD34+BE34)*BD23*-1","v":0},null,"dis",{"$f":"(BG34)*BG23*-1","v":0},{"$f":"(BH34+BI34)*BH23*-1","v":0},{"$f":"(BI34+BH34)*BI23*-1","v":0},{"$f":"(BJ34+BK34)*BJ23*-1","v":0},{"$f":"(BK34+BJ34)*BK23*-1","v":0},{"$f":"(BL34+BM34)*BL23*-1","v":0},{"$f":"(BM34+BL34)*BM23*-1","v":0},{"$f":"(BN34+BO34)*BN23*-1","v":0},{"$f":"(BO34+BN34)*BO23*-1","v":0},{"$f":"(BP34+BQ34)*BP23*-1","v":0},null,"dis",{"$f":"(BS34)*BS23*-1","v":0.20267185398171014},{"$f":"(BT34+BU34)*BT23*-1","v":-0.14213578553477996},{"$f":"(BU34+BT34)*BU23*-1","v":-0.17174740752119244},{"$f":"(BV34+BW34)*BV23*-1","v":0.27708016661885093},{"$f":"(BW34+BV34)*BW23*-1","v":0},{"$f":"(BX34+BY34)*BX23*-1","v":0},{"$f":"(BY34+BX34)*BY23*-1","v":0},{"$f":"(BZ34+CA34)*BZ23*-1","v":0},{"$f":"(CA34+BZ34)*CA23*-1","v":0},{"$f":"(CB34+CC34)*CB23*-1","v":0}]
[null,null,null,null,null,null,null,null,null,"co",{"$f":"L35/2","v":-9.2933447530074861E-2},{"$f":"K35/2","v":9.293344753007482E-2},{"$f":"N35/2","v":0.12705274373431819},{"$f":"M35/2","v":-0.11229458243217379},{"$f":"P35/2","v":0},{"$f":"O35/2","v":0},{"$f":"R35/2","v":0},{"$f":"Q35/2","v":0},{"$f":"T35/2","v":0},{"$f":"S35/2","v":0},null,"co",{"$f":"X35/2","v":7.3018818238113917E-2},-6.4537116340329756E-2,{"$f":"Z35/2","v":-8.8231072037720987E-2},{"$f":"Y35/2","v":8.8231072037720987E-2},{"$f":"AB35/2","v":0},{"$f":"AA35/2","v":0},{"$f":"AD35/2","v":0},{"$f":"AC35/2","v":0},{"$f":"AF35/2","v":0},{"$f":"AE35/2","v":0},null,"co",{"$f":"AJ35/2","v":0},{"$f":"AI35/2","v":0},{"$f":"AL35/2","v":0},{"$f":"AK35/2","v":0},{"$f":"AN35/2","v":0},{"$f":"AM35/2","v":0},{"$f":"AP35/2","v":0},{"$f":"AO35/2","v":0},{"$f":"AR35/2","v":0},{"$f":"AQ35/2","v":0},null,"co",{"$f":"AV35/2","v":0},{"$f":"AU35/2","v":0},{"$f":"AX35/2","v":0},{"$f":"AW35/2","v":0},{"$f":"AZ35/2","v":0},{"$f":"AY35/2","v":0},{"$f":"BB35/2","v":0},{"$f":"BA35/2","v":0},{"$f":"BD35/2","v":0},{"$f":"BC35/2","v":0},null,"co",{"$f":"BH35/2","v":0},{"$f":"BG35/2","v":0},{"$f":"BJ35/2","v":0},{"$f":"BI35/2","v":0},{"$f":"BL35/2","v":0},{"$f":"BK35/2","v":0},{"$f":"BN35/2","v":0},{"$f":"BM35/2","v":0},{"$f":"BP35/2","v":0},{"$f":"BO35/2","v":0},null,"co",{"$f":"BT35/2","v":-7.1067892767389979E-2},{"$f":"BS35/2","v":0.10133592699085507},{"$f":"BV35/2","v":0.13854008330942547},{"$f":"BU35/2","v":-8.5873703760596221E-2},{"$f":"BX35/2","v":0},{"$f":"BW35/2","v":0},{"$f":"BZ35/2","v":0},{"$f":"BY35/2","v":0},{"$f":"CB35/2","v":0},{"$f":"CA35/2","v":0}]
[null,null,null,null,null,null,null,null,null,"dis",{"$f":"(K36)*K23*-1","v":3.0322792628271273E-2},{"$f":"(L36+M36)*L23*-1","v":-4.3976725212813081E-2},{"$f":"(M36+L36)*M23*-1","v":-5.3138542965482469E-2},{"$f":"(N36+O36)*N23*-1","v":4.1455408181880468E-2},{"$f":"(O36+N36)*O23*-1","v":0},{"$f":"(P36+Q36)*P23*-1","v":0},{"$f":"(Q36+P36)*Q23*-1","v":0},{"$f":"(R36+S36)*R23*-1","v":0},{"$f":"(S36+R36)*S23*-1","v":0},{"$f":"(T36+U36)*T23*-1","v":0},null,"dis",{"$f":"(W36)*W23*-1","v":-2.382494723096578E-2},{"$f":"(X36+Y36)*X23*-1","v":3.0539392508897978E-2},{"$f":"(Y36+X36)*Y23*-1","v":3.6901765948251723E-2},{"$f":"(Z36+AA36)*Z23*-1","v":-3.2571964082575899E-2},{"$f":"(AA36+Z36)*AA23*-1","v":0},{"$f":"(AB36+AC36)*AB23*-1","v":0},{"$f":"(AC36+AB36)*AC23*-1","v":0},{"$f":"(AD36+AE36)*AD23*-1","v":0},{"$f":"(AE36+AD36)*AE23*-1","v":0},{"$f":"(AF36+AG36)*AF23*-1","v":0},null,"dis",{"$f":"(AI36)*AI23*-1","v":0},{"$f":"(AJ36+AK36)*AJ23*-1","v":0},{"$f":"(AK36+AJ36)*AK23*-1","v":0},{"$f":"(AL36+AM36)*AL23*-1","v":0},{"$f":"(AM36+AL36)*AM23*-1","v":0},{"$f":"(AN36+AO36)*AN23*-1","v":0},{"$f":"(AO36+AN36)*AO23*-1","v":0},{"$f":"(AP36+AQ36)*AP23*-1","v":0},{"$f":"(AQ36+AP36)*AQ23*-1","v":0},{"$f":"(AR36+AS36)*AR23*-1","v":0},null,"dis",{"$f":"(AU36)*AU23*-1","v":0},{"$f":"(AV36+AW36)*AV23*-1","v":0},{"$f":"(AW36+AV36)*AW23*-1","v":0},{"$f":"(AX36+AY36)*AX23*-1","v":0},{"$f":"(AY36+AX36)*AY23*-1","v":0},{"$f":"(AZ36+BA36)*AZ23*-1","v":0},{"$f":"(BA36+AZ36)*BA23*-1","v":0},{"$f":"(BB36+BC36)*BB23*-1","v":0},{"$f":"(BC36+BB36)*BC23*-1","v":0},{"$f":"(BD36+BE36)*BD23*-1","v":0},null,"dis",{"$f":"(BG36)*BG23*-1","v":0},{"$f":"(BH36+BI36)*BH23*-1","v":0},{"$f":"(BI36+BH36)*BI23*-1","v":0},{"$f":"(BJ36+BK36)*BJ23*-1","v":0},{"$f":"(BK36+BJ36)*BK23*-1","v":0},{"$f":"(BL36+BM36)*BL23*-1","v":0},{"$f":"(BM36+BL36)*BM23*-1","v":0},{"$f":"(BN36+BO36)*BN23*-1","v":0},{"$f":"(BO36+BN36)*BO23*-1","v":0},{"$f":"(BP36+BQ36)*BP23*-1","v":0},null,"dis",{"$f":"(BS36)*BS23*-1","v":2.3188389457050956E-2},{"$f":"(BT36+BU36)*BT23*-1","v":-4.7952834355148063E-2},{"$f":"(BU36+BT36)*BU23*-1","v":-5.7943008179137244E-2},{"$f":"(BV36+BW36)*BV23*-1","v":3.170170247202804E-2},{"$f":"(BW36+BV36)*BW23*-1","v":0},{"$f":"(BX36+BY36)*BX23*-1","v":0},{"$f":"(BY36+BX36)*BY23*-1","v":0},{"$f":"(BZ36+CA36)*BZ23*-1","v":0},{"$f":"(CA36+BZ36)*CA23*-1","v":0},{"$f":"(CB36+CC36)*CB23*-1","v":0}]
[null,null,null,null,null,null,null,null,null,"co",{"$f":"L37/2","v":-2.198836260640654E-2},{"$f":"K37/2","v":1.5161396314135637E-2},{"$f":"N37/2","v":2.0727704090940234E-2},{"$f":"M37/2","v":-2.6569271482741234E-2},{"$f":"P37/2","v":0},{"$f":"O37/2","v":0},{"$f":"R37/2","v":0},{"$f":"Q37/2","v":0},{"$f":"T37/2","v":0},{"$f":"S37/2","v":0},null,"co",{"$f":"X37/2","v":1.5269696254448989E-2},{"$f":"W37/2","v":-1.191247361548289E-2},{"$f":"Z37/2","v":-1.628598204128795E-2},{"$f":"Y37/2","v":1.8450882974125862E-2},{"$f":"AB37/2","v":0},{"$f":"AA37/2","v":0},{"$f":"AD37/2","v":0},{"$f":"AC37/2","v":0},{"$f":"AF37/2","v":0},{"$f":"AE37/2","v":0},null,"co",{"$f":"AJ37/2","v":0},{"$f":"AI37/2","v":0},{"$f":"AL37/2","v":0},{"$f":"AK37/2","v":0},{"$f":"AN37/2","v":0},{"$f":"AM37/2","v":0},{"$f":"AP37/2","v":0},{"$f":"AO37/2","v":0},{"$f":"AR37/2","v":0},{"$f":"AQ37/2","v":0},null,"co",{"$f":"AV37/2","v":0},{"$f":"AU37/2","v":0},{"$f":"AX37/2","v":0},{"$f":"AW37/2","v":0},{"$f":"AZ37/2","v":0},{"$f":"AY37/2","v":0},{"$f":"BB37/2","v":0},{"$f":"BA37/2","v":0},{"$f":"BD37/2","v":0},{"$f":"BC37/2","v":0},null,"co",{"$f":"BH37/2","v":0},{"$f":"BG37/2","v":0},{"$f":"BJ37/2","v":0},{"$f":"BI37/2","v":0},{"$f":"BL37/2","v":0},{"$f":"BK37/2","v":0},{"$f":"BN37/2","v":0},{"$f":"BM37/2","v":0},{"$f":"BP37/2","v":0},{"$f":"BO37/2","v":0},null,"co",{"$f":"BT37/2","v":-2.3976417177574032E-2},{"$f":"BS37/2","v":1.1594194728525478E-2},{"$f":"BV37/2","v":1.585085123601402E-2},{"$f":"BU37/2","v":-2.8971504089568622E-2},{"$f":"BX37/2","v":0},{"$f":"BW37/2","v":0},{"$f":"BZ37/2","v":0},{"$f":"BY37/2","v":0},{"$f":"CB37/2","v":0},{"$f":"CA37/2","v":0}]
[null,null,null,null,null,null,null,null,null,"dis",{"$f":"(K38)*K23*-1","v":7.1744735320781973E-3},{"$f":"(L38+M38)*L23*-1","v":-7.174473532078199E-3},{"$f":"(M38+L38)*M23*-1","v":-8.6691555179278235E-3},{"$f":"(N38+O38)*N23*-1","v":9.8084873780754905E-3},{"$f":"(O38+N38)*O23*-1","v":0},{"$f":"(P38+Q38)*P23*-1","v":0},{"$f":"(Q38+P38)*Q23*-1","v":0},{"$f":"(R38+S38)*R23*-1","v":0},{"$f":"(S38+R38)*S23*-1","v":0},{"$f":"(T38+U38)*T23*-1","v":0},null,"dis",{"$f":"(W38)*W23*-1","v":-4.9822732861654158E-3},{"$f":"(X38+Y38)*X23*-1","v":5.6370617115376392E-3},{"$f":"(Y38+X38)*Y23*-1","v":6.8114495681079815E-3},{"$f":"(Z38+AA38)*Z23*-1","v":-6.8114495681079815E-3},{"$f":"(AA38+Z38)*AA23*-1","v":0},{"$f":"(AB38+AC38)*AB23*-1","v":0},{"$f":"(AC38+AB38)*AC23*-1","v":0},{"$f":"(AD38+AE38)*AD23*-1","v":0},{"$f":"(AE38+AD38)*AE23*-1","v":0},{"$f":"(AF38+AG38)*AF23*-1","v":0},null,"dis",{"$f":"(AI38)*AI23*-1","v":0},{"$f":"(AJ38+AK38)*AJ23*-1","v":0},{"$f":"(AK38+AJ38)*AK23*-1","v":0},{"$f":"(AL38+AM38)*AL23*-1","v":0},{"$f":"(AM38+AL38)*AM23*-1","v":0},{"$f":"(AN38+AO38)*AN23*-1","v":0},{"$f":"(AO38+AN38)*AO23*-1","v":0},{"$f":"(AP38+AQ38)*AP23*-1","v":0},{"$f":"(AQ38+AP38)*AQ23*-1","v":0},{"$f":"(AR38+AS38)*AR23*-1","v":0},null,"dis",{"$f":"(AU38)*AU23*-1","v":0},{"$f":"(AV38+AW38)*AV23*-1","v":0},{"$f":"(AW38+AV38)*AW23*-1","v":0},{"$f":"(AX38+AY38)*AX23*-1","v":0},{"$f":"(AY38+AX38)*AY23*-1","v":0},{"$f":"(AZ38+BA38)*AZ23*-1","v":0},{"$f":"(BA38+AZ38)*BA23*-1","v":0},{"$f":"(BB38+BC38)*BB23*-1","v":0},{"$f":"(BC38+BB38)*BC23*-1","v":0},{"$f":"(BD38+BE38)*BD23*-1","v":0},null,"dis",{"$f":"(BG38)*BG23*-1","v":0},{"$f":"(BH38+BI38)*BH23*-1","v":0},{"$f":"(BI38+BH38)*BI23*-1","v":0},{"$f":"(BJ38+BK38)*BJ23*-1","v":0},{"$f":"(BK38+BJ38)*BK23*-1","v":0},{"$f":"(BL38+BM38)*BL23*-1","v":0},{"$f":"(BM38+BL38)*BM23*-1","v":0},{"$f":"(BN38+BO38)*BN23*-1","v":0},{"$f":"(BO38+BN38)*BO23*-1","v":0},{"$f":"(BP38+BQ38)*BP23*-1","v":0},null,"dis",{"$f":"(BS38)*BS23*-1","v":7.823145975610327E-3},{"$f":"(BT38+BU38)*BT23*-1","v":-5.4864500262427791E-3},{"$f":"(BU38+BT38)*BU23*-1","v":-6.629460448376691E-3},{"$f":"(BV38+BW38)*BV23*-1","v":1.0695311400276223E-2},{"$f":"(BW38+BV38)*BW23*-1","v":0},{"$f":"(BX38+BY38)*BX23*-1","v":0},{"$f":"(BY38+BX38)*BY23*-1","v":0},{"$f":"(BZ38+CA38)*BZ23*-1","v":0},{"$f":"(CA38+BZ38)*CA23*-1","v":0},{"$f":"(CB38+CC38)*CB23*-1","v":0}]
[null,null,null,null,null,null,null,null,null,"co",{"$f":"L39/2","v":-3.5872367660390995E-3},{"$f":"K39/2","v":3.5872367660390986E-3},{"$f":"N39/2","v":4.9042436890377452E-3},{"$f":"M39/2","v":-4.3345777589639117E-3},{"$f":"P39/2","v":0},{"$f":"O39/2","v":0},{"$f":"R39/2","v":0},{"$f":"Q39/2","v":0},{"$f":"T39/2","v":0},{"$f":"S39/2","v":0},null,"co",{"$f":"X39/2","v":2.8185308557688196E-3},{"$f":"W39/2","v":-2.4911366430827079E-3},{"$f":"Z39/2","v":-3.4057247840539907E-3},{"$f":"Y39/2","v":3.4057247840539907E-3},{"$f":"AB39/2","v":0},{"$f":"AA39/2","v":0},{"$f":"AD39/2","v":0},{"$f":"AC39/2","v":0},{"$f":"AF39/2","v":0},{"$f":"AE39/2","v":0},null,"co",{"$f":"AJ39/2","v":0},{"$f":"AI39/2","v":0},{"$f":"AL39/2","v":0},{"$f":"AK39/2","v":0},{"$f":"AN39/2","v":0},{"$f":"AM39/2","v":0},{"$f":"AP39/2","v":0},{"$f":"AO39/2","v":0},{"$f":"AR39/2","v":0},{"$f":"AQ39/2","v":0},null,"co",{"$f":"AV39/2","v":0},{"$f":"AU39/2","v":0},{"$f":"AX39/2","v":0},{"$f":"AW39/2","v":0},{"$f":"AZ39/2","v":0},{"$f":"AY39/2","v":0},{"$f":"BB39/2","v":0},{"$f":"BA39/2","v":0},{"$f":"BD39/2","v":0},{"$f":"BC39/2","v":0},null,"co",{"$f":"BH39/2","v":0},{"$f":"BG39/2","v":0},{"$f":"BJ39/2","v":0},{"$f":"BI39/2","v":0},{"$f":"BL39/2","v":0},{"$f":"BK39/2","v":0},{"$f":"BN39/2","v":0},{"$f":"BM39/2","v":0},{"$f":"BP39/2","v":0},{"$f":"BO39/2","v":0},null,"co",{"$f":"BT39/2","v":-2.7432250131213896E-3},{"$f":"BS39/2","v":3.9115729878051635E-3},{"$f":"BV39/2","v":5.3476557001381113E-3},{"$f":"BU39/2","v":-3.3147302241883455E-3},{"$f":"BX39/2","v":0},{"$f":"BW39/2","v":0},{"$f":"BZ39/2","v":0},{"$f":"BY39/2","v":0},{"$f":"CB39/2","v":0},{"$f":"CA39/2","v":0}]
[null,null,null,null,null,null,null,null,null,"dis",{"$f":"(K40)*K23*-1","v":1.1704616524627757E-3},{"$f":"(L40+M40)*L23*-1","v":-1.6975042864125914E-3},{"$f":"(M40+L40)*M23*-1","v":-2.0511510127485481E-3},{"$f":"(N40+O40)*N23*-1","v":1.6001812946095052E-3},{"$f":"(O40+N40)*O23*-1","v":0},{"$f":"(P40+Q40)*P23*-1","v":0},{"$f":"(Q40+P40)*Q23*-1","v":0},{"$f":"(R40+S40)*R23*-1","v":0},{"$f":"(S40+R40)*S23*-1","v":0},{"$f":"(T40+U40)*T23*-1","v":0},null,"dis",{"$f":"(W40)*W23*-1","v":-9.1964442218937066E-4},{"$f":"(X40+Y40)*X23*-1","v":1.1788224211198555E-3},{"$f":"(Y40+X40)*Y23*-1","v":1.4244104255198254E-3},{"$f":"(Z40+AA40)*Z23*-1","v":-1.2572798083414346E-3},{"$f":"(AA40+Z40)*AA23*-1","v":0},{"$f":"(AB40+AC40)*AB23*-1","v":0},{"$f":"(AC40+AB40)*AC23*-1","v":0},{"$f":"(AD40+AE40)*AD23*-1","v":0},{"$f":"(AE40+AD40)*AE23*-1","v":0},{"$f":"(AF40+AG40)*AF23*-1","v":0},null,"dis",{"$f":"(AI40)*AI23*-1","v":0},{"$f":"(AJ40+AK40)*AJ23*-1","v":0},{"$f":"(AK40+AJ40)*AK23*-1","v":0},{"$f":"(AL40+AM40)*AL23*-1","v":0},{"$f":"(AM40+AL40)*AM23*-1","v":0},{"$f":"(AN40+AO40)*AN23*-1","v":0},{"$f":"(AO40+AN40)*AO23*-1","v":0},{"$f":"(AP40+AQ40)*AP23*-1","v":0},{"$f":"(AQ40+AP40)*AQ23*-1","v":0},{"$f":"(AR40+AS40)*AR23*-1","v":0},null,"dis",{"$f":"(AU40)*AU23*-1","v":0},{"$f":"(AV40+AW40)*AV23*-1","v":0},{"$f":"(AW40+AV40)*AW23*-1","v":0},{"$f":"(AX40+AY40)*AX23*-1","v":0},{"$f":"(AY40+AX40)*AY23*-1","v":0},{"$f":"(AZ40+BA40)*AZ23*-1","v":0},{"$f":"(BA40+AZ40)*BA23*-1","v":0},{"$f":"(BB40+BC40)*BB23*-1","v":0},{"$f":"(BC40+BB40)*BC23*-1","v":0},{"$f":"(BD40+BE40)*BD23*-1","v":0},null,"dis",{"$f":"(BG40)*BG23*-1","v":0},{"$f":"(BH40+BI40)*BH23*-1","v":0},{"$f":"(BI40+BH40)*BI23*-1","v":0},{"$f":"(BJ40+BK40)*BJ23*-1","v":0},{"$f":"(BK40+BJ40)*BK23*-1","v":0},{"$f":"(BL40+BM40)*BL23*-1","v":0},{"$f":"(BM40+BL40)*BM23*-1","v":0},{"$f":"(BN40+BO40)*BN23*-1","v":0},{"$f":"(BO40+BN40)*BO23*-1","v":0},{"$f":"(BP40+BQ40)*BP23*-1","v":0},null,"dis",{"$f":"(BS40)*BS23*-1","v":8.9507325313254338E-4},{"$f":"(BT40+BU40)*BT23*-1","v":-1.8509823428093739E-3},{"$f":"(BU40+BT40)*BU23*-1","v":-2.2366036642279936E-3},{"$f":"(BV40+BW40)*BV23*-1","v":1.2236876568782124E-3},{"$f":"(BW40+BV40)*BW23*-1","v":0},{"$f":"(BX40+BY40)*BX23*-1","v":0},{"$f":"(BY40+BX40)*BY23*-1","v":0},{"$f":"(BZ40+CA40)*BZ23*-1","v":0},{"$f":"(CA40+BZ40)*CA23*-1","v":0},{"$f":"(CB40+CC40)*CB23*-1","v":0}]
[null,null,null,null,null,null,null,null,null,"co",{"$f":"L41/2","v":-8.4875214320629571E-4},{"$f":"K41/2","v":5.8523082623138784E-4},{"$f":"N41/2","v":8.000906473047526E-4},{"$f":"M41/2","v":-1.025575506374274E-3},{"$f":"P41/2","v":0},{"$f":"O41/2","v":0},{"$f":"R41/2","v":0},{"$f":"Q41/2","v":0},{"$f":"T41/2","v":0},{"$f":"S41/2","v":0},null,"co",{"$f":"X41/2","v":5.8941121055992775E-4},{"$f":"W41/2","v":-4.5982221109468533E-4},{"$f":"Z41/2","v":-6.2863990417071731E-4},{"$f":"Y41/2","v":7.122052127599127E-4},{"$f":"AB41/2","v":0},{"$f":"AA41/2","v":0},{"$f":"AD41/2","v":0},{"$f":"AC41/2","v":0},{"$f":"AF41/2","v":0},{"$f":"AE41/2","v":0},null,"co",{"$f":"AJ41/2","v":0},{"$f":"AI41/2","v":0},{"$f":"AL41/2","v":0},{"$f":"AK41/2","v":0},{"$f":"AN41/2","v":0},{"$f":"AM41/2","v":0},{"$f":"AP41/2","v":0},{"$f":"AO41/2","v":0},{"$f":"AR41/2","v":0},{"$f":"AQ41/2","v":0},null,"co",{"$f":"AV41/2","v":0},{"$f":"AU41/2","v":0},{"$f":"AX41/2","v":0},{"$f":"AW41/2","v":0},{"$f":"AZ41/2","v":0},{"$f":"AY41/2","v":0},{"$f":"BB41/2","v":0},{"$f":"BA41/2","v":0},{"$f":"BD41/2","v":0},{"$f":"BC41/2","v":0},null,"co",{"$f":"BH41/2","v":0},{"$f":"BG41/2","v":0},{"$f":"BJ41/2","v":0},{"$f":"BI41/2","v":0},{"$f":"BL41/2","v":0},{"$f":"BK41/2","v":0},{"$f":"BN41/2","v":0},{"$f":"BM41/2","v":0},{"$f":"BP41/2","v":0},{"$f":"BO41/2","v":0},null,"co",{"$f":"BT41/2","v":-9.2549117140468696E-4},{"$f":"BS41/2","v":4.4753662656627169E-4},{"$f":"BV41/2","v":6.118438284391062E-4},{"$f":"BU41/2","v":-1.1183018321139968E-3},{"$f":"BX41/2","v":0},{"$f":"BW41/2","v":0},{"$f":"BZ41/2","v":0},{"$f":"BY41/2","v":0},{"$f":"CB41/2","v":0},{"$f":"CA41/2","v":0}]
[null,null,null,null,null,null,null,null,null,"dis",{"$f":"(K42)*K23*-1","v":2.7693511771331329E-4},{"$f":"(L42+M42)*L23*-1","v":-2.769351177133134E-4},{"$f":"(M42+L42)*M23*-1","v":-3.3462993390358703E-4},{"$f":"(N42+O42)*N23*-1","v":3.7860821347961149E-4},{"$f":"(O42+N42)*O23*-1","v":0},{"$f":"(P42+Q42)*P23*-1","v":0},{"$f":"(Q42+P42)*Q23*-1","v":0},{"$f":"(R42+S42)*R23*-1","v":0},{"$f":"(S42+R42)*S23*-1","v":0},{"$f":"(T42+U42)*T23*-1","v":0},null,"dis",{"$f":"(W42)*W23*-1","v":-1.9231605396757874E-4},{"$f":"(X42+Y42)*X23*-1","v":2.1759092728713307E-4},{"$f":"(Y42+X42)*Y23*-1","v":2.6292237047195245E-4},{"$f":"(Z42+AA42)*Z23*-1","v":-2.629223704719525E-4},{"$f":"(AA42+Z42)*AA23*-1","v":0},{"$f":"(AB42+AC42)*AB23*-1","v":0},{"$f":"(AC42+AB42)*AC23*-1","v":0},{"$f":"(AD42+AE42)*AD23*-1","v":0},{"$f":"(AE42+AD42)*AE23*-1","v":0},{"$f":"(AF42+AG42)*AF23*-1","v":0},null,"dis",{"$f":"(AI42)*AI23*-1","v":0},{"$f":"(AJ42+AK42)*AJ23*-1","v":0},{"$f":"(AK42+AJ42)*AK23*-1","v":0},{"$f":"(AL42+AM42)*AL23*-1","v":0},{"$f":"(AM42+AL42)*AM23*-1","v":0},{"$f":"(AN42+AO42)*AN23*-1","v":0},{"$f":"(AO42+AN42)*AO23*-1","v":0},{"$f":"(AP42+AQ42)*AP23*-1","v":0},{"$f":"(AQ42+AP42)*AQ23*-1","v":0},{"$f":"(AR42+AS42)*AR23*-1","v":0},null,"dis",{"$f":"(AU42)*AU23*-1","v":0},{"$f":"(AV42+AW42)*AV23*-1","v":0},{"$f":"(AW42+AV42)*AW23*-1","v":0},{"$f":"(AX42+AY42)*AX23*-1","v":0},{"$f":"(AY42+AX42)*AY23*-1","v":0},{"$f":"(AZ42+BA42)*AZ23*-1","v":0},{"$f":"(BA42+AZ42)*BA23*-1","v":0},{"$f":"(BB42+BC42)*BB23*-1","v":0},{"$f":"(BC42+BB42)*BC23*-1","v":0},{"$f":"(BD42+BE42)*BD23*-1","v":0},null,"dis",{"$f":"(BG42)*BG23*-1","v":0},{"$f":"(BH42+BI42)*BH23*-1","v":0},{"$f":"(BI42+BH42)*BI23*-1","v":0},{"$f":"(BJ42+BK42)*BJ23*-1","v":0},{"$f":"(BK42+BJ42)*BK23*-1","v":0},{"$f":"(BL42+BM42)*BL23*-1","v":0},{"$f":"(BM42+BL42)*BM23*-1","v":0},{"$f":"(BN42+BO42)*BN23*-1","v":0},{"$f":"(BO42+BN42)*BO23*-1","v":0},{"$f":"(BP42+BQ42)*BP23*-1","v":0},null,"dis",{"$f":"(BS42)*BS23*-1","v":3.0197391375928848E-4},{"$f":"(BT42+BU42)*BT23*-1","v":-2.1177730701107486E-4},{"$f":"(BU42+BT42)*BU23*-1","v":-2.558975793050488E-4},{"$f":"(BV42+BW42)*BV23*-1","v":4.1283967504694046E-4},{"$f":"(BW42+BV42)*BW23*-1","v":0},{"$f":"(BX42+BY42)*BX23*-1","v":0},{"$f":"(BY42+BX42)*BY23*-1","v":0},{"$f":"(BZ42+CA42)*BZ23*-1","v":0},{"$f":"(CA42+BZ42)*CA23*-1","v":0},{"$f":"(CB42+CC42)*CB23*-1","v":0}]
[null,null,null,null,null,null,null,null,null,"co",{"$f":"L43/2","v":-1.384675588566567E-4},{"$f":"K43/2","v":1.3846755885665664E-4},{"$f":"N43/2","v":1.8930410673980574E-4},{"$f":"M43/2","v":-1.6731496695179351E-4},{"$f":"P43/2","v":0},{"$f":"O43/2","v":0},{"$f":"R43/2","v":0},{"$f":"Q43/2","v":0},{"$f":"T43/2","v":0},{"$f":"S43/2","v":0},null,"co",{"$f":"X43/2","v":1.0879546364356654E-4},{"$f":"W43/2","v":-9.6158026983789372E-5},{"$f":"Z43/2","v":-1.3146118523597625E-4},{"$f":"Y43/2","v":1.3146118523597622E-4},{"$f":"AB43/2","v":0},{"$f":"AA43/2","v":0},{"$f":"AD43/2","v":0},{"$f":"AC43/2","v":0},{"$f":"AF43/2","v":0},{"$f":"AE43/2","v":0},null,"co",{"$f":"AJ43/2","v":0},{"$f":"AI43/2","v":0},{"$f":"AL43/2","v":0},{"$f":"AK43/2","v":0},{"$f":"AN43/2","v":0},{"$f":"AM43/2","v":0},{"$f":"AP43/2","v":0},{"$f":"AO43/2","v":0},{"$f":"AR43/2","v":0},{"$f":"AQ43/2","v":0},null,"co",{"$f":"AV43/2","v":0},{"$f":"AU43/2","v":0},{"$f":"AX43/2","v":0},{"$f":"AW43/2","v":0},{"$f":"AZ43/2","v":0},{"$f":"AY43/2","v":0},{"$f":"BB43/2","v":0},{"$f":"BA43/2","v":0},{"$f":"BD43/2","v":0},{"$f":"BC43/2","v":0},null,"co",{"$f":"BH43/2","v":0},{"$f":"BG43/2","v":0},{"$f":"BJ43/2","v":0},{"$f":"BI43/2","v":0},{"$f":"BL43/2","v":0},{"$f":"BK43/2","v":0},{"$f":"BN43/2","v":0},{"$f":"BM43/2","v":0},{"$f":"BP43/2","v":0},{"$f":"BO43/2","v":0},null,"co",{"$f":"BT43/2","v":-1.0588865350553743E-4},{"$f":"BS43/2","v":1.5098695687964424E-4},{"$f":"BV43/2","v":2.0641983752347023E-4},{"$f":"BU43/2","v":-1.279487896525244E-4},{"$f":"BX43/2","v":0},{"$f":"BW43/2","v":0},{"$f":"BZ43/2","v":0},{"$f":"BY43/2","v":0},{"$f":"CB43/2","v":0},{"$f":"CA43/2","v":0}]
[null,null,null,null,null,null,null,null,null,"dis",{"$f":"(K44)*K23*-1","v":4.5179891465820951E-5},{"$f":"(L44+M44)*L23*-1","v":-6.5523769413134024E-5},{"$f":"(M44+L44)*M23*-1","v":-7.9174554707536941E-5},{"$f":"(N44+O44)*N23*-1","v":6.1767095969334659E-5},{"$f":"(O44+N44)*O23*-1","v":0},{"$f":"(P44+Q44)*P23*-1","v":0},{"$f":"(Q44+P44)*Q23*-1","v":0},{"$f":"(R44+S44)*R23*-1","v":0},{"$f":"(S44+R44)*S23*-1","v":0},{"$f":"(T44+U44)*T23*-1","v":0},null,"dis",{"$f":"(W44)*W23*-1","v":-3.5498331016859002E-5},{"$f":"(X44+Y44)*X23*-1","v":4.5502617648009749E-5},{"$f":"(Y44+X44)*Y23*-1","v":5.4982329658011775E-5},{"$f":"(Z44+AA44)*Z23*-1","v":-4.8531077599606123E-5},{"$f":"(AA44+Z44)*AA23*-1","v":0},{"$f":"(AB44+AC44)*AB23*-1","v":0},{"$f":"(AC44+AB44)*AC23*-1","v":0},{"$f":"(AD44+AE44)*AD23*-1","v":0},{"$f":"(AE44+AD44)*AE23*-1","v":0},{"$f":"(AF44+AG44)*AF23*-1","v":0},null,"dis",{"$f":"(AI44)*AI23*-1","v":0},{"$f":"(AJ44+AK44)*AJ23*-1","v":0},{"$f":"(AK44+AJ44)*AK23*-1","v":0},{"$f":"(AL44+AM44)*AL23*-1","v":0},{"$f":"(AM44+AL44)*AM23*-1","v":0},{"$f":"(AN44+AO44)*AN23*-1","v":0},{"$f":"(AO44+AN44)*AO23*-1","v":0},{"$f":"(AP44+AQ44)*AP23*-1","v":0},{"$f":"(AQ44+AP44)*AQ23*-1","v":0},{"$f":"(AR44+AS44)*AR23*-1","v":0},null,"dis",{"$f":"(AU44)*AU23*-1","v":0},{"$f":"(AV44+AW44)*AV23*-1","v":0},{"$f":"(AW44+AV44)*AW23*-1","v":0},{"$f":"(AX44+AY44)*AX23*-1","v":0},{"$f":"(AY44+AX44)*AY23*-1","v":0},{"$f":"(AZ44+BA44)*AZ23*-1","v":0},{"$f":"(BA44+AZ44)*BA23*-1","v":0},{"$f":"(BB44+BC44)*BB23*-1","v":0},{"$f":"(BC44+BB44)*BC23*-1","v":0},{"$f":"(BD44+BE44)*BD23*-1","v":0},null,"dis",{"$f":"(BG44)*BG23*-1","v":0},{"$f":"(BH44+BI44)*BH23*-1","v":0},{"$f":"(BI44+BH44)*BI23*-1","v":0},{"$f":"(BJ44+BK44)*BJ23*-1","v":0},{"$f":"(BK44+BJ44)*BK23*-1","v":0},{"$f":"(BL44+BM44)*BL23*-1","v":0},{"$f":"(BM44+BL44)*BM23*-1","v":0},{"$f":"(BN44+BO44)*BN23*-1","v":0},{"$f":"(BO44+BN44)*BO23*-1","v":0},{"$f":"(BP44+BQ44)*BP23*-1","v":0},null,"dis",{"$f":"(BS44)*BS23*-1","v":3.4549882386491671E-5},{"$f":"(BT44+BU44)*BT23*-1","v":-7.1448031789267098E-5},{"$f":"(BU44+BT44)*BU23*-1","v":-8.6333038412031085E-5},{"$f":"(BV44+BW44)*BV23*-1","v":4.7234418495894001E-5},{"$f":"(BW44+BV44)*BW23*-1","v":0},{"$f":"(BX44+BY44)*BX23*-1","v":0},{"$f":"(BY44+BX44)*BY23*-1","v":0},{"$f":"(BZ44+CA44)*BZ23*-1","v":0},{"$f":"(CA44+BZ44)*CA23*-1","v":0},{"$f":"(CB44+CC44)*CB23*-1","v":0}]
[null,null,null,null,null,null,null,null,null,"sum",{"$f":"SUM(K24:K45)","v":-2888.5859251637457},{"$f":"SUM(L24:L45)","v":3599.3835044369298},{"$f":"SUM(M24:M45)","v":-1014.6607067806401},{"$f":"SUM(N24:N45)","v":-352.58120168199309},{"$f":"SUM(O24:O45)","v":0},0,0,0,0,0,null,"sum",{"$f":"SUM(W24:W45)","v":220.39619472954627},600.90165742991826,-2428.9351764174598,1925.0127047037181,0,0,0,0,0,0,null,"sum",{"$f":"SUM(AI24:AI45)","v":0},0,0,0,0,0,0,0,0,0,null,"sum",{"$f":"SUM(AU24:AU45)","v":0},0,0,0,0,0,0,0,0,0,null,"sum",{"$f":"SUM(BG24:BG45)","v":0},0,0,0,0,0,0,0,0,0,null,"sum",{"$f":"SUM(BS24:BS45)","v":-9521.7751164514557},14989.252930583649,-12288.910798863806,5611.4222264696873,0,0,0,0,0,0]
[null,null,null,null,null,null,null,null,null,"โมเมนต์บวก span 1 =",{"$f":"K111","v":10804.014821140285},null,"โมเมนต์บวก span 2 =",{"$f":"W111","v":7253.058073242828},"โมเมนต์บวก span 3 =",{"$f":"AI111","v":0},"โมเมนต์บวก span 4 =",{"$f":"AU111","v":0},"โมเมนต์บวก span 5 =",{"$f":"BG111","v":0}]
[null,null,null,null,null,null,null,null,null,"โมเมนต์ลบ span 1 ขวา =",{"$f":"N110","v":-15694.218984265002},null,"โมเมนต์ลบ span 2 ขวา =",{"$f":"AC111","v":-5144.1913729377202},"โมเมนต์ลบ span 3 ขวา =",{"$f":"AO110","v":0},"โมเมนต์ลบ span 4 ขวา =",{"$f":"BA110","v":0},"โมเมนต์ลบ span 5 ขวา =",{"$f":"BM110","v":0}]
[null,null,null,null,null,null,null,null,null,"โมเมนต์ลบ span 1 ซ้าย =",{"$f":"-K107+0.5*K109*Sheet1!D10-0.25*'l4'!E2*('l4'!B7+'l4'!E7)*Sheet1!D10^2","v":-9354.3035547287127},null,"โมเมนต์ลบ span 2 ซ้าย =",{"$f":"Z111","v":-12711.060563959087},"โมเมนต์ลบ span 3 ซ้าย =",{"$f":"AL110","v":0},"โมเมนต์ลบ span 4 ซ้าย =",{"$f":"AX110","v":0},"โมเมนต์ลบ span 5 ซ้าย =",{"$f":"BJ110","v":0}]
[null,null,null,null,null,null,null,null,null,"span1",null,null,"span2",null,"span3",null,"span4",null,"span5"]
[null,null,null,null,null,null,"ทิศทาง","ช่วงเสา","สัมประสิทธ์ร้อยละ","แถบเสา","แถบกลาง",null,"แถบเสา","แถบกลาง","แถบเสา","แถบกลาง","แถบเสา","แถบกลาง","แถบเสา","แถบกลาง"]
[null,null,null,null,null,null,null,"โมเมนต์ลบขวา",0.75,{"$f":"IF((-K48>-N49),(K48),(N49))*I52","v":-11770.664238198751},{"$f":"IF((-K48>-N49),(K48),(N49))-J52","v":-3923.554746066251},null,{"$f":"IF((-N48>-P49),(N48),(P49))*IF(Sheet1!$B$4=2,(I54),(I52))","v":-5144.1913729377202},{"$f":"IF((-N48>-P49),(N48),(P49))-M52","v":0},{"$f":"IF(-P48>-R49,(P48),(R49))*IF(Sheet1!$B$3=3,(1),(0.75))","v":0},{"$f":"IF(-P48>-R49,(P48),(R49))*IF(Sheet1!$B$4=3,(1),(0.75))-O52","v":0},{"$f":"IF(-R48>-T49,(R48),(T49))*IF(Sheet1!$B$4=4,(1),(0.75))","v":0},{"$f":"IF(-R48>-T49,(R48),(T49))*IF(Sheet1!$B$4=4,(1),(0.75))-Q52","v":0},{"$f":"IF(-T48>-V49,(T48),(V49))*IF(Sheet1!$B$4=5,(1),(0.75))","v":0},{"$f":"IF(-T48>-V49,(T48),(V49))*IF(Sheet1!$B$4=5,(1),(0.75))-S52","v":0}]
[null,null,null,null,null,null,null,"โมเมนต์กลางช่วงโมเมนต์บวก",0.6,{"$f":"K47*$I$53","v":6482.4088926841705},{"$f":"K47-J53","v":4321.6059284561143},null,{"$f":"N47*$I$53","v":4351.8348439456968},{"$f":"N47-M53","v":2901.2232292971312},{"$f":"P47*$I$53","v":0},{"$f":"P47-O53","v":0},{"$f":"R47*$I$53","v":0},{"$f":"R47-Q53","v":0},{"$f":"T47*$I$53","v":0},{"$f":"T47-S53","v":0}]
[null,null,null,null,null,null,null,"โมเมนต์ลบซ้าย",1,{"$f":"K49*I54","v":-9354.3035547287127},{"$f":"K49-J54","v":0},null,{"$f":"IF((-K48>-N49),(K48),(N49))*I52","v":-11770.664238198751},{"$f":"IF((-K48>-N49),(K48),(N49))-M54","v":-3923.554746066251},{"$f":"IF((-N48>-P49),(N48),(P49))*IF(Sheet1!$B$4<3,(0),(0.75))","v":0},{"$f":"IF(O54=0,(0),(IF((-N48>-P49),(N48),(P49))-O54))","v":0},{"$f":"IF((-P48>-R49),(P48),(R49))*IF(Sheet1!$B$4<4,(0),(0.75))","v":0},{"$f":"IF(Q54=0,(0),(IF((-P48>-R49),(P48),(R49))-Q54))","v":0},{"$f":"IF((-R48>-T49),(R48),(T49))*IF(Sheet1!$B$4<5,(0),(0.75))","v":0},{"$f":"IF(S54=0,(0),(IF((-R48>-T49),(R48),(T49))-S54))","v":0}]
[]
[null,null,null,null,null,null,"เหล็กเสริมในแผ่นพื้น",null,null,"span l1",null,null,"span l2",null,"span l3",null,"span l4",null,"span l5"]
[null,null,null,null,null,null,null,"รายการ","หน่วย","แถบเสา","แถบกลาง",null,"แถบเสา","แถบกลาง","แถบเสา","แถบกลาง","แถบเสา","แถบกลาง","แถบเสา","แถบกลาง"]
[null,null,null,null,null,null,null,"ความกว้าง","m",{"$f":"E2*0.5","v":1.25},{"$f":"$E$2-J58","v":1.25},null,{"$f":"J58","v":1.25},{"$f":"$E$2-M58","v":1.25},{"$f":"M58","v":1.25},{"$f":"$E$2-O58","v":1.25},1.25,{"$f":"$E$2-Q58","v":1.25},1.25,{"$f":"$E$2-S58","v":1.25}]
[null,null,null,null,null,null,null,"โมเมนต์ลบขวา","kg-m/m",{"$f":"J52/(0.9*J58)","v":-10462.812656176668},{"$f":"K52/(K58*0.9)","v":-3487.6042187255566},null,{"$f":"M52/(0.9*M58)","v":-4572.6145537224183},{"$f":"N52/(0.9*N58)","v":0},{"$f":"O52/(0.9*O58)","v":0},{"$f":"P52/(0.9*P58)","v":0},{"$f":"Q52/(0.9*Q58)","v":0},0,{"$f":"S52/(0.9*S58)","v":0},{"$f":"T52/(0.9*T58)","v":0}]
[null,null,null,null,null,null,null,"Rn","kg/m^2",{"$f":"J59/(((Sheet1!B16)-(Sheet1!B13/100))^2)","v":-206672.84259114403},{"$f":"K59/(((Sheet1!B16)-(Sheet1!B13/100))^2)","v":-68890.947530381367},null,{"$f":"M59/(((Sheet1!B16)-(Sheet1!B13/100))^2)","v":-90323.250443899611},{"$f":"N59/(((Sheet1!B16)-(Sheet1!B13/100))^2)","v":0},{"$f":"O59/(((Sheet1!B16)-(Sheet1!B13/100))^2)","v":0},{"$f":"P59/(((Sheet1!B16)-(Sheet1!B13/100))^2)","v":0},{"$f":"Q59/(((Sheet1!B16)-(Sheet1!B13/100))^2)","v":0},{"$f":"R59/(((Sheet1!B16)-(Sheet1!B13/100))^2)","v":0},{"$f":"S59/(((Sheet1!B16)-(Sheet1!B13/100))^2)","v":0},{"$f":"T59/(((Sheet1!B16)-(Sheet1!B13/100))^2)","v":0}]
[null,null,null,null,null,null,null,"p",null,{"$f":"ABS((0.85*Sheet1!B10/Sheet1!B9)*(1-(SQRT(1-(2*J60/(0.85*Sheet1!B10*100^2))))))","v":6.5195034261446606E-3},{"$f":"ABS((0.85*Sheet1!B10/Sheet1!B9)*(1-(SQRT(1-(2*K60/(0.85*Sheet1!B10*100^2))))))","v":2.224981966119114E-3},null,{"$f":"ABS((0.85*Sheet1!B10/Sheet1!B9)*(1-(SQRT(1-(2*M60/(0.85*Sheet1!B10*100^2))))))","v":2.9061932452596039E-3},{"$f":"ABS((0.85*Sheet1!B10/Sheet1!B9)*(1-(SQRT(1-(2*N60/(0.85*Sheet1!B10*100^2))))))","v":0},{"$f":"ABS((0.85*Sheet1!B10/Sheet1!B9)*(1-(SQRT(1-(2*O60/(0.85*Sheet1!B10*100^2))))))","v":0},{"$f":"ABS((0.85*Sheet1!B10/Sheet1!B9)*(1-(SQRT(1-(2*P60/(0.85*Sheet1!B10*100^2))))))","v":0},{"$f":"ABS((0.85*Sheet1!B10/Sheet1!B9)*(1-(SQRT(1-(2*Q60/(0.85*Sheet1!B10*100^2))))))","v":0},{"$f":"ABS((0.85*Sheet1!B10/Sheet1!B9)*(1-(SQRT(1-(2*R60/(0.85*Sheet1!B10*100^2))))))","v":0},{"$f":"ABS((0.85*Sheet1!B10/Sheet1!B9)*(1-(SQRT(1-(2*S60/(0.85*Sheet1!B10*100^2))))))","v":0},{"$f":"ABS((0.85*Sheet1!B10/Sheet1!B9)*(1-(SQRT(1-(2*T60/(0.85*Sheet1!B10*100^2))))))","v":0}]
[null,null,null,null,null,null,null,"As-","mm^2/m",{"$f":"IF(J53=0,(0),(IF(J61>(0.0018*4000/Sheet1!$B$9),(ABS(J61*1000*(Sheet1!$B$16*1000-Sheet1!$B$13*10)*-1)),(ABS((0.0018*4000/Sheet1!$B$9)*1000*(Sheet1!$B$16*1000-Sheet1!$B$13*10)*-1)))))","v":1466.8882708825486},{"$f":"IF(K53=0,(0),(IF(K61>(0.0018*4000/Sheet1!$B$9),(ABS(K61*1000*(Sheet1!$B$16*1000-Sheet1!$B$13*10)*-1)),(ABS((0.0018*4000/Sheet1!$B$9)*1000*(Sheet1!$B$16*1000-Sheet1!$B$13*10)*-1)))))","v":529.75801177240021},null,{"$f":"IF(M53=0,(0),(IF(M61>(0.0018*4000/Sheet1!$B$9),(ABS(M61*1000*(Sheet1!$B$16*1000-Sheet1!$B$13*10)*-1)),(ABS((0.0018*4000/Sheet1!$B$9)*1000*(Sheet1!$B$16*1000-Sheet1!$B$13*10)*-1)))))","v":653.89348018341082},{"$f":"IF(N53=0,(0),(IF(N61>(0.0018*4000/Sheet1!$B$9),(ABS(N61*1000*(Sheet1!$B$16*1000-Sheet1!$B$13*10)*-1)),(ABS((0.0018*4000/Sheet1!$B$9)*1000*(Sheet1!$B$16*1000-Sheet1!$B$13*10)*-1)))))","v":529.75801177240021},{"$f":"IF(O53=0,(0),(IF(O61>(0.0018*4000/Sheet1!$B$9),(ABS(O61*1000*(Sheet1!$B$16*1000-Sheet1!$B$13*10)*-1)),(ABS((0.0018*4000/Sheet1!$B$9)*1000*(Sheet1!$B$16*1000-Sheet1!$B$13*10)*-1)))))","v":0},{"$f":"IF(P53=0,(0),(IF(P61>(0.0018*4000/Sheet1!$B$9),(ABS(P61*1000*(Sheet1!$B$16*1000-Sheet1!$B$13*10)*-1)),(ABS((0.0018*4000/Sheet1!$B$9)*1000*(Sheet1!$B$16*1000-Sheet1!$B$13*10)*-1)))))","v":0},{"$f":"IF(Q53=0,(0),(IF(Q61>(0.0018*4000/Sheet1!$B$9),(ABS(Q61*1000*(Sheet1!$B$16*1000-Sheet1!$B$13*10)*-1)),(ABS((0.0018*4000/Sheet1!$B$9)*1000*(Sheet1!$B$16*1000-Sheet1!$B$13*10)*-1)))))","v":0},{"$f":"IF(R53=0,(0),(IF(R61>(0.0018*4000/Sheet1!$B$9),(ABS(R61*1000*(Sheet1!$B$16*1000-Sheet1!$B$13*10)*-1)),(ABS((0.0018*4000/Sheet1!$B$9)*1000*(Sheet1!$B$16*1000-Sheet1!$B$13*10)*-1)))))","v":0},{"$f":"IF(S53=0,(0),(IF(S61>(0.0018*4000/Sheet1!$B$9),(ABS(S61*1000*(Sheet1!$B$16*1000-Sheet1!$B$13*10)*-1)),(ABS((0.0018*4000/Sheet1!$B$9)*1000*(Sheet1!$B$16*1000-Sheet1!$B$13*10)*-1)))))","v":0},{"$f":"IF(T53=0,(0),(IF(T61>(0.0018*4000/Sheet1!$B$9),(ABS(T61*1000*(Sheet1!$B$16*1000-Sheet1!$B$13*10)*-1)),(ABS((0.0018*4000/Sheet1!$B$9)*1000*(Sheet1!$B$16*1000-Sheet1!$B$13*10)*-1)))))","v":0}]
[null,null,null,null,null,null,null,"โมเมนต์บวกกลาง","kg-m/m",{"$f":"J53/(0.9*J58)","v":5762.1412379414851},{"$f":"K53/(0.9*K58)","v":3841.4274919609907},null,{"$f":"M53/(0.9*M58)","v":3868.2976390628414},{"$f":"N53/(0.9*N58)","v":2578.865092708561},{"$f":"O53/(0.9*O58)","v":0},0,0,{"$f":"R53/(0.9*R58)","v":0},0,{"$f":"T53/(0.9*T58)","v":0}]
[null,null,null,null,null,null,null,"Rn","kg/m^2",{"$f":"J63/(((Sheet1!B16)-(Sheet1!B13/100))^2)","v":113820.07383588118},{"$f":"K63/(((Sheet1!B16)-(Sheet1!B13/100))^2)","v":75880.049223920796},null,{"$f":"M63/(((Sheet1!B16)-(Sheet1!B13/100))^2)","v":76410.817561735137},{"$f":"N63/(((Sheet1!B16)-(Sheet1!B13/100))^2)","v":50940.545041156758},{"$f":"O63/(((Sheet1!B16)-(Sheet1!B13/100))^2)","v":0},{"$f":"P63/(((Sheet1!B16)-(Sheet1!B13/100))^2)","v":0},{"$f":"Q63/(((Sheet1!B16)-(Sheet1!B13/100))^2)","v":0},{"$f":"R63/(((Sheet1!B16)-(Sheet1!B13/100))^2)","v":0},{"$f":"S63/(((Sheet1!B16)-(Sheet1!B13/100))^2)","v":0},{"$f":"T63/(((Sheet1!B16)-(Sheet1!B13/100))^2)","v":0}]
[null,null,null,null,null,null,null,"p",null,{"$f":"ABS((0.85*Sheet1!B10/Sheet1!B9)*(1-(SQRT(1-(2*J64/(0.85*Sheet1!B10*100^2))))))","v":3.8033584175747068E-3},{"$f":"(0.85*Sheet1!B10/Sheet1!B9)*(1-(SQRT(1-(2*K64/(0.85*Sheet1!B10*100^2)))))","v":2.5169739478371248E-3},null,{"$f":"ABS((0.85*Sheet1!B10/Sheet1!B9)*(1-(SQRT(1-(2*M64/(0.85*Sheet1!B10*100^2))))))","v":2.5348379625648398E-3},{"$f":"ABS((0.85*Sheet1!B10/Sheet1!B9)*(1-(SQRT(1-(2*N64/(0.85*Sheet1!B10*100^2))))))","v":1.6817104059886538E-3},{"$f":"ABS((0.85*Sheet1!B10/Sheet1!B9)*(1-(SQRT(1-(2*O64/(0.85*Sheet1!B10*100^2))))))","v":0},{"$f":"ABS((0.85*Sheet1!B10/Sheet1!B9)*(1-(SQRT(1-(2*P64/(0.85*Sheet1!B10*100^2))))))","v":0},{"$f":"ABS((0.85*Sheet1!B10/Sheet1!B9)*(1-(SQRT(1-(2*Q64/(0.85*Sheet1!B10*100^2))))))","v":0},{"$f":"ABS((0.85*Sheet1!B10/Sheet1!B9)*(1-(SQRT(1-(2*R64/(0.85*Sheet1!B10*100^2))))))","v":0},{"$f":"ABS((0.85*Sheet1!B10/Sheet1!B9)*(1-(SQRT(1-(2*S64/(0.85*Sheet1!B10*100^2))))))","v":0},{"$f":"ABS((0.85*Sheet1!B10/Sheet1!B9)*(1-(SQRT(1-(2*T64/(0.85*Sheet1!B10*100^2))))))","v":0}]
[null,null,null,null,null,null,null,"As+","mm^2/m",{"$f":"IF(J53=0,(0),(IF(J65>(0.0018*4000/Sheet1!$B$9),(ABS(J65*1000*(Sheet1!$B$16*1000-Sheet1!$B$13*10)*-1)),(ABS((0.0018*4000/Sheet1!$B$9)*1000*(Sheet1!$B$16*1000-Sheet1!$B$13*10)*-1)))))","v":855.75564395430899},{"$f":"IF(K53=0,(0),(IF(K65>(0.0018*4000/Sheet1!$B$9),(ABS(K65*1000*(Sheet1!$B$16*1000-Sheet1!$B$13*10)*-1)),(ABS((0.0018*4000/Sheet1!$B$9)*1000*(Sheet1!$B$16*1000-Sheet1!$B$13*10)*-1)))))","v":566.31913826335312},null,{"$f":"IF(M53=0,(0),(IF(M65>(0.0018*4000/Sheet1!$B$9),(ABS(M65*1000*(Sheet1!$B$16*1000-Sheet1!$B$13*10)*-1)),(ABS((0.0018*4000/Sheet1!$B$9)*1000*(Sheet1!$B$16*1000-Sheet1!$B$13*10)*-1)))))","v":570.33854157708902},{"$f":"IF(N53=0,(0),(IF(N65>(0.0018*4000/Sheet1!$B$9),(ABS(N65*1000*(Sheet1!$B$16*1000-Sheet1!$B$13*10)*-1)),(ABS((0.0018*4000/Sheet1!$B$9)*1000*(Sheet1!$B$16*1000-Sheet1!$B$13*10)*-1)))))","v":529.75801177240021},{"$f":"IF(O53=0,(0),(IF(O65>(0.0018*4000/Sheet1!$B$9),(ABS(O65*1000*(Sheet1!$B$16*1000-Sheet1!$B$13*10)*-1)),(ABS((0.0018*4000/Sheet1!$B$9)*1000*(Sheet1!$B$16*1000-Sheet1!$B$13*10)*-1)))))","v":0},{"$f":"IF(P53=0,(0),(IF(P65>(0.0018*4000/Sheet1!$B$9),(ABS(P65*1000*(Sheet1!$B$16*1000-Sheet1!$B$13*10)*-1)),(ABS((0.0018*4000/Sheet1!$B$9)*1000*(Sheet1!$B$16*1000-Sheet1!$B$13*10)*-1)))))","v":0},{"$f":"IF(Q53=0,(0),(IF(Q65>(0.0018*4000/Sheet1!$B$9),(ABS(Q65*1000*(Sheet1!$B$16*1000-Sheet1!$B$13*10)*-1)),(ABS((0.0018*4000/Sheet1!$B$9)*1000*(Sheet1!$B$16*1000-Sheet1!$B$13*10)*-1)))))","v":0},{"$f":"IF(R53=0,(0),(IF(R65>(0.0018*4000/Sheet1!$B$9),(ABS(R65*1000*(Sheet1!$B$16*1000-Sheet1!$B$13*10)*-1)),(ABS((0.0018*4000/Sheet1!$B$9)*1000*(Sheet1!$B$16*1000-Sheet1!$B$13*10)*-1)))))","v":0},{"$f":"IF(S53=0,(0),(IF(S65>(0.0018*4000/Sheet1!$B$9),(ABS(S65*1000*(Sheet1!$B$16*1000-Sheet1!$B$13*10)*-1)),(ABS((0.0018*4000/Sheet1!$B$9)*1000*(Sheet1!$B$16*1000-Sheet1!$B$13*10)*-1)))))","v":0},{"$f":"IF(T53=0,(0),(IF(T65>(0.0018*4000/Sheet1!$B$9),(ABS(T65*1000*(Sheet1!$B$16*1000-Sheet1!$B$13*10)*-1)),(ABS((0.0018*4000/Sheet1!$B$9)*1000*(Sheet1!$B$16*1000-Sheet1!$B$13*10)*-1)))))","v":0}]
[null,null,null,null,null,null,null,"โมเมนต์ลบซ้าย","kg-m/m",{"$f":"J54/(0.9*J58)","v":-8314.9364930921893},{"$f":"K54/(0.9*K58)","v":0},null,{"$f":"M54/(0.9*M58)","v":-10462.812656176668},{"$f":"N54/(0.9*N58)","v":-3487.6042187255566},{"$f":"O54/(0.9*O58)","v":0},{"$f":"P54/(0.9*P58)","v":0},0,0,0,0]
[null,null,null,null,null,null,null,"Rn","kg/m^2",{"$f":"J67/(((Sheet1!B16)-(Sheet1!B13/100))^2)","v":-164245.65912280866},{"$f":"K67/(((Sheet1!B16)-(Sheet1!B13/100))^2)","v":0},null,{"$f":"M67/(((Sheet1!B16)-(Sheet1!B13/100))^2)","v":-206672.84259114403},{"$f":"N67/(((Sheet1!B16)-(Sheet1!B13/100))^2)","v":-68890.947530381367},{"$f":"O67/(((Sheet1!B16)-(Sheet1!B13/100))^2)","v":0},{"$f":"P67/(((Sheet1!B16)-(Sheet1!B13/100))^2)","v":0},{"$f":"Q67/(((Sheet1!B16)-(Sheet1!B13/100))^2)","v":0},{"$f":"R67/(((Sheet1!B16)-(Sheet1!B13/100))^2)","v":0},{"$f":"S67/(((Sheet1!B16)-(Sheet1!B13/100))^2)","v":0},{"$f":"T67/(((Sheet1!B16)-(Sheet1!B13/100))^2)","v":0}]
[null,null,null,null,null,null,null,"p",null,{"$f":"ABS((0.85*Sheet1!B10/Sheet1!B9)*(1-(SQRT(1-(2*J68/(0.85*Sheet1!B10*100^2))))))","v":5.2179631106158038E-3},{"$f":"(0.85*Sheet1!B10/Sheet1!B9)*(1-(SQRT(1-(2*K68/(0.85*Sheet1!B10*100^2)))))","v":0},null,{"$f":"ABS((0.85*Sheet1!B10/Sheet1!B9)*(1-(SQRT(1-(2*M68/(0.85*Sheet1!B10*100^2))))))","v":6.5195034261446606E-3},{"$f":"ABS((0.85*Sheet1!B10/Sheet1!B9)*(1-(SQRT(1-(2*N68/(0.85*Sheet1!B10*100^2))))))","v":2.224981966119114E-3},{"$f":"ABS((0.85*Sheet1!B10/Sheet1!B9)*(1-(SQRT(1-(2*O68/(0.85*Sheet1!B10*100^2))))))","v":0},{"$f":"ABS((0.85*Sheet1!B10/Sheet1!B9)*(1-(SQRT(1-(2*P68/(0.85*Sheet1!B10*100^2))))))","v":0},{"$f":"ABS((0.85*Sheet1!B10/Sheet1!B9)*(1-(SQRT(1-(2*Q68/(0.85*Sheet1!B10*100^2))))))","v":0},{"$f":"ABS((0.85*Sheet1!B10/Sheet1!B9)*(1-(SQRT(1-(2*R68/(0.85*Sheet1!B10*100^2))))))","v":0},{"$f":"ABS((0.85*Sheet1!B10/Sheet1!B9)*(1-(SQRT(1-(2*S68/(0.85*Sheet1!B10*100^2))))))","v":0},{"$f":"ABS((0.85*Sheet1!B10/Sheet1!B9)*(1-(SQRT(1-(2*T68/(0.85*Sheet1!B10*100^2))))))","v":0}]
[null,null,null,null,null,null,null,"As-","mm^2/m",{"$f":"IF(J53=0,(0),(IF(J69>(0.0018*4000/Sheet1!$B$9),(ABS(J69*1000*(Sheet1!$B$16*1000-Sheet1!$B$13*10)*-1)),(ABS((0.0018*4000/Sheet1!$B$9)*1000*(Sheet1!$B$16*1000-Sheet1!$B$13*10)*-1)))))","v":1174.0416998885557},{"$f":"IF(K53=0,(0),(IF(K69>(0.0018*4000/Sheet1!$B$9),(ABS(K69*1000*(Sheet1!$B$16*1000-Sheet1!$B$13*10)*-1)),(ABS((0.0018*4000/Sheet1!$B$9)*1000*(Sheet1!$B$16*1000-Sheet1!$B$13*10)*-1)))))","v":529.75801177240021},null,{"$f":"IF(M53=0,(0),(IF(M69>(0.0018*4000/Sheet1!$B$9),(ABS(M69*1000*(Sheet1!$B$16*1000-Sheet1!$B$13*10)*-1)),(ABS((0.0018*4000/Sheet1!$B$9)*1000*(Sheet1!$B$16*1000-Sheet1!$B$13*10)*-1)))))","v":1466.8882708825486},{"$f":"IF(N53=0,(0),(IF(N69>(0.0018*4000/Sheet1!$B$9),(ABS(N69*1000*(Sheet1!$B$16*1000-Sheet1!$B$13*10)*-1)),(ABS((0.0018*4000/Sheet1!$B$9)*1000*(Sheet1!$B$16*1000-Sheet1!$B$13*10)*-1)))))","v":529.75801177240021},{"$f":"IF(O53=0,(0),(IF(O69>(0.0018*4000/Sheet1!$B$9),(ABS(O69*1000*(Sheet1!$B$16*1000-Sheet1!$B$13*10)*-1)),(ABS((0.0018*4000/Sheet1!$B$9)*1000*(Sheet1!$B$16*1000-Sheet1!$B$13*10)*-1)))))","v":0},{"$f":"IF(P53=0,(0),(IF(P69>(0.0018*4000/Sheet1!$B$9),(ABS(P69*1000*(Sheet1!$B$16*1000-Sheet1!$B$13*10)*-1)),(ABS((0.0018*4000/Sheet1!$B$9)*1000*(Sheet1!$B$16*1000-Sheet1!$B$13*10)*-1)))))","v":0},{"$f":"IF(Q53=0,(0),(IF(Q69>(0.0018*4000/Sheet1!$B$9),(ABS(Q69*1000*(Sheet1!$B$16*1000-Sheet1!$B$13*10)*-1)),(ABS((0.0018*4000/Sheet1!$B$9)*1000*(Sheet1!$B$16*1000-Sheet1!$B$13*10)*-1)))))","v":0},{"$f":"IF(R53=0,(0),(IF(R69>(0.0018*4000/Sheet1!$B$9),(ABS(R69*1000*(Sheet1!$B$16*1000-Sheet1!$B$13*10)*-1)),(ABS((0.0018*4000/Sheet1!$B$9)*1000*(Sheet1!$B$16*1000-Sheet1!$B$13*10)*-1)))))","v":0},{"$f":"IF(S53=0,(0),(IF(S69>(0.0018*4000/Sheet1!$B$9),(ABS(S69*1000*(Sheet1!$B$16*1000-Sheet1!$B$13*10)*-1)),(ABS((0.0018*4000/Sheet1!$B$9)*1000*(Sheet1!$B$16*1000-Sheet1!$B$13*10)*-1)))))","v":0},{"$f":"IF(T53=0,(0),(IF(T69>(0.0018*4000/Sheet1!$B$9),(ABS(T69*1000*(Sheet1!$B$16*1000-Sheet1!$B$13*10)*-1)),(ABS((0.0018*4000/Sheet1!$B$9)*1000*(Sheet1!$B$16*1000-Sheet1!$B$13*10)*-1)))))","v":0}]
[]
[null,null,null,null,null,null,"เช็ค punching shear  "]
[null,null,null,null,null,null,null,null,null,null,null,null,null,null,null,null,null,"เช็ค punching shear  "]
[null,null,null,null,null,null,"V",null,"kg",{"$f":"$K$109","v":16445.287434432437},null,null,{"$f":"$N$109+$Z$109","v":34913.826131441572},{"$f":"$AC$110+$AL$109","v":13126.217791178427},{"$f":"AO109+AX109","v":0},{"$f":"BA109+BJ109","v":0},{"$f":"BM109","v":0}]
[null,null,null,null,null,null,"V(max) ",null,"kg",{"$f":"MAX(J74,M74,N74,O74,P74,Q74)","v":34913.826131441572}]
[null,null,null,null,null,null,"Vc",null,"kg",{"$f":"1.06*SQRT(Sheet1!$B$10)","v":18.961856449198219},null,null,null,null,null,null,null,"Vmax","kg",{"$f":"IF(Sheet1!$B$4=2,(MAX($J$74,$N$74)),(IF(Sheet1!$B$4=3,(MAX($J$74,O74)),(IF(Sheet1!$B$4=4,(MAX($J$74,P74)),(IF(Sheet1!$B$4=5,(MAX($J$74,Q74)),(0))))))))","v":16445.287434432437}]
[null,null,null,null,null,null,"b1",null,"cm",{"$f":"(Sheet1!D10*100)+(Sheet1!$B$16*100)-Sheet1!$B$13","v":62.5},null,null,null,null,null,null,null,"Vc","kg",{"$f":"1.06*SQRT(Sheet1!$B$10)","v":18.961856449198219}]
[null,null,null,null,null,null,"b2",null,"cm",{"$f":"(Sheet1!$D$9*100)+(Sheet1!$B$16*100)-Sheet1!$B$13","v":72.5},null,null,null,null,null,null,null,"b1","cm",{"$f":"(Sheet1!$D$10*100)+((Sheet1!$B$16*100)-Sheet1!$B$13)/2","v":51.25}]
[null,null,null,null,null,null,"d",null,"cm",{"$f":"((Sheet1!$B$16*100)-Sheet1!$B$13)","v":22.5},null,null,null,null,null,null,null,"b2","cm",{"$f":"(Sheet1!$D$9*100)+(Sheet1!$B$16*100)-Sheet1!$B$13","v":72.5}]
[null,null,null,null,null,null,"Ac",null,"cm^2",{"$f":"(J77*J79*2)+(J78*J79*2)","v":6075},null,null,null,null,null,null,null,"d","cm",{"$f":"((Sheet1!$B$16*100)-Sheet1!$B$13)","v":22.5}]
[null,null,null,null,null,null,"X1",null,"cm",{"$f":"J77/2","v":31.25},null,null,null,null,null,null,null,"Ac","cm^2",{"$f":"2*($T$78*$T$80)+($T$79*$T$80)","v":3937.5}]
[null,null,null,null,null,null,"Jc",null,"cm^4",{"$f":"(J77^3*J79/6)+(J77*J79^3/6)+(J78*J77^2*J79/2)","v":4220214.84375},null,null,null,null,null,null,null,"X2,X1","cm",{"$f":"$T$78^2*$T$80/$T$81","v":15.008928571428571},{"$f":"T78-T82","v":36.241071428571431}]
[null,null,null,null,null,null,"Mu",null,"kg*m",{"$f":"IF(M74=J75,ABS(N108-Z107),(IF(N74=J75,ABS(AC108-AL107),(IF(R73=J75,ABS(AO108-AX107),(IF(S74=J75,ABS(BA108-BJ107),(0))))))))","v":3457.0314103885903},null,null,null,null,null,null,null,"J","cm^4",{"$f":"(T78*T80^3/6)+(2/3*(U82^3+T82^3)*T80)+T79*T82^2*T80","v":1229472.3423549107}]
[null,null,null,null,null,null,"Mub",null,"kg*m",{"$f":"J83/(1+(2/3)*SQRT(J77/J78))","v":2135.3085804964362},null,null,null,null,null,null,null,"Mu","kg*m",{"$f":"IF(Sheet1!$B$4=2,(MAX(K107,AC108)),(IF(Sheet1!$B$4=3,(MAX(K107,AO108)),(IF(Sheet1!$B$4=4,(MAX(K107,BA108)),(IF(Sheet1!$B$4=5,(MAX(K107,BM108)),(0))))))))","v":12410.361041615201}]
[null,null,null,null,null,null,"Muv",null,"kg*m",{"$f":"J83-J84","v":1321.7228298921541},null,null,null,null,null,null,null,"Mub","kg*m",{"$f":"T84/(1+2/3*SQRT(T78/T79))","v":7952.7379479920337}]
[null,null,null,null,null,null,"Vu2",null,"kg/cm^2",{"$f":"(J75/J80)+((J85*100)*J81/J82)","v":6.7258459902660395},null,null,null,null,null,null,null,"Muv","kg*m",{"$f":"T84-T85","v":4457.6230936231668}]
[null,null,null,null,null,null,"Vc",null,"kg/cm^2",{"$f":"1.06*SQRT(Sheet1!$B$10)","v":18.961856449198219},null,null,null,null,null,null,null,"Vu","kg/cm^2",{"$f":"T76/T81+(T86*100*T82/T83)","v":9.6182768816818722}]
[null,null,null,null,null,null,null,null,null,null,null,null,null,null,null,null,null,"Vc","kg/cm^2",{"$f":"1.06*SQRT(Sheet1!$B$10)","v":18.961856449198219}]
[]
[]
[]
[]
[]
[]
[]
[]
[]
[]
[]
[]
[]
[]
[]
[]
[]
[null,null,null,null,null,null,null,null,null,"โมเมนต์บวก span 1",null,null,"โมเมนต์ลบ span 1  ขวา",null,null,"โมเมนต์ลบ span 1 ซ้าย",null,null,null,null,null,"โมเมนต์บวก span 2",null,null,"โมเมนต์ลบ span 2  ซ้าย",null,null,"โมเมนต์ลบspan 2 ขวา",null,null,null,null,null,"โมเมนต์บวกสแปน 3",null,null,"โมเมนต์ลบspan 3 ซ้าย",null,null,"โมเมนต์ลบspan 3 ขวา",null,null,null,null,null,"โมเมนต์บวกสแปน 4",null,null,"โมเมนต์ลบสแปน 4 ซ้าย",null,null,"โมเมนต์ลบสแปน 4 ขวา",null,null,null,null,null,"โมเมนต์บวกสแปน 5",null,null,"โมเมนต์ลบ span 5 ซ้าย",null,null,"โมเมนต์ลบ span 5 ขวา"]
[null,null,null,null,null,null,null,null,null,"M 1l =",{"$f":"(K46+AI46+BG46+BS46)*-1","v":12410.361041615201},null,"M 1l =",{"$f":"(K46+W46+AU46+BS46)*-1","v":12189.964846885656},null,"M- max span1l =",{"$f":"IF(K107=0,(0),(-K107+0.5*K109*Sheet1!D10-0.25*'l4'!E2*('l4'!B7+'l4'!E7)*Sheet1!D10^2))","v":-9354.3035547287127},null,null,null,null,"M 2l =",{"$f":"(Y46+AW46+BU46)*-1","v":14717.845975281267},null,"M 2l =",{"$f":"(M46+Y46+AW46+BU46)*-1","v":15732.506682061907},null,"M 2l =",{"$f":"(Y46+AK46+BU46+BI46)*-1","v":14717.845975281267},null,null,null,null,"M 3l =",{"$f":"(AM46+O46+BK46+BW46)*-1","v":0},null,"M3l =",{"$f":"(AM46+AA46+BW46+BK46)*-1","v":0},null,"M3l =",{"$f":"(AM46+AY46+O46+BW46)*-1","v":0},null,null,null,null,"m 4l =",{"$f":"(BA46+AC46+BY46)*-1","v":0},null,"m4l =",{"$f":"(BA46+AO46+Q46+BY46)*-1","v":0},null," m4l =",{"$f":"(BA46+BM46+AC46+BY46)*-1","v":0},null,null,null,null,"m5l =",{"$f":"(BO46+AQ46+S46+CA46)*-1","v":0},null,"m5l =",{"$f":"(BO46+BC46+AE46+CA46)*-1","v":0},null,"m5l =",{"$f":"(BO46+AQ46+S46+CA46)*-1","v":0}]
[null,null,null,null,null,null,null,null,null,"M 1r =",{"$f":"(L46+AJ46+BH46+BT46)","v":18588.636435020577},null,"M 1r =",{"$f":"(L46+X46+AV46+BT46)","v":19189.538092450497},null,null,null,null,null,null,null,"M 2r =",{"$f":"(Z46+AX46+BV46)","v":7536.4349311734059},null,"M 2r =",{"$f":"Z46+N46+AX46+BV46","v":7183.8537294914122},null,"M 2r =",{"$f":"(Z46+AL46+BV46)+BJ46","v":7536.4349311734059},null,null,null,null,"M 3r =",{"$f":"(AN46+P46+BL46+BX46)","v":0},null,"M3r =",{"$f":"AN46+AB46+BL46+BX46","v":0},null,"M3r =",{"$f":"AN46+AZ46+P46+BX46","v":0},null,null,null,null,"m 4r =",{"$f":"(BB46+AD46+BZ46)","v":0},null,"m4r =",{"$f":"BB46+AP46+R46+BZ46","v":0},null,"m4r =",{"$f":"(BB46+BN46+BZ46+AD46)","v":0},null,null,null,null,"m5r =",{"$f":"(BP46+AR46+T46+CB46)","v":0},null,"m5r =",{"$f":"BP46+CB46+BD46+AF46","v":0},null,"m5r =",{"$f":"BP46+CB46+AR46+T46","v":0}]
[null,null,null,null,null,null,null,null,null,"V1l =",{"$f":"IF(K107=0,(0),((-K108+K107+(0.5*(B7+E7)*E2*Sheet1!L9^2))/Sheet1!L9))","v":16445.287434432437},null,"V 1r =",{"$f":"IF(N107=0,(0),((N108-N107+0.5*(B7+E7)*E2*Sheet1!$L$9^2)/Sheet1!$L$9))","v":18641.595540927472},null,null,null,null,null,null,null,"V2l =",{"$f":"(-W108+W107+0.5*(B8+E8)*E2*Sheet1!L10^2)/Sheet1!L10","v":15998.782208821573},null,"V2l  =",{"$f":"IF(Z107=0,(0),((-Z108+Z107+0.5*(B8+E8)*E2*Sheet1!L10^2)/Sheet1!L10))","v":16272.2305905141},null,"V2l =",{"$f":"(-AC108+AC107+0.5*(B8+E8)*E2*Sheet1!L10^2)/Sheet1!L10","v":15998.782208821573},null,null,null,null,"V3l =",{"$f":"(-AI108+AI107+0.5*(B9+E9)*E2*Sheet1!L11^2)/Sheet1!L11","v":{"$error":"#DIV/0!"}},null,"V3l =",{"$f":"IF(AL107=0,(0),((-AL108+AL107+0.5*(B9+E9)*Sheet1!L11^2*E2)/Sheet1!L11))","v":0},null,"V3r =",{"$f":"IF(AO107=0,(0),((AO108-AO107+0.5*(B9+E9)*E2*Sheet1!L11^2)/Sheet1!L11))","v":0},null,null,null,null,"v4l =",{"$f":"(-AU108+AU107+0.5*(B10+E10)*E2*Sheet1!L12^2)/Sheet1!L12","v":{"$error":"#DIV/0!"}},null,"V4l =",{"$f":"IF(AX107=0,(0),((-AX108+AX107+0.5*(B10+E10)*Sheet1!L12^2*E2)/Sheet1!L12))","v":0},null,"v4r =",{"$f":"IF(BA107=0,(0),((BA108-BA107+0.5*(B10+E10)*E2*Sheet1!L12^2)/Sheet1!L12))","v":0},null,null,null,null,"v5l =",{"$f":"(-BG108+BG107+0.5*(B11+E11)*E2*Sheet1!L13^2)/Sheet1!L13","v":{"$error":"#DIV/0!"}},null,"v5l =",{"$f":"IF(BJ107=0,(0),((-BJ108+BJ107+0.5*(B11+E11)*E2*Sheet1!L13^2)/Sheet1!L13))","v":0},null,"v5r =",{"$f":"IF(BM107=0,(0),((BM108-BM107+0.5*(B11+E11)*E2*Sheet1!L13^2)/Sheet1!L13))","v":0}]
[null,null,null,null,null,null,null,null,null,"ระยะที่ V=0",{"$f":"K109/((B7+E7)*E2)","v":2.8232253106321781},null,"M- max span1r =",{"$f":"IF(N107=0,(0),(0.5*Sheet1!$D$10*'l4'!N109-'l4'!N108-0.25*('l4'!B7+'l4'!E7)*'l4'!E2*Sheet1!$D$10^2))","v":-15694.218984265002},null,null,null,null,null,null,null,"ระยะที่ V=0",{"$f":"W109/((B8+E8)*E2)","v":2.7465720530165791},null,"V2 r =",{"$f":"(Z108-Z107+0.5*(B8+E8)*E2*Sheet1!L10^2)/Sheet1!L10","v":12852.7694094859},null,"v2r =",{"$f":"IF(AC107=0,(0),((AC108-AC107+0.5*(B8+E8)*E2*Sheet1!L10^2)/Sheet1!L10))","v":13126.217791178427},null,null,null,null,"ระยะที่ V=0",{"$f":"AI109/((B9+E9)*E2)","v":{"$error":"#DIV/0!"}},null,"M- max span3l =",{"$f":"IF(AL107=0,(0),(-AL107+0.5*AL109*Sheet1!D10-0.25*Sheet1!D10^2*'l4'!E2*('l4'!B9+'l4'!E9)))","v":0},null,"M- max span3r =",{"$f":"IF(AO107=0,(0),(0.5*AO109*Sheet1!D10-'l4'!AO108-0.25*('l4'!B9+'l4'!E9)*'l4'!E2*Sheet1!D10^2))","v":0},null,null,null,null,"ระยะที่ v=0",{"$f":"AU109/((B10+E10)*E2)","v":{"$error":"#DIV/0!"}},null,"M- max span4l =",{"$f":"IF(AX107=0,(0),(-AX107+0.5*AX109*Sheet1!D10-0.25*Sheet1!D10^2*'l4'!E2*('l4'!B10+'l4'!E10)))","v":0},null,"M- max span4r =",{"$f":"IF(BA107=0,(0),(0.5*BA109*Sheet1!D10-'l4'!BA108-0.25*('l4'!B10+'l4'!E10)*'l4'!E2*Sheet1!D10^2))","v":0},null,null,null,null,"ระยะที่ v=0",{"$f":"BG109/((B11+E11)*E2)","v":{"$error":"#DIV/0!"}},null,"M- max span 5l =",{"$f":"IF(BJ107=0,(0),(-BJ107+0.5*BJ109*Sheet1!D10-0.25*Sheet1!D10^2*'l4'!E2*('l4'!B11+'l4'!E11)))","v":0},null,"M- max span 5r =",{"$f":"IF(BM107=0,(0),(0.5*BM109*Sheet1!D10-'l4'!BM108-0.25*('l4'!B11+'l4'!E11)*'l4'!E2*Sheet1!D10^2))","v":0}]
[null,null,null,null,null,null,null,null,null,"M1+max=",{"$f":"IF(K107=0,(0),(K109*K110-0.5*(B7+E7)*K110^2*E2-K107))","v":10804.014821140285},null,"V1l =",{"$f":"(B7+E7)*E2*Sheet1!$L$10-'l4'!N109","v":10483.404459072528},null,null,null,null,null,null,null,"M2+max=",{"$f":"IF(W107=0,(0),((W109*W110)-0.5*(B8+E8)*E2*W110^2-W107))","v":7253.058073242828},null,"M- max span2l =",{"$f":"IF(Z107=0,(0),(-Z107+0.5*Z109*Sheet1!D10-0.25*(B8+E8)*E2*Sheet1!D10^2))","v":-12711.060563959087},null,"M- max span2r =",{"$f":"IF(AC107=0,(0),(0.5*AC110*Sheet1!D10-'l4'!AC108-0.25*('l4'!B8+'l4'!E8)*'l4'!E2*Sheet1!D10^2))","v":-5144.1913729377202},null,null,null,null,"M3+ max =",{"$f":"IF(AI107=0,(0),(AI109*AI110-0.5*(B9+E9)*E2*AI110^2-AI107))","v":0},null,null,null,null,null,null,null,null,null,null,"M4+ max =",{"$f":"IF(AU107=0,(0),(AU109*AU110-0.5*(B10+E10)*AU110^2*E2-AU107))","v":0},null,null,null,null,null,null,null,null,null,null,"M5+ max =",{"$f":"IF(BG107=0,(0),(BG109*BG110-0.5*(B11+E11)*E2*BG110^2-BG107))","v":0},null,null,null,null,null,null,null,null,null,null,null,null,null,null,null,null,null,null,null,null,null,null,null,null,null,null," "]

{"sheet":"l5","index":11,"n_rows":111,"n_cols":86,"rows_kept":111,"cut":false,"hidden":false,"merged":[[85,6,85,7],[86,6,86,7],[80,6,80,7],[81,6,81,7],[82,6,82,7],[83,6,83,7],[84,6,84,7],[76,6,76,7],[71,6,72,11],[77,6,77,7],[78,6,78,7],[79,6,79,7],[71,13,72,13],[74,9,74,11],[75,9,75,11],[73,6,73,7],[74,6,74,7],[75,6,75,7],[84,9,84,11],[83,9,83,11],[82,9,82,11],[81,9,81,11],[71,12,72,12],[50,10,50,11],[51,10,51,11],[52,10,52,11],[53,10,53,11],[61,10,61,11],[59,10,59,11],[60,10,60,11],[57,10,57,11],[58,10,58,11],[56,10,56,11],[62,10,62,11],[63,10,63,11],[64,10,64,11],[65,10,65,11],[66,10,66,11],[67,10,67,11],[105,12,105,13],[105,15,105,16],[105,21,105,22],[105,9,105,10],[73,9,73,11],[80,9,80,11],[79,9,79,11],[78,9,78,11],[77,9,77,11],[76,9,76,11],[86,9,86,11],[86,12,86,13],[68,10,68,11],[69,10,69,11],[85,9,85,11],[55,14,55,15],[55,16,55,17],[55,18,55,19],[54,10,54,11],[55,6,55,8],[55,9,55,11],[55,12,55,13],[0,0,0,4],[5,0,5,1],[5,3,5,4],[12,0,12,1],[12,3,12,4],[20,69,20,79],[49,9,49,11],[49,12,49,13],[49,14,49,15],[49,16,49,17],[49,18,49,19],[20,9,20,19],[20,21,20,31],[20,33,20,43],[20,45,20,55],[20,57,20,67],[46,10,46,11],[47,10,47,11],[48,10,48,11],[74,17,75,19],[105,63,105,64],[105,39,105,40],[105,45,105,46],[105,48,105,49],[105,51,105,52],[105,57,105,58],[105,33,105,34],[105,36,105,37],[105,27,105,28],[105,60,105,61],[105,24,105,25]]}
["รายการคำนวณโมเมนต์แถบในและกลางตามแกน x"]
["ระยะช่วงพื้น (unit: m)",{"$f":"MAX(Sheet1!F9,Sheet1!F10,Sheet1!F11,Sheet1!F12,Sheet1!F13,Sheet1!L9,Sheet1!L10,Sheet1!L11,Sheet1!L12,Sheet1!F13)","v":6},null,"ความกว้างแถบเสา =",{"$f":"(Sheet1!F12+Sheet1!F13)/2","v":0}]
["ตัวคูณหาความหนาพื้นขั้นต่ำ",{"$f":"0.01*LN(Sheet1!B9)-0.05","v":3.0255163864890078E-2}]
[]
["ความหนาพื้น (unit:m)",{"$f":"IF((B2*B3)>0.12,(B2*B3),(0.12))","v":0.18153098318934047}]
["น้ำหนัก DL+WDS",null,null,"น้ำหนัก LL"]
["Wdl1+Wsd1 (unit:KG/m^2) =",{"$f":"IF(Sheet1!$B$3=4,(IF(Sheet1!$B$4>=2,(((Sheet1!$B$16*Sheet1!$B$11)+(Sheet1!$J$12))*1.4),(0))),(IF(Sheet1!$B$4>=2,(((Sheet1!$B$16*Sheet1!$B$11)+(Sheet1!$J$12+Sheet1!$J$13)/2)*1.4),(0))))","v":840},null,"Wtl1 (unit:kg/m^2) =",{"$f":"IF(Sheet1!$B$3=4,(IF(Sheet1!$B$4>=2,((Sheet1!$H$11*1.7)),(0))),(IF(Sheet1!$B$4>=2,((Sheet1!$H$11+Sheet1!$H$12)/2*1.7),(0))))","v":255}]
["Wdl2+Wsd2 (unit:KG/m^2) =",{"$f":"IF(Sheet1!$B$3=4,(IF(Sheet1!$B$4>=2,(((Sheet1!$B$16*Sheet1!$B$11)+(Sheet1!$J$12))*1.4),(0))),(IF(Sheet1!$B$4>=2,(((Sheet1!$B$16*Sheet1!$B$11)+(Sheet1!$J$12+Sheet1!$J$13)/2)*1.4),(0))))","v":840},null,"Wtl2 (unit:kg/m^2) =",{"$f":"IF(Sheet1!$B$3=4,(IF(Sheet1!$B$4>=2,((Sheet1!$H$11*1.7)),(0))),(IF(Sheet1!$B$4>=2,((Sheet1!$H$11+Sheet1!$H$12)/2*1.7),(0))))","v":255}]
[{"$f":"IF(Sheet1!B3>2,(\"Wdl3+Wsd3 (unit:KG/m^2) =\"),(\"\"))","v":"Wdl3+Wsd3 (unit:KG/m^2) ="},{"$f":"IF(Sheet1!$B$3=4,(IF(Sheet1!$B$4>=3,(((Sheet1!$B$16*Sheet1!$B$11)+(Sheet1!$J$12))*1.4),(0))),(IF(Sheet1!$B$4>=3,(((Sheet1!$B$16*Sheet1!$B$11)+(Sheet1!$J$12+Sheet1!$J$13)/2)*1.4),(0))))","v":0},null,{"$f":"IF(Sheet1!B3>2,(\"Wtl3 (unit:KG/m^2) =\"),(\"\"))","v":"Wtl3 (unit:KG/m^2) ="},{"$f":"IF(Sheet1!$B$3=4,(IF(Sheet1!$B$4>=3,((Sheet1!$H$11*1.7)),(0))),(IF(Sheet1!$B$4>=3,((Sheet1!$H$11+Sheet1!$H$12)/2*1.7),(0))))","v":0}]
[{"$f":"IF(Sheet1!B3>3,(\"Wdl4+Wsd4 (unit:KG/m^2) =\"),(\"\"))","v":""},{"$f":"IF(Sheet1!$B$3=4,(IF(Sheet1!$B$4>=4,(((Sheet1!$B$16*Sheet1!$B$11)+(Sheet1!$J$12))*1.4),(0))),(IF(Sheet1!$B$4>=4,(((Sheet1!$B$16*Sheet1!$B$11)+(Sheet1!$J$12+Sheet1!$J$13)/2)*1.4),(0))))","v":0},null,{"$f":"IF(Sheet1!B3>3,(\"Wtl4 (unit:KG/m^2) =\"),(\"\"))","v":""},{"$f":"IF(Sheet1!$B$3=4,(IF(Sheet1!$B$4>=4,((Sheet1!$H$11*1.7)),(0))),(IF(Sheet1!$B$4>=4,((Sheet1!$H$11+Sheet1!$H$12)/2*1.7),(0))))","v":0}]
[{"$f":"IF(Sheet1!B3>4,(\"Wdl5+Wsd5 (unit:KG/m^2) =\"),(\"\"))","v":""},{"$f":"IF(Sheet1!$B$3=4,(IF(Sheet1!$B$4>=5,(((Sheet1!$B$16*Sheet1!$B$11)+(Sheet1!$J$12))*1.4),(0))),(IF(Sheet1!$B$4>=5,(((Sheet1!$B$16*Sheet1!$B$11)+(Sheet1!$J$12+Sheet1!$J$13)/2)*1.4),(0))))","v":0},null,{"$f":"IF(Sheet1!B3>4,(\"Wtl5 (unit:KG/m^2) =\"),(\"\"))","v":""},{"$f":"IF(Sheet1!$B$3=4,(IF(Sheet1!$B$4>=5,((Sheet1!$H$11*1.7)),(0))),(IF(Sheet1!$B$4>=5,((Sheet1!$H$11+Sheet1!$H$12)/2*1.7),(0))))","v":0}]
[]
["โมเมนต์ DL+WSD",null,null,"โมเมนต LL"]
["FEM.DL1 (unit:kg*m) =",{"$f":"B7*E2*Sheet1!L9^2/12","v":0},null,"FEM.TL1 (unit:kg*m) =",{"$f":"E7*E2*Sheet1!L9^2/12","v":0}]
["FEM.DL2 (unit:kg*m) =",{"$f":"B8*E2*Sheet1!L10^2/12","v":0},null,"FEM.TL2 (unit:kg*m) =",{"$f":"E8*E2*Sheet1!L10^2/12","v":0}]
[{"$f":"IF(Sheet1!B3>=3,(\"FEM.DL3 (unit:kg*m) =\"),(\"\"))","v":"FEM.DL3 (unit:kg*m) ="},{"$f":"B9*E2*Sheet1!L11^2/12","v":0},null,{"$f":"IF(Sheet1!B3>=3,(\"FEM.TL3 (unit:kg*m) =\"),(\"\"))","v":"FEM.TL3 (unit:kg*m) ="},{"$f":"E9*E2*Sheet1!L11^2/12","v":0}]
[{"$f":"IF(Sheet1!B3>=4,(\"FEM.DL4 (unit:kg*m) =\"),(\"\"))","v":""},{"$f":"B10*E2*Sheet1!L12^2/12","v":0},null,{"$f":"IF(Sheet1!B3>=4,(\"FEM.TL4 (unit:kg*m) =\"),(\"\"))","v":""},{"$f":"E10*E2*Sheet1!L12^2/12","v":0}]
[{"$f":"IF(Sheet1!B3>=5,(\"FEM.DL5 (unit:kg*m) =\"),(\"\"))","v":""},{"$f":"B11*E2*Sheet1!L13^2/12","v":0},null,{"$f":"IF(Sheet1!B3>=5,(\"FEM.TL5 (unit:kg*m) =\"),(\"\"))","v":""},{"$f":"E11*E2*Sheet1!L13^2/12","v":0}]
[]
[]
[null,null,null,null,null,null,null,null,null,"วางน้ำหนัก LL    สแปน 1",null,null,null,null,null,null,null,null,null,null,null,"วางน้ำหนัก LL  สแปน 2",null,null,null,null,null,null,null,null,null,null,null,"วางน้ำหนัก LL สแปน 3",null,null,null,null,null,null,null,null,null,null,null,"วางน้ำหนัก LL สแปน 4",null,null,null,null,null,null,null,null,null,null,null,"วางน้ำหนัก LL  สแปน 5",null,null,null,null,null,null,null,null,null,null,null,"วางน้ำหนัก DL ทุกสแปน"]
[null,null,null,null,null,null,null,null,null,null,"1r","2l","2r","3l","3r","4l","4r","5l","5r","6l",null,null,"1r","2l","2r","3l","3r","4l","4r","5l","5r","6l",null,null,"1r","2l","2r","3l","3r","4l","4r","5l","5r","6l",null,null,"1r","2l","2r","3l","3r","4l","4r","5l","5r","6l",null,null,"1r","2l","2r","3l","3r","4l","4r","5l","5r","6l",null,null,"1r","2l","2r","3l","3r","4l","4r","5l","5r","6l"]
[null,null,null,null,null,null,null,null,null,"D.o.f",0.69740468228840025,0.34257752639958489,0.41394784439949839,0.43590849962572414,0.30770011738286412,0.33270511524572022,0.39006806615015477,0.34257752639958489,0.41394784439949839,0.73579214029936291,null,"D.o.f",0.69740468228840025,0.34257752639958489,0.41394784439949839,0.43590849962572414,0.30770011738286412,0.33270511524572022,0.39006806615015477,0.34257752639958489,0.41394784439949839,0.73579214029936291,null,"D.o.f",0.69740468228840025,0.34257752639958489,0.41394784439949839,0.43590849962572414,0.30770011738286412,0.33270511524572022,0.39006806615015477,0.34257752639958489,0.41394784439949839,0.73579214029936291,null,"D.o.f",0.69740468228840025,0.34257752639958489,0.41394784439949839,0.43590849962572414,0.30770011738286412,0.33270511524572022,0.39006806615015477,0.34257752639958489,0.41394784439949839,0.73579214029936291,null,"D.o.f",0.69740468228840025,0.34257752639958489,0.41394784439949839,0.43590849962572414,0.30770011738286412,0.33270511524572022,0.39006806615015477,0.34257752639958489,0.41394784439949839,0.73579214029936291,null,"D.o.f",0.69740468228840025,0.34257752639958489,0.41394784439949839,0.43590849962572414,0.30770011738286412,0.33270511524572022,0.39006806615015477,0.34257752639958489,0.41394784439949839,0.73579214029936291]
[null,null,null,null,null,null,null,null,null,"FEM",{"$f":"E14*-1","v":0},{"$f":"E14","v":0},null,null,null,null,null,null,null,null,null,"FEM",null,null,{"$f":"-E15","v":0},{"$f":"E15","v":0},null,null,null,null,null,null,null,"FEM",null,null,null,null,{"$f":"-E16","v":0},{"$f":"E16","v":0},null,null,null,null,null,"FEM",null,null,null,null,null,null,{"$f":"-E17","v":0},{"$f":"E17","v":0},null,null,null,"FEM",null,null,null,null,null,null,null,null,{"$f":"-E18","v":0},{"$f":"E18","v":0},null,"FEM",{"$f":"-B14","v":0},{"$f":"B14","v":0},{"$f":"-B15","v":0},{"$f":"B15","v":0},{"$f":"-B16","v":0},{"$f":"B16","v":0},{"$f":"-B17","v":0},{"$f":"B17","v":0},{"$f":"-B18","v":0},{"$f":"B18","v":0}]
[null,null,null,null,null,null,null,null,null,"Dis",{"$f":"(K24)*K23*-1","v":0},{"$f":"(L24+M24)*L23*-1","v":0},{"$f":"(M24+L24)*M23*-1","v":0},{"$f":"(N24+O24)*N23*-1","v":0},{"$f":"(O24+N24)*O23*-1","v":0},{"$f":"(P24+Q24)*P23*-1","v":0},{"$f":"(Q24+P24)*Q23*-1","v":0},{"$f":"(R24+S24)*R23*-1","v":0},{"$f":"(S24+R24)*S23*-1","v":0},{"$f":"(T24+U24)*T23*-1","v":0},null,"Dis",{"$f":"(W24)*W23*-1","v":0},{"$f":"(X24+Y24)*X23*-1","v":0},{"$f":"(Y24+X24)*Y23*-1","v":0},{"$f":"(Z24+AA24)*Z23*-1","v":0},{"$f":"(AA24+Z24)*AA23*-1","v":0},{"$f":"(AB24+AC24)*AB23*-1","v":0},{"$f":"(AC24+AB24)*AC23*-1","v":0},{"$f":"(AD24+AE24)*AD23*-1","v":0},{"$f":"(AE24+AD24)*AE23*-1","v":0},{"$f":"(AF24+AG24)*AF23*-1","v":0},null,"Dis",{"$f":"(AI24)*AI23*-1","v":0},{"$f":"(AJ24+AK24)*AJ23*-1","v":0},{"$f":"(AK24+AJ24)*AK23*-1","v":0},{"$f":"(AL24+AM24)*AL23*-1","v":0},{"$f":"(AM24+AL24)*AM23*-1","v":0},{"$f":"(AN24+AO24)*AN23*-1","v":0},{"$f":"(AO24+AN24)*AO23*-1","v":0},{"$f":"(AP24+AQ24)*AP23*-1","v":0},{"$f":"(AQ24+AP24)*AQ23*-1","v":0},{"$f":"(AR24+AS24)*AR23*-1","v":0},null,"Dis",{"$f":"(AU24)*AU23*-1","v":0},{"$f":"(AV24+AW24)*AV23*-1","v":0},{"$f":"(AW24+AV24)*AW23*-1","v":0},{"$f":"(AX24+AY24)*AX23*-1","v":0},{"$f":"(AY24+AX24)*AY23*-1","v":0},{"$f":"(AZ24+BA24)*AZ23*-1","v":0},{"$f":"(BA24+AZ24)*BA23*-1","v":0},{"$f":"(BB24+BC24)*BB23*-1","v":0},{"$f":"(BC24+BB24)*BC23*-1","v":0},{"$f":"(BD24+BE24)*BD23*-1","v":0},null,"Dis",{"$f":"(BG24)*BG23*-1","v":0},{"$f":"(BH24+BI24)*BH23*-1","v":0},{"$f":"(BI24+BH24)*BI23*-1","v":0},{"$f":"(BJ24+BK24)*BJ23*-1","v":0},{"$f":"(BK24+BJ24)*BK23*-1","v":0},{"$f":"(BL24+BM24)*BL23*-1","v":0},{"$f":"(BM24+BL24)*BM23*-1","v":0},{"$f":"(BN24+BO24)*BN23*-1","v":0},{"$f":"(BO24+BN24)*BO23*-1","v":0},{"$f":"(BP24+BQ24)*BP23*-1","v":0},null,"Dis",{"$f":"(BS24)*BS23*-1","v":0},{"$f":"(BT24+BU24)*BT23*-1","v":0},{"$f":"(BU24+BT24)*BU23*-1","v":0},{"$f":"(BV24+BW24)*BV23*-1","v":0},{"$f":"(BW24+BV24)*BW23*-1","v":0},{"$f":"(BX24+BY24)*BX23*-1","v":0},{"$f":"(BY24+BX24)*BY23*-1","v":0},{"$f":"(BZ24+CA24)*BZ23*-1","v":0},{"$f":"(CA24+BZ24)*CA23*-1","v":0},{"$f":"(CB24+CC24)*CB23*-1","v":0}]
[null,null,null,null,null,null,null,null,null,"Co",{"$f":"L25/2","v":0},{"$f":"K25/2","v":0},{"$f":"N25/2","v":0},{"$f":"M25/2","v":0},{"$f":"P25/2","v":0},{"$f":"O25/2","v":0},{"$f":"R25/2","v":0},{"$f":"Q25/2","v":0},{"$f":"T25/2","v":0},{"$f":"S25/2","v":0},null,"Co",{"$f":"X25/2","v":0},{"$f":"W25/2","v":0},{"$f":"Z25/2","v":0},{"$f":"Y25/2","v":0},{"$f":"AB25/2","v":0},{"$f":"AA25/2","v":0},{"$f":"AD25/2","v":0},{"$f":"AC25/2","v":0},{"$f":"AF25/2","v":0},{"$f":"AE25/2","v":0},null,"Co",{"$f":"AJ25/2","v":0},{"$f":"AI25/2","v":0},{"$f":"AL25/2","v":0},{"$f":"AK25/2","v":0},{"$f":"AN25/2","v":0},{"$f":"AM25/2","v":0},{"$f":"AP25/2","v":0},{"$f":"AO25/2","v":0},{"$f":"AR25/2","v":0},{"$f":"AQ25/2","v":0},null,"Co",{"$f":"AV25/2","v":0},{"$f":"AU25/2","v":0},{"$f":"AX25/2","v":0},{"$f":"AW25/2","v":0},{"$f":"AZ25/2","v":0},{"$f":"AY25/2","v":0},{"$f":"BB25/2","v":0},{"$f":"BA25/2","v":0},{"$f":"BD25/2","v":0},{"$f":"BC25/2","v":0},null,"Co",{"$f":"BH25/2","v":0},{"$f":"BG25/2","v":0},{"$f":"BJ25/2","v":0},{"$f":"BI25/2","v":0},{"$f":"BL25/2","v":0},{"$f":"BK25/2","v":0},{"$f":"BN25/2","v":0},{"$f":"BM25/2","v":0},{"$f":"BP25/2","v":0},{"$f":"BO25/2","v":0},null,"Co",{"$f":"BT25/2","v":0},{"$f":"BS25/2","v":0},{"$f":"BV25/2","v":0},{"$f":"BU25/2","v":0},{"$f":"BX25/2","v":0},{"$f":"BW25/2","v":0},{"$f":"BZ25/2","v":0},{"$f":"BY25/2","v":0},{"$f":"CB25/2","v":0},{"$f":"CA25/2","v":0}]
[null,null,null,null,null,null,null,null,null,"dis",{"$f":"(K26)*K23*-1","v":0},{"$f":"(L26+M26)*L23*-1","v":0},{"$f":"(M26+L26)*M23*-1","v":0},{"$f":"(N26+O26)*N23*-1","v":0},{"$f":"(O26+N26)*O23*-1","v":0},{"$f":"(P26+Q26)*P23*-1","v":0},{"$f":"(Q26+P26)*Q23*-1","v":0},{"$f":"(R26+S26)*R23*-1","v":0},{"$f":"(S26+R26)*S23*-1","v":0},{"$f":"(T26+U26)*T23*-1","v":0},null,"dis",{"$f":"(W26)*W23*-1","v":0},{"$f":"(X26+Y26)*X23*-1","v":0},{"$f":"(Y26+X26)*Y23*-1","v":0},{"$f":"(Z26+AA26)*Z23*-1","v":0},{"$f":"(AA26+Z26)*AA23*-1","v":0},{"$f":"(AB26+AC26)*AB23*-1","v":0},{"$f":"(AC26+AB26)*AC23*-1","v":0},{"$f":"(AD26+AE26)*AD23*-1","v":0},{"$f":"(AE26+AD26)*AE23*-1","v":0},{"$f":"(AF26+AG26)*AF23*-1","v":0},null,"dis",{"$f":"(AI26)*AI23*-1","v":0},{"$f":"(AJ26+AK26)*AJ23*-1","v":0},{"$f":"(AK26+AJ26)*AK23*-1","v":0},{"$f":"(AL26+AM26)*AL23*-1","v":0},{"$f":"(AM26+AL26)*AM23*-1","v":0},{"$f":"(AN26+AO26)*AN23*-1","v":0},{"$f":"(AO26+AN26)*AO23*-1","v":0},{"$f":"(AP26+AQ26)*AP23*-1","v":0},{"$f":"(AQ26+AP26)*AQ23*-1","v":0},{"$f":"(AR26+AS26)*AR23*-1","v":0},null,"dis",{"$f":"(AU26)*AU23*-1","v":0},{"$f":"(AV26+AW26)*AV23*-1","v":0},{"$f":"(AW26+AV26)*AW23*-1","v":0},{"$f":"(AX26+AY26)*AX23*-1","v":0},{"$f":"(AY26+AX26)*AY23*-1","v":0},{"$f":"(AZ26+BA26)*AZ23*-1","v":0},{"$f":"(BA26+AZ26)*BA23*-1","v":0},{"$f":"(BB26+BC26)*BB23*-1","v":0},{"$f":"(BC26+BB26)*BC23*-1","v":0},{"$f":"(BD26+BE26)*BD23*-1","v":0},null,"dis",{"$f":"(BG26)*BG23*-1","v":0},{"$f":"(BH26+BI26)*BH23*-1","v":0},{"$f":"(BI26+BH26)*BI23*-1","v":0},{"$f":"(BJ26+BK26)*BJ23*-1","v":0},{"$f":"(BK26+BJ26)*BK23*-1","v":0},{"$f":"(BL26+BM26)*BL23*-1","v":0},{"$f":"(BM26+BL26)*BM23*-1","v":0},{"$f":"(BN26+BO26)*BN23*-1","v":0},{"$f":"(BO26+BN26)*BO23*-1","v":0},{"$f":"(BP26+BQ26)*BP23*-1","v":0},null,"dis",{"$f":"(BS26)*BS23*-1","v":0},{"$f":"(BT26+BU26)*BT23*-1","v":0},{"$f":"(BU26+BT26)*BU23*-1","v":0},{"$f":"(BV26+BW26)*BV23*-1","v":0},{"$f":"(BW26+BV26)*BW23*-1","v":0},{"$f":"(BX26+BY26)*BX23*-1","v":0},{"$f":"(BY26+BX26)*BY23*-1","v":0},{"$f":"(BZ26+CA26)*BZ23*-1","v":0},{"$f":"(CA26+BZ26)*CA23*-1","v":0},{"$f":"(CB26+CC26)*CB23*-1","v":0}]
[null,null,null,null,null,null,null,null,null,"co",{"$f":"L27/2","v":0},{"$f":"K27/2","v":0},{"$f":"N27/2","v":0},{"$f":"M27/2","v":0},{"$f":"P27/2","v":0},{"$f":"O27/2","v":0},{"$f":"R27/2","v":0},{"$f":"Q27/2","v":0},{"$f":"T27/2","v":0},{"$f":"S27/2","v":0},null,"co",{"$f":"X27/2","v":0},{"$f":"W27/2","v":0},{"$f":"Z27/2","v":0},{"$f":"Y27/2","v":0},{"$f":"AB27/2","v":0},{"$f":"AA27/2","v":0},{"$f":"AD27/2","v":0},{"$f":"AC27/2","v":0},{"$f":"AF27/2","v":0},{"$f":"AE27/2","v":0},null,"co",{"$f":"AJ27/2","v":0},{"$f":"AI27/2","v":0},{"$f":"AL27/2","v":0},{"$f":"AK27/2","v":0},{"$f":"AN27/2","v":0},{"$f":"AM27/2","v":0},{"$f":"AP27/2","v":0},{"$f":"AO27/2","v":0},{"$f":"AR27/2","v":0},{"$f":"AQ27/2","v":0},null,"co",{"$f":"AV27/2","v":0},{"$f":"AU27/2","v":0},{"$f":"AX27/2","v":0},{"$f":"AW27/2","v":0},{"$f":"AZ27/2","v":0},{"$f":"AY27/2","v":0},{"$f":"BB27/2","v":0},{"$f":"BA27/2","v":0},{"$f":"BD27/2","v":0},{"$f":"BC27/2","v":0},null,"co",{"$f":"BH27/2","v":0},{"$f":"BG27/2","v":0},{"$f":"BJ27/2","v":0},{"$f":"BI27/2","v":0},{"$f":"BL27/2","v":0},{"$f":"BK27/2","v":0},{"$f":"BN27/2","v":0},{"$f":"BM27/2","v":0},{"$f":"BP27/2","v":0},{"$f":"BO27/2","v":0},null,"co",{"$f":"BT27/2","v":0},{"$f":"BS27/2","v":0},{"$f":"BV27/2","v":0},{"$f":"BU27/2","v":0},{"$f":"BX27/2","v":0},{"$f":"BW27/2","v":0},{"$f":"BZ27/2","v":0},{"$f":"BY27/2","v":0},{"$f":"CB27/2","v":0},{"$f":"CA27/2","v":0}]
[null,null,null,null,null,null,null,null,null,"dis",{"$f":"(K28)*K23*-1","v":0},{"$f":"(L28+M28)*L23*-1","v":0},{"$f":"(M28+L28)*M23*-1","v":0},{"$f":"(N28+O28)*N23*-1","v":0},{"$f":"(O28+N28)*O23*-1","v":0},{"$f":"(P28+Q28)*P23*-1","v":0},{"$f":"(Q28+P28)*Q23*-1","v":0},{"$f":"(R28+S28)*R23*-1","v":0},{"$f":"(S28+R28)*S23*-1","v":0},{"$f":"(T28+U28)*T23*-1","v":0},null,"dis",{"$f":"(W28)*W23*-1","v":0},{"$f":"(X28+Y28)*X23*-1","v":0},{"$f":"(Y28+X28)*Y23*-1","v":0},{"$f":"(Z28+AA28)*Z23*-1","v":0},{"$f":"(AA28+Z28)*AA23*-1","v":0},{"$f":"(AB28+AC28)*AB23*-1","v":0},{"$f":"(AC28+AB28)*AC23*-1","v":0},{"$f":"(AD28+AE28)*AD23*-1","v":0},{"$f":"(AE28+AD28)*AE23*-1","v":0},{"$f":"(AF28+AG28)*AF23*-1","v":0},null,"dis",{"$f":"(AI28)*AI23*-1","v":0},{"$f":"(AJ28+AK28)*AJ23*-1","v":0},{"$f":"(AK28+AJ28)*AK23*-1","v":0},{"$f":"(AL28+AM28)*AL23*-1","v":0},{"$f":"(AM28+AL28)*AM23*-1","v":0},{"$f":"(AN28+AO28)*AN23*-1","v":0},{"$f":"(AO28+AN28)*AO23*-1","v":0},{"$f":"(AP28+AQ28)*AP23*-1","v":0},{"$f":"(AQ28+AP28)*AQ23*-1","v":0},{"$f":"(AR28+AS28)*AR23*-1","v":0},null,"dis",{"$f":"(AU28)*AU23*-1","v":0},{"$f":"(AV28+AW28)*AV23*-1","v":0},{"$f":"(AW28+AV28)*AW23*-1","v":0},{"$f":"(AX28+AY28)*AX23*-1","v":0},{"$f":"(AY28+AX28)*AY23*-1","v":0},{"$f":"(AZ28+BA28)*AZ23*-1","v":0},{"$f":"(BA28+AZ28)*BA23*-1","v":0},{"$f":"(BB28+BC28)*BB23*-1","v":0},{"$f":"(BC28+BB28)*BC23*-1","v":0},{"$f":"(BD28+BE28)*BD23*-1","v":0},null,"dis",{"$f":"(BG28)*BG23*-1","v":0},{"$f":"(BH28+BI28)*BH23*-1","v":0},{"$f":"(BI28+BH28)*BI23*-1","v":0},{"$f":"(BJ28+BK28)*BJ23*-1","v":0},{"$f":"(BK28+BJ28)*BK23*-1","v":0},{"$f":"(BL28+BM28)*BL23*-1","v":0},{"$f":"(BM28+BL28)*BM23*-1","v":0},{"$f":"(BN28+BO28)*BN23*-1","v":0},{"$f":"(BO28+BN28)*BO23*-1","v":0},{"$f":"(BP28+BQ28)*BP23*-1","v":0},null,"dis",{"$f":"(BS28)*BS23*-1","v":0},{"$f":"(BT28+BU28)*BT23*-1","v":0},{"$f":"(BU28+BT28)*BU23*-1","v":0},{"$f":"(BV28+BW28)*BV23*-1","v":0},{"$f":"(BW28+BV28)*BW23*-1","v":0},{"$f":"(BX28+BY28)*BX23*-1","v":0},{"$f":"(BY28+BX28)*BY23*-1","v":0},{"$f":"(BZ28+CA28)*BZ23*-1","v":0},{"$f":"(CA28+BZ28)*CA23*-1","v":0},{"$f":"(CB28+CC28)*CB23*-1","v":0}]
[null,null,null,null,null,null,null,null,null,"co",{"$f":"L29/2","v":0},{"$f":"K29/2","v":0},{"$f":"N29/2","v":0},{"$f":"M29/2","v":0},{"$f":"P29/2","v":0},{"$f":"O29/2","v":0},{"$f":"R29/2","v":0},{"$f":"Q29/2","v":0},{"$f":"T29/2","v":0},{"$f":"S29/2","v":0},null,"co",{"$f":"X29/2","v":0},0,{"$f":"Z29/2","v":0},{"$f":"Y29/2","v":0},{"$f":"AB29/2","v":0},{"$f":"AA29/2","v":0},{"$f":"AD29/2","v":0},{"$f":"AC29/2","v":0},{"$f":"AF29/2","v":0},{"$f":"AE29/2","v":0},null,"co",{"$f":"AJ29/2","v":0},{"$f":"AI29/2","v":0},{"$f":"AL29/2","v":0},{"$f":"AK29/2","v":0},{"$f":"AN29/2","v":0},{"$f":"AM29/2","v":0},{"$f":"AP29/2","v":0},{"$f":"AO29/2","v":0},{"$f":"AR29/2","v":0},{"$f":"AQ29/2","v":0},null,"co",{"$f":"AV29/2","v":0},{"$f":"AU29/2","v":0},{"$f":"AX29/2","v":0},{"$f":"AW29/2","v":0},{"$f":"AZ29/2","v":0},{"$f":"AY29/2","v":0},{"$f":"BB29/2","v":0},{"$f":"BA29/2","v":0},{"$f":"BD29/2","v":0},{"$f":"BC29/2","v":0},null,"co",{"$f":"BH29/2","v":0},{"$f":"BG29/2","v":0},{"$f":"BJ29/2","v":0},{"$f":"BI29/2","v":0},{"$f":"BL29/2","v":0},{"$f":"BK29/2","v":0},{"$f":"BN29/2","v":0},{"$f":"BM29/2","v":0},{"$f":"BP29/2","v":0},{"$f":"BO29/2","v":0},null,"co",{"$f":"BT29/2","v":0},{"$f":"BS29/2","v":0},{"$f":"BV29/2","v":0},{"$f":"BU29/2","v":0},{"$f":"BX29/2","v":0},{"$f":"BW29/2","v":0},{"$f":"BZ29/2","v":0},{"$f":"BY29/2","v":0},{"$f":"CB29/2","v":0},{"$f":"CA29/2","v":0}]
[null,null,null,null,null,null,null,null,null,"dis",{"$f":"(K30)*K23*-1","v":0},{"$f":"(L30+M30)*L23*-1","v":0},{"$f":"(M30+L30)*M23*-1","v":0},{"$f":"(N30+O30)*N23*-1","v":0},{"$f":"(O30+N30)*O23*-1","v":0},{"$f":"(P30+Q30)*P23*-1","v":0},{"$f":"(Q30+P30)*Q23*-1","v":0},{"$f":"(R30+S30)*R23*-1","v":0},{"$f":"(S30+R30)*S23*-1","v":0},{"$f":"(T30+U30)*T23*-1","v":0},null,"dis",{"$f":"(W30)*W23*-1","v":0},{"$f":"(X30+Y30)*X23*-1","v":0},{"$f":"(Y30+X30)*Y23*-1","v":0},{"$f":"(Z30+AA30)*Z23*-1","v":0},{"$f":"(AA30+Z30)*AA23*-1","v":0},{"$f":"(AB30+AC30)*AB23*-1","v":0},{"$f":"(AC30+AB30)*AC23*-1","v":0},{"$f":"(AD30+AE30)*AD23*-1","v":0},{"$f":"(AE30+AD30)*AE23*-1","v":0},{"$f":"(AF30+AG30)*AF23*-1","v":0},null,"dis",{"$f":"(AI30)*AI23*-1","v":0},{"$f":"(AJ30+AK30)*AJ23*-1","v":0},{"$f":"(AK30+AJ30)*AK23*-1","v":0},{"$f":"(AL30+AM30)*AL23*-1","v":0},{"$f":"(AM30+AL30)*AM23*-1","v":0},{"$f":"(AN30+AO30)*AN23*-1","v":0},{"$f":"(AO30+AN30)*AO23*-1","v":0},{"$f":"(AP30+AQ30)*AP23*-1","v":0},{"$f":"(AQ30+AP30)*AQ23*-1","v":0},{"$f":"(AR30+AS30)*AR23*-1","v":0},null,"dis",{"$f":"(AU30)*AU23*-1","v":0},{"$f":"(AV30+AW30)*AV23*-1","v":0},{"$f":"(AW30+AV30)*AW23*-1","v":0},{"$f":"(AX30+AY30)*AX23*-1","v":0},{"$f":"(AY30+AX30)*AY23*-1","v":0},{"$f":"(AZ30+BA30)*AZ23*-1","v":0},{"$f":"(BA30+AZ30)*BA23*-1","v":0},{"$f":"(BB30+BC30)*BB23*-1","v":0},{"$f":"(BC30+BB30)*BC23*-1","v":0},{"$f":"(BD30+BE30)*BD23*-1","v":0},null,"dis",{"$f":"(BG30)*BG23*-1","v":0},{"$f":"(BH30+BI30)*BH23*-1","v":0},{"$f":"(BI30+BH30)*BI23*-1","v":0},{"$f":"(BJ30+BK30)*BJ23*-1","v":0},{"$f":"(BK30+BJ30)*BK23*-1","v":0},{"$f":"(BL30+BM30)*BL23*-1","v":0},{"$f":"(BM30+BL30)*BM23*-1","v":0},{"$f":"(BN30+BO30)*BN23*-1","v":0},{"$f":"(BO30+BN30)*BO23*-1","v":0},{"$f":"(BP30+BQ30)*BP23*-1","v":0},null,"dis",{"$f":"(BS30)*BS23*-1","v":0},{"$f":"(BT30+BU30)*BT23*-1","v":0},{"$f":"(BU30+BT30)*BU23*-1","v":0},{"$f":"(BV30+BW30)*BV23*-1","v":0},{"$f":"(BW30+BV30)*BW23*-1","v":0},{"$f":"(BX30+BY30)*BX23*-1","v":0},{"$f":"(BY30+BX30)*BY23*-1","v":0},{"$f":"(BZ30+CA30)*BZ23*-1","v":0},{"$f":"(CA30+BZ30)*CA23*-1","v":0},{"$f":"(CB30+CC30)*CB23*-1","v":0}]
[null,null,null,null,null,null,null,null,null,"co",{"$f":"L31/2","v":0},{"$f":"K31/2","v":0},{"$f":"N31/2","v":0},{"$f":"M31/2","v":0},{"$f":"P31/2","v":0},{"$f":"O31/2","v":0},{"$f":"R31/2","v":0},{"$f":"Q31/2","v":0},{"$f":"T31/2","v":0},{"$f":"S31/2","v":0},null,"co",{"$f":"X31/2","v":0},{"$f":"W31/2","v":0},{"$f":"Z31/2","v":0},{"$f":"Y31/2","v":0},{"$f":"AB31/2","v":0},{"$f":"AA31/2","v":0},{"$f":"AD31/2","v":0},{"$f":"AC31/2","v":0},{"$f":"AF31/2","v":0},{"$f":"AE31/2","v":0},null,"co",{"$f":"AJ31/2","v":0},{"$f":"AI31/2","v":0},{"$f":"AL31/2","v":0},{"$f":"AK31/2","v":0},{"$f":"AN31/2","v":0},{"$f":"AM31/2","v":0},{"$f":"AP31/2","v":0},{"$f":"AO31/2","v":0},{"$f":"AR31/2","v":0},{"$f":"AQ31/2","v":0},null,"co",{"$f":"AV31/2","v":0},{"$f":"AU31/2","v":0},{"$f":"AX31/2","v":0},{"$f":"AW31/2","v":0},{"$f":"AZ31/2","v":0},{"$f":"AY31/2","v":0},{"$f":"BB31/2","v":0},{"$f":"BA31/2","v":0},{"$f":"BD31/2","v":0},{"$f":"BC31/2","v":0},null,"co",{"$f":"BH31/2","v":0},{"$f":"BG31/2","v":0},{"$f":"BJ31/2","v":0},{"$f":"BI31/2","v":0},{"$f":"BL31/2","v":0},{"$f":"BK31/2","v":0},{"$f":"BN31/2","v":0},{"$f":"BM31/2","v":0},{"$f":"BP31/2","v":0},{"$f":"BO31/2","v":0},null,"co",{"$f":"BT31/2","v":0},{"$f":"BS31/2","v":0},{"$f":"BV31/2","v":0},{"$f":"BU31/2","v":0},{"$f":"BX31/2","v":0},{"$f":"BW31/2","v":0},{"$f":"BZ31/2","v":0},{"$f":"BY31/2","v":0},{"$f":"CB31/2","v":0},{"$f":"CA31/2","v":0}]
[null,null,null,null,null,null,null,null,null,"dis",{"$f":"(K32)*K23*-1","v":0},{"$f":"(L32+M32)*L23*-1","v":0},{"$f":"(M32+L32)*M23*-1","v":0},{"$f":"(N32+O32)*N23*-1","v":0},{"$f":"(O32+N32)*O23*-1","v":0},{"$f":"(P32+Q32)*P23*-1","v":0},{"$f":"(Q32+P32)*Q23*-1","v":0},{"$f":"(R32+S32)*R23*-1","v":0},{"$f":"(S32+R32)*S23*-1","v":0},{"$f":"(T32+U32)*T23*-1","v":0},null,"dis",{"$f":"(W32)*W23*-1","v":0},{"$f":"(X32+Y32)*X23*-1","v":0},{"$f":"(Y32+X32)*Y23*-1","v":0},{"$f":"(Z32+AA32)*Z23*-1","v":0},{"$f":"(AA32+Z32)*AA23*-1","v":0},{"$f":"(AB32+AC32)*AB23*-1","v":0},{"$f":"(AC32+AB32)*AC23*-1","v":0},{"$f":"(AD32+AE32)*AD23*-1","v":0},{"$f":"(AE32+AD32)*AE23*-1","v":0},{"$f":"(AF32+AG32)*AF23*-1","v":0},null,"dis",{"$f":"(AI32)*AI23*-1","v":0},{"$f":"(AJ32+AK32)*AJ23*-1","v":0},{"$f":"(AK32+AJ32)*AK23*-1","v":0},{"$f":"(AL32+AM32)*AL23*-1","v":0},{"$f":"(AM32+AL32)*AM23*-1","v":0},{"$f":"(AN32+AO32)*AN23*-1","v":0},{"$f":"(AO32+AN32)*AO23*-1","v":0},{"$f":"(AP32+AQ32)*AP23*-1","v":0},{"$f":"(AQ32+AP32)*AQ23*-1","v":0},{"$f":"(AR32+AS32)*AR23*-1","v":0},null,"dis",{"$f":"(AU32)*AU23*-1","v":0},{"$f":"(AV32+AW32)*AV23*-1","v":0},{"$f":"(AW32+AV32)*AW23*-1","v":0},{"$f":"(AX32+AY32)*AX23*-1","v":0},{"$f":"(AY32+AX32)*AY23*-1","v":0},{"$f":"(AZ32+BA32)*AZ23*-1","v":0},{"$f":"(BA32+AZ32)*BA23*-1","v":0},{"$f":"(BB32+BC32)*BB23*-1","v":0},{"$f":"(BC32+BB32)*BC23*-1","v":0},{"$f":"(BD32+BE32)*BD23*-1","v":0},null,"dis",{"$f":"(BG32)*BG23*-1","v":0},{"$f":"(BH32+BI32)*BH23*-1","v":0},{"$f":"(BI32+BH32)*BI23*-1","v":0},{"$f":"(BJ32+BK32)*BJ23*-1","v":0},{"$f":"(BK32+BJ32)*BK23*-1","v":0},{"$f":"(BL32+BM32)*BL23*-1","v":0},{"$f":"(BM32+BL32)*BM23*-1","v":0},{"$f":"(BN32+BO32)*BN23*-1","v":0},{"$f":"(BO32+BN32)*BO23*-1","v":0},{"$f":"(BP32+BQ32)*BP23*-1","v":0},null,"dis",{"$f":"(BS32)*BS23*-1","v":0},{"$f":"(BT32+BU32)*BT23*-1","v":0},{"$f":"(BU32+BT32)*BU23*-1","v":0},{"$f":"(BV32+BW32)*BV23*-1","v":0},{"$f":"(BW32+BV32)*BW23*-1","v":0},{"$f":"(BX32+BY32)*BX23*-1","v":0},{"$f":"(BY32+BX32)*BY23*-1","v":0},{"$f":"(BZ32+CA32)*BZ23*-1","v":0},{"$f":"(CA32+BZ32)*CA23*-1","v":0},{"$f":"(CB32+CC32)*CB23*-1","v":0}]
[null,null,null,null,null,null,null,null,null,"co",{"$f":"L33/2","v":0},{"$f":"K33/2","v":0},{"$f":"N33/2","v":0},{"$f":"M33/2","v":0},{"$f":"P33/2","v":0},{"$f":"O33/2","v":0},{"$f":"R33/2","v":0},{"$f":"Q33/2","v":0},{"$f":"T33/2","v":0},{"$f":"S33/2","v":0},null,"co",{"$f":"X33/2","v":0},{"$f":"W33/2","v":0},{"$f":"Z33/2","v":0},{"$f":"Y33/2","v":0},{"$f":"AB33/2","v":0},{"$f":"AA33/2","v":0},{"$f":"AD33/2","v":0},{"$f":"AC33/2","v":0},{"$f":"AF33/2","v":0},{"$f":"AE33/2","v":0},null,"co",{"$f":"AJ33/2","v":0},{"$f":"AI33/2","v":0},{"$f":"AL33/2","v":0},{"$f":"AK33/2","v":0},{"$f":"AN33/2","v":0},{"$f":"AM33/2","v":0},{"$f":"AP33/2","v":0},{"$f":"AO33/2","v":0},{"$f":"AR33/2","v":0},{"$f":"AQ33/2","v":0},null,"co",{"$f":"AV33/2","v":0},{"$f":"AU33/2","v":0},{"$f":"AX33/2","v":0},{"$f":"AW33/2","v":0},{"$f":"AZ33/2","v":0},{"$f":"AY33/2","v":0},{"$f":"BB33/2","v":0},{"$f":"BA33/2","v":0},{"$f":"BD33/2","v":0},{"$f":"BC33/2","v":0},null,"co",{"$f":"BH33/2","v":0},{"$f":"BG33/2","v":0},{"$f":"BJ33/2","v":0},{"$f":"BI33/2","v":0},{"$f":"BL33/2","v":0},{"$f":"BK33/2","v":0},{"$f":"BN33/2","v":0},{"$f":"BM33/2","v":0},{"$f":"BP33/2","v":0},{"$f":"BO33/2","v":0},null,"co",{"$f":"BT33/2","v":0},{"$f":"BS33/2","v":0},{"$f":"BV33/2","v":0},{"$f":"BU33/2","v":0},{"$f":"BX33/2","v":0},{"$f":"BW33/2","v":0},{"$f":"BZ33/2","v":0},{"$f":"BY33/2","v":0},{"$f":"CB33/2","v":0},{"$f":"CA33/2","v":0}]
[null,null,null,null,null,null,null,null,null,"dis",{"$f":"(K34)*K23*-1","v":0},{"$f":"(L34+M34)*L23*-1","v":0},{"$f":"(M34+L34)*M23*-1","v":0},{"$f":"(N34+O34)*N23*-1","v":0},{"$f":"(O34+N34)*O23*-1","v":0},{"$f":"(P34+Q34)*P23*-1","v":0},{"$f":"(Q34+P34)*Q23*-1","v":0},{"$f":"(R34+S34)*R23*-1","v":0},{"$f":"(S34+R34)*S23*-1","v":0},{"$f":"(T34+U34)*T23*-1","v":0},null,"dis",{"$f":"(W34)*W23*-1","v":0},{"$f":"(X34+Y34)*X23*-1","v":0},{"$f":"(Y34+X34)*Y23*-1","v":0},{"$f":"(Z34+AA34)*Z23*-1","v":0},{"$f":"(AA34+Z34)*AA23*-1","v":0},{"$f":"(AB34+AC34)*AB23*-1","v":0},{"$f":"(AC34+AB34)*AC23*-1","v":0},{"$f":"(AD34+AE34)*AD23*-1","v":0},{"$f":"(AE34+AD34)*AE23*-1","v":0},{"$f":"(AF34+AG34)*AF23*-1","v":0},null,"dis",{"$f":"(AI34)*AI23*-1","v":0},{"$f":"(AJ34+AK34)*AJ23*-1","v":0},{"$f":"(AK34+AJ34)*AK23*-1","v":0},{"$f":"(AL34+AM34)*AL23*-1","v":0},{"$f":"(AM34+AL34)*AM23*-1","v":0},{"$f":"(AN34+AO34)*AN23*-1","v":0},{"$f":"(AO34+AN34)*AO23*-1","v":0},{"$f":"(AP34+AQ34)*AP23*-1","v":0},{"$f":"(AQ34+AP34)*AQ23*-1","v":0},{"$f":"(AR34+AS34)*AR23*-1","v":0},null,"dis",{"$f":"(AU34)*AU23*-1","v":0},{"$f":"(AV34+AW34)*AV23*-1","v":0},{"$f":"(AW34+AV34)*AW23*-1","v":0},{"$f":"(AX34+AY34)*AX23*-1","v":0},{"$f":"(AY34+AX34)*AY23*-1","v":0},{"$f":"(AZ34+BA34)*AZ23*-1","v":0},{"$f":"(BA34+AZ34)*BA23*-1","v":0},{"$f":"(BB34+BC34)*BB23*-1","v":0},{"$f":"(BC34+BB34)*BC23*-1","v":0},{"$f":"(BD34+BE34)*BD23*-1","v":0},null,"dis",{"$f":"(BG34)*BG23*-1","v":0},{"$f":"(BH34+BI34)*BH23*-1","v":0},{"$f":"(BI34+BH34)*BI23*-1","v":0},{"$f":"(BJ34+BK34)*BJ23*-1","v":0},{"$f":"(BK34+BJ34)*BK23*-1","v":0},{"$f":"(BL34+BM34)*BL23*-1","v":0},{"$f":"(BM34+BL34)*BM23*-1","v":0},{"$f":"(BN34+BO34)*BN23*-1","v":0},{"$f":"(BO34+BN34)*BO23*-1","v":0},{"$f":"(BP34+BQ34)*BP23*-1","v":0},null,"dis",{"$f":"(BS34)*BS23*-1","v":0},{"$f":"(BT34+BU34)*BT23*-1","v":0},{"$f":"(BU34+BT34)*BU23*-1","v":0},{"$f":"(BV34+BW34)*BV23*-1","v":0},{"$f":"(BW34+BV34)*BW23*-1","v":0},{"$f":"(BX34+BY34)*BX23*-1","v":0},{"$f":"(BY34+BX34)*BY23*-1","v":0},{"$f":"(BZ34+CA34)*BZ23*-1","v":0},{"$f":"(CA34+BZ34)*CA23*-1","v":0},{"$f":"(CB34+CC34)*CB23*-1","v":0}]
[null,null,null,null,null,null,null,null,null,"co",{"$f":"L35/2","v":0},{"$f":"K35/2","v":0},{"$f":"N35/2","v":0},{"$f":"M35/2","v":0},{"$f":"P35/2","v":0},{"$f":"O35/2","v":0},{"$f":"R35/2","v":0},{"$f":"Q35/2","v":0},{"$f":"T35/2","v":0},{"$f":"S35/2","v":0},null,"co",{"$f":"X35/2","v":0},0,{"$f":"Z35/2","v":0},{"$f":"Y35/2","v":0},{"$f":"AB35/2","v":0},{"$f":"AA35/2","v":0},{"$f":"AD35/2","v":0},{"$f":"AC35/2","v":0},{"$f":"AF35/2","v":0},{"$f":"AE35/2","v":0},null,"co",{"$f":"AJ35/2","v":0},{"$f":"AI35/2","v":0},{"$f":"AL35/2","v":0},{"$f":"AK35/2","v":0},{"$f":"AN35/2","v":0},{"$f":"AM35/2","v":0},{"$f":"AP35/2","v":0},{"$f":"AO35/2","v":0},{"$f":"AR35/2","v":0},{"$f":"AQ35/2","v":0},null,"co",{"$f":"AV35/2","v":0},{"$f":"AU35/2","v":0},{"$f":"AX35/2","v":0},{"$f":"AW35/2","v":0},{"$f":"AZ35/2","v":0},{"$f":"AY35/2","v":0},{"$f":"BB35/2","v":0},{"$f":"BA35/2","v":0},{"$f":"BD35/2","v":0},{"$f":"BC35/2","v":0},null,"co",{"$f":"BH35/2","v":0},{"$f":"BG35/2","v":0},{"$f":"BJ35/2","v":0},{"$f":"BI35/2","v":0},{"$f":"BL35/2","v":0},{"$f":"BK35/2","v":0},{"$f":"BN35/2","v":0},{"$f":"BM35/2","v":0},{"$f":"BP35/2","v":0},{"$f":"BO35/2","v":0},null,"co",{"$f":"BT35/2","v":0},{"$f":"BS35/2","v":0},{"$f":"BV35/2","v":0},{"$f":"BU35/2","v":0},{"$f":"BX35/2","v":0},{"$f":"BW35/2","v":0},{"$f":"BZ35/2","v":0},{"$f":"BY35/2","v":0},{"$f":"CB35/2","v":0},{"$f":"CA35/2","v":0}]
[null,null,null,null,null,null,null,null,null,"dis",{"$f":"(K36)*K23*-1","v":0},{"$f":"(L36+M36)*L23*-1","v":0},{"$f":"(M36+L36)*M23*-1","v":0},{"$f":"(N36+O36)*N23*-1","v":0},{"$f":"(O36+N36)*O23*-1","v":0},{"$f":"(P36+Q36)*P23*-1","v":0},{"$f":"(Q36+P36)*Q23*-1","v":0},{"$f":"(R36+S36)*R23*-1","v":0},{"$f":"(S36+R36)*S23*-1","v":0},{"$f":"(T36+U36)*T23*-1","v":0},null,"dis",{"$f":"(W36)*W23*-1","v":0},{"$f":"(X36+Y36)*X23*-1","v":0},{"$f":"(Y36+X36)*Y23*-1","v":0},{"$f":"(Z36+AA36)*Z23*-1","v":0},{"$f":"(AA36+Z36)*AA23*-1","v":0},{"$f":"(AB36+AC36)*AB23*-1","v":0},{"$f":"(AC36+AB36)*AC23*-1","v":0},{"$f":"(AD36+AE36)*AD23*-1","v":0},{"$f":"(AE36+AD36)*AE23*-1","v":0},{"$f":"(AF36+AG36)*AF23*-1","v":0},null,"dis",{"$f":"(AI36)*AI23*-1","v":0},{"$f":"(AJ36+AK36)*AJ23*-1","v":0},{"$f":"(AK36+AJ36)*AK23*-1","v":0},{"$f":"(AL36+AM36)*AL23*-1","v":0},{"$f":"(AM36+AL36)*AM23*-1","v":0},{"$f":"(AN36+AO36)*AN23*-1","v":0},{"$f":"(AO36+AN36)*AO23*-1","v":0},{"$f":"(AP36+AQ36)*AP23*-1","v":0},{"$f":"(AQ36+AP36)*AQ23*-1","v":0},{"$f":"(AR36+AS36)*AR23*-1","v":0},null,"dis",{"$f":"(AU36)*AU23*-1","v":0},{"$f":"(AV36+AW36)*AV23*-1","v":0},{"$f":"(AW36+AV36)*AW23*-1","v":0},{"$f":"(AX36+AY36)*AX23*-1","v":0},{"$f":"(AY36+AX36)*AY23*-1","v":0},{"$f":"(AZ36+BA36)*AZ23*-1","v":0},{"$f":"(BA36+AZ36)*BA23*-1","v":0},{"$f":"(BB36+BC36)*BB23*-1","v":0},{"$f":"(BC36+BB36)*BC23*-1","v":0},{"$f":"(BD36+BE36)*BD23*-1","v":0},null,"dis",{"$f":"(BG36)*BG23*-1","v":0},{"$f":"(BH36+BI36)*BH23*-1","v":0},{"$f":"(BI36+BH36)*BI23*-1","v":0},{"$f":"(BJ36+BK36)*BJ23*-1","v":0},{"$f":"(BK36+BJ36)*BK23*-1","v":0},{"$f":"(BL36+BM36)*BL23*-1","v":0},{"$f":"(BM36+BL36)*BM23*-1","v":0},{"$f":"(BN36+BO36)*BN23*-1","v":0},{"$f":"(BO36+BN36)*BO23*-1","v":0},{"$f":"(BP36+BQ36)*BP23*-1","v":0},null,"dis",{"$f":"(BS36)*BS23*-1","v":0},{"$f":"(BT36+BU36)*BT23*-1","v":0},{"$f":"(BU36+BT36)*BU23*-1","v":0},{"$f":"(BV36+BW36)*BV23*-1","v":0},{"$f":"(BW36+BV36)*BW23*-1","v":0},{"$f":"(BX36+BY36)*BX23*-1","v":0},{"$f":"(BY36+BX36)*BY23*-1","v":0},{"$f":"(BZ36+CA36)*BZ23*-1","v":0},{"$f":"(CA36+BZ36)*CA23*-1","v":0},{"$f":"(CB36+CC36)*CB23*-1","v":0}]
[null,null,null,null,null,null,null,null,null,"co",{"$f":"L37/2","v":0},{"$f":"K37/2","v":0},{"$f":"N37/2","v":0},{"$f":"M37/2","v":0},{"$f":"P37/2","v":0},{"$f":"O37/2","v":0},{"$f":"R37/2","v":0},{"$f":"Q37/2","v":0},{"$f":"T37/2","v":0},{"$f":"S37/2","v":0},null,"co",{"$f":"X37/2","v":0},{"$f":"W37/2","v":0},{"$f":"Z37/2","v":0},{"$f":"Y37/2","v":0},{"$f":"AB37/2","v":0},{"$f":"AA37/2","v":0},{"$f":"AD37/2","v":0},{"$f":"AC37/2","v":0},{"$f":"AF37/2","v":0},{"$f":"AE37/2","v":0},null,"co",{"$f":"AJ37/2","v":0},{"$f":"AI37/2","v":0},{"$f":"AL37/2","v":0},{"$f":"AK37/2","v":0},{"$f":"AN37/2","v":0},{"$f":"AM37/2","v":0},{"$f":"AP37/2","v":0},{"$f":"AO37/2","v":0},{"$f":"AR37/2","v":0},{"$f":"AQ37/2","v":0},null,"co",{"$f":"AV37/2","v":0},{"$f":"AU37/2","v":0},{"$f":"AX37/2","v":0},{"$f":"AW37/2","v":0},{"$f":"AZ37/2","v":0},{"$f":"AY37/2","v":0},{"$f":"BB37/2","v":0},{"$f":"BA37/2","v":0},{"$f":"BD37/2","v":0},{"$f":"BC37/2","v":0},null,"co",{"$f":"BH37/2","v":0},{"$f":"BG37/2","v":0},{"$f":"BJ37/2","v":0},{"$f":"BI37/2","v":0},{"$f":"BL37/2","v":0},{"$f":"BK37/2","v":0},{"$f":"BN37/2","v":0},{"$f":"BM37/2","v":0},{"$f":"BP37/2","v":0},{"$f":"BO37/2","v":0},null,"co",{"$f":"BT37/2","v":0},{"$f":"BS37/2","v":0},{"$f":"BV37/2","v":0},{"$f":"BU37/2","v":0},{"$f":"BX37/2","v":0},{"$f":"BW37/2","v":0},{"$f":"BZ37/2","v":0},{"$f":"BY37/2","v":0},{"$f":"CB37/2","v":0},{"$f":"CA37/2","v":0}]
[null,null,null,null,null,null,null,null,null,"dis",{"$f":"(K38)*K23*-1","v":0},{"$f":"(L38+M38)*L23*-1","v":0},{"$f":"(M38+L38)*M23*-1","v":0},{"$f":"(N38+O38)*N23*-1","v":0},{"$f":"(O38+N38)*O23*-1","v":0},{"$f":"(P38+Q38)*P23*-1","v":0},{"$f":"(Q38+P38)*Q23*-1","v":0},{"$f":"(R38+S38)*R23*-1","v":0},{"$f":"(S38+R38)*S23*-1","v":0},{"$f":"(T38+U38)*T23*-1","v":0},null,"dis",{"$f":"(W38)*W23*-1","v":0},{"$f":"(X38+Y38)*X23*-1","v":0},{"$f":"(Y38+X38)*Y23*-1","v":0},{"$f":"(Z38+AA38)*Z23*-1","v":0},{"$f":"(AA38+Z38)*AA23*-1","v":0},{"$f":"(AB38+AC38)*AB23*-1","v":0},{"$f":"(AC38+AB38)*AC23*-1","v":0},{"$f":"(AD38+AE38)*AD23*-1","v":0},{"$f":"(AE38+AD38)*AE23*-1","v":0},{"$f":"(AF38+AG38)*AF23*-1","v":0},null,"dis",{"$f":"(AI38)*AI23*-1","v":0},{"$f":"(AJ38+AK38)*AJ23*-1","v":0},{"$f":"(AK38+AJ38)*AK23*-1","v":0},{"$f":"(AL38+AM38)*AL23*-1","v":0},{"$f":"(AM38+AL38)*AM23*-1","v":0},{"$f":"(AN38+AO38)*AN23*-1","v":0},{"$f":"(AO38+AN38)*AO23*-1","v":0},{"$f":"(AP38+AQ38)*AP23*-1","v":0},{"$f":"(AQ38+AP38)*AQ23*-1","v":0},{"$f":"(AR38+AS38)*AR23*-1","v":0},null,"dis",{"$f":"(AU38)*AU23*-1","v":0},{"$f":"(AV38+AW38)*AV23*-1","v":0},{"$f":"(AW38+AV38)*AW23*-1","v":0},{"$f":"(AX38+AY38)*AX23*-1","v":0},{"$f":"(AY38+AX38)*AY23*-1","v":0},{"$f":"(AZ38+BA38)*AZ23*-1","v":0},{"$f":"(BA38+AZ38)*BA23*-1","v":0},{"$f":"(BB38+BC38)*BB23*-1","v":0},{"$f":"(BC38+BB38)*BC23*-1","v":0},{"$f":"(BD38+BE38)*BD23*-1","v":0},null,"dis",{"$f":"(BG38)*BG23*-1","v":0},{"$f":"(BH38+BI38)*BH23*-1","v":0},{"$f":"(BI38+BH38)*BI23*-1","v":0},{"$f":"(BJ38+BK38)*BJ23*-1","v":0},{"$f":"(BK38+BJ38)*BK23*-1","v":0},{"$f":"(BL38+BM38)*BL23*-1","v":0},{"$f":"(BM38+BL38)*BM23*-1","v":0},{"$f":"(BN38+BO38)*BN23*-1","v":0},{"$f":"(BO38+BN38)*BO23*-1","v":0},{"$f":"(BP38+BQ38)*BP23*-1","v":0},null,"dis",{"$f":"(BS38)*BS23*-1","v":0},{"$f":"(BT38+BU38)*BT23*-1","v":0},{"$f":"(BU38+BT38)*BU23*-1","v":0},{"$f":"(BV38+BW38)*BV23*-1","v":0},{"$f":"(BW38+BV38)*BW23*-1","v":0},{"$f":"(BX38+BY38)*BX23*-1","v":0},{"$f":"(BY38+BX38)*BY23*-1","v":0},{"$f":"(BZ38+CA38)*BZ23*-1","v":0},{"$f":"(CA38+BZ38)*CA23*-1","v":0},{"$f":"(CB38+CC38)*CB23*-1","v":0}]
[null,null,null,null,null,null,null,null,null,"co",{"$f":"L39/2","v":0},{"$f":"K39/2","v":0},{"$f":"N39/2","v":0},{"$f":"M39/2","v":0},{"$f":"P39/2","v":0},{"$f":"O39/2","v":0},{"$f":"R39/2","v":0},{"$f":"Q39/2","v":0},{"$f":"T39/2","v":0},{"$f":"S39/2","v":0},null,"co",{"$f":"X39/2","v":0},{"$f":"W39/2","v":0},{"$f":"Z39/2","v":0},{"$f":"Y39/2","v":0},{"$f":"AB39/2","v":0},{"$f":"AA39/2","v":0},{"$f":"AD39/2","v":0},{"$f":"AC39/2","v":0},{"$f":"AF39/2","v":0},{"$f":"AE39/2","v":0},null,"co",{"$f":"AJ39/2","v":0},{"$f":"AI39/2","v":0},{"$f":"AL39/2","v":0},{"$f":"AK39/2","v":0},{"$f":"AN39/2","v":0},{"$f":"AM39/2","v":0},{"$f":"AP39/2","v":0},{"$f":"AO39/2","v":0},{"$f":"AR39/2","v":0},{"$f":"AQ39/2","v":0},null,"co",{"$f":"AV39/2","v":0},{"$f":"AU39/2","v":0},{"$f":"AX39/2","v":0},{"$f":"AW39/2","v":0},{"$f":"AZ39/2","v":0},{"$f":"AY39/2","v":0},{"$f":"BB39/2","v":0},{"$f":"BA39/2","v":0},{"$f":"BD39/2","v":0},{"$f":"BC39/2","v":0},null,"co",{"$f":"BH39/2","v":0},{"$f":"BG39/2","v":0},{"$f":"BJ39/2","v":0},{"$f":"BI39/2","v":0},{"$f":"BL39/2","v":0},{"$f":"BK39/2","v":0},{"$f":"BN39/2","v":0},{"$f":"BM39/2","v":0},{"$f":"BP39/2","v":0},{"$f":"BO39/2","v":0},null,"co",{"$f":"BT39/2","v":0},{"$f":"BS39/2","v":0},{"$f":"BV39/2","v":0},{"$f":"BU39/2","v":0},{"$f":"BX39/2","v":0},{"$f":"BW39/2","v":0},{"$f":"BZ39/2","v":0},{"$f":"BY39/2","v":0},{"$f":"CB39/2","v":0},{"$f":"CA39/2","v":0}]
[null,null,null,null,null,null,null,null,null,"dis",{"$f":"(K40)*K23*-1","v":0},{"$f":"(L40+M40)*L23*-1","v":0},{"$f":"(M40+L40)*M23*-1","v":0},{"$f":"(N40+O40)*N23*-1","v":0},{"$f":"(O40+N40)*O23*-1","v":0},{"$f":"(P40+Q40)*P23*-1","v":0},{"$f":"(Q40+P40)*Q23*-1","v":0},{"$f":"(R40+S40)*R23*-1","v":0},{"$f":"(S40+R40)*S23*-1","v":0},{"$f":"(T40+U40)*T23*-1","v":0},null,"dis",{"$f":"(W40)*W23*-1","v":0},{"$f":"(X40+Y40)*X23*-1","v":0},{"$f":"(Y40+X40)*Y23*-1","v":0},{"$f":"(Z40+AA40)*Z23*-1","v":0},{"$f":"(AA40+Z40)*AA23*-1","v":0},{"$f":"(AB40+AC40)*AB23*-1","v":0},{"$f":"(AC40+AB40)*AC23*-1","v":0},{"$f":"(AD40+AE40)*AD23*-1","v":0},{"$f":"(AE40+AD40)*AE23*-1","v":0},{"$f":"(AF40+AG40)*AF23*-1","v":0},null,"dis",{"$f":"(AI40)*AI23*-1","v":0},{"$f":"(AJ40+AK40)*AJ23*-1","v":0},{"$f":"(AK40+AJ40)*AK23*-1","v":0},{"$f":"(AL40+AM40)*AL23*-1","v":0},{"$f":"(AM40+AL40)*AM23*-1","v":0},{"$f":"(AN40+AO40)*AN23*-1","v":0},{"$f":"(AO40+AN40)*AO23*-1","v":0},{"$f":"(AP40+AQ40)*AP23*-1","v":0},{"$f":"(AQ40+AP40)*AQ23*-1","v":0},{"$f":"(AR40+AS40)*AR23*-1","v":0},null,"dis",{"$f":"(AU40)*AU23*-1","v":0},{"$f":"(AV40+AW40)*AV23*-1","v":0},{"$f":"(AW40+AV40)*AW23*-1","v":0},{"$f":"(AX40+AY40)*AX23*-1","v":0},{"$f":"(AY40+AX40)*AY23*-1","v":0},{"$f":"(AZ40+BA40)*AZ23*-1","v":0},{"$f":"(BA40+AZ40)*BA23*-1","v":0},{"$f":"(BB40+BC40)*BB23*-1","v":0},{"$f":"(BC40+BB40)*BC23*-1","v":0},{"$f":"(BD40+BE40)*BD23*-1","v":0},null,"dis",{"$f":"(BG40)*BG23*-1","v":0},{"$f":"(BH40+BI40)*BH23*-1","v":0},{"$f":"(BI40+BH40)*BI23*-1","v":0},{"$f":"(BJ40+BK40)*BJ23*-1","v":0},{"$f":"(BK40+BJ40)*BK23*-1","v":0},{"$f":"(BL40+BM40)*BL23*-1","v":0},{"$f":"(BM40+BL40)*BM23*-1","v":0},{"$f":"(BN40+BO40)*BN23*-1","v":0},{"$f":"(BO40+BN40)*BO23*-1","v":0},{"$f":"(BP40+BQ40)*BP23*-1","v":0},null,"dis",{"$f":"(BS40)*BS23*-1","v":0},{"$f":"(BT40+BU40)*BT23*-1","v":0},{"$f":"(BU40+BT40)*BU23*-1","v":0},{"$f":"(BV40+BW40)*BV23*-1","v":0},{"$f":"(BW40+BV40)*BW23*-1","v":0},{"$f":"(BX40+BY40)*BX23*-1","v":0},{"$f":"(BY40+BX40)*BY23*-1","v":0},{"$f":"(BZ40+CA40)*BZ23*-1","v":0},{"$f":"(CA40+BZ40)*CA23*-1","v":0},{"$f":"(CB40+CC40)*CB23*-1","v":0}]
[null,null,null,null,null,null,null,null,null,"co",{"$f":"L41/2","v":0},{"$f":"K41/2","v":0},{"$f":"N41/2","v":0},{"$f":"M41/2","v":0},{"$f":"P41/2","v":0},{"$f":"O41/2","v":0},{"$f":"R41/2","v":0},{"$f":"Q41/2","v":0},{"$f":"T41/2","v":0},{"$f":"S41/2","v":0},null,"co",{"$f":"X41/2","v":0},{"$f":"W41/2","v":0},{"$f":"Z41/2","v":0},{"$f":"Y41/2","v":0},{"$f":"AB41/2","v":0},{"$f":"AA41/2","v":0},{"$f":"AD41/2","v":0},{"$f":"AC41/2","v":0},{"$f":"AF41/2","v":0},{"$f":"AE41/2","v":0},null,"co",{"$f":"AJ41/2","v":0},{"$f":"AI41/2","v":0},{"$f":"AL41/2","v":0},{"$f":"AK41/2","v":0},{"$f":"AN41/2","v":0},{"$f":"AM41/2","v":0},{"$f":"AP41/2","v":0},{"$f":"AO41/2","v":0},{"$f":"AR41/2","v":0},{"$f":"AQ41/2","v":0},null,"co",{"$f":"AV41/2","v":0},{"$f":"AU41/2","v":0},{"$f":"AX41/2","v":0},{"$f":"AW41/2","v":0},{"$f":"AZ41/2","v":0},{"$f":"AY41/2","v":0},{"$f":"BB41/2","v":0},{"$f":"BA41/2","v":0},{"$f":"BD41/2","v":0},{"$f":"BC41/2","v":0},null,"co",{"$f":"BH41/2","v":0},{"$f":"BG41/2","v":0},{"$f":"BJ41/2","v":0},{"$f":"BI41/2","v":0},{"$f":"BL41/2","v":0},{"$f":"BK41/2","v":0},{"$f":"BN41/2","v":0},{"$f":"BM41/2","v":0},{"$f":"BP41/2","v":0},{"$f":"BO41/2","v":0},null,"co",{"$f":"BT41/2","v":0},{"$f":"BS41/2","v":0},{"$f":"BV41/2","v":0},{"$f":"BU41/2","v":0},{"$f":"BX41/2","v":0},{"$f":"BW41/2","v":0},{"$f":"BZ41/2","v":0},{"$f":"BY41/2","v":0},{"$f":"CB41/2","v":0},{"$f":"CA41/2","v":0}]
[null,null,null,null,null,null,null,null,null,"dis",{"$f":"(K42)*K23*-1","v":0},{"$f":"(L42+M42)*L23*-1","v":0},{"$f":"(M42+L42)*M23*-1","v":0},{"$f":"(N42+O42)*N23*-1","v":0},{"$f":"(O42+N42)*O23*-1","v":0},{"$f":"(P42+Q42)*P23*-1","v":0},{"$f":"(Q42+P42)*Q23*-1","v":0},{"$f":"(R42+S42)*R23*-1","v":0},{"$f":"(S42+R42)*S23*-1","v":0},{"$f":"(T42+U42)*T23*-1","v":0},null,"dis",{"$f":"(W42)*W23*-1","v":0},{"$f":"(X42+Y42)*X23*-1","v":0},{"$f":"(Y42+X42)*Y23*-1","v":0},{"$f":"(Z42+AA42)*Z23*-1","v":0},{"$f":"(AA42+Z42)*AA23*-1","v":0},{"$f":"(AB42+AC42)*AB23*-1","v":0},{"$f":"(AC42+AB42)*AC23*-1","v":0},{"$f":"(AD42+AE42)*AD23*-1","v":0},{"$f":"(AE42+AD42)*AE23*-1","v":0},{"$f":"(AF42+AG42)*AF23*-1","v":0},null,"dis",{"$f":"(AI42)*AI23*-1","v":0},{"$f":"(AJ42+AK42)*AJ23*-1","v":0},{"$f":"(AK42+AJ42)*AK23*-1","v":0},{"$f":"(AL42+AM42)*AL23*-1","v":0},{"$f":"(AM42+AL42)*AM23*-1","v":0},{"$f":"(AN42+AO42)*AN23*-1","v":0},{"$f":"(AO42+AN42)*AO23*-1","v":0},{"$f":"(AP42+AQ42)*AP23*-1","v":0},{"$f":"(AQ42+AP42)*AQ23*-1","v":0},{"$f":"(AR42+AS42)*AR23*-1","v":0},null,"dis",{"$f":"(AU42)*AU23*-1","v":0},{"$f":"(AV42+AW42)*AV23*-1","v":0},{"$f":"(AW42+AV42)*AW23*-1","v":0},{"$f":"(AX42+AY42)*AX23*-1","v":0},{"$f":"(AY42+AX42)*AY23*-1","v":0},{"$f":"(AZ42+BA42)*AZ23*-1","v":0},{"$f":"(BA42+AZ42)*BA23*-1","v":0},{"$f":"(BB42+BC42)*BB23*-1","v":0},{"$f":"(BC42+BB42)*BC23*-1","v":0},{"$f":"(BD42+BE42)*BD23*-1","v":0},null,"dis",{"$f":"(BG42)*BG23*-1","v":0},{"$f":"(BH42+BI42)*BH23*-1","v":0},{"$f":"(BI42+BH42)*BI23*-1","v":0},{"$f":"(BJ42+BK42)*BJ23*-1","v":0},{"$f":"(BK42+BJ42)*BK23*-1","v":0},{"$f":"(BL42+BM42)*BL23*-1","v":0},{"$f":"(BM42+BL42)*BM23*-1","v":0},{"$f":"(BN42+BO42)*BN23*-1","v":0},{"$f":"(BO42+BN42)*BO23*-1","v":0},{"$f":"(BP42+BQ42)*BP23*-1","v":0},null,"dis",{"$f":"(BS42)*BS23*-1","v":0},{"$f":"(BT42+BU42)*BT23*-1","v":0},{"$f":"(BU42+BT42)*BU23*-1","v":0},{"$f":"(BV42+BW42)*BV23*-1","v":0},{"$f":"(BW42+BV42)*BW23*-1","v":0},{"$f":"(BX42+BY42)*BX23*-1","v":0},{"$f":"(BY42+BX42)*BY23*-1","v":0},{"$f":"(BZ42+CA42)*BZ23*-1","v":0},{"$f":"(CA42+BZ42)*CA23*-1","v":0},{"$f":"(CB42+CC42)*CB23*-1","v":0}]
[null,null,null,null,null,null,null,null,null,"co",{"$f":"L43/2","v":0},{"$f":"K43/2","v":0},{"$f":"N43/2","v":0},{"$f":"M43/2","v":0},{"$f":"P43/2","v":0},{"$f":"O43/2","v":0},{"$f":"R43/2","v":0},{"$f":"Q43/2","v":0},{"$f":"T43/2","v":0},{"$f":"S43/2","v":0},null,"co",{"$f":"X43/2","v":0},{"$f":"W43/2","v":0},{"$f":"Z43/2","v":0},{"$f":"Y43/2","v":0},{"$f":"AB43/2","v":0},{"$f":"AA43/2","v":0},{"$f":"AD43/2","v":0},{"$f":"AC43/2","v":0},{"$f":"AF43/2","v":0},{"$f":"AE43/2","v":0},null,"co",{"$f":"AJ43/2","v":0},{"$f":"AI43/2","v":0},{"$f":"AL43/2","v":0},{"$f":"AK43/2","v":0},{"$f":"AN43/2","v":0},{"$f":"AM43/2","v":0},{"$f":"AP43/2","v":0},{"$f":"AO43/2","v":0},{"$f":"AR43/2","v":0},{"$f":"AQ43/2","v":0},null,"co",{"$f":"AV43/2","v":0},{"$f":"AU43/2","v":0},{"$f":"AX43/2","v":0},{"$f":"AW43/2","v":0},{"$f":"AZ43/2","v":0},{"$f":"AY43/2","v":0},{"$f":"BB43/2","v":0},{"$f":"BA43/2","v":0},{"$f":"BD43/2","v":0},{"$f":"BC43/2","v":0},null,"co",{"$f":"BH43/2","v":0},{"$f":"BG43/2","v":0},{"$f":"BJ43/2","v":0},{"$f":"BI43/2","v":0},{"$f":"BL43/2","v":0},{"$f":"BK43/2","v":0},{"$f":"BN43/2","v":0},{"$f":"BM43/2","v":0},{"$f":"BP43/2","v":0},{"$f":"BO43/2","v":0},null,"co",{"$f":"BT43/2","v":0},{"$f":"BS43/2","v":0},{"$f":"BV43/2","v":0},{"$f":"BU43/2","v":0},{"$f":"BX43/2","v":0},{"$f":"BW43/2","v":0},{"$f":"BZ43/2","v":0},{"$f":"BY43/2","v":0},{"$f":"CB43/2","v":0},{"$f":"CA43/2","v":0}]
[null,null,null,null,null,null,null,null,null,"dis",{"$f":"(K44)*K23*-1","v":0},{"$f":"(L44+M44)*L23*-1","v":0},{"$f":"(M44+L44)*M23*-1","v":0},{"$f":"(N44+O44)*N23*-1","v":0},{"$f":"(O44+N44)*O23*-1","v":0},{"$f":"(P44+Q44)*P23*-1","v":0},{"$f":"(Q44+P44)*Q23*-1","v":0},{"$f":"(R44+S44)*R23*-1","v":0},{"$f":"(S44+R44)*S23*-1","v":0},{"$f":"(T44+U44)*T23*-1","v":0},null,"dis",{"$f":"(W44)*W23*-1","v":0},{"$f":"(X44+Y44)*X23*-1","v":0},{"$f":"(Y44+X44)*Y23*-1","v":0},{"$f":"(Z44+AA44)*Z23*-1","v":0},{"$f":"(AA44+Z44)*AA23*-1","v":0},{"$f":"(AB44+AC44)*AB23*-1","v":0},{"$f":"(AC44+AB44)*AC23*-1","v":0},{"$f":"(AD44+AE44)*AD23*-1","v":0},{"$f":"(AE44+AD44)*AE23*-1","v":0},{"$f":"(AF44+AG44)*AF23*-1","v":0},null,"dis",{"$f":"(AI44)*AI23*-1","v":0},{"$f":"(AJ44+AK44)*AJ23*-1","v":0},{"$f":"(AK44+AJ44)*AK23*-1","v":0},{"$f":"(AL44+AM44)*AL23*-1","v":0},{"$f":"(AM44+AL44)*AM23*-1","v":0},{"$f":"(AN44+AO44)*AN23*-1","v":0},{"$f":"(AO44+AN44)*AO23*-1","v":0},{"$f":"(AP44+AQ44)*AP23*-1","v":0},{"$f":"(AQ44+AP44)*AQ23*-1","v":0},{"$f":"(AR44+AS44)*AR23*-1","v":0},null,"dis",{"$f":"(AU44)*AU23*-1","v":0},{"$f":"(AV44+AW44)*AV23*-1","v":0},{"$f":"(AW44+AV44)*AW23*-1","v":0},{"$f":"(AX44+AY44)*AX23*-1","v":0},{"$f":"(AY44+AX44)*AY23*-1","v":0},{"$f":"(AZ44+BA44)*AZ23*-1","v":0},{"$f":"(BA44+AZ44)*BA23*-1","v":0},{"$f":"(BB44+BC44)*BB23*-1","v":0},{"$f":"(BC44+BB44)*BC23*-1","v":0},{"$f":"(BD44+BE44)*BD23*-1","v":0},null,"dis",{"$f":"(BG44)*BG23*-1","v":0},{"$f":"(BH44+BI44)*BH23*-1","v":0},{"$f":"(BI44+BH44)*BI23*-1","v":0},{"$f":"(BJ44+BK44)*BJ23*-1","v":0},{"$f":"(BK44+BJ44)*BK23*-1","v":0},{"$f":"(BL44+BM44)*BL23*-1","v":0},{"$f":"(BM44+BL44)*BM23*-1","v":0},{"$f":"(BN44+BO44)*BN23*-1","v":0},{"$f":"(BO44+BN44)*BO23*-1","v":0},{"$f":"(BP44+BQ44)*BP23*-1","v":0},null,"dis",{"$f":"(BS44)*BS23*-1","v":0},{"$f":"(BT44+BU44)*BT23*-1","v":0},{"$f":"(BU44+BT44)*BU23*-1","v":0},{"$f":"(BV44+BW44)*BV23*-1","v":0},{"$f":"(BW44+BV44)*BW23*-1","v":0},{"$f":"(BX44+BY44)*BX23*-1","v":0},{"$f":"(BY44+BX44)*BY23*-1","v":0},{"$f":"(BZ44+CA44)*BZ23*-1","v":0},{"$f":"(CA44+BZ44)*CA23*-1","v":0},{"$f":"(CB44+CC44)*CB23*-1","v":0}]
[null,null,null,null,null,null,null,null,null,"sum",{"$f":"SUM(K24:K45)","v":0},{"$f":"SUM(L24:L45)","v":0},{"$f":"SUM(M24:M45)","v":0},{"$f":"SUM(N24:N45)","v":0},{"$f":"SUM(O24:O45)","v":0},0,0,0,0,0,null,"sum",{"$f":"SUM(W24:W45)","v":0},0,0,0,0,0,0,0,0,0,null,"sum",{"$f":"SUM(AI24:AI45)","v":0},0,0,0,0,0,0,0,0,0,null,"sum",{"$f":"SUM(AU24:AU45)","v":0},0,0,0,0,0,0,0,0,0,null,"sum",{"$f":"SUM(BG24:BG45)","v":0},0,0,0,0,0,0,0,0,0,null,"sum",{"$f":"SUM(BS24:BS45)","v":0},0,0,0,0,0,0,0,0,0]
[null,null,null,null,null,null,null,null,null,"โมเมนต์บวก span 1 =",{"$f":"K111","v":0},null,"โมเมนต์บวก span 2 =",{"$f":"W111","v":0},"โมเมนต์บวก span 3 =",{"$f":"AI111","v":0},"โมเมนต์บวก span 4 =",{"$f":"AU111","v":0},"โมเมนต์บวก span 5 =",{"$f":"BG111","v":0}]
[null,null,null,null,null,null,null,null,null,"โมเมนต์ลบ span 1 ขวา =",{"$f":"N110","v":0},null,"โมเมนต์ลบ span 2 ขวา =",{"$f":"AC111","v":0},"โมเมนต์ลบ span 3 ขวา =",{"$f":"AO110","v":0},"โมเมนต์ลบ span 4 ขวา =",{"$f":"BA110","v":0},"โมเมนต์ลบ span 5 ขวา =",{"$f":"BM110","v":0}]
[null,null,null,null,null,null,null,null,null,"โมเมนต์ลบ span 1 ซ้าย =",{"$f":"-K107+0.5*K109*Sheet1!D10-0.25*'l5'!E2*('l5'!B7+'l5'!E7)*Sheet1!D10^2","v":0},null,"โมเมนต์ลบ span 2 ซ้าย =",{"$f":"Z111","v":0},"โมเมนต์ลบ span 3 ซ้าย =",{"$f":"AL110","v":0},"โมเมนต์ลบ span 4 ซ้าย =",{"$f":"AX110","v":0},"โมเมนต์ลบ span 5 ซ้าย =",{"$f":"BJ110","v":0}]
[null,null,null,null,null,null,null,null,null,"span1",null,null,"span2",null,"span3",null,"span4",null,"span5"]
[null,null,null,null,null,null,"ทิศทาง","ช่วงเสา","สัมประสิทธ์ร้อยละ","แถบเสา","แถบกลาง",null,"แถบเสา","แถบกลาง","แถบเสา","แถบกลาง","แถบเสา","แถบกลาง","แถบเสา","แถบกลาง"]
[null,null,null,null,null,null,null,"โมเมนต์ลบขวา",0.75,{"$f":"IF((-K48>-N49),(K48),(N49))*I52","v":0},{"$f":"IF((-K48>-N49),(K48),(N49))-J52","v":0},null,{"$f":"IF((-N48>-P49),(N48),(P49))*IF(Sheet1!$B$4=2,(I54),(I52))","v":0},{"$f":"IF((-N48>-P49),(N48),(P49))-M52","v":0},{"$f":"IF(-P48>-R49,(P48),(R49))*IF(Sheet1!$B$3=3,(1),(0.75))","v":0},{"$f":"IF(-P48>-R49,(P48),(R49))*IF(Sheet1!$B$4=3,(1),(0.75))-O52","v":0},{"$f":"IF(-R48>-T49,(R48),(T49))*IF(Sheet1!$B$4=4,(1),(0.75))","v":0},{"$f":"IF(-R48>-T49,(R48),(T49))*IF(Sheet1!$B$4=4,(1),(0.75))-Q52","v":0},{"$f":"IF(-T48>-V49,(T48),(V49))*IF(Sheet1!$B$4=5,(1),(0.75))","v":0},{"$f":"IF(-T48>-V49,(T48),(V49))*IF(Sheet1!$B$4=5,(1),(0.75))-S52","v":0}]
[null,null,null,null,null,null,null,"โมเมนต์กลางช่วงโมเมนต์บวก",0.6,{"$f":"K47*$I$53","v":0},{"$f":"K47-J53","v":0},null,{"$f":"N47*$I$53","v":0},{"$f":"N47-M53","v":0},{"$f":"P47*$I$53","v":0},{"$f":"P47-O53","v":0},{"$f":"R47*$I$53","v":0},{"$f":"R47-Q53","v":0},{"$f":"T47*$I$53","v":0},{"$f":"T47-S53","v":0}]
[null,null,null,null,null,null,null,"โมเมนต์ลบซ้าย",1,{"$f":"K49*I54","v":0},{"$f":"K49-J54","v":0},null,{"$f":"IF((-K48>-N49),(K48),(N49))*I52","v":0},{"$f":"IF((-K48>-N49),(K48),(N49))-M54","v":0},{"$f":"IF((-N48>-P49),(N48),(P49))*IF(Sheet1!$B$4<3,(0),(0.75))","v":0},{"$f":"IF(O54=0,(0),(IF((-N48>-P49),(N48),(P49))-O54))","v":0},{"$f":"IF((-P48>-R49),(P48),(R49))*IF(Sheet1!$B$4<4,(0),(0.75))","v":0},{"$f":"IF(Q54=0,(0),(IF((-P48>-R49),(P48),(R49))-Q54))","v":0},{"$f":"IF((-R48>-T49),(R48),(T49))*IF(Sheet1!$B$4<5,(0),(0.75))","v":0},{"$f":"IF(S54=0,(0),(IF((-R48>-T49),(R48),(T49))-S54))","v":0}]
[]
[null,null,null,null,null,null,"เหล็กเสริมในแผ่นพื้น",null,null,"span l1",null,null,"span l2",null,"span l3",null,"span l4",null,"span l5"]
[null,null,null,null,null,null,null,"รายการ","หน่วย","แถบเสา","แถบกลาง",null,"แถบเสา","แถบกลาง","แถบเสา","แถบกลาง","แถบเสา","แถบกลาง","แถบเสา","แถบกลาง"]
[null,null,null,null,null,null,null,"ความกว้าง","m",{"$f":"E2*0.5","v":0},{"$f":"E2-J58","v":0},null,{"$f":"J58","v":0},{"$f":"$E$2-M58","v":0},{"$f":"M58","v":0},{"$f":"$E$2-O58","v":0},0,{"$f":"$E$2-Q58","v":0},0,{"$f":"$E$2-S58","v":0}]
[null,null,null,null,null,null,null,"โมเมนต์ลบขวา","kg-m/m",{"$f":"J52/(0.9*J58)","v":{"$error":"#DIV/0!"}},{"$f":"K52/(K58*0.9)","v":{"$error":"#DIV/0!"}},null,{"$f":"M52/(0.9*M58)","v":{"$error":"#DIV/0!"}},{"$f":"N52/(0.9*N58)","v":{"$error":"#DIV/0!"}},{"$f":"O52/(0.9*O58)","v":{"$error":"#DIV/0!"}},{"$f":"P52/(0.9*P58)","v":{"$error":"#DIV/0!"}},{"$f":"Q52/(0.9*Q58)","v":{"$error":"#DIV/0!"}},{"$error":"#DIV/0!"},{"$f":"S52/(0.9*S58)","v":{"$error":"#DIV/0!"}},{"$f":"T52/(0.9*T58)","v":{"$error":"#DIV/0!"}}]
[null,null,null,null,null,null,null,"Rn","kg/m^2",{"$f":"J59/(((Sheet1!B16)-(Sheet1!B13/100))^2)","v":{"$error":"#DIV/0!"}},{"$f":"K59/(((Sheet1!B16)-(Sheet1!B13/100))^2)","v":{"$error":"#DIV/0!"}},null,{"$f":"M59/(((Sheet1!B16)-(Sheet1!B13/100))^2)","v":{"$error":"#DIV/0!"}},{"$f":"N59/(((Sheet1!B16)-(Sheet1!B13/100))^2)","v":{"$error":"#DIV/0!"}},{"$f":"O59/(((Sheet1!B16)-(Sheet1!B13/100))^2)","v":{"$error":"#DIV/0!"}},{"$f":"P59/(((Sheet1!B16)-(Sheet1!B13/100))^2)","v":{"$error":"#DIV/0!"}},{"$f":"Q59/(((Sheet1!B16)-(Sheet1!B13/100))^2)","v":{"$error":"#DIV/0!"}},{"$f":"R59/(((Sheet1!B16)-(Sheet1!B13/100))^2)","v":{"$error":"#DIV/0!"}},{"$f":"S59/(((Sheet1!B16)-(Sheet1!B13/100))^2)","v":{"$error":"#DIV/0!"}},{"$f":"T59/(((Sheet1!B16)-(Sheet1!B13/100))^2)","v":{"$error":"#DIV/0!"}}]
[null,null,null,null,null,null,null,"p",null,{"$f":"ABS((0.85*Sheet1!B10/Sheet1!B9)*(1-(SQRT(1-(2*J60/(0.85*Sheet1!B10*100^2))))))","v":{"$error":"#DIV/0!"}},{"$f":"ABS((0.85*Sheet1!B10/Sheet1!B9)*(1-(SQRT(1-(2*K60/(0.85*Sheet1!B10*100^2))))))","v":{"$error":"#DIV/0!"}},null,{"$f":"ABS((0.85*Sheet1!B10/Sheet1!B9)*(1-(SQRT(1-(2*M60/(0.85*Sheet1!B10*100^2))))))","v":{"$error":"#DIV/0!"}},{"$f":"ABS((0.85*Sheet1!B10/Sheet1!B9)*(1-(SQRT(1-(2*N60/(0.85*Sheet1!B10*100^2))))))","v":{"$error":"#DIV/0!"}},{"$f":"ABS((0.85*Sheet1!B10/Sheet1!B9)*(1-(SQRT(1-(2*O60/(0.85*Sheet1!B10*100^2))))))","v":{"$error":"#DIV/0!"}},{"$f":"ABS((0.85*Sheet1!B10/Sheet1!B9)*(1-(SQRT(1-(2*P60/(0.85*Sheet1!B10*100^2))))))","v":{"$error":"#DIV/0!"}},{"$f":"ABS((0.85*Sheet1!B10/Sheet1!B9)*(1-(SQRT(1-(2*Q60/(0.85*Sheet1!B10*100^2))))))","v":{"$error":"#DIV/0!"}},{"$f":"ABS((0.85*Sheet1!B10/Sheet1!B9)*(1-(SQRT(1-(2*R60/(0.85*Sheet1!B10*100^2))))))","v":{"$error":"#DIV/0!"}},{"$f":"ABS((0.85*Sheet1!B10/Sheet1!B9)*(1-(SQRT(1-(2*S60/(0.85*Sheet1!B10*100^2))))))","v":{"$error":"#DIV/0!"}},{"$f":"ABS((0.85*Sheet1!B10/Sheet1!B9)*(1-(SQRT(1-(2*T60/(0.85*Sheet1!B10*100^2))))))","v":{"$error":"#DIV/0!"}}]
[null,null,null,null,null,null,null,"As-","mm^2/m",{"$f":"IF(J53=0,(0),(IF(J61>(0.0018*4000/Sheet1!$B$9),(ABS(J61*1000*(Sheet1!$B$16*1000-Sheet1!$B$13*10)*-1)),(ABS((0.0018*4000/Sheet1!$B$9)*1000*(Sheet1!$B$16*1000-Sheet1!$B$13*10)*-1)))))","v":0},{"$f":"IF(K53=0,(0),(IF(K61>(0.0018*4000/Sheet1!$B$9),(ABS(K61*1000*(Sheet1!$B$16*1000-Sheet1!$B$13*10)*-1)),(ABS((0.0018*4000/Sheet1!$B$9)*1000*(Sheet1!$B$16*1000-Sheet1!$B$13*10)*-1)))))","v":0},null,{"$f":"IF(M53=0,(0),(IF(M61>(0.0018*4000/Sheet1!$B$9),(ABS(M61*1000*(Sheet1!$B$16*1000-Sheet1!$B$13*10)*-1)),(ABS((0.0018*4000/Sheet1!$B$9)*1000*(Sheet1!$B$16*1000-Sheet1!$B$13*10)*-1)))))","v":0},{"$f":"IF(N53=0,(0),(IF(N61>(0.0018*4000/Sheet1!$B$9),(ABS(N61*1000*(Sheet1!$B$16*1000-Sheet1!$B$13*10)*-1)),(ABS((0.0018*4000/Sheet1!$B$9)*1000*(Sheet1!$B$16*1000-Sheet1!$B$13*10)*-1)))))","v":0},{"$f":"IF(O53=0,(0),(IF(O61>(0.0018*4000/Sheet1!$B$9),(ABS(O61*1000*(Sheet1!$B$16*1000-Sheet1!$B$13*10)*-1)),(ABS((0.0018*4000/Sheet1!$B$9)*1000*(Sheet1!$B$16*1000-Sheet1!$B$13*10)*-1)))))","v":0},{"$f":"IF(P53=0,(0),(IF(P61>(0.0018*4000/Sheet1!$B$9),(ABS(P61*1000*(Sheet1!$B$16*1000-Sheet1!$B$13*10)*-1)),(ABS((0.0018*4000/Sheet1!$B$9)*1000*(Sheet1!$B$16*1000-Sheet1!$B$13*10)*-1)))))","v":0},{"$f":"IF(Q53=0,(0),(IF(Q61>(0.0018*4000/Sheet1!$B$9),(ABS(Q61*1000*(Sheet1!$B$16*1000-Sheet1!$B$13*10)*-1)),(ABS((0.0018*4000/Sheet1!$B$9)*1000*(Sheet1!$B$16*1000-Sheet1!$B$13*10)*-1)))))","v":0},{"$f":"IF(R53=0,(0),(IF(R61>(0.0018*4000/Sheet1!$B$9),(ABS(R61*1000*(Sheet1!$B$16*1000-Sheet1!$B$13*10)*-1)),(ABS((0.0018*4000/Sheet1!$B$9)*1000*(Sheet1!$B$16*1000-Sheet1!$B$13*10)*-1)))))","v":0},{"$f":"IF(S53=0,(0),(IF(S61>(0.0018*4000/Sheet1!$B$9),(ABS(S61*1000*(Sheet1!$B$16*1000-Sheet1!$B$13*10)*-1)),(ABS((0.0018*4000/Sheet1!$B$9)*1000*(Sheet1!$B$16*1000-Sheet1!$B$13*10)*-1)))))","v":0},{"$f":"IF(T53=0,(0),(IF(T61>(0.0018*4000/Sheet1!$B$9),(ABS(T61*1000*(Sheet1!$B$16*1000-Sheet1!$B$13*10)*-1)),(ABS((0.0018*4000/Sheet1!$B$9)*1000*(Sheet1!$B$16*1000-Sheet1!$B$13*10)*-1)))))","v":0}]
[null,null,null,null,null,null,null,"โมเมนต์บวกกลาง","kg-m/m",{"$f":"J53/(0.9*J58)","v":{"$error":"#DIV/0!"}},{"$f":"K53/(0.9*K58)","v":{"$error":"#DIV/0!"}},null,{"$f":"M53/(0.9*M58)","v":{"$error":"#DIV/0!"}},{"$f":"N53/(0.9*N58)","v":{"$error":"#DIV/0!"}},{"$f":"O53/(0.9*O58)","v":{"$error":"#DIV/0!"}},{"$error":"#DIV/0!"},{"$error":"#DIV/0!"},{"$f":"R53/(0.9*R58)","v":{"$error":"#DIV/0!"}},{"$error":"#DIV/0!"},{"$f":"T53/(0.9*T58)","v":{"$error":"#DIV/0!"}}]
[null,null,null,null,null,null,null,"Rn","kg/m^2",{"$f":"J63/(((Sheet1!B16)-(Sheet1!B13/100))^2)","v":{"$error":"#DIV/0!"}},{"$f":"K63/(((Sheet1!B16)-(Sheet1!B13/100))^2)","v":{"$error":"#DIV/0!"}},null,{"$f":"M63/(((Sheet1!B16)-(Sheet1!B13/100))^2)","v":{"$error":"#DIV/0!"}},{"$f":"N63/(((Sheet1!B16)-(Sheet1!B13/100))^2)","v":{"$error":"#DIV/0!"}},{"$f":"O63/(((Sheet1!B16)-(Sheet1!B13/100))^2)","v":{"$error":"#DIV/0!"}},{"$f":"P63/(((Sheet1!B16)-(Sheet1!B13/100))^2)","v":{"$error":"#DIV/0!"}},{"$f":"Q63/(((Sheet1!B16)-(Sheet1!B13/100))^2)","v":{"$error":"#DIV/0!"}},{"$f":"R63/(((Sheet1!B16)-(Sheet1!B13/100))^2)","v":{"$error":"#DIV/0!"}},{"$f":"S63/(((Sheet1!B16)-(Sheet1!B13/100))^2)","v":{"$error":"#DIV/0!"}},{"$f":"T63/(((Sheet1!B16)-(Sheet1!B13/100))^2)","v":{"$error":"#DIV/0!"}}]
[null,null,null,null,null,null,null,"p",null,{"$f":"ABS((0.85*Sheet1!B10/Sheet1!B9)*(1-(SQRT(1-(2*J64/(0.85*Sheet1!B10*100^2))))))","v":{"$error":"#DIV/0!"}},{"$f":"(0.85*Sheet1!B10/Sheet1!B9)*(1-(SQRT(1-(2*K64/(0.85*Sheet1!B10*100^2)))))","v":{"$error":"#DIV/0!"}},null,{"$f":"ABS((0.85*Sheet1!B10/Sheet1!B9)*(1-(SQRT(1-(2*M64/(0.85*Sheet1!B10*100^2))))))","v":{"$error":"#DIV/0!"}},{"$f":"ABS((0.85*Sheet1!B10/Sheet1!B9)*(1-(SQRT(1-(2*N64/(0.85*Sheet1!B10*100^2))))))","v":{"$error":"#DIV/0!"}},{"$f":"ABS((0.85*Sheet1!B10/Sheet1!B9)*(1-(SQRT(1-(2*O64/(0.85*Sheet1!B10*100^2))))))","v":{"$error":"#DIV/0!"}},{"$f":"ABS((0.85*Sheet1!B10/Sheet1!B9)*(1-(SQRT(1-(2*P64/(0.85*Sheet1!B10*100^2))))))","v":{"$error":"#DIV/0!"}},{"$f":"ABS((0.85*Sheet1!B10/Sheet1!B9)*(1-(SQRT(1-(2*Q64/(0.85*Sheet1!B10*100^2))))))","v":{"$error":"#DIV/0!"}},{"$f":"ABS((0.85*Sheet1!B10/Sheet1!B9)*(1-(SQRT(1-(2*R64/(0.85*Sheet1!B10*100^2))))))","v":{"$error":"#DIV/0!"}},{"$f":"ABS((0.85*Sheet1!B10/Sheet1!B9)*(1-(SQRT(1-(2*S64/(0.85*Sheet1!B10*100^2))))))","v":{"$error":"#DIV/0!"}},{"$f":"ABS((0.85*Sheet1!B10/Sheet1!B9)*(1-(SQRT(1-(2*T64/(0.85*Sheet1!B10*100^2))))))","v":{"$error":"#DIV/0!"}}]
[null,null,null,null,null,null,null,"As+","mm^2/m",{"$f":"IF(J53=0,(0),(IF(J65>(0.0018*4000/Sheet1!$B$9),(ABS(J65*1000*(Sheet1!$B$16*1000-Sheet1!$B$13*10)*-1)),(ABS((0.0018*4000/Sheet1!$B$9)*1000*(Sheet1!$B$16*1000-Sheet1!$B$13*10)*-1)))))","v":0},{"$f":"IF(K53=0,(0),(IF(K65>(0.0018*4000/Sheet1!$B$9),(ABS(K65*1000*(Sheet1!$B$16*1000-Sheet1!$B$13*10)*-1)),(ABS((0.0018*4000/Sheet1!$B$9)*1000*(Sheet1!$B$16*1000-Sheet1!$B$13*10)*-1)))))","v":0},null,{"$f":"IF(M53=0,(0),(IF(M65>(0.0018*4000/Sheet1!$B$9),(ABS(M65*1000*(Sheet1!$B$16*1000-Sheet1!$B$13*10)*-1)),(ABS((0.0018*4000/Sheet1!$B$9)*1000*(Sheet1!$B$16*1000-Sheet1!$B$13*10)*-1)))))","v":0},{"$f":"IF(N53=0,(0),(IF(N65>(0.0018*4000/Sheet1!$B$9),(ABS(N65*1000*(Sheet1!$B$16*1000-Sheet1!$B$13*10)*-1)),(ABS((0.0018*4000/Sheet1!$B$9)*1000*(Sheet1!$B$16*1000-Sheet1!$B$13*10)*-1)))))","v":0},{"$f":"IF(O53=0,(0),(IF(O65>(0.0018*4000/Sheet1!$B$9),(ABS(O65*1000*(Sheet1!$B$16*1000-Sheet1!$B$13*10)*-1)),(ABS((0.0018*4000/Sheet1!$B$9)*1000*(Sheet1!$B$16*1000-Sheet1!$B$13*10)*-1)))))","v":0},{"$f":"IF(P53=0,(0),(IF(P65>(0.0018*4000/Sheet1!$B$9),(ABS(P65*1000*(Sheet1!$B$16*1000-Sheet1!$B$13*10)*-1)),(ABS((0.0018*4000/Sheet1!$B$9)*1000*(Sheet1!$B$16*1000-Sheet1!$B$13*10)*-1)))))","v":0},{"$f":"IF(Q53=0,(0),(IF(Q65>(0.0018*4000/Sheet1!$B$9),(ABS(Q65*1000*(Sheet1!$B$16*1000-Sheet1!$B$13*10)*-1)),(ABS((0.0018*4000/Sheet1!$B$9)*1000*(Sheet1!$B$16*1000-Sheet1!$B$13*10)*-1)))))","v":0},{"$f":"IF(R53=0,(0),(IF(R65>(0.0018*4000/Sheet1!$B$9),(ABS(R65*1000*(Sheet1!$B$16*1000-Sheet1!$B$13*10)*-1)),(ABS((0.0018*4000/Sheet1!$B$9)*1000*(Sheet1!$B$16*1000-Sheet1!$B$13*10)*-1)))))","v":0},{"$f":"IF(S53=0,(0),(IF(S65>(0.0018*4000/Sheet1!$B$9),(ABS(S65*1000*(Sheet1!$B$16*1000-Sheet1!$B$13*10)*-1)),(ABS((0.0018*4000/Sheet1!$B$9)*1000*(Sheet1!$B$16*1000-Sheet1!$B$13*10)*-1)))))","v":0},{"$f":"IF(T53=0,(0),(IF(T65>(0.0018*4000/Sheet1!$B$9),(ABS(T65*1000*(Sheet1!$B$16*1000-Sheet1!$B$13*10)*-1)),(ABS((0.0018*4000/Sheet1!$B$9)*1000*(Sheet1!$B$16*1000-Sheet1!$B$13*10)*-1)))))","v":0}]
[null,null,null,null,null,null,null,"โมเมนต์ลบซ้าย","kg-m/m",{"$f":"J54/(0.9*J58)","v":{"$error":"#DIV/0!"}},{"$f":"K54/(0.9*K58)","v":{"$error":"#DIV/0!"}},null,{"$f":"M54/(0.9*M58)","v":{"$error":"#DIV/0!"}},{"$f":"N54/(0.9*N58)","v":{"$error":"#DIV/0!"}},{"$f":"O54/(0.9*O58)","v":{"$error":"#DIV/0!"}},{"$f":"P54/(0.9*P58)","v":{"$error":"#DIV/0!"}},{"$error":"#DIV/0!"},{"$error":"#DIV/0!"},{"$error":"#DIV/0!"},{"$error":"#DIV/0!"}]
[null,null,null,null,null,null,null,"Rn","kg/m^2",{"$f":"J67/(((Sheet1!B16)-(Sheet1!B13/100))^2)","v":{"$error":"#DIV/0!"}},{"$f":"K67/(((Sheet1!B16)-(Sheet1!B13/100))^2)","v":{"$error":"#DIV/0!"}},null,{"$f":"M67/(((Sheet1!B16)-(Sheet1!B13/100))^2)","v":{"$error":"#DIV/0!"}},{"$f":"N67/(((Sheet1!B16)-(Sheet1!B13/100))^2)","v":{"$error":"#DIV/0!"}},{"$f":"O67/(((Sheet1!B16)-(Sheet1!B13/100))^2)","v":{"$error":"#DIV/0!"}},{"$f":"P67/(((Sheet1!B16)-(Sheet1!B13/100))^2)","v":{"$error":"#DIV/0!"}},{"$f":"Q67/(((Sheet1!B16)-(Sheet1!B13/100))^2)","v":{"$error":"#DIV/0!"}},{"$f":"R67/(((Sheet1!B16)-(Sheet1!B13/100))^2)","v":{"$error":"#DIV/0!"}},{"$f":"S67/(((Sheet1!B16)-(Sheet1!B13/100))^2)","v":{"$error":"#DIV/0!"}},{"$f":"T67/(((Sheet1!B16)-(Sheet1!B13/100))^2)","v":{"$error":"#DIV/0!"}}]
[null,null,null,null,null,null,null,"p",null,{"$f":"ABS((0.85*Sheet1!B10/Sheet1!B9)*(1-(SQRT(1-(2*J68/(0.85*Sheet1!B10*100^2))))))","v":{"$error":"#DIV/0!"}},{"$f":"(0.85*Sheet1!B10/Sheet1!B9)*(1-(SQRT(1-(2*K68/(0.85*Sheet1!B10*100^2)))))","v":{"$error":"#DIV/0!"}},null,{"$f":"ABS((0.85*Sheet1!B10/Sheet1!B9)*(1-(SQRT(1-(2*M68/(0.85*Sheet1!B10*100^2))))))","v":{"$error":"#DIV/0!"}},{"$f":"ABS((0.85*Sheet1!B10/Sheet1!B9)*(1-(SQRT(1-(2*N68/(0.85*Sheet1!B10*100^2))))))","v":{"$error":"#DIV/0!"}},{"$f":"ABS((0.85*Sheet1!B10/Sheet1!B9)*(1-(SQRT(1-(2*O68/(0.85*Sheet1!B10*100^2))))))","v":{"$error":"#DIV/0!"}},{"$f":"ABS((0.85*Sheet1!B10/Sheet1!B9)*(1-(SQRT(1-(2*P68/(0.85*Sheet1!B10*100^2))))))","v":{"$error":"#DIV/0!"}},{"$f":"ABS((0.85*Sheet1!B10/Sheet1!B9)*(1-(SQRT(1-(2*Q68/(0.85*Sheet1!B10*100^2))))))","v":{"$error":"#DIV/0!"}},{"$f":"ABS((0.85*Sheet1!B10/Sheet1!B9)*(1-(SQRT(1-(2*R68/(0.85*Sheet1!B10*100^2))))))","v":{"$error":"#DIV/0!"}},{"$f":"ABS((0.85*Sheet1!B10/Sheet1!B9)*(1-(SQRT(1-(2*S68/(0.85*Sheet1!B10*100^2))))))","v":{"$error":"#DIV/0!"}},{"$f":"ABS((0.85*Sheet1!B10/Sheet1!B9)*(1-(SQRT(1-(2*T68/(0.85*Sheet1!B10*100^2))))))","v":{"$error":"#DIV/0!"}}]
[null,null,null,null,null,null,null,"As-","mm^2/m",{"$f":"IF(J53=0,(0),(IF(J69>(0.0018*4000/Sheet1!$B$9),(ABS(J69*1000*(Sheet1!$B$16*1000-Sheet1!$B$13*10)*-1)),(ABS((0.0018*4000/Sheet1!$B$9)*1000*(Sheet1!$B$16*1000-Sheet1!$B$13*10)*-1)))))","v":0},{"$f":"IF(K53=0,(0),(IF(K69>(0.0018*4000/Sheet1!$B$9),(ABS(K69*1000*(Sheet1!$B$16*1000-Sheet1!$B$13*10)*-1)),(ABS((0.0018*4000/Sheet1!$B$9)*1000*(Sheet1!$B$16*1000-Sheet1!$B$13*10)*-1)))))","v":0},null,{"$f":"IF(M53=0,(0),(IF(M69>(0.0018*4000/Sheet1!$B$9),(ABS(M69*1000*(Sheet1!$B$16*1000-Sheet1!$B$13*10)*-1)),(ABS((0.0018*4000/Sheet1!$B$9)*1000*(Sheet1!$B$16*1000-Sheet1!$B$13*10)*-1)))))","v":0},{"$f":"IF(N53=0,(0),(IF(N69>(0.0018*4000/Sheet1!$B$9),(ABS(N69*1000*(Sheet1!$B$16*1000-Sheet1!$B$13*10)*-1)),(ABS((0.0018*4000/Sheet1!$B$9)*1000*(Sheet1!$B$16*1000-Sheet1!$B$13*10)*-1)))))","v":0},{"$f":"IF(O53=0,(0),(IF(O69>(0.0018*4000/Sheet1!$B$9),(ABS(O69*1000*(Sheet1!$B$16*1000-Sheet1!$B$13*10)*-1)),(ABS((0.0018*4000/Sheet1!$B$9)*1000*(Sheet1!$B$16*1000-Sheet1!$B$13*10)*-1)))))","v":0},{"$f":"IF(P53=0,(0),(IF(P69>(0.0018*4000/Sheet1!$B$9),(ABS(P69*1000*(Sheet1!$B$16*1000-Sheet1!$B$13*10)*-1)),(ABS((0.0018*4000/Sheet1!$B$9)*1000*(Sheet1!$B$16*1000-Sheet1!$B$13*10)*-1)))))","v":0},{"$f":"IF(Q53=0,(0),(IF(Q69>(0.0018*4000/Sheet1!$B$9),(ABS(Q69*1000*(Sheet1!$B$16*1000-Sheet1!$B$13*10)*-1)),(ABS((0.0018*4000/Sheet1!$B$9)*1000*(Sheet1!$B$16*1000-Sheet1!$B$13*10)*-1)))))","v":0},{"$f":"IF(R53=0,(0),(IF(R69>(0.0018*4000/Sheet1!$B$9),(ABS(R69*1000*(Sheet1!$B$16*1000-Sheet1!$B$13*10)*-1)),(ABS((0.0018*4000/Sheet1!$B$9)*1000*(Sheet1!$B$16*1000-Sheet1!$B$13*10)*-1)))))","v":0},{"$f":"IF(S53=0,(0),(IF(S69>(0.0018*4000/Sheet1!$B$9),(ABS(S69*1000*(Sheet1!$B$16*1000-Sheet1!$B$13*10)*-1)),(ABS((0.0018*4000/Sheet1!$B$9)*1000*(Sheet1!$B$16*1000-Sheet1!$B$13*10)*-1)))))","v":0},{"$f":"IF(T53=0,(0),(IF(T69>(0.0018*4000/Sheet1!$B$9),(ABS(T69*1000*(Sheet1!$B$16*1000-Sheet1!$B$13*10)*-1)),(ABS((0.0018*4000/Sheet1!$B$9)*1000*(Sheet1!$B$16*1000-Sheet1!$B$13*10)*-1)))))","v":0}]
[]
[null,null,null,null,null,null,"เช็ค punching shear  "]
[]
[null,null,null,null,null,null,"V",null,"kg",{"$f":"$K$109","v":0},null,null,{"$f":"$N$109+$Z$109","v":0},{"$f":"AC110+AL109","v":0},{"$f":"AO109+AX109","v":0},{"$f":"BA109+BJ109","v":0},{"$f":"BM109","v":0},"เช็ค punching shear  "]
[null,null,null,null,null,null,"V(max) ",null,"kg",{"$f":"MAX(J74,M74,N74,R74,R75,T75)","v":0},null,null,null,null,null,null,null,"เช็ค punching shear  "]
[null,null,null,null,null,null,"Vc",null,"kg",{"$f":"1.06*SQRT(Sheet1!$B$10)","v":18.961856449198219}]
[null,null,null,null,null,null,"b1",null,"cm",{"$f":"(Sheet1!D10*100)+(Sheet1!$B$16*100)-Sheet1!$B$13","v":62.5},null,null,null,null,null,null,null,"Vmax","kg",{"$f":"IF(Sheet1!$B$4=2,(MAX($J$74,$N$74)),(IF(Sheet1!$B$4=3,(MAX($J$74,O74)),(IF(Sheet1!$B$4=4,(MAX($J$74,P74)),(IF(Sheet1!$B$4=5,(MAX($J$74,Q74)),(0))))))))","v":0}]
[null,null,null,null,null,null,"b2",null,"cm",{"$f":"(Sheet1!$D$9*100)+(Sheet1!$B$16*100)-Sheet1!$B$13","v":72.5},null,null,null,null,null,null,null,"Vc","kg",{"$f":"1.06*SQRT(Sheet1!$B$10)","v":18.961856449198219}]
[null,null,null,null,null,null,"d",null,"cm",{"$f":"((Sheet1!$B$16*100)-Sheet1!$B$13)","v":22.5},null,null,null,null,null,null,null,"b1","cm",{"$f":"(Sheet1!$D$10*100)+((Sheet1!$B$16*100)-Sheet1!$B$13)/2","v":51.25}]
[null,null,null,null,null,null,"Ac",null,"cm^2",{"$f":"(J77*J79*2)+(J78*J79*2)","v":6075},null,null,null,null,null,null,null,"b2","cm",{"$f":"(Sheet1!$D$9*100)+(Sheet1!$B$16*100)-Sheet1!$B$13","v":72.5}]
[null,null,null,null,null,null,"X1",null,"cm",{"$f":"J77/2","v":31.25},null,null,null,null,null,null,null,"d","cm",{"$f":"((Sheet1!$B$16*100)-Sheet1!$B$13)","v":22.5}]
[null,null,null,null,null,null,"Jc",null,"cm^4",{"$f":"(J77^3*J79/6)+(J77*J79^3/6)+(J78*J77^2*J79/2)","v":4220214.84375},null,null,null,null,null,null,null,"Ac","cm^2",{"$f":"2*($T$79*$T$81)+($T$80*$T$81)","v":3937.5}]
[null,null,null,null,null,null,"Mu",null,"kg*m",{"$f":"IF(M74=J75,ABS(N108-Z107),(IF(N74=J75,ABS(AC108-AL107),(IF(R74=J75,ABS(AO108-AX107),(IF(R75=J75,ABS(BA108-BJ107),(0))))))))","v":0},null,null,null,null,null,null,null,"X2,X1","cm",{"$f":"$T$79^2*$T$81/$T$82","v":15.008928571428571},{"$f":"T79-T83","v":36.241071428571431}]
[null,null,null,null,null,null,"Mub",null,"kg*m",{"$f":"J83/(1+(2/3)*SQRT(J77/J78))","v":0},null,null,null,null,null,null,null,"J","cm^4",{"$f":"(T79*T81^3/6)+(2/3*(U83^3+T83^3)*T81)+T80*T83^2*T81","v":1229472.3423549107}]
[null,null,null,null,null,null,"Muv",null,"kg*m",{"$f":"J83-J84","v":0},null,null,null,null,null,null,null,"Mu","kg*m",{"$f":"IF(Sheet1!$B$4=2,(MAX(K107,AC108)),(IF(Sheet1!$B$4=3,(MAX(K107,AO108)),(IF(Sheet1!$B$4=4,(MAX(K107,BA108)),(IF(Sheet1!$B$4=5,(MAX(K107,BM108)),(0))))))))","v":0}]
[null,null,null,null,null,null,"Vu2",null,"kg/cm^2",{"$f":"(J75/J80)+((J85*100)*J81/J82)","v":0},null,null,null,null,null,null,null,"Mub","kg*m",{"$f":"T85/(1+2/3*SQRT(T79/T80))","v":0}]
[null,null,null,null,null,null,"Vc",null,"kg/cm^2",{"$f":"1.06*SQRT(Sheet1!$B$10)","v":18.961856449198219},null,null,null,null,null,null,null,"Muv","kg*m",{"$f":"T85-T86","v":0}]
[null,null,null,null,null,null,null,null,null,null,null,null,null,null,null,null,null,"Vu","kg/cm^2",{"$f":"T77/T82+(T87*100*T83/T84)","v":0}]
[null,null,null,null,null,null,null,null,null,null,null,null,null,null,null,null,null,"Vc","kg/cm^2",{"$f":"1.06*SQRT(Sheet1!$B$10)","v":18.961856449198219}]
[]
[]
[]
[]
[]
[]
[]
[]
[]
[]
[]
[]
[]
[]
[]
[]
[null,null,null,null,null,null,null,null,null,"โมเมนต์บวก span 1",null,null,"โมเมนต์ลบ span 1  ขวา",null,null,"โมเมนต์ลบ span 1 ซ้าย",null,null,null,null,null,"โมเมนต์บวก span 2",null,null,"โมเมนต์ลบ span 2  ซ้าย",null,null,"โมเมนต์ลบspan 2 ขวา",null,null,null,null,null,"โมเมนต์บวกสแปน 3",null,null,"โมเมนต์ลบspan 3 ซ้าย",null,null,"โมเมนต์ลบspan 3 ขวา",null,null,null,null,null,"โมเมนต์บวกสแปน 4",null,null,"โมเมนต์ลบสแปน 4 ซ้าย",null,null,"โมเมนต์ลบสแปน 4 ขวา",null,null,null,null,null,"โมเมนต์บวกสแปน 5",null,null,"โมเมนต์ลบ span 5 ซ้าย",null,null,"โมเมนต์ลบ span 5 ขวา"]
[null,null,null,null,null,null,null,null,null,"M 1l =",{"$f":"(K46+AI46+BG46+BS46)*-1","v":0},null,"M 1l =",{"$f":"(K46+W46+AU46+BS46)*-1","v":0},null,"M- max span1l =",{"$f":"IF(K107=0,(0),(-K107+0.5*K109*Sheet1!D10-0.25*'l5'!E2*('l5'!B7+'l5'!E7)*Sheet1!D10^2))","v":0},null,null,null,null,"M 2l =",{"$f":"(Y46+AW46+BU46)*-1","v":0},null,"M 2l =",{"$f":"(M46+Y46+AW46+BU46)*-1","v":0},null,"M 2l =",{"$f":"(Y46+AK46+BU46+BI46)*-1","v":0},null,null,null,null,"M 3l =",{"$f":"(AM46+O46+BK46+BW46)*-1","v":0},null,"M3l =",{"$f":"(AM46+AA46+BW46+BK46)*-1","v":0},null,"M3l =",{"$f":"(AM46+AY46+O46+BW46)*-1","v":0},null,null,null,null,"m 4l =",{"$f":"(BA46+AC46+BY46)*-1","v":0},null,"m4l =",{"$f":"(BA46+AO46+Q46+BY46)*-1","v":0},null," m4l =",{"$f":"(BA46+BM46+AC46+BY46)*-1","v":0},null,null,null,null,"m5l =",{"$f":"(BO46+AQ46+S46+CA46)*-1","v":0},null,"m5l =",{"$f":"(BO46+BC46+AE46+CA46)*-1","v":0},null,"m5l =",{"$f":"(BO46+AQ46+S46+CA46)*-1","v":0}]
[null,null,null,null,null,null,null,null,null,"M 1r =",{"$f":"(L46+AJ46+BH46+BT46)","v":0},null,"M 1r =",{"$f":"(L46+X46+AV46+BT46)","v":0},null,null,null,null,null,null,null,"M 2r =",{"$f":"(Z46+AX46+BV46)","v":0},null,"M 2r =",{"$f":"Z46+N46+AX46+BV46","v":0},null,"M 2r =",{"$f":"(Z46+AL46+BV46)+BJ46","v":0},null,null,null,null,"M 3r =",{"$f":"(AN46+P46+BL46+BX46)","v":0},null,"M3r =",{"$f":"AN46+AB46+BL46+BX46","v":0},null,"M3r =",{"$f":"AN46+AZ46+P46+BX46","v":0},null,null,null,null,"m 4r =",{"$f":"(BB46+AD46+BZ46)","v":0},null,"m4r =",{"$f":"BB46+AP46+R46+BZ46","v":0},null,"m4r =",{"$f":"(BB46+BN46+BZ46+AD46)","v":0},null,null,null,null,"m5r =",{"$f":"(BP46+AR46+T46+CB46)","v":0},null,"m5r =",{"$f":"BP46+CB46+BD46+AF46","v":0},null,"m5r =",{"$f":"BP46+CB46+AR46+T46","v":0}]
[null,null,null,null,null,null,null,null,null,"V1l =",{"$f":"IF(K107=0,(0),((-K108+K107+(0.5*(B7+E7)*E2*Sheet1!L9^2))/Sheet1!L9))","v":0},null,"V 1r =",{"$f":"(N108-N107+0.5*(B7+E7)*E2*Sheet1!$L$9^2)/Sheet1!$L$9","v":0},null,null,null,null,null,null,null,"V2l =",{"$f":"(-W108+W107+0.5*(B8+E8)*E2*Sheet1!L10^2)/Sheet1!L10","v":0},null,"V2l  =",{"$f":"(-Z108+Z107+0.5*(B8+E8)*E2*Sheet1!L10^2)/Sheet1!L10","v":0},null,"V2l =",{"$f":"(-AC108+AC107+0.5*(B8+E8)*E2*Sheet1!L10^2)/Sheet1!L10","v":0},null,null,null,null,"V3l =",{"$f":"(-AI108+AI107+0.5*(B9+E9)*E2*Sheet1!L11^2)/Sheet1!L11","v":{"$error":"#DIV/0!"}},null,"V3l =",{"$f":"IF(AL107=0,(0),((-AL108+AL107+0.5*(B9+E9)*Sheet1!L11^2*E2)/Sheet1!L11))","v":0},null,"V3r =",{"$f":"IF(AO107=0,(0),((AO108-AO107+0.5*(B9+E9)*E2*Sheet1!L11^2)/Sheet1!L11))","v":0},null,null,null,null,"v4l =",{"$f":"IF(AU107=0,(0),((-AU108+AU107+0.5*(B10+E10)*E2*Sheet1!L12^2)/Sheet1!L12))","v":0},null,"V4l =",{"$f":"IF(AX107=0,(0),((-AX108+AX107+0.5*(B10+E10)*Sheet1!L12^2*E2)/Sheet1!L12))","v":0},null,"v4r =",{"$f":"IF(BA107=0,(0),((BA108-BA107+0.5*(B10+E10)*E2*Sheet1!L12^2)/Sheet1!L12))","v":0},null,null,null,null,"v5l =",{"$f":"(-BG108+BG107+0.5*(B11+E11)*E2*Sheet1!L13^2)/Sheet1!L13","v":{"$error":"#DIV/0!"}},null,"v5l =",{"$f":"IF(BJ107=0,(0),((-BJ108+BJ107+0.5*(B11+E11)*E2*Sheet1!L13^2)/Sheet1!L13))","v":0},null,"v5r =",{"$f":"IF(BM107=0,(0),((BM108-BM107+0.5*(B11+E11)*E2*Sheet1!L13^2)/Sheet1!L13))","v":0}]
[null,null,null,null,null,null,null,null,null,"ระยะที่ V=0",{"$f":"K109/((B7+E7)*E2)","v":{"$error":"#DIV/0!"}},null,"M- max span1r =",{"$f":"IF(N107=0,(0),(0.5*Sheet1!$D$10*'l5'!N109-'l5'!N108-0.25*('l5'!B7+'l5'!E7)*'l5'!E2*Sheet1!$D$10^2))","v":0},null,null,null,null,null,null,null,"ระยะที่ V=0",{"$f":"W109/((B8+E8)*E2)","v":{"$error":"#DIV/0!"}},null,"V2 r =",{"$f":"(Z108-Z107+0.5*(B8+E8)*E2*Sheet1!L10^2)/Sheet1!L10","v":0},null,"v2r =",{"$f":"(AC108-AC107+0.5*(B8+E8)*E2*Sheet1!L10^2)/Sheet1!L10","v":0},null,null,null,null,"ระยะที่ V=0",{"$f":"AI109/((B9+E9)*E2)","v":{"$error":"#DIV/0!"}},null,"M- max span3l =",{"$f":"IF(AL107=0,(0),(-AL107+0.5*AL109*Sheet1!D10-0.25*Sheet1!D10^2*'l5'!E2*('l5'!B9+'l5'!E9)))","v":0},null,"M- max span3r =",{"$f":"IF(AO107=0,(0),(0.5*AO109*Sheet1!D10-'l5'!AO108-0.25*('l5'!B9+'l5'!E9)*'l5'!E2*Sheet1!D10^2))","v":0},null,null,null,null,"ระยะที่ v=0",{"$f":"AU109/((B10+E10)*E2)","v":{"$error":"#DIV/0!"}},null,"M- max span4l =",{"$f":"IF(AX107=0,(0),(-AX107+0.5*AX109*Sheet1!D10-0.25*Sheet1!D10^2*'l5'!E2*('l5'!B10+'l5'!E10)))","v":0},null,"M- max span4r =",{"$f":"IF(BA107=0,(0),(0.5*BA109*Sheet1!D10-'l5'!BA108-0.25*('l5'!B10+'l5'!E10)*'l5'!E2*Sheet1!D10^2))","v":0},null,null,null,null,"ระยะที่ v=0",{"$f":"BG109/((B11+E11)*E2)","v":{"$error":"#DIV/0!"}},null,"M- max span 5l =",{"$f":"IF(BJ107=0,(0),(-BJ107+0.5*BJ109*Sheet1!D10-0.25*Sheet1!D10^2*'l5'!E2*('l5'!B11+'l5'!E11)))","v":0},null,"M- max span 5r =",{"$f":"IF(BM107=0,(0),(0.5*BM109*Sheet1!D10-'l5'!BM108-0.25*('l5'!B11+'l5'!E11)*'l5'!E2*Sheet1!D10^2))","v":0}]
[null,null,null,null,null,null,null,null,null,"M1+max=",{"$f":"IF(K107=0,(0),(K109*K110-0.5*(B7+E7)*K110^2*E2-K107))","v":0},null,"V1l =",{"$f":"(B7+E7)*E2*Sheet1!$L$10-'l5'!N109","v":0},null,null,null,null,null,null,null,"M2+max=",{"$f":"IF(W107=0,(0),((W109*W110)-0.5*(B8+E8)*E2*W110^2-W107))","v":0},null,"M- max span2l =",{"$f":"IF(Z107=0,(0),(-Z107+0.5*Z109*Sheet1!D10-0.25*(B8+E8)*E2*Sheet1!D10^2))","v":0},null,"M- max span2r =",{"$f":"IF(AC107=0,(0),(0.5*AC110*Sheet1!D10-'l5'!AC108-0.25*('l5'!B8+'l5'!E8)*'l5'!E2*Sheet1!D10^2))","v":0},null,null,null,null,"M3+ max =",{"$f":"IF(AI107=0,(0),(AI109*AI110-0.5*(B9+E9)*E2*AI110^2-AI107))","v":0},null,null,null,null,null,null,null,null,null,null,"M4+ max =",{"$f":"IF(AU107=0,(0),(AU109*AU110-0.5*(B10+E10)*AU110^2*E2-AU107))","v":0},null,null,null,null,null,null,null,null,null,null,"M5+ max =",{"$f":"IF(BG107=0,(0),(BG109*BG110-0.5*(B11+E11)*E2*BG110^2-BG107))","v":0},null,null,null,null,null,null,null,null,null,null,null,null,null,null,null,null,null,null,null,null,null,null,null,null,null,null," "]

{"sheet":"l6","index":12,"n_rows":111,"n_cols":86,"rows_kept":111,"cut":false,"hidden":false,"merged":[[0,0,0,4],[5,0,5,1],[5,3,5,4],[12,0,12,1],[12,3,12,4],[20,69,20,79],[55,14,55,15],[55,16,55,17],[55,18,55,19],[20,45,20,55],[20,57,20,67],[20,33,20,43],[20,9,20,19],[55,6,55,8],[55,9,55,11],[59,10,59,11],[60,10,60,11],[20,21,20,31],[50,10,50,11],[51,10,51,11],[46,10,46,11],[47,10,47,11],[48,10,48,11],[52,10,52,11],[53,10,53,11],[55,12,55,13],[56,10,56,11],[57,10,57,11],[58,10,58,11],[105,39,105,40],[105,45,105,46],[105,63,105,64],[105,27,105,28],[105,15,105,16],[105,21,105,22],[105,24,105,25],[105,51,105,52],[105,57,105,58],[105,60,105,61],[105,33,105,34],[105,48,105,49],[61,10,61,11],[54,10,54,11],[105,9,105,10],[105,12,105,13],[105,36,105,37],[67,10,67,11],[68,10,68,11],[69,10,69,11],[62,10,62,11],[63,10,63,11],[66,10,66,11],[65,10,65,11],[64,10,64,11]]}
["รายการคำนวณโมเมนต์แกน x   แถบนอก Rslab2"]
["ระยะช่วงพื้น (unit: m)",{"$f":"MAX(Sheet1!F9,Sheet1!F10,Sheet1!F11,Sheet1!F12,Sheet1!F13,Sheet1!L9,Sheet1!L10,Sheet1!L11,Sheet1!L12,Sheet1!F13)","v":6},null,"ความกว้างแถบเสา =",{"$f":"(Sheet1!F13)/2","v":0}]
["ตัวคูณหาความหนาพื้นขั้นต่ำ",{"$f":"0.01*LN(Sheet1!B9)-0.05","v":3.0255163864890078E-2}]
[]
["ความหนาพื้น (unit:m)",{"$f":"IF((B2*B3)>0.12,(B2*B3),(0.12))","v":0.18153098318934047}]
["น้ำหนัก DL+WDS",null,null,"น้ำหนัก LL"]
["Wdl1+Wsd1 (unit:KG/m^2) =",{"$f":"(((Sheet1!B16*Sheet1!B11)+Sheet1!J13)*1.4)","v":840},null,"Wtl1 (unit:kg/m^2) =",{"$f":"(1.7*Sheet1!H13)","v":0}]
["Wdl2+Wsd2 (unit:KG/m^2) =",{"$f":"(((Sheet1!B16*Sheet1!B11)+Sheet1!J13)*1.4)","v":840},null,"Wtl2 (unit:kg/m^2) =",{"$f":"(1.7*Sheet1!H13)","v":0}]
[{"$f":"IF(Sheet1!B3>2,(\"Wdl3+Wsd3 (unit:KG/m^2) =\"),(\"\"))","v":"Wdl3+Wsd3 (unit:KG/m^2) ="},{"$f":"(((Sheet1!B16*Sheet1!B11)+Sheet1!J13)*1.4)","v":840},null,{"$f":"IF(Sheet1!B3>2,(\"Wtl3 (unit:KG/m^2) =\"),(\"\"))","v":"Wtl3 (unit:KG/m^2) ="},{"$f":"(1.7*Sheet1!H13)","v":0}]
[{"$f":"IF(Sheet1!B3>3,(\"Wdl4+Wsd4 (unit:KG/m^2) =\"),(\"\"))","v":""},{"$f":"(((Sheet1!B16*Sheet1!B11)+Sheet1!J13)*1.4)","v":840},null,{"$f":"IF(Sheet1!B3>3,(\"Wtl4 (unit:KG/m^2) =\"),(\"\"))","v":""},{"$f":"(1.7*Sheet1!H13)","v":0}]
[{"$f":"IF(Sheet1!B3>4,(\"Wdl5+Wsd5 (unit:KG/m^2) =\"),(\"\"))","v":""},{"$f":"(((Sheet1!B16*Sheet1!B11)+Sheet1!J13)*1.4)","v":840},null,{"$f":"IF(Sheet1!B3>4,(\"Wtl5 (unit:KG/m^2) =\"),(\"\"))","v":""},{"$f":"(1.7*Sheet1!H13)","v":0}]
[]
["โมเมนต์ DL+WSD",null,null,"โมเมนต LL"]
["FEM.DL1 (unit:kg*m) =",{"$f":"B7*E2*Sheet1!L9^2/12","v":0},null,"FEM.TL1 (unit:kg*m) =",{"$f":"E7*E2*Sheet1!L9^2/12","v":0}]
["FEM.DL2 (unit:kg*m) =",{"$f":"B8*E2*Sheet1!L10^2/12","v":0},null,"FEM.TL2 (unit:kg*m) =",{"$f":"E8*E2*Sheet1!L10^2/12","v":0}]
[{"$f":"IF(Sheet1!B3>=3,(\"FEM.DL3 (unit:kg*m) =\"),(\"\"))","v":"FEM.DL3 (unit:kg*m) ="},{"$f":"B9*E2*Sheet1!L11^2/12","v":0},null,{"$f":"IF(Sheet1!B3>=3,(\"FEM.TL3 (unit:kg*m) =\"),(\"\"))","v":"FEM.TL3 (unit:kg*m) ="},{"$f":"E9*E2*Sheet1!L11^2/12","v":0}]
[{"$f":"IF(Sheet1!B3>=4,(\"FEM.DL4 (unit:kg*m) =\"),(\"\"))","v":""},{"$f":"B10*E2*Sheet1!L12^2/12","v":0},null,{"$f":"IF(Sheet1!B3>=4,(\"FEM.TL4 (unit:kg*m) =\"),(\"\"))","v":""},{"$f":"E10*E2*Sheet1!L12^2/12","v":0}]
[{"$f":"IF(Sheet1!B3>=5,(\"FEM.DL5 (unit:kg*m) =\"),(\"\"))","v":""},{"$f":"B11*E2*Sheet1!L13^2/12","v":0},null,{"$f":"IF(Sheet1!B3>=5,(\"FEM.TL5 (unit:kg*m) =\"),(\"\"))","v":""},{"$f":"E11*E2*Sheet1!L13^2/12","v":0}]
[]
[]
[null,null,null,null,null,null,null,null,null,"วางน้ำหนัก LL    สแปน 1",null,null,null,null,null,null,null,null,null,null,null,"วางน้ำหนัก LL  สแปน 2",null,null,null,null,null,null,null,null,null,null,null,"วางน้ำหนัก LL สแปน 3",null,null,null,null,null,null,null,null,null,null,null,"วางน้ำหนัก LL สแปน 4",null,null,null,null,null,null,null,null,null,null,null,"วางน้ำหนัก LL  สแปน 5",null,null,null,null,null,null,null,null,null,null,null,"วางน้ำหนัก DL ทุกสแปน"]
[null,null,null,null,null,null,null,null,null,null,"1r","2l","2r","3l","3r","4l","4r","5l","5r","6l",null,null,"1r","2l","2r","3l","3r","4l","4r","5l","5r","6l",null,null,"1r","2l","2r","3l","3r","4l","4r","5l","5r","6l",null,null,"1r","2l","2r","3l","3r","4l","4r","5l","5r","6l",null,null,"1r","2l","2r","3l","3r","4l","4r","5l","5r","6l",null,null,"1r","2l","2r","3l","3r","4l","4r","5l","5r","6l"]
[null,null,null,null,null,null,null,null,null,"D.o.f",0.32628502906295709,0.199906753055964,0.2415539932759565,0.24887029513363959,0.17567314950609852,0.1835489929630281,0.21519537106010189,0.199906753055964,0.2415539932759565,0.36916659097886256,null,"D.o.f",0.32628502906295709,0.199906753055964,0.2415539932759565,0.24887029513363959,0.17567314950609852,0.1835489929630281,0.21519537106010189,0.199906753055964,0.2415539932759565,0.36916659097886256,null,"D.o.f",0.32628502906295709,0.199906753055964,0.2415539932759565,0.24887029513363959,0.17567314950609852,0.1835489929630281,0.21519537106010189,0.199906753055964,0.2415539932759565,0.36916659097886256,null,"D.o.f",0.32628502906295709,0.199906753055964,0.2415539932759565,0.24887029513363959,0.17567314950609852,0.1835489929630281,0.21519537106010189,0.199906753055964,0.2415539932759565,0.36916659097886256,null,"D.o.f",0.32628502906295709,0.199906753055964,0.2415539932759565,0.24887029513363959,0.17567314950609852,0.1835489929630281,0.21519537106010189,0.199906753055964,0.2415539932759565,0.36916659097886256,null,"D.o.f",0.32628502906295709,0.199906753055964,0.2415539932759565,0.24887029513363959,0.17567314950609852,0.1835489929630281,0.21519537106010189,0.199906753055964,0.2415539932759565,0.36916659097886256]
[null,null,null,null,null,null,null,null,null,"FEM",{"$f":"E14*-1","v":0},{"$f":"E14","v":0},null,null,null,null,null,null,null,null,null,"FEM",null,null,{"$f":"-E15","v":0},{"$f":"E15","v":0},null,null,null,null,null,null,null,"FEM",null,null,null,null,{"$f":"-E16","v":0},{"$f":"E16","v":0},null,null,null,null,null,"FEM",null,null,null,null,null,null,{"$f":"-E17","v":0},{"$f":"E17","v":0},null,null,null,"FEM",null,null,null,null,null,null,null,null,{"$f":"-E18","v":0},{"$f":"E18","v":0},null,"FEM",{"$f":"-B14","v":0},{"$f":"B14","v":0},{"$f":"-B15","v":0},{"$f":"B15","v":0},{"$f":"-B16","v":0},{"$f":"B16","v":0},{"$f":"-B17","v":0},{"$f":"B17","v":0},{"$f":"-B18","v":0},{"$f":"B18","v":0}]
[null,null,null,null,null,null,null,null,null,"Dis",{"$f":"(K24)*K23*-1","v":0},{"$f":"(L24+M24)*L23*-1","v":0},{"$f":"(M24+L24)*M23*-1","v":0},{"$f":"(N24+O24)*N23*-1","v":0},{"$f":"(O24+N24)*O23*-1","v":0},{"$f":"(P24+Q24)*P23*-1","v":0},{"$f":"(Q24+P24)*Q23*-1","v":0},{"$f":"(R24+S24)*R23*-1","v":0},{"$f":"(S24+R24)*S23*-1","v":0},{"$f":"(T24+U24)*T23*-1","v":0},null,"Dis",{"$f":"(W24)*W23*-1","v":0},{"$f":"(X24+Y24)*X23*-1","v":0},{"$f":"(Y24+X24)*Y23*-1","v":0},{"$f":"(Z24+AA24)*Z23*-1","v":0},{"$f":"(AA24+Z24)*AA23*-1","v":0},{"$f":"(AB24+AC24)*AB23*-1","v":0},{"$f":"(AC24+AB24)*AC23*-1","v":0},{"$f":"(AD24+AE24)*AD23*-1","v":0},{"$f":"(AE24+AD24)*AE23*-1","v":0},{"$f":"(AF24+AG24)*AF23*-1","v":0},null,"Dis",{"$f":"(AI24)*AI23*-1","v":0},{"$f":"(AJ24+AK24)*AJ23*-1","v":0},{"$f":"(AK24+AJ24)*AK23*-1","v":0},{"$f":"(AL24+AM24)*AL23*-1","v":0},{"$f":"(AM24+AL24)*AM23*-1","v":0},{"$f":"(AN24+AO24)*AN23*-1","v":0},{"$f":"(AO24+AN24)*AO23*-1","v":0},{"$f":"(AP24+AQ24)*AP23*-1","v":0},{"$f":"(AQ24+AP24)*AQ23*-1","v":0},{"$f":"(AR24+AS24)*AR23*-1","v":0},null,"Dis",{"$f":"(AU24)*AU23*-1","v":0},{"$f":"(AV24+AW24)*AV23*-1","v":0},{"$f":"(AW24+AV24)*AW23*-1","v":0},{"$f":"(AX24+AY24)*AX23*-1","v":0},{"$f":"(AY24+AX24)*AY23*-1","v":0},{"$f":"(AZ24+BA24)*AZ23*-1","v":0},{"$f":"(BA24+AZ24)*BA23*-1","v":0},{"$f":"(BB24+BC24)*BB23*-1","v":0},{"$f":"(BC24+BB24)*BC23*-1","v":0},{"$f":"(BD24+BE24)*BD23*-1","v":0},null,"Dis",{"$f":"(BG24)*BG23*-1","v":0},{"$f":"(BH24+BI24)*BH23*-1","v":0},{"$f":"(BI24+BH24)*BI23*-1","v":0},{"$f":"(BJ24+BK24)*BJ23*-1","v":0},{"$f":"(BK24+BJ24)*BK23*-1","v":0},{"$f":"(BL24+BM24)*BL23*-1","v":0},{"$f":"(BM24+BL24)*BM23*-1","v":0},{"$f":"(BN24+BO24)*BN23*-1","v":0},{"$f":"(BO24+BN24)*BO23*-1","v":0},{"$f":"(BP24+BQ24)*BP23*-1","v":0},null,"Dis",{"$f":"(BS24)*BS23*-1","v":0},{"$f":"(BT24+BU24)*BT23*-1","v":0},{"$f":"(BU24+BT24)*BU23*-1","v":0},{"$f":"(BV24+BW24)*BV23*-1","v":0},{"$f":"(BW24+BV24)*BW23*-1","v":0},{"$f":"(BX24+BY24)*BX23*-1","v":0},{"$f":"(BY24+BX24)*BY23*-1","v":0},{"$f":"(BZ24+CA24)*BZ23*-1","v":0},{"$f":"(CA24+BZ24)*CA23*-1","v":0},{"$f":"(CB24+CC24)*CB23*-1","v":0}]
[null,null,null,null,null,null,null,null,null,"Co",{"$f":"L25/2","v":0},{"$f":"K25/2","v":0},{"$f":"N25/2","v":0},{"$f":"M25/2","v":0},{"$f":"P25/2","v":0},{"$f":"O25/2","v":0},{"$f":"R25/2","v":0},{"$f":"Q25/2","v":0},{"$f":"T25/2","v":0},{"$f":"S25/2","v":0},null,"Co",{"$f":"X25/2","v":0},{"$f":"W25/2","v":0},{"$f":"Z25/2","v":0},{"$f":"Y25/2","v":0},{"$f":"AB25/2","v":0},{"$f":"AA25/2","v":0},{"$f":"AD25/2","v":0},{"$f":"AC25/2","v":0},{"$f":"AF25/2","v":0},{"$f":"AE25/2","v":0},null,"Co",{"$f":"AJ25/2","v":0},{"$f":"AI25/2","v":0},{"$f":"AL25/2","v":0},{"$f":"AK25/2","v":0},{"$f":"AN25/2","v":0},{"$f":"AM25/2","v":0},{"$f":"AP25/2","v":0},{"$f":"AO25/2","v":0},{"$f":"AR25/2","v":0},{"$f":"AQ25/2","v":0},null,"Co",{"$f":"AV25/2","v":0},{"$f":"AU25/2","v":0},{"$f":"AX25/2","v":0},{"$f":"AW25/2","v":0},{"$f":"AZ25/2","v":0},{"$f":"AY25/2","v":0},{"$f":"BB25/2","v":0},{"$f":"BA25/2","v":0},{"$f":"BD25/2","v":0},{"$f":"BC25/2","v":0},null,"Co",{"$f":"BH25/2","v":0},{"$f":"BG25/2","v":0},{"$f":"BJ25/2","v":0},{"$f":"BI25/2","v":0},{"$f":"BL25/2","v":0},{"$f":"BK25/2","v":0},{"$f":"BN25/2","v":0},{"$f":"BM25/2","v":0},{"$f":"BP25/2","v":0},{"$f":"BO25/2","v":0},null,"Co",{"$f":"BT25/2","v":0},{"$f":"BS25/2","v":0},{"$f":"BV25/2","v":0},{"$f":"BU25/2","v":0},{"$f":"BX25/2","v":0},{"$f":"BW25/2","v":0},{"$f":"BZ25/2","v":0},{"$f":"BY25/2","v":0},{"$f":"CB25/2","v":0},{"$f":"CA25/2","v":0}]
[null,null,null,null,null,null,null,null,null,"dis",{"$f":"(K26)*K23*-1","v":0},{"$f":"(L26+M26)*L23*-1","v":0},{"$f":"(M26+L26)*M23*-1","v":0},{"$f":"(N26+O26)*N23*-1","v":0},{"$f":"(O26+N26)*O23*-1","v":0},{"$f":"(P26+Q26)*P23*-1","v":0},{"$f":"(Q26+P26)*Q23*-1","v":0},{"$f":"(R26+S26)*R23*-1","v":0},{"$f":"(S26+R26)*S23*-1","v":0},{"$f":"(T26+U26)*T23*-1","v":0},null,"dis",{"$f":"(W26)*W23*-1","v":0},{"$f":"(X26+Y26)*X23*-1","v":0},{"$f":"(Y26+X26)*Y23*-1","v":0},{"$f":"(Z26+AA26)*Z23*-1","v":0},{"$f":"(AA26+Z26)*AA23*-1","v":0},{"$f":"(AB26+AC26)*AB23*-1","v":0},{"$f":"(AC26+AB26)*AC23*-1","v":0},{"$f":"(AD26+AE26)*AD23*-1","v":0},{"$f":"(AE26+AD26)*AE23*-1","v":0},{"$f":"(AF26+AG26)*AF23*-1","v":0},null,"dis",{"$f":"(AI26)*AI23*-1","v":0},{"$f":"(AJ26+AK26)*AJ23*-1","v":0},{"$f":"(AK26+AJ26)*AK23*-1","v":0},{"$f":"(AL26+AM26)*AL23*-1","v":0},{"$f":"(AM26+AL26)*AM23*-1","v":0},{"$f":"(AN26+AO26)*AN23*-1","v":0},{"$f":"(AO26+AN26)*AO23*-1","v":0},{"$f":"(AP26+AQ26)*AP23*-1","v":0},{"$f":"(AQ26+AP26)*AQ23*-1","v":0},{"$f":"(AR26+AS26)*AR23*-1","v":0},null,"dis",{"$f":"(AU26)*AU23*-1","v":0},{"$f":"(AV26+AW26)*AV23*-1","v":0},{"$f":"(AW26+AV26)*AW23*-1","v":0},{"$f":"(AX26+AY26)*AX23*-1","v":0},{"$f":"(AY26+AX26)*AY23*-1","v":0},{"$f":"(AZ26+BA26)*AZ23*-1","v":0},{"$f":"(BA26+AZ26)*BA23*-1","v":0},{"$f":"(BB26+BC26)*BB23*-1","v":0},{"$f":"(BC26+BB26)*BC23*-1","v":0},{"$f":"(BD26+BE26)*BD23*-1","v":0},null,"dis",{"$f":"(BG26)*BG23*-1","v":0},{"$f":"(BH26+BI26)*BH23*-1","v":0},{"$f":"(BI26+BH26)*BI23*-1","v":0},{"$f":"(BJ26+BK26)*BJ23*-1","v":0},{"$f":"(BK26+BJ26)*BK23*-1","v":0},{"$f":"(BL26+BM26)*BL23*-1","v":0},{"$f":"(BM26+BL26)*BM23*-1","v":0},{"$f":"(BN26+BO26)*BN23*-1","v":0},{"$f":"(BO26+BN26)*BO23*-1","v":0},{"$f":"(BP26+BQ26)*BP23*-1","v":0},null,"dis",{"$f":"(BS26)*BS23*-1","v":0},{"$f":"(BT26+BU26)*BT23*-1","v":0},{"$f":"(BU26+BT26)*BU23*-1","v":0},{"$f":"(BV26+BW26)*BV23*-1","v":0},{"$f":"(BW26+BV26)*BW23*-1","v":0},{"$f":"(BX26+BY26)*BX23*-1","v":0},{"$f":"(BY26+BX26)*BY23*-1","v":0},{"$f":"(BZ26+CA26)*BZ23*-1","v":0},{"$f":"(CA26+BZ26)*CA23*-1","v":0},{"$f":"(CB26+CC26)*CB23*-1","v":0}]
[null,null,null,null,null,null,null,null,null,"co",{"$f":"L27/2","v":0},{"$f":"K27/2","v":0},{"$f":"N27/2","v":0},{"$f":"M27/2","v":0},{"$f":"P27/2","v":0},{"$f":"O27/2","v":0},{"$f":"R27/2","v":0},{"$f":"Q27/2","v":0},{"$f":"T27/2","v":0},{"$f":"S27/2","v":0},null,"co",{"$f":"X27/2","v":0},{"$f":"W27/2","v":0},{"$f":"Z27/2","v":0},{"$f":"Y27/2","v":0},{"$f":"AB27/2","v":0},{"$f":"AA27/2","v":0},{"$f":"AD27/2","v":0},{"$f":"AC27/2","v":0},{"$f":"AF27/2","v":0},{"$f":"AE27/2","v":0},null,"co",{"$f":"AJ27/2","v":0},{"$f":"AI27/2","v":0},{"$f":"AL27/2","v":0},{"$f":"AK27/2","v":0},{"$f":"AN27/2","v":0},{"$f":"AM27/2","v":0},{"$f":"AP27/2","v":0},{"$f":"AO27/2","v":0},{"$f":"AR27/2","v":0},{"$f":"AQ27/2","v":0},null,"co",{"$f":"AV27/2","v":0},{"$f":"AU27/2","v":0},{"$f":"AX27/2","v":0},{"$f":"AW27/2","v":0},{"$f":"AZ27/2","v":0},{"$f":"AY27/2","v":0},{"$f":"BB27/2","v":0},{"$f":"BA27/2","v":0},{"$f":"BD27/2","v":0},{"$f":"BC27/2","v":0},null,"co",{"$f":"BH27/2","v":0},{"$f":"BG27/2","v":0},{"$f":"BJ27/2","v":0},{"$f":"BI27/2","v":0},{"$f":"BL27/2","v":0},{"$f":"BK27/2","v":0},{"$f":"BN27/2","v":0},{"$f":"BM27/2","v":0},{"$f":"BP27/2","v":0},{"$f":"BO27/2","v":0},null,"co",{"$f":"BT27/2","v":0},{"$f":"BS27/2","v":0},{"$f":"BV27/2","v":0},{"$f":"BU27/2","v":0},{"$f":"BX27/2","v":0},{"$f":"BW27/2","v":0},{"$f":"BZ27/2","v":0},{"$f":"BY27/2","v":0},{"$f":"CB27/2","v":0},{"$f":"CA27/2","v":0}]
[null,null,null,null,null,null,null,null,null,"dis",{"$f":"(K28)*K23*-1","v":0},{"$f":"(L28+M28)*L23*-1","v":0},{"$f":"(M28+L28)*M23*-1","v":0},{"$f":"(N28+O28)*N23*-1","v":0},{"$f":"(O28+N28)*O23*-1","v":0},{"$f":"(P28+Q28)*P23*-1","v":0},{"$f":"(Q28+P28)*Q23*-1","v":0},{"$f":"(R28+S28)*R23*-1","v":0},{"$f":"(S28+R28)*S23*-1","v":0},{"$f":"(T28+U28)*T23*-1","v":0},null,"dis",{"$f":"(W28)*W23*-1","v":0},{"$f":"(X28+Y28)*X23*-1","v":0},{"$f":"(Y28+X28)*Y23*-1","v":0},{"$f":"(Z28+AA28)*Z23*-1","v":0},{"$f":"(AA28+Z28)*AA23*-1","v":0},{"$f":"(AB28+AC28)*AB23*-1","v":0},{"$f":"(AC28+AB28)*AC23*-1","v":0},{"$f":"(AD28+AE28)*AD23*-1","v":0},{"$f":"(AE28+AD28)*AE23*-1","v":0},{"$f":"(AF28+AG28)*AF23*-1","v":0},null,"dis",{"$f":"(AI28)*AI23*-1","v":0},{"$f":"(AJ28+AK28)*AJ23*-1","v":0},{"$f":"(AK28+AJ28)*AK23*-1","v":0},{"$f":"(AL28+AM28)*AL23*-1","v":0},{"$f":"(AM28+AL28)*AM23*-1","v":0},{"$f":"(AN28+AO28)*AN23*-1","v":0},{"$f":"(AO28+AN28)*AO23*-1","v":0},{"$f":"(AP28+AQ28)*AP23*-1","v":0},{"$f":"(AQ28+AP28)*AQ23*-1","v":0},{"$f":"(AR28+AS28)*AR23*-1","v":0},null,"dis",{"$f":"(AU28)*AU23*-1","v":0},{"$f":"(AV28+AW28)*AV23*-1","v":0},{"$f":"(AW28+AV28)*AW23*-1","v":0},{"$f":"(AX28+AY28)*AX23*-1","v":0},{"$f":"(AY28+AX28)*AY23*-1","v":0},{"$f":"(AZ28+BA28)*AZ23*-1","v":0},{"$f":"(BA28+AZ28)*BA23*-1","v":0},{"$f":"(BB28+BC28)*BB23*-1","v":0},{"$f":"(BC28+BB28)*BC23*-1","v":0},{"$f":"(BD28+BE28)*BD23*-1","v":0},null,"dis",{"$f":"(BG28)*BG23*-1","v":0},{"$f":"(BH28+BI28)*BH23*-1","v":0},{"$f":"(BI28+BH28)*BI23*-1","v":0},{"$f":"(BJ28+BK28)*BJ23*-1","v":0},{"$f":"(BK28+BJ28)*BK23*-1","v":0},{"$f":"(BL28+BM28)*BL23*-1","v":0},{"$f":"(BM28+BL28)*BM23*-1","v":0},{"$f":"(BN28+BO28)*BN23*-1","v":0},{"$f":"(BO28+BN28)*BO23*-1","v":0},{"$f":"(BP28+BQ28)*BP23*-1","v":0},null,"dis",{"$f":"(BS28)*BS23*-1","v":0},{"$f":"(BT28+BU28)*BT23*-1","v":0},{"$f":"(BU28+BT28)*BU23*-1","v":0},{"$f":"(BV28+BW28)*BV23*-1","v":0},{"$f":"(BW28+BV28)*BW23*-1","v":0},{"$f":"(BX28+BY28)*BX23*-1","v":0},{"$f":"(BY28+BX28)*BY23*-1","v":0},{"$f":"(BZ28+CA28)*BZ23*-1","v":0},{"$f":"(CA28+BZ28)*CA23*-1","v":0},{"$f":"(CB28+CC28)*CB23*-1","v":0}]
[null,null,null,null,null,null,null,null,null,"co",{"$f":"L29/2","v":0},{"$f":"K29/2","v":0},{"$f":"N29/2","v":0},{"$f":"M29/2","v":0},{"$f":"P29/2","v":0},{"$f":"O29/2","v":0},{"$f":"R29/2","v":0},{"$f":"Q29/2","v":0},{"$f":"T29/2","v":0},{"$f":"S29/2","v":0},null,"co",{"$f":"X29/2","v":0},0,{"$f":"Z29/2","v":0},{"$f":"Y29/2","v":0},{"$f":"AB29/2","v":0},{"$f":"AA29/2","v":0},{"$f":"AD29/2","v":0},{"$f":"AC29/2","v":0},{"$f":"AF29/2","v":0},{"$f":"AE29/2","v":0},null,"co",{"$f":"AJ29/2","v":0},{"$f":"AI29/2","v":0},{"$f":"AL29/2","v":0},{"$f":"AK29/2","v":0},{"$f":"AN29/2","v":0},{"$f":"AM29/2","v":0},{"$f":"AP29/2","v":0},{"$f":"AO29/2","v":0},{"$f":"AR29/2","v":0},{"$f":"AQ29/2","v":0},null,"co",{"$f":"AV29/2","v":0},{"$f":"AU29/2","v":0},{"$f":"AX29/2","v":0},{"$f":"AW29/2","v":0},{"$f":"AZ29/2","v":0},{"$f":"AY29/2","v":0},{"$f":"BB29/2","v":0},{"$f":"BA29/2","v":0},{"$f":"BD29/2","v":0},{"$f":"BC29/2","v":0},null,"co",{"$f":"BH29/2","v":0},{"$f":"BG29/2","v":0},{"$f":"BJ29/2","v":0},{"$f":"BI29/2","v":0},{"$f":"BL29/2","v":0},{"$f":"BK29/2","v":0},{"$f":"BN29/2","v":0},{"$f":"BM29/2","v":0},{"$f":"BP29/2","v":0},{"$f":"BO29/2","v":0},null,"co",{"$f":"BT29/2","v":0},{"$f":"BS29/2","v":0},{"$f":"BV29/2","v":0},{"$f":"BU29/2","v":0},{"$f":"BX29/2","v":0},{"$f":"BW29/2","v":0},{"$f":"BZ29/2","v":0},{"$f":"BY29/2","v":0},{"$f":"CB29/2","v":0},{"$f":"CA29/2","v":0}]
[null,null,null,null,null,null,null,null,null,"dis",{"$f":"(K30)*K23*-1","v":0},{"$f":"(L30+M30)*L23*-1","v":0},{"$f":"(M30+L30)*M23*-1","v":0},{"$f":"(N30+O30)*N23*-1","v":0},{"$f":"(O30+N30)*O23*-1","v":0},{"$f":"(P30+Q30)*P23*-1","v":0},{"$f":"(Q30+P30)*Q23*-1","v":0},{"$f":"(R30+S30)*R23*-1","v":0},{"$f":"(S30+R30)*S23*-1","v":0},{"$f":"(T30+U30)*T23*-1","v":0},null,"dis",{"$f":"(W30)*W23*-1","v":0},{"$f":"(X30+Y30)*X23*-1","v":0},{"$f":"(Y30+X30)*Y23*-1","v":0},{"$f":"(Z30+AA30)*Z23*-1","v":0},{"$f":"(AA30+Z30)*AA23*-1","v":0},{"$f":"(AB30+AC30)*AB23*-1","v":0},{"$f":"(AC30+AB30)*AC23*-1","v":0},{"$f":"(AD30+AE30)*AD23*-1","v":0},{"$f":"(AE30+AD30)*AE23*-1","v":0},{"$f":"(AF30+AG30)*AF23*-1","v":0},null,"dis",{"$f":"(AI30)*AI23*-1","v":0},{"$f":"(AJ30+AK30)*AJ23*-1","v":0},{"$f":"(AK30+AJ30)*AK23*-1","v":0},{"$f":"(AL30+AM30)*AL23*-1","v":0},{"$f":"(AM30+AL30)*AM23*-1","v":0},{"$f":"(AN30+AO30)*AN23*-1","v":0},{"$f":"(AO30+AN30)*AO23*-1","v":0},{"$f":"(AP30+AQ30)*AP23*-1","v":0},{"$f":"(AQ30+AP30)*AQ23*-1","v":0},{"$f":"(AR30+AS30)*AR23*-1","v":0},null,"dis",{"$f":"(AU30)*AU23*-1","v":0},{"$f":"(AV30+AW30)*AV23*-1","v":0},{"$f":"(AW30+AV30)*AW23*-1","v":0},{"$f":"(AX30+AY30)*AX23*-1","v":0},{"$f":"(AY30+AX30)*AY23*-1","v":0},{"$f":"(AZ30+BA30)*AZ23*-1","v":0},{"$f":"(BA30+AZ30)*BA23*-1","v":0},{"$f":"(BB30+BC30)*BB23*-1","v":0},{"$f":"(BC30+BB30)*BC23*-1","v":0},{"$f":"(BD30+BE30)*BD23*-1","v":0},null,"dis",{"$f":"(BG30)*BG23*-1","v":0},{"$f":"(BH30+BI30)*BH23*-1","v":0},{"$f":"(BI30+BH30)*BI23*-1","v":0},{"$f":"(BJ30+BK30)*BJ23*-1","v":0},{"$f":"(BK30+BJ30)*BK23*-1","v":0},{"$f":"(BL30+BM30)*BL23*-1","v":0},{"$f":"(BM30+BL30)*BM23*-1","v":0},{"$f":"(BN30+BO30)*BN23*-1","v":0},{"$f":"(BO30+BN30)*BO23*-1","v":0},{"$f":"(BP30+BQ30)*BP23*-1","v":0},null,"dis",{"$f":"(BS30)*BS23*-1","v":0},{"$f":"(BT30+BU30)*BT23*-1","v":0},{"$f":"(BU30+BT30)*BU23*-1","v":0},{"$f":"(BV30+BW30)*BV23*-1","v":0},{"$f":"(BW30+BV30)*BW23*-1","v":0},{"$f":"(BX30+BY30)*BX23*-1","v":0},{"$f":"(BY30+BX30)*BY23*-1","v":0},{"$f":"(BZ30+CA30)*BZ23*-1","v":0},{"$f":"(CA30+BZ30)*CA23*-1","v":0},{"$f":"(CB30+CC30)*CB23*-1","v":0}]
[null,null,null,null,null,null,null,null,null,"co",{"$f":"L31/2","v":0},{"$f":"K31/2","v":0},{"$f":"N31/2","v":0},{"$f":"M31/2","v":0},{"$f":"P31/2","v":0},{"$f":"O31/2","v":0},{"$f":"R31/2","v":0},{"$f":"Q31/2","v":0},{"$f":"T31/2","v":0},{"$f":"S31/2","v":0},null,"co",{"$f":"X31/2","v":0},{"$f":"W31/2","v":0},{"$f":"Z31/2","v":0},{"$f":"Y31/2","v":0},{"$f":"AB31/2","v":0},{"$f":"AA31/2","v":0},{"$f":"AD31/2","v":0},{"$f":"AC31/2","v":0},{"$f":"AF31/2","v":0},{"$f":"AE31/2","v":0},null,"co",{"$f":"AJ31/2","v":0},{"$f":"AI31/2","v":0},{"$f":"AL31/2","v":0},{"$f":"AK31/2","v":0},{"$f":"AN31/2","v":0},{"$f":"AM31/2","v":0},{"$f":"AP31/2","v":0},{"$f":"AO31/2","v":0},{"$f":"AR31/2","v":0},{"$f":"AQ31/2","v":0},null,"co",{"$f":"AV31/2","v":0},{"$f":"AU31/2","v":0},{"$f":"AX31/2","v":0},{"$f":"AW31/2","v":0},{"$f":"AZ31/2","v":0},{"$f":"AY31/2","v":0},{"$f":"BB31/2","v":0},{"$f":"BA31/2","v":0},{"$f":"BD31/2","v":0},{"$f":"BC31/2","v":0},null,"co",{"$f":"BH31/2","v":0},{"$f":"BG31/2","v":0},{"$f":"BJ31/2","v":0},{"$f":"BI31/2","v":0},{"$f":"BL31/2","v":0},{"$f":"BK31/2","v":0},{"$f":"BN31/2","v":0},{"$f":"BM31/2","v":0},{"$f":"BP31/2","v":0},{"$f":"BO31/2","v":0},null,"co",{"$f":"BT31/2","v":0},{"$f":"BS31/2","v":0},{"$f":"BV31/2","v":0},{"$f":"BU31/2","v":0},{"$f":"BX31/2","v":0},{"$f":"BW31/2","v":0},{"$f":"BZ31/2","v":0},{"$f":"BY31/2","v":0},{"$f":"CB31/2","v":0},{"$f":"CA31/2","v":0}]
[null,null,null,null,null,null,null,null,null,"dis",{"$f":"(K32)*K23*-1","v":0},{"$f":"(L32+M32)*L23*-1","v":0},{"$f":"(M32+L32)*M23*-1","v":0},{"$f":"(N32+O32)*N23*-1","v":0},{"$f":"(O32+N32)*O23*-1","v":0},{"$f":"(P32+Q32)*P23*-1","v":0},{"$f":"(Q32+P32)*Q23*-1","v":0},{"$f":"(R32+S32)*R23*-1","v":0},{"$f":"(S32+R32)*S23*-1","v":0},{"$f":"(T32+U32)*T23*-1","v":0},null,"dis",{"$f":"(W32)*W23*-1","v":0},{"$f":"(X32+Y32)*X23*-1","v":0},{"$f":"(Y32+X32)*Y23*-1","v":0},{"$f":"(Z32+AA32)*Z23*-1","v":0},{"$f":"(AA32+Z32)*AA23*-1","v":0},{"$f":"(AB32+AC32)*AB23*-1","v":0},{"$f":"(AC32+AB32)*AC23*-1","v":0},{"$f":"(AD32+AE32)*AD23*-1","v":0},{"$f":"(AE32+AD32)*AE23*-1","v":0},{"$f":"(AF32+AG32)*AF23*-1","v":0},null,"dis",{"$f":"(AI32)*AI23*-1","v":0},{"$f":"(AJ32+AK32)*AJ23*-1","v":0},{"$f":"(AK32+AJ32)*AK23*-1","v":0},{"$f":"(AL32+AM32)*AL23*-1","v":0},{"$f":"(AM32+AL32)*AM23*-1","v":0},{"$f":"(AN32+AO32)*AN23*-1","v":0},{"$f":"(AO32+AN32)*AO23*-1","v":0},{"$f":"(AP32+AQ32)*AP23*-1","v":0},{"$f":"(AQ32+AP32)*AQ23*-1","v":0},{"$f":"(AR32+AS32)*AR23*-1","v":0},null,"dis",{"$f":"(AU32)*AU23*-1","v":0},{"$f":"(AV32+AW32)*AV23*-1","v":0},{"$f":"(AW32+AV32)*AW23*-1","v":0},{"$f":"(AX32+AY32)*AX23*-1","v":0},{"$f":"(AY32+AX32)*AY23*-1","v":0},{"$f":"(AZ32+BA32)*AZ23*-1","v":0},{"$f":"(BA32+AZ32)*BA23*-1","v":0},{"$f":"(BB32+BC32)*BB23*-1","v":0},{"$f":"(BC32+BB32)*BC23*-1","v":0},{"$f":"(BD32+BE32)*BD23*-1","v":0},null,"dis",{"$f":"(BG32)*BG23*-1","v":0},{"$f":"(BH32+BI32)*BH23*-1","v":0},{"$f":"(BI32+BH32)*BI23*-1","v":0},{"$f":"(BJ32+BK32)*BJ23*-1","v":0},{"$f":"(BK32+BJ32)*BK23*-1","v":0},{"$f":"(BL32+BM32)*BL23*-1","v":0},{"$f":"(BM32+BL32)*BM23*-1","v":0},{"$f":"(BN32+BO32)*BN23*-1","v":0},{"$f":"(BO32+BN32)*BO23*-1","v":0},{"$f":"(BP32+BQ32)*BP23*-1","v":0},null,"dis",{"$f":"(BS32)*BS23*-1","v":0},{"$f":"(BT32+BU32)*BT23*-1","v":0},{"$f":"(BU32+BT32)*BU23*-1","v":0},{"$f":"(BV32+BW32)*BV23*-1","v":0},{"$f":"(BW32+BV32)*BW23*-1","v":0},{"$f":"(BX32+BY32)*BX23*-1","v":0},{"$f":"(BY32+BX32)*BY23*-1","v":0},{"$f":"(BZ32+CA32)*BZ23*-1","v":0},{"$f":"(CA32+BZ32)*CA23*-1","v":0},{"$f":"(CB32+CC32)*CB23*-1","v":0}]
[null,null,null,null,null,null,null,null,null,"co",{"$f":"L33/2","v":0},{"$f":"K33/2","v":0},{"$f":"N33/2","v":0},{"$f":"M33/2","v":0},{"$f":"P33/2","v":0},{"$f":"O33/2","v":0},{"$f":"R33/2","v":0},{"$f":"Q33/2","v":0},{"$f":"T33/2","v":0},{"$f":"S33/2","v":0},null,"co",{"$f":"X33/2","v":0},{"$f":"W33/2","v":0},{"$f":"Z33/2","v":0},{"$f":"Y33/2","v":0},{"$f":"AB33/2","v":0},{"$f":"AA33/2","v":0},{"$f":"AD33/2","v":0},{"$f":"AC33/2","v":0},{"$f":"AF33/2","v":0},{"$f":"AE33/2","v":0},null,"co",{"$f":"AJ33/2","v":0},{"$f":"AI33/2","v":0},{"$f":"AL33/2","v":0},{"$f":"AK33/2","v":0},{"$f":"AN33/2","v":0},{"$f":"AM33/2","v":0},{"$f":"AP33/2","v":0},{"$f":"AO33/2","v":0},{"$f":"AR33/2","v":0},{"$f":"AQ33/2","v":0},null,"co",{"$f":"AV33/2","v":0},{"$f":"AU33/2","v":0},{"$f":"AX33/2","v":0},{"$f":"AW33/2","v":0},{"$f":"AZ33/2","v":0},{"$f":"AY33/2","v":0},{"$f":"BB33/2","v":0},{"$f":"BA33/2","v":0},{"$f":"BD33/2","v":0},{"$f":"BC33/2","v":0},null,"co",{"$f":"BH33/2","v":0},{"$f":"BG33/2","v":0},{"$f":"BJ33/2","v":0},{"$f":"BI33/2","v":0},{"$f":"BL33/2","v":0},{"$f":"BK33/2","v":0},{"$f":"BN33/2","v":0},{"$f":"BM33/2","v":0},{"$f":"BP33/2","v":0},{"$f":"BO33/2","v":0},null,"co",{"$f":"BT33/2","v":0},{"$f":"BS33/2","v":0},{"$f":"BV33/2","v":0},{"$f":"BU33/2","v":0},{"$f":"BX33/2","v":0},{"$f":"BW33/2","v":0},{"$f":"BZ33/2","v":0},{"$f":"BY33/2","v":0},{"$f":"CB33/2","v":0},{"$f":"CA33/2","v":0}]
[null,null,null,null,null,null,null,null,null,"dis",{"$f":"(K34)*K23*-1","v":0},{"$f":"(L34+M34)*L23*-1","v":0},{"$f":"(M34+L34)*M23*-1","v":0},{"$f":"(N34+O34)*N23*-1","v":0},{"$f":"(O34+N34)*O23*-1","v":0},{"$f":"(P34+Q34)*P23*-1","v":0},{"$f":"(Q34+P34)*Q23*-1","v":0},{"$f":"(R34+S34)*R23*-1","v":0},{"$f":"(S34+R34)*S23*-1","v":0},{"$f":"(T34+U34)*T23*-1","v":0},null,"dis",{"$f":"(W34)*W23*-1","v":0},{"$f":"(X34+Y34)*X23*-1","v":0},{"$f":"(Y34+X34)*Y23*-1","v":0},{"$f":"(Z34+AA34)*Z23*-1","v":0},{"$f":"(AA34+Z34)*AA23*-1","v":0},{"$f":"(AB34+AC34)*AB23*-1","v":0},{"$f":"(AC34+AB34)*AC23*-1","v":0},{"$f":"(AD34+AE34)*AD23*-1","v":0},{"$f":"(AE34+AD34)*AE23*-1","v":0},{"$f":"(AF34+AG34)*AF23*-1","v":0},null,"dis",{"$f":"(AI34)*AI23*-1","v":0},{"$f":"(AJ34+AK34)*AJ23*-1","v":0},{"$f":"(AK34+AJ34)*AK23*-1","v":0},{"$f":"(AL34+AM34)*AL23*-1","v":0},{"$f":"(AM34+AL34)*AM23*-1","v":0},{"$f":"(AN34+AO34)*AN23*-1","v":0},{"$f":"(AO34+AN34)*AO23*-1","v":0},{"$f":"(AP34+AQ34)*AP23*-1","v":0},{"$f":"(AQ34+AP34)*AQ23*-1","v":0},{"$f":"(AR34+AS34)*AR23*-1","v":0},null,"dis",{"$f":"(AU34)*AU23*-1","v":0},{"$f":"(AV34+AW34)*AV23*-1","v":0},{"$f":"(AW34+AV34)*AW23*-1","v":0},{"$f":"(AX34+AY34)*AX23*-1","v":0},{"$f":"(AY34+AX34)*AY23*-1","v":0},{"$f":"(AZ34+BA34)*AZ23*-1","v":0},{"$f":"(BA34+AZ34)*BA23*-1","v":0},{"$f":"(BB34+BC34)*BB23*-1","v":0},{"$f":"(BC34+BB34)*BC23*-1","v":0},{"$f":"(BD34+BE34)*BD23*-1","v":0},null,"dis",{"$f":"(BG34)*BG23*-1","v":0},{"$f":"(BH34+BI34)*BH23*-1","v":0},{"$f":"(BI34+BH34)*BI23*-1","v":0},{"$f":"(BJ34+BK34)*BJ23*-1","v":0},{"$f":"(BK34+BJ34)*BK23*-1","v":0},{"$f":"(BL34+BM34)*BL23*-1","v":0},{"$f":"(BM34+BL34)*BM23*-1","v":0},{"$f":"(BN34+BO34)*BN23*-1","v":0},{"$f":"(BO34+BN34)*BO23*-1","v":0},{"$f":"(BP34+BQ34)*BP23*-1","v":0},null,"dis",{"$f":"(BS34)*BS23*-1","v":0},{"$f":"(BT34+BU34)*BT23*-1","v":0},{"$f":"(BU34+BT34)*BU23*-1","v":0},{"$f":"(BV34+BW34)*BV23*-1","v":0},{"$f":"(BW34+BV34)*BW23*-1","v":0},{"$f":"(BX34+BY34)*BX23*-1","v":0},{"$f":"(BY34+BX34)*BY23*-1","v":0},{"$f":"(BZ34+CA34)*BZ23*-1","v":0},{"$f":"(CA34+BZ34)*CA23*-1","v":0},{"$f":"(CB34+CC34)*CB23*-1","v":0}]
[null,null,null,null,null,null,null,null,null,"co",{"$f":"L35/2","v":0},{"$f":"K35/2","v":0},{"$f":"N35/2","v":0},{"$f":"M35/2","v":0},{"$f":"P35/2","v":0},{"$f":"O35/2","v":0},{"$f":"R35/2","v":0},{"$f":"Q35/2","v":0},{"$f":"T35/2","v":0},{"$f":"S35/2","v":0},null,"co",0,0,{"$f":"Z35/2","v":0},{"$f":"Y35/2","v":0},{"$f":"AB35/2","v":0},{"$f":"AA35/2","v":0},{"$f":"AD35/2","v":0},{"$f":"AC35/2","v":0},{"$f":"AF35/2","v":0},{"$f":"AE35/2","v":0},null,"co",{"$f":"AJ35/2","v":0},{"$f":"AI35/2","v":0},{"$f":"AL35/2","v":0},{"$f":"AK35/2","v":0},{"$f":"AN35/2","v":0},{"$f":"AM35/2","v":0},{"$f":"AP35/2","v":0},{"$f":"AO35/2","v":0},{"$f":"AR35/2","v":0},{"$f":"AQ35/2","v":0},null,"co",{"$f":"AV35/2","v":0},{"$f":"AU35/2","v":0},{"$f":"AX35/2","v":0},{"$f":"AW35/2","v":0},{"$f":"AZ35/2","v":0},{"$f":"AY35/2","v":0},{"$f":"BB35/2","v":0},{"$f":"BA35/2","v":0},{"$f":"BD35/2","v":0},{"$f":"BC35/2","v":0},null,"co",{"$f":"BH35/2","v":0},{"$f":"BG35/2","v":0},{"$f":"BJ35/2","v":0},{"$f":"BI35/2","v":0},{"$f":"BL35/2","v":0},{"$f":"BK35/2","v":0},{"$f":"BN35/2","v":0},{"$f":"BM35/2","v":0},{"$f":"BP35/2","v":0},{"$f":"BO35/2","v":0},null,"co",{"$f":"BT35/2","v":0},{"$f":"BS35/2","v":0},{"$f":"BV35/2","v":0},{"$f":"BU35/2","v":0},{"$f":"BX35/2","v":0},{"$f":"BW35/2","v":0},{"$f":"BZ35/2","v":0},{"$f":"BY35/2","v":0},{"$f":"CB35/2","v":0},{"$f":"CA35/2","v":0}]
[null,null,null,null,null,null,null,null,null,"dis",{"$f":"(K36)*K23*-1","v":0},{"$f":"(L36+M36)*L23*-1","v":0},{"$f":"(M36+L36)*M23*-1","v":0},{"$f":"(N36+O36)*N23*-1","v":0},{"$f":"(O36+N36)*O23*-1","v":0},{"$f":"(P36+Q36)*P23*-1","v":0},{"$f":"(Q36+P36)*Q23*-1","v":0},{"$f":"(R36+S36)*R23*-1","v":0},{"$f":"(S36+R36)*S23*-1","v":0},{"$f":"(T36+U36)*T23*-1","v":0},null,"dis",{"$f":"(W36)*W23*-1","v":0},{"$f":"(X36+Y36)*X23*-1","v":0},{"$f":"(Y36+X36)*Y23*-1","v":0},{"$f":"(Z36+AA36)*Z23*-1","v":0},{"$f":"(AA36+Z36)*AA23*-1","v":0},{"$f":"(AB36+AC36)*AB23*-1","v":0},{"$f":"(AC36+AB36)*AC23*-1","v":0},{"$f":"(AD36+AE36)*AD23*-1","v":0},{"$f":"(AE36+AD36)*AE23*-1","v":0},{"$f":"(AF36+AG36)*AF23*-1","v":0},null,"dis",{"$f":"(AI36)*AI23*-1","v":0},{"$f":"(AJ36+AK36)*AJ23*-1","v":0},{"$f":"(AK36+AJ36)*AK23*-1","v":0},{"$f":"(AL36+AM36)*AL23*-1","v":0},{"$f":"(AM36+AL36)*AM23*-1","v":0},{"$f":"(AN36+AO36)*AN23*-1","v":0},{"$f":"(AO36+AN36)*AO23*-1","v":0},{"$f":"(AP36+AQ36)*AP23*-1","v":0},{"$f":"(AQ36+AP36)*AQ23*-1","v":0},{"$f":"(AR36+AS36)*AR23*-1","v":0},null,"dis",{"$f":"(AU36)*AU23*-1","v":0},{"$f":"(AV36+AW36)*AV23*-1","v":0},{"$f":"(AW36+AV36)*AW23*-1","v":0},{"$f":"(AX36+AY36)*AX23*-1","v":0},{"$f":"(AY36+AX36)*AY23*-1","v":0},{"$f":"(AZ36+BA36)*AZ23*-1","v":0},{"$f":"(BA36+AZ36)*BA23*-1","v":0},{"$f":"(BB36+BC36)*BB23*-1","v":0},{"$f":"(BC36+BB36)*BC23*-1","v":0},{"$f":"(BD36+BE36)*BD23*-1","v":0},null,"dis",{"$f":"(BG36)*BG23*-1","v":0},{"$f":"(BH36+BI36)*BH23*-1","v":0},{"$f":"(BI36+BH36)*BI23*-1","v":0},{"$f":"(BJ36+BK36)*BJ23*-1","v":0},{"$f":"(BK36+BJ36)*BK23*-1","v":0},{"$f":"(BL36+BM36)*BL23*-1","v":0},{"$f":"(BM36+BL36)*BM23*-1","v":0},{"$f":"(BN36+BO36)*BN23*-1","v":0},{"$f":"(BO36+BN36)*BO23*-1","v":0},{"$f":"(BP36+BQ36)*BP23*-1","v":0},null,"dis",{"$f":"(BS36)*BS23*-1","v":0},{"$f":"(BT36+BU36)*BT23*-1","v":0},{"$f":"(BU36+BT36)*BU23*-1","v":0},{"$f":"(BV36+BW36)*BV23*-1","v":0},{"$f":"(BW36+BV36)*BW23*-1","v":0},{"$f":"(BX36+BY36)*BX23*-1","v":0},{"$f":"(BY36+BX36)*BY23*-1","v":0},{"$f":"(BZ36+CA36)*BZ23*-1","v":0},{"$f":"(CA36+BZ36)*CA23*-1","v":0},{"$f":"(CB36+CC36)*CB23*-1","v":0}]
[null,null,null,null,null,null,null,null,null,"co",{"$f":"L37/2","v":0},{"$f":"K37/2","v":0},{"$f":"N37/2","v":0},{"$f":"M37/2","v":0},{"$f":"P37/2","v":0},{"$f":"O37/2","v":0},{"$f":"R37/2","v":0},{"$f":"Q37/2","v":0},{"$f":"T37/2","v":0},{"$f":"S37/2","v":0},null,"co",{"$f":"X37/2","v":0},{"$f":"W37/2","v":0},{"$f":"Z37/2","v":0},{"$f":"Y37/2","v":0},{"$f":"AB37/2","v":0},{"$f":"AA37/2","v":0},{"$f":"AD37/2","v":0},{"$f":"AC37/2","v":0},{"$f":"AF37/2","v":0},{"$f":"AE37/2","v":0},null,"co",{"$f":"AJ37/2","v":0},{"$f":"AI37/2","v":0},{"$f":"AL37/2","v":0},{"$f":"AK37/2","v":0},{"$f":"AN37/2","v":0},{"$f":"AM37/2","v":0},{"$f":"AP37/2","v":0},{"$f":"AO37/2","v":0},{"$f":"AR37/2","v":0},{"$f":"AQ37/2","v":0},null,"co",{"$f":"AV37/2","v":0},{"$f":"AU37/2","v":0},{"$f":"AX37/2","v":0},{"$f":"AW37/2","v":0},{"$f":"AZ37/2","v":0},{"$f":"AY37/2","v":0},{"$f":"BB37/2","v":0},{"$f":"BA37/2","v":0},{"$f":"BD37/2","v":0},{"$f":"BC37/2","v":0},null,"co",{"$f":"BH37/2","v":0},{"$f":"BG37/2","v":0},{"$f":"BJ37/2","v":0},{"$f":"BI37/2","v":0},{"$f":"BL37/2","v":0},{"$f":"BK37/2","v":0},{"$f":"BN37/2","v":0},{"$f":"BM37/2","v":0},{"$f":"BP37/2","v":0},{"$f":"BO37/2","v":0},null,"co",{"$f":"BT37/2","v":0},{"$f":"BS37/2","v":0},{"$f":"BV37/2","v":0},{"$f":"BU37/2","v":0},{"$f":"BX37/2","v":0},{"$f":"BW37/2","v":0},{"$f":"BZ37/2","v":0},{"$f":"BY37/2","v":0},{"$f":"CB37/2","v":0},{"$f":"CA37/2","v":0}]
[null,null,null,null,null,null,null,null,null,"dis",{"$f":"(K38)*K23*-1","v":0},{"$f":"(L38+M38)*L23*-1","v":0},{"$f":"(M38+L38)*M23*-1","v":0},{"$f":"(N38+O38)*N23*-1","v":0},{"$f":"(O38+N38)*O23*-1","v":0},{"$f":"(P38+Q38)*P23*-1","v":0},{"$f":"(Q38+P38)*Q23*-1","v":0},{"$f":"(R38+S38)*R23*-1","v":0},{"$f":"(S38+R38)*S23*-1","v":0},{"$f":"(T38+U38)*T23*-1","v":0},null,"dis",{"$f":"(W38)*W23*-1","v":0},{"$f":"(X38+Y38)*X23*-1","v":0},{"$f":"(Y38+X38)*Y23*-1","v":0},{"$f":"(Z38+AA38)*Z23*-1","v":0},{"$f":"(AA38+Z38)*AA23*-1","v":0},{"$f":"(AB38+AC38)*AB23*-1","v":0},{"$f":"(AC38+AB38)*AC23*-1","v":0},{"$f":"(AD38+AE38)*AD23*-1","v":0},{"$f":"(AE38+AD38)*AE23*-1","v":0},{"$f":"(AF38+AG38)*AF23*-1","v":0},null,"dis",{"$f":"(AI38)*AI23*-1","v":0},{"$f":"(AJ38+AK38)*AJ23*-1","v":0},{"$f":"(AK38+AJ38)*AK23*-1","v":0},{"$f":"(AL38+AM38)*AL23*-1","v":0},{"$f":"(AM38+AL38)*AM23*-1","v":0},{"$f":"(AN38+AO38)*AN23*-1","v":0},{"$f":"(AO38+AN38)*AO23*-1","v":0},{"$f":"(AP38+AQ38)*AP23*-1","v":0},{"$f":"(AQ38+AP38)*AQ23*-1","v":0},{"$f":"(AR38+AS38)*AR23*-1","v":0},null,"dis",{"$f":"(AU38)*AU23*-1","v":0},{"$f":"(AV38+AW38)*AV23*-1","v":0},{"$f":"(AW38+AV38)*AW23*-1","v":0},{"$f":"(AX38+AY38)*AX23*-1","v":0},{"$f":"(AY38+AX38)*AY23*-1","v":0},{"$f":"(AZ38+BA38)*AZ23*-1","v":0},{"$f":"(BA38+AZ38)*BA23*-1","v":0},{"$f":"(BB38+BC38)*BB23*-1","v":0},{"$f":"(BC38+BB38)*BC23*-1","v":0},{"$f":"(BD38+BE38)*BD23*-1","v":0},null,"dis",{"$f":"(BG38)*BG23*-1","v":0},{"$f":"(BH38+BI38)*BH23*-1","v":0},{"$f":"(BI38+BH38)*BI23*-1","v":0},{"$f":"(BJ38+BK38)*BJ23*-1","v":0},{"$f":"(BK38+BJ38)*BK23*-1","v":0},{"$f":"(BL38+BM38)*BL23*-1","v":0},{"$f":"(BM38+BL38)*BM23*-1","v":0},{"$f":"(BN38+BO38)*BN23*-1","v":0},{"$f":"(BO38+BN38)*BO23*-1","v":0},{"$f":"(BP38+BQ38)*BP23*-1","v":0},null,"dis",{"$f":"(BS38)*BS23*-1","v":0},{"$f":"(BT38+BU38)*BT23*-1","v":0},{"$f":"(BU38+BT38)*BU23*-1","v":0},{"$f":"(BV38+BW38)*BV23*-1","v":0},{"$f":"(BW38+BV38)*BW23*-1","v":0},{"$f":"(BX38+BY38)*BX23*-1","v":0},{"$f":"(BY38+BX38)*BY23*-1","v":0},{"$f":"(BZ38+CA38)*BZ23*-1","v":0},{"$f":"(CA38+BZ38)*CA23*-1","v":0},{"$f":"(CB38+CC38)*CB23*-1","v":0}]
[null,null,null,null,null,null,null,null,null,"co",{"$f":"L39/2","v":0},{"$f":"K39/2","v":0},{"$f":"N39/2","v":0},{"$f":"M39/2","v":0},{"$f":"P39/2","v":0},{"$f":"O39/2","v":0},{"$f":"R39/2","v":0},{"$f":"Q39/2","v":0},{"$f":"T39/2","v":0},{"$f":"S39/2","v":0},null,"co",{"$f":"X39/2","v":0},{"$f":"W39/2","v":0},{"$f":"Z39/2","v":0},{"$f":"Y39/2","v":0},{"$f":"AB39/2","v":0},{"$f":"AA39/2","v":0},{"$f":"AD39/2","v":0},{"$f":"AC39/2","v":0},{"$f":"AF39/2","v":0},{"$f":"AE39/2","v":0},null,"co",{"$f":"AJ39/2","v":0},{"$f":"AI39/2","v":0},{"$f":"AL39/2","v":0},{"$f":"AK39/2","v":0},{"$f":"AN39/2","v":0},{"$f":"AM39/2","v":0},{"$f":"AP39/2","v":0},{"$f":"AO39/2","v":0},{"$f":"AR39/2","v":0},{"$f":"AQ39/2","v":0},null,"co",{"$f":"AV39/2","v":0},{"$f":"AU39/2","v":0},{"$f":"AX39/2","v":0},{"$f":"AW39/2","v":0},{"$f":"AZ39/2","v":0},{"$f":"AY39/2","v":0},{"$f":"BB39/2","v":0},{"$f":"BA39/2","v":0},{"$f":"BD39/2","v":0},{"$f":"BC39/2","v":0},null,"co",{"$f":"BH39/2","v":0},{"$f":"BG39/2","v":0},{"$f":"BJ39/2","v":0},{"$f":"BI39/2","v":0},{"$f":"BL39/2","v":0},{"$f":"BK39/2","v":0},{"$f":"BN39/2","v":0},{"$f":"BM39/2","v":0},{"$f":"BP39/2","v":0},{"$f":"BO39/2","v":0},null,"co",{"$f":"BT39/2","v":0},{"$f":"BS39/2","v":0},{"$f":"BV39/2","v":0},{"$f":"BU39/2","v":0},{"$f":"BX39/2","v":0},{"$f":"BW39/2","v":0},{"$f":"BZ39/2","v":0},{"$f":"BY39/2","v":0},{"$f":"CB39/2","v":0},{"$f":"CA39/2","v":0}]
[null,null,null,null,null,null,null,null,null,"dis",{"$f":"(K40)*K23*-1","v":0},{"$f":"(L40+M40)*L23*-1","v":0},{"$f":"(M40+L40)*M23*-1","v":0},{"$f":"(N40+O40)*N23*-1","v":0},{"$f":"(O40+N40)*O23*-1","v":0},{"$f":"(P40+Q40)*P23*-1","v":0},{"$f":"(Q40+P40)*Q23*-1","v":0},{"$f":"(R40+S40)*R23*-1","v":0},{"$f":"(S40+R40)*S23*-1","v":0},{"$f":"(T40+U40)*T23*-1","v":0},null,"dis",{"$f":"(W40)*W23*-1","v":0},{"$f":"(X40+Y40)*X23*-1","v":0},{"$f":"(Y40+X40)*Y23*-1","v":0},{"$f":"(Z40+AA40)*Z23*-1","v":0},{"$f":"(AA40+Z40)*AA23*-1","v":0},{"$f":"(AB40+AC40)*AB23*-1","v":0},{"$f":"(AC40+AB40)*AC23*-1","v":0},{"$f":"(AD40+AE40)*AD23*-1","v":0},{"$f":"(AE40+AD40)*AE23*-1","v":0},{"$f":"(AF40+AG40)*AF23*-1","v":0},null,"dis",{"$f":"(AI40)*AI23*-1","v":0},{"$f":"(AJ40+AK40)*AJ23*-1","v":0},{"$f":"(AK40+AJ40)*AK23*-1","v":0},{"$f":"(AL40+AM40)*AL23*-1","v":0},{"$f":"(AM40+AL40)*AM23*-1","v":0},{"$f":"(AN40+AO40)*AN23*-1","v":0},{"$f":"(AO40+AN40)*AO23*-1","v":0},{"$f":"(AP40+AQ40)*AP23*-1","v":0},{"$f":"(AQ40+AP40)*AQ23*-1","v":0},{"$f":"(AR40+AS40)*AR23*-1","v":0},null,"dis",{"$f":"(AU40)*AU23*-1","v":0},{"$f":"(AV40+AW40)*AV23*-1","v":0},{"$f":"(AW40+AV40)*AW23*-1","v":0},{"$f":"(AX40+AY40)*AX23*-1","v":0},{"$f":"(AY40+AX40)*AY23*-1","v":0},{"$f":"(AZ40+BA40)*AZ23*-1","v":0},{"$f":"(BA40+AZ40)*BA23*-1","v":0},{"$f":"(BB40+BC40)*BB23*-1","v":0},{"$f":"(BC40+BB40)*BC23*-1","v":0},{"$f":"(BD40+BE40)*BD23*-1","v":0},null,"dis",{"$f":"(BG40)*BG23*-1","v":0},{"$f":"(BH40+BI40)*BH23*-1","v":0},{"$f":"(BI40+BH40)*BI23*-1","v":0},{"$f":"(BJ40+BK40)*BJ23*-1","v":0},{"$f":"(BK40+BJ40)*BK23*-1","v":0},{"$f":"(BL40+BM40)*BL23*-1","v":0},{"$f":"(BM40+BL40)*BM23*-1","v":0},{"$f":"(BN40+BO40)*BN23*-1","v":0},{"$f":"(BO40+BN40)*BO23*-1","v":0},{"$f":"(BP40+BQ40)*BP23*-1","v":0},null,"dis",{"$f":"(BS40)*BS23*-1","v":0},{"$f":"(BT40+BU40)*BT23*-1","v":0},{"$f":"(BU40+BT40)*BU23*-1","v":0},{"$f":"(BV40+BW40)*BV23*-1","v":0},{"$f":"(BW40+BV40)*BW23*-1","v":0},{"$f":"(BX40+BY40)*BX23*-1","v":0},{"$f":"(BY40+BX40)*BY23*-1","v":0},{"$f":"(BZ40+CA40)*BZ23*-1","v":0},{"$f":"(CA40+BZ40)*CA23*-1","v":0},{"$f":"(CB40+CC40)*CB23*-1","v":0}]
[null,null,null,null,null,null,null,null,null,"co",{"$f":"L41/2","v":0},{"$f":"K41/2","v":0},{"$f":"N41/2","v":0},{"$f":"M41/2","v":0},{"$f":"P41/2","v":0},{"$f":"O41/2","v":0},{"$f":"R41/2","v":0},{"$f":"Q41/2","v":0},{"$f":"T41/2","v":0},{"$f":"S41/2","v":0},null,"co",{"$f":"X41/2","v":0},{"$f":"W41/2","v":0},{"$f":"Z41/2","v":0},{"$f":"Y41/2","v":0},{"$f":"AB41/2","v":0},{"$f":"AA41/2","v":0},{"$f":"AD41/2","v":0},{"$f":"AC41/2","v":0},{"$f":"AF41/2","v":0},{"$f":"AE41/2","v":0},null,"co",{"$f":"AJ41/2","v":0},{"$f":"AI41/2","v":0},{"$f":"AL41/2","v":0},{"$f":"AK41/2","v":0},{"$f":"AN41/2","v":0},{"$f":"AM41/2","v":0},{"$f":"AP41/2","v":0},{"$f":"AO41/2","v":0},{"$f":"AR41/2","v":0},{"$f":"AQ41/2","v":0},null,"co",{"$f":"AV41/2","v":0},{"$f":"AU41/2","v":0},{"$f":"AX41/2","v":0},{"$f":"AW41/2","v":0},{"$f":"AZ41/2","v":0},{"$f":"AY41/2","v":0},{"$f":"BB41/2","v":0},{"$f":"BA41/2","v":0},{"$f":"BD41/2","v":0},{"$f":"BC41/2","v":0},null,"co",{"$f":"BH41/2","v":0},{"$f":"BG41/2","v":0},{"$f":"BJ41/2","v":0},{"$f":"BI41/2","v":0},{"$f":"BL41/2","v":0},{"$f":"BK41/2","v":0},{"$f":"BN41/2","v":0},{"$f":"BM41/2","v":0},{"$f":"BP41/2","v":0},{"$f":"BO41/2","v":0},null,"co",{"$f":"BT41/2","v":0},{"$f":"BS41/2","v":0},{"$f":"BV41/2","v":0},{"$f":"BU41/2","v":0},{"$f":"BX41/2","v":0},{"$f":"BW41/2","v":0},{"$f":"BZ41/2","v":0},{"$f":"BY41/2","v":0},{"$f":"CB41/2","v":0},{"$f":"CA41/2","v":0}]
[null,null,null,null,null,null,null,null,null,"dis",{"$f":"(K42)*K23*-1","v":0},{"$f":"(L42+M42)*L23*-1","v":0},{"$f":"(M42+L42)*M23*-1","v":0},{"$f":"(N42+O42)*N23*-1","v":0},{"$f":"(O42+N42)*O23*-1","v":0},{"$f":"(P42+Q42)*P23*-1","v":0},{"$f":"(Q42+P42)*Q23*-1","v":0},{"$f":"(R42+S42)*R23*-1","v":0},{"$f":"(S42+R42)*S23*-1","v":0},{"$f":"(T42+U42)*T23*-1","v":0},null,"dis",{"$f":"(W42)*W23*-1","v":0},{"$f":"(X42+Y42)*X23*-1","v":0},{"$f":"(Y42+X42)*Y23*-1","v":0},{"$f":"(Z42+AA42)*Z23*-1","v":0},{"$f":"(AA42+Z42)*AA23*-1","v":0},{"$f":"(AB42+AC42)*AB23*-1","v":0},{"$f":"(AC42+AB42)*AC23*-1","v":0},{"$f":"(AD42+AE42)*AD23*-1","v":0},{"$f":"(AE42+AD42)*AE23*-1","v":0},{"$f":"(AF42+AG42)*AF23*-1","v":0},null,"dis",{"$f":"(AI42)*AI23*-1","v":0},{"$f":"(AJ42+AK42)*AJ23*-1","v":0},{"$f":"(AK42+AJ42)*AK23*-1","v":0},{"$f":"(AL42+AM42)*AL23*-1","v":0},{"$f":"(AM42+AL42)*AM23*-1","v":0},{"$f":"(AN42+AO42)*AN23*-1","v":0},{"$f":"(AO42+AN42)*AO23*-1","v":0},{"$f":"(AP42+AQ42)*AP23*-1","v":0},{"$f":"(AQ42+AP42)*AQ23*-1","v":0},{"$f":"(AR42+AS42)*AR23*-1","v":0},null,"dis",{"$f":"(AU42)*AU23*-1","v":0},{"$f":"(AV42+AW42)*AV23*-1","v":0},{"$f":"(AW42+AV42)*AW23*-1","v":0},{"$f":"(AX42+AY42)*AX23*-1","v":0},{"$f":"(AY42+AX42)*AY23*-1","v":0},{"$f":"(AZ42+BA42)*AZ23*-1","v":0},{"$f":"(BA42+AZ42)*BA23*-1","v":0},{"$f":"(BB42+BC42)*BB23*-1","v":0},{"$f":"(BC42+BB42)*BC23*-1","v":0},{"$f":"(BD42+BE42)*BD23*-1","v":0},null,"dis",{"$f":"(BG42)*BG23*-1","v":0},{"$f":"(BH42+BI42)*BH23*-1","v":0},{"$f":"(BI42+BH42)*BI23*-1","v":0},{"$f":"(BJ42+BK42)*BJ23*-1","v":0},{"$f":"(BK42+BJ42)*BK23*-1","v":0},{"$f":"(BL42+BM42)*BL23*-1","v":0},{"$f":"(BM42+BL42)*BM23*-1","v":0},{"$f":"(BN42+BO42)*BN23*-1","v":0},{"$f":"(BO42+BN42)*BO23*-1","v":0},{"$f":"(BP42+BQ42)*BP23*-1","v":0},null,"dis",{"$f":"(BS42)*BS23*-1","v":0},{"$f":"(BT42+BU42)*BT23*-1","v":0},{"$f":"(BU42+BT42)*BU23*-1","v":0},{"$f":"(BV42+BW42)*BV23*-1","v":0},{"$f":"(BW42+BV42)*BW23*-1","v":0},{"$f":"(BX42+BY42)*BX23*-1","v":0},{"$f":"(BY42+BX42)*BY23*-1","v":0},{"$f":"(BZ42+CA42)*BZ23*-1","v":0},{"$f":"(CA42+BZ42)*CA23*-1","v":0},{"$f":"(CB42+CC42)*CB23*-1","v":0}]
[null,null,null,null,null,null,null,null,null,"co",{"$f":"L43/2","v":0},{"$f":"K43/2","v":0},{"$f":"N43/2","v":0},{"$f":"M43/2","v":0},{"$f":"P43/2","v":0},{"$f":"O43/2","v":0},{"$f":"R43/2","v":0},{"$f":"Q43/2","v":0},{"$f":"T43/2","v":0},{"$f":"S43/2","v":0},null,"co",{"$f":"X43/2","v":0},{"$f":"W43/2","v":0},{"$f":"Z43/2","v":0},{"$f":"Y43/2","v":0},{"$f":"AB43/2","v":0},{"$f":"AA43/2","v":0},{"$f":"AD43/2","v":0},{"$f":"AC43/2","v":0},{"$f":"AF43/2","v":0},{"$f":"AE43/2","v":0},null,"co",{"$f":"AJ43/2","v":0},{"$f":"AI43/2","v":0},{"$f":"AL43/2","v":0},{"$f":"AK43/2","v":0},{"$f":"AN43/2","v":0},{"$f":"AM43/2","v":0},{"$f":"AP43/2","v":0},{"$f":"AO43/2","v":0},{"$f":"AR43/2","v":0},{"$f":"AQ43/2","v":0},null,"co",{"$f":"AV43/2","v":0},{"$f":"AU43/2","v":0},{"$f":"AX43/2","v":0},{"$f":"AW43/2","v":0},{"$f":"AZ43/2","v":0},{"$f":"AY43/2","v":0},{"$f":"BB43/2","v":0},{"$f":"BA43/2","v":0},{"$f":"BD43/2","v":0},{"$f":"BC43/2","v":0},null,"co",{"$f":"BH43/2","v":0},{"$f":"BG43/2","v":0},{"$f":"BJ43/2","v":0},{"$f":"BI43/2","v":0},{"$f":"BL43/2","v":0},{"$f":"BK43/2","v":0},{"$f":"BN43/2","v":0},{"$f":"BM43/2","v":0},{"$f":"BP43/2","v":0},{"$f":"BO43/2","v":0},null,"co",{"$f":"BT43/2","v":0},{"$f":"BS43/2","v":0},{"$f":"BV43/2","v":0},{"$f":"BU43/2","v":0},{"$f":"BX43/2","v":0},{"$f":"BW43/2","v":0},{"$f":"BZ43/2","v":0},{"$f":"BY43/2","v":0},{"$f":"CB43/2","v":0},{"$f":"CA43/2","v":0}]
[null,null,null,null,null,null,null,null,null,"dis",{"$f":"(K44)*K23*-1","v":0},{"$f":"(L44+M44)*L23*-1","v":0},{"$f":"(M44+L44)*M23*-1","v":0},{"$f":"(N44+O44)*N23*-1","v":0},{"$f":"(O44+N44)*O23*-1","v":0},{"$f":"(P44+Q44)*P23*-1","v":0},{"$f":"(Q44+P44)*Q23*-1","v":0},{"$f":"(R44+S44)*R23*-1","v":0},{"$f":"(S44+R44)*S23*-1","v":0},{"$f":"(T44+U44)*T23*-1","v":0},null,"dis",{"$f":"(W44)*W23*-1","v":0},{"$f":"(X44+Y44)*X23*-1","v":0},{"$f":"(Y44+X44)*Y23*-1","v":0},{"$f":"(Z44+AA44)*Z23*-1","v":0},{"$f":"(AA44+Z44)*AA23*-1","v":0},{"$f":"(AB44+AC44)*AB23*-1","v":0},{"$f":"(AC44+AB44)*AC23*-1","v":0},{"$f":"(AD44+AE44)*AD23*-1","v":0},{"$f":"(AE44+AD44)*AE23*-1","v":0},{"$f":"(AF44+AG44)*AF23*-1","v":0},null,"dis",{"$f":"(AI44)*AI23*-1","v":0},{"$f":"(AJ44+AK44)*AJ23*-1","v":0},{"$f":"(AK44+AJ44)*AK23*-1","v":0},{"$f":"(AL44+AM44)*AL23*-1","v":0},{"$f":"(AM44+AL44)*AM23*-1","v":0},{"$f":"(AN44+AO44)*AN23*-1","v":0},{"$f":"(AO44+AN44)*AO23*-1","v":0},{"$f":"(AP44+AQ44)*AP23*-1","v":0},{"$f":"(AQ44+AP44)*AQ23*-1","v":0},{"$f":"(AR44+AS44)*AR23*-1","v":0},null,"dis",{"$f":"(AU44)*AU23*-1","v":0},{"$f":"(AV44+AW44)*AV23*-1","v":0},{"$f":"(AW44+AV44)*AW23*-1","v":0},{"$f":"(AX44+AY44)*AX23*-1","v":0},{"$f":"(AY44+AX44)*AY23*-1","v":0},{"$f":"(AZ44+BA44)*AZ23*-1","v":0},{"$f":"(BA44+AZ44)*BA23*-1","v":0},{"$f":"(BB44+BC44)*BB23*-1","v":0},{"$f":"(BC44+BB44)*BC23*-1","v":0},{"$f":"(BD44+BE44)*BD23*-1","v":0},null,"dis",{"$f":"(BG44)*BG23*-1","v":0},{"$f":"(BH44+BI44)*BH23*-1","v":0},{"$f":"(BI44+BH44)*BI23*-1","v":0},{"$f":"(BJ44+BK44)*BJ23*-1","v":0},{"$f":"(BK44+BJ44)*BK23*-1","v":0},{"$f":"(BL44+BM44)*BL23*-1","v":0},{"$f":"(BM44+BL44)*BM23*-1","v":0},{"$f":"(BN44+BO44)*BN23*-1","v":0},{"$f":"(BO44+BN44)*BO23*-1","v":0},{"$f":"(BP44+BQ44)*BP23*-1","v":0},null,"dis",{"$f":"(BS44)*BS23*-1","v":0},{"$f":"(BT44+BU44)*BT23*-1","v":0},{"$f":"(BU44+BT44)*BU23*-1","v":0},{"$f":"(BV44+BW44)*BV23*-1","v":0},{"$f":"(BW44+BV44)*BW23*-1","v":0},{"$f":"(BX44+BY44)*BX23*-1","v":0},{"$f":"(BY44+BX44)*BY23*-1","v":0},{"$f":"(BZ44+CA44)*BZ23*-1","v":0},{"$f":"(CA44+BZ44)*CA23*-1","v":0},{"$f":"(CB44+CC44)*CB23*-1","v":0}]
[null,null,null,null,null,null,null,null,null,"sum",{"$f":"SUM(K24:K45)","v":0},{"$f":"SUM(L24:L45)","v":0},{"$f":"SUM(M24:M45)","v":0},{"$f":"SUM(N24:N45)","v":0},{"$f":"SUM(O24:O45)","v":0},0,0,0,0,0,null,"sum",{"$f":"SUM(W24:W45)","v":0},0,0,0,0,0,0,0,0,0,null,"sum",{"$f":"SUM(AI24:AI45)","v":0},0,0,0,0,0,0,0,0,0,null,"sum",{"$f":"SUM(AU24:AU45)","v":0},0,0,0,0,0,0,0,0,0,null,"sum",{"$f":"SUM(BG24:BG45)","v":0},0,0,0,0,0,0,0,0,0,null,"sum",{"$f":"SUM(BS24:BS45)","v":0},0,0,0,0,0,0,0,0,0]
[null,null,null,null,null,null,null,null,null,"โมเมนต์บวก span 1 =",{"$f":"K111","v":0},null,"โมเมนต์บวก span 2 =",{"$f":"W111","v":0},"โมเมนต์บวก span 3 =",{"$f":"AI111","v":0},"โมเมนต์บวก span 4 =",{"$f":"AU111","v":0},"โมเมนต์บวก span 5 =",{"$f":"BG111","v":0}]
[null,null,null,null,null,null,null,null,null,"โมเมนต์ลบ span 1 ขวา =",{"$f":"N110","v":0},null,"โมเมนต์ลบ span 2 ขวา =",{"$f":"AC111","v":0},"โมเมนต์ลบ span 3 ขวา =",{"$f":"AO110","v":0},"โมเมนต์ลบ span 4 ขวา =",{"$f":"BA110","v":0},"โมเมนต์ลบ span 5 ขวา =",{"$f":"BM110","v":0}]
[null,null,null,null,null,null,null,null,null,"โมเมนต์ลบ span 1 ซ้าย =",{"$f":"-K107+0.5*K109*Sheet1!D10-0.25*'l6'!E2*('l6'!B7+'l6'!E7)*Sheet1!D10^2","v":0},null,"โมเมนต์ลบ span 2 ซ้าย =",{"$f":"Z111","v":0},"โมเมนต์ลบ span 3 ซ้าย =",{"$f":"AL110","v":0},"โมเมนต์ลบ span 4 ซ้าย =",{"$f":"AX110","v":0},"โมเมนต์ลบ span 5 ซ้าย =",{"$f":"BJ110","v":0}]
[]
[null,null,null,null,null,null,"ทิศทาง","ช่วงเสา","สัมประสิทธ์ร้อยละ","แถบเสา","แถบกลาง",null,"แถบเสา","แถบกลาง","แถบเสา","แถบกลาง","แถบเสา","แถบกลาง","แถบเสา","แถบกลาง"]
[null,null,null,null,null,null,null,"โมเมนต์ลบขวา",0.75,{"$f":"IF((-K48>-N49),(K48),(N49))*I52","v":0},{"$f":"IF((-K48>-N49),(K48),(N49))-J52","v":0},null,{"$f":"IF((-N48>-P49),(N48),(P49))*IF(Sheet1!$B$4=2,(I54),(I52))","v":0},{"$f":"IF((-N48>-P49),(N48),(P49))-M52","v":0},{"$f":"IF(-P48>-R49,(P48),(R49))*IF(Sheet1!$B$3=3,(1),(0.75))","v":0},{"$f":"IF(-P48>-R49,(P48),(R49))*IF(Sheet1!$B$4=3,(1),(0.75))-O52","v":0},{"$f":"IF(-R48>-T49,(R48),(T49))*IF(Sheet1!$B$4=4,(1),(0.75))","v":0},{"$f":"IF(-R48>-T49,(R48),(T49))*IF(Sheet1!$B$4=4,(1),(0.75))-Q52","v":0},{"$f":"IF(-T48>-V49,(T48),(V49))*IF(Sheet1!$B$4=5,(1),(0.75))","v":0},{"$f":"IF(-T48>-V49,(T48),(V49))*IF(Sheet1!$B$4=5,(1),(0.75))-S52","v":0}]
[null,null,null,null,null,null,null,"โมเมนต์กลางช่วงโมเมนต์บวก",0.6,{"$f":"K47*$I$53","v":0},{"$f":"K47-J53","v":0},null,{"$f":"N47*$I$53","v":0},{"$f":"N47-M53","v":0},{"$f":"P47*$I$53","v":0},{"$f":"P47-O53","v":0},{"$f":"R47*$I$53","v":0},{"$f":"R47-Q53","v":0},{"$f":"T47*$I$53","v":0},{"$f":"T47-S53","v":0}]
[null,null,null,null,null,null,null,"โมเมนต์ลบซ้าย",1,{"$f":"K49*I54","v":0},{"$f":"K49-J54","v":0},null,{"$f":"IF((-K48>-N49),(K48),(N49))*I52","v":0},{"$f":"IF((-K48>-N49),(K48),(N49))-M54","v":0},{"$f":"IF((-N48>-P49),(N48),(P49))*IF(Sheet1!$B$4<3,(0),(0.75))","v":0},{"$f":"IF(O54=0,(0),(IF((-N48>-P49),(N48),(P49))-O54))","v":0},{"$f":"IF((-P48>-R49),(P48),(R49))*IF(Sheet1!$B$4<4,(0),(0.75))","v":0},{"$f":"IF(Q54=0,(0),(IF((-P48>-R49),(P48),(R49))-Q54))","v":0},{"$f":"IF((-R48>-T49),(R48),(T49))*IF(Sheet1!$B$4<5,(0),(0.75))","v":0},{"$f":"IF(S54=0,(0),(IF((-R48>-T49),(R48),(T49))-S54))","v":0}]
[]
[null,null,null,null,null,null,"เหล็กเสริมในแผ่นพื้น",null,null,"span l1",null,null,"span l2",null,"span l3",null,"span l4",null,"span l5"]
[null,null,null,null,null,null,null,"รายการ","หน่วย","แถบเสา","แถบกลาง",null,"แถบเสา","แถบกลาง","แถบเสา","แถบกลาง","แถบเสา","แถบกลาง","แถบเสา","แถบกลาง"]
[null,null,null,null,null,null,null,"ความกว้าง","m",{"$f":"E2*0.5","v":0},{"$f":"$E$2-$J$58","v":0},null,{"$f":"J58","v":0},{"$f":"$E$2-M58","v":0},{"$f":"M58","v":0},{"$f":"$E$2-O58","v":0},0,{"$f":"$E$2-Q58","v":0},0,{"$f":"$E$2-S58","v":0}]
[null,null,null,null,null,null,null,"โมเมนต์ลบขวา","kg-m/m",{"$f":"J52/(0.9*J58)","v":{"$error":"#DIV/0!"}},{"$f":"K52/(K58*0.9)","v":{"$error":"#DIV/0!"}},null,{"$f":"M52/(0.9*M58)","v":{"$error":"#DIV/0!"}},{"$f":"N52/(0.9*N58)","v":{"$error":"#DIV/0!"}},{"$f":"O52/(0.9*O58)","v":{"$error":"#DIV/0!"}},{"$f":"P52/(0.9*P58)","v":{"$error":"#DIV/0!"}},{"$f":"Q52/(0.9*Q58)","v":{"$error":"#DIV/0!"}},{"$error":"#DIV/0!"},{"$f":"S52/(0.9*S58)","v":{"$error":"#DIV/0!"}},{"$f":"T52/(0.9*T58)","v":{"$error":"#DIV/0!"}}]
[null,null,null,null,null,null,null,"Rn","kg/m^2",{"$f":"J59/(((Sheet1!B16)-(Sheet1!B13/100))^2)","v":{"$error":"#DIV/0!"}},{"$f":"K59/(((Sheet1!B16)-(Sheet1!B13/100))^2)","v":{"$error":"#DIV/0!"}},null,{"$f":"M59/(((Sheet1!B16)-(Sheet1!B13/100))^2)","v":{"$error":"#DIV/0!"}},{"$f":"N59/(((Sheet1!B16)-(Sheet1!B13/100))^2)","v":{"$error":"#DIV/0!"}},{"$f":"O59/(((Sheet1!B16)-(Sheet1!B13/100))^2)","v":{"$error":"#DIV/0!"}},{"$f":"P59/(((Sheet1!B16)-(Sheet1!B13/100))^2)","v":{"$error":"#DIV/0!"}},{"$f":"Q59/(((Sheet1!B16)-(Sheet1!B13/100))^2)","v":{"$error":"#DIV/0!"}},{"$f":"R59/(((Sheet1!B16)-(Sheet1!B13/100))^2)","v":{"$error":"#DIV/0!"}},{"$f":"S59/(((Sheet1!B16)-(Sheet1!B13/100))^2)","v":{"$error":"#DIV/0!"}},{"$f":"T59/(((Sheet1!B16)-(Sheet1!B13/100))^2)","v":{"$error":"#DIV/0!"}}]
[null,null,null,null,null,null,null,"p",null,{"$f":"ABS((0.85*Sheet1!B10/Sheet1!B9)*(1-(SQRT(1-(2*J60/(0.85*Sheet1!B10*100^2))))))","v":{"$error":"#DIV/0!"}},{"$f":"ABS((0.85*Sheet1!B10/Sheet1!B9)*(1-(SQRT(1-(2*K60/(0.85*Sheet1!B10*100^2))))))","v":{"$error":"#DIV/0!"}},null,{"$f":"ABS((0.85*Sheet1!B10/Sheet1!B9)*(1-(SQRT(1-(2*M60/(0.85*Sheet1!B10*100^2))))))","v":{"$error":"#DIV/0!"}},{"$f":"ABS((0.85*Sheet1!B10/Sheet1!B9)*(1-(SQRT(1-(2*N60/(0.85*Sheet1!B10*100^2))))))","v":{"$error":"#DIV/0!"}},{"$f":"ABS((0.85*Sheet1!B10/Sheet1!B9)*(1-(SQRT(1-(2*O60/(0.85*Sheet1!B10*100^2))))))","v":{"$error":"#DIV/0!"}},{"$f":"ABS((0.85*Sheet1!B10/Sheet1!B9)*(1-(SQRT(1-(2*P60/(0.85*Sheet1!B10*100^2))))))","v":{"$error":"#DIV/0!"}},{"$f":"ABS((0.85*Sheet1!B10/Sheet1!B9)*(1-(SQRT(1-(2*Q60/(0.85*Sheet1!B10*100^2))))))","v":{"$error":"#DIV/0!"}},{"$f":"ABS((0.85*Sheet1!B10/Sheet1!B9)*(1-(SQRT(1-(2*R60/(0.85*Sheet1!B10*100^2))))))","v":{"$error":"#DIV/0!"}},{"$f":"ABS((0.85*Sheet1!B10/Sheet1!B9)*(1-(SQRT(1-(2*S60/(0.85*Sheet1!B10*100^2))))))","v":{"$error":"#DIV/0!"}},{"$f":"ABS((0.85*Sheet1!B10/Sheet1!B9)*(1-(SQRT(1-(2*T60/(0.85*Sheet1!B10*100^2))))))","v":{"$error":"#DIV/0!"}}]
[null,null,null,null,null,null,null,"As-","mm^2/m",{"$f":"IF(J53=0,(0),(IF(J61>(0.0018*4000/Sheet1!$B$9),(ABS(J61*1000*(Sheet1!$B$16*1000-Sheet1!$B$13*10)*-1)),(ABS((0.0018*4000/Sheet1!$B$9)*1000*(Sheet1!$B$16*1000-Sheet1!$B$13*10)*-1)))))","v":0},{"$f":"IF(K53=0,(0),(IF(K61>(0.0018*4000/Sheet1!$B$9),(ABS(K61*1000*(Sheet1!$B$16*1000-Sheet1!$B$13*10)*-1)),(ABS((0.0018*4000/Sheet1!$B$9)*1000*(Sheet1!$B$16*1000-Sheet1!$B$13*10)*-1)))))","v":0},null,{"$f":"IF(M53=0,(0),(IF(M61>(0.0018*4000/Sheet1!$B$9),(ABS(M61*1000*(Sheet1!$B$16*1000-Sheet1!$B$13*10)*-1)),(ABS((0.0018*4000/Sheet1!$B$9)*1000*(Sheet1!$B$16*1000-Sheet1!$B$13*10)*-1)))))","v":0},{"$f":"IF(N53=0,(0),(IF(N61>(0.0018*4000/Sheet1!$B$9),(ABS(N61*1000*(Sheet1!$B$16*1000-Sheet1!$B$13*10)*-1)),(ABS((0.0018*4000/Sheet1!$B$9)*1000*(Sheet1!$B$16*1000-Sheet1!$B$13*10)*-1)))))","v":0},{"$f":"IF(O53=0,(0),(IF(O61>(0.0018*4000/Sheet1!$B$9),(ABS(O61*1000*(Sheet1!$B$16*1000-Sheet1!$B$13*10)*-1)),(ABS((0.0018*4000/Sheet1!$B$9)*1000*(Sheet1!$B$16*1000-Sheet1!$B$13*10)*-1)))))","v":0},{"$f":"IF(P53=0,(0),(IF(P61>(0.0018*4000/Sheet1!$B$9),(ABS(P61*1000*(Sheet1!$B$16*1000-Sheet1!$B$13*10)*-1)),(ABS((0.0018*4000/Sheet1!$B$9)*1000*(Sheet1!$B$16*1000-Sheet1!$B$13*10)*-1)))))","v":0},{"$f":"IF(Q53=0,(0),(IF(Q61>(0.0018*4000/Sheet1!$B$9),(ABS(Q61*1000*(Sheet1!$B$16*1000-Sheet1!$B$13*10)*-1)),(ABS((0.0018*4000/Sheet1!$B$9)*1000*(Sheet1!$B$16*1000-Sheet1!$B$13*10)*-1)))))","v":0},{"$f":"IF(R53=0,(0),(IF(R61>(0.0018*4000/Sheet1!$B$9),(ABS(R61*1000*(Sheet1!$B$16*1000-Sheet1!$B$13*10)*-1)),(ABS((0.0018*4000/Sheet1!$B$9)*1000*(Sheet1!$B$16*1000-Sheet1!$B$13*10)*-1)))))","v":0},{"$f":"IF(S53=0,(0),(IF(S61>(0.0018*4000/Sheet1!$B$9),(ABS(S61*1000*(Sheet1!$B$16*1000-Sheet1!$B$13*10)*-1)),(ABS((0.0018*4000/Sheet1!$B$9)*1000*(Sheet1!$B$16*1000-Sheet1!$B$13*10)*-1)))))","v":0},{"$f":"IF(T53=0,(0),(IF(T61>(0.0018*4000/Sheet1!$B$9),(ABS(T61*1000*(Sheet1!$B$16*1000-Sheet1!$B$13*10)*-1)),(ABS((0.0018*4000/Sheet1!$B$9)*1000*(Sheet1!$B$16*1000-Sheet1!$B$13*10)*-1)))))","v":0}]
[null,null,null,null,null,null,null,"โมเมนต์บวกกลาง","kg-m/m",{"$f":"J53/(0.9*J58)","v":{"$error":"#DIV/0!"}},{"$f":"K53/(0.9*K58)","v":{"$error":"#DIV/0!"}},null,{"$f":"M53/(0.9*M58)","v":{"$error":"#DIV/0!"}},{"$f":"N53/(0.9*N58)","v":{"$error":"#DIV/0!"}},{"$f":"O53/(0.9*O58)","v":{"$error":"#DIV/0!"}},{"$error":"#DIV/0!"},{"$error":"#DIV/0!"},{"$f":"R53/(0.9*R58)","v":{"$error":"#DIV/0!"}},{"$error":"#DIV/0!"},{"$f":"T53/(0.9*T58)","v":{"$error":"#DIV/0!"}}]
[null,null,null,null,null,null,null,"Rn","kg/m^2",{"$f":"J63/(((Sheet1!B16)-(Sheet1!B13/100))^2)","v":{"$error":"#DIV/0!"}},{"$f":"K63/(((Sheet1!B16)-(Sheet1!B13/100))^2)","v":{"$error":"#DIV/0!"}},null,{"$f":"M63/(((Sheet1!B16)-(Sheet1!B13/100))^2)","v":{"$error":"#DIV/0!"}},{"$f":"N63/(((Sheet1!B16)-(Sheet1!B13/100))^2)","v":{"$error":"#DIV/0!"}},{"$f":"O63/(((Sheet1!B16)-(Sheet1!B13/100))^2)","v":{"$error":"#DIV/0!"}},{"$f":"P63/(((Sheet1!B16)-(Sheet1!B13/100))^2)","v":{"$error":"#DIV/0!"}},{"$f":"Q63/(((Sheet1!B16)-(Sheet1!B13/100))^2)","v":{"$error":"#DIV/0!"}},{"$f":"R63/(((Sheet1!B16)-(Sheet1!B13/100))^2)","v":{"$error":"#DIV/0!"}},{"$f":"S63/(((Sheet1!B16)-(Sheet1!B13/100))^2)","v":{"$error":"#DIV/0!"}},{"$f":"T63/(((Sheet1!B16)-(Sheet1!B13/100))^2)","v":{"$error":"#DIV/0!"}}]
[null,null,null,null,null,null,null,"p",null,{"$f":"ABS((0.85*Sheet1!B10/Sheet1!B9)*(1-(SQRT(1-(2*J64/(0.85*Sheet1!B10*100^2))))))","v":{"$error":"#DIV/0!"}},{"$f":"(0.85*Sheet1!B10/Sheet1!B9)*(1-(SQRT(1-(2*K64/(0.85*Sheet1!B10*100^2)))))","v":{"$error":"#DIV/0!"}},null,{"$f":"ABS((0.85*Sheet1!B10/Sheet1!B9)*(1-(SQRT(1-(2*M64/(0.85*Sheet1!B10*100^2))))))","v":{"$error":"#DIV/0!"}},{"$f":"ABS((0.85*Sheet1!B10/Sheet1!B9)*(1-(SQRT(1-(2*N64/(0.85*Sheet1!B10*100^2))))))","v":{"$error":"#DIV/0!"}},{"$f":"ABS((0.85*Sheet1!B10/Sheet1!B9)*(1-(SQRT(1-(2*O64/(0.85*Sheet1!B10*100^2))))))","v":{"$error":"#DIV/0!"}},{"$f":"ABS((0.85*Sheet1!B10/Sheet1!B9)*(1-(SQRT(1-(2*P64/(0.85*Sheet1!B10*100^2))))))","v":{"$error":"#DIV/0!"}},{"$f":"ABS((0.85*Sheet1!B10/Sheet1!B9)*(1-(SQRT(1-(2*Q64/(0.85*Sheet1!B10*100^2))))))","v":{"$error":"#DIV/0!"}},{"$f":"ABS((0.85*Sheet1!B10/Sheet1!B9)*(1-(SQRT(1-(2*R64/(0.85*Sheet1!B10*100^2))))))","v":{"$error":"#DIV/0!"}},{"$f":"ABS((0.85*Sheet1!B10/Sheet1!B9)*(1-(SQRT(1-(2*S64/(0.85*Sheet1!B10*100^2))))))","v":{"$error":"#DIV/0!"}},{"$f":"ABS((0.85*Sheet1!B10/Sheet1!B9)*(1-(SQRT(1-(2*T64/(0.85*Sheet1!B10*100^2))))))","v":{"$error":"#DIV/0!"}}]
[null,null,null,null,null,null,null,"As+","mm^2/m",{"$f":"IF(J53=0,(0),(IF(J65>(0.0018*4000/Sheet1!$B$9),(ABS(J65*1000*(Sheet1!$B$16*1000-Sheet1!$B$13*10)*-1)),(ABS((0.0018*4000/Sheet1!$B$9)*1000*(Sheet1!$B$16*1000-Sheet1!$B$13*10)*-1)))))","v":0},{"$f":"IF(K53=0,(0),(IF(K65>(0.0018*4000/Sheet1!$B$9),(ABS(K65*1000*(Sheet1!$B$16*1000-Sheet1!$B$13*10)*-1)),(ABS((0.0018*4000/Sheet1!$B$9)*1000*(Sheet1!$B$16*1000-Sheet1!$B$13*10)*-1)))))","v":0},null,{"$f":"IF(M53=0,(0),(IF(M65>(0.0018*4000/Sheet1!$B$9),(ABS(M65*1000*(Sheet1!$B$16*1000-Sheet1!$B$13*10)*-1)),(ABS((0.0018*4000/Sheet1!$B$9)*1000*(Sheet1!$B$16*1000-Sheet1!$B$13*10)*-1)))))","v":0},{"$f":"IF(N53=0,(0),(IF(N65>(0.0018*4000/Sheet1!$B$9),(ABS(N65*1000*(Sheet1!$B$16*1000-Sheet1!$B$13*10)*-1)),(ABS((0.0018*4000/Sheet1!$B$9)*1000*(Sheet1!$B$16*1000-Sheet1!$B$13*10)*-1)))))","v":0},{"$f":"IF(O53=0,(0),(IF(O65>(0.0018*4000/Sheet1!$B$9),(ABS(O65*1000*(Sheet1!$B$16*1000-Sheet1!$B$13*10)*-1)),(ABS((0.0018*4000/Sheet1!$B$9)*1000*(Sheet1!$B$16*1000-Sheet1!$B$13*10)*-1)))))","v":0},{"$f":"IF(P53=0,(0),(IF(P65>(0.0018*4000/Sheet1!$B$9),(ABS(P65*1000*(Sheet1!$B$16*1000-Sheet1!$B$13*10)*-1)),(ABS((0.0018*4000/Sheet1!$B$9)*1000*(Sheet1!$B$16*1000-Sheet1!$B$13*10)*-1)))))","v":0},{"$f":"IF(Q53=0,(0),(IF(Q65>(0.0018*4000/Sheet1!$B$9),(ABS(Q65*1000*(Sheet1!$B$16*1000-Sheet1!$B$13*10)*-1)),(ABS((0.0018*4000/Sheet1!$B$9)*1000*(Sheet1!$B$16*1000-Sheet1!$B$13*10)*-1)))))","v":0},{"$f":"IF(R53=0,(0),(IF(R65>(0.0018*4000/Sheet1!$B$9),(ABS(R65*1000*(Sheet1!$B$16*1000-Sheet1!$B$13*10)*-1)),(ABS((0.0018*4000/Sheet1!$B$9)*1000*(Sheet1!$B$16*1000-Sheet1!$B$13*10)*-1)))))","v":0},{"$f":"IF(S53=0,(0),(IF(S65>(0.0018*4000/Sheet1!$B$9),(ABS(S65*1000*(Sheet1!$B$16*1000-Sheet1!$B$13*10)*-1)),(ABS((0.0018*4000/Sheet1!$B$9)*1000*(Sheet1!$B$16*1000-Sheet1!$B$13*10)*-1)))))","v":0},{"$f":"IF(T53=0,(0),(IF(T65>(0.0018*4000/Sheet1!$B$9),(ABS(T65*1000*(Sheet1!$B$16*1000-Sheet1!$B$13*10)*-1)),(ABS((0.0018*4000/Sheet1!$B$9)*1000*(Sheet1!$B$16*1000-Sheet1!$B$13*10)*-1)))))","v":0}]
[null,null,null,null,null,null,null,"โมเมนต์ลบซ้าย","kg-m/m",{"$f":"J54/(0.9*J58)","v":{"$error":"#DIV/0!"}},{"$f":"K54/(0.9*K58)","v":{"$error":"#DIV/0!"}},null,{"$f":"M54/(0.9*M58)","v":{"$error":"#DIV/0!"}},{"$f":"N54/(0.9*N58)","v":{"$error":"#DIV/0!"}},{"$f":"O54/(0.9*O58)","v":{"$error":"#DIV/0!"}},{"$f":"P54/(0.9*P58)","v":{"$error":"#DIV/0!"}},{"$error":"#DIV/0!"},{"$error":"#DIV/0!"},{"$error":"#DIV/0!"},{"$error":"#DIV/0!"}]
[null,null,null,null,null,null,null,"Rn","kg/m^2",{"$f":"J67/(((Sheet1!B16)-(Sheet1!B13/100))^2)","v":{"$error":"#DIV/0!"}},{"$f":"K67/(((Sheet1!B16)-(Sheet1!B13/100))^2)","v":{"$error":"#DIV/0!"}},null,{"$f":"M67/(((Sheet1!B16)-(Sheet1!B13/100))^2)","v":{"$error":"#DIV/0!"}},{"$f":"N67/(((Sheet1!B16)-(Sheet1!B13/100))^2)","v":{"$error":"#DIV/0!"}},{"$f":"O67/(((Sheet1!B16)-(Sheet1!B13/100))^2)","v":{"$error":"#DIV/0!"}},{"$f":"P67/(((Sheet1!B16)-(Sheet1!B13/100))^2)","v":{"$error":"#DIV/0!"}},{"$f":"Q67/(((Sheet1!B16)-(Sheet1!B13/100))^2)","v":{"$error":"#DIV/0!"}},{"$f":"R67/(((Sheet1!B16)-(Sheet1!B13/100))^2)","v":{"$error":"#DIV/0!"}},{"$f":"S67/(((Sheet1!B16)-(Sheet1!B13/100))^2)","v":{"$error":"#DIV/0!"}},{"$f":"T67/(((Sheet1!B16)-(Sheet1!B13/100))^2)","v":{"$error":"#DIV/0!"}}]
[null,null,null,null,null,null,null,"p",null,{"$f":"ABS((0.85*Sheet1!B10/Sheet1!B9)*(1-(SQRT(1-(2*J68/(0.85*Sheet1!B10*100^2))))))","v":{"$error":"#DIV/0!"}},{"$f":"(0.85*Sheet1!B10/Sheet1!B9)*(1-(SQRT(1-(2*K68/(0.85*Sheet1!B10*100^2)))))","v":{"$error":"#DIV/0!"}},null,{"$f":"ABS((0.85*Sheet1!B10/Sheet1!B9)*(1-(SQRT(1-(2*M68/(0.85*Sheet1!B10*100^2))))))","v":{"$error":"#DIV/0!"}},{"$f":"ABS((0.85*Sheet1!B10/Sheet1!B9)*(1-(SQRT(1-(2*N68/(0.85*Sheet1!B10*100^2))))))","v":{"$error":"#DIV/0!"}},{"$f":"ABS((0.85*Sheet1!B10/Sheet1!B9)*(1-(SQRT(1-(2*O68/(0.85*Sheet1!B10*100^2))))))","v":{"$error":"#DIV/0!"}},{"$f":"ABS((0.85*Sheet1!B10/Sheet1!B9)*(1-(SQRT(1-(2*P68/(0.85*Sheet1!B10*100^2))))))","v":{"$error":"#DIV/0!"}},{"$f":"ABS((0.85*Sheet1!B10/Sheet1!B9)*(1-(SQRT(1-(2*Q68/(0.85*Sheet1!B10*100^2))))))","v":{"$error":"#DIV/0!"}},{"$f":"ABS((0.85*Sheet1!B10/Sheet1!B9)*(1-(SQRT(1-(2*R68/(0.85*Sheet1!B10*100^2))))))","v":{"$error":"#DIV/0!"}},{"$f":"ABS((0.85*Sheet1!B10/Sheet1!B9)*(1-(SQRT(1-(2*S68/(0.85*Sheet1!B10*100^2))))))","v":{"$error":"#DIV/0!"}},{"$f":"ABS((0.85*Sheet1!B10/Sheet1!B9)*(1-(SQRT(1-(2*T68/(0.85*Sheet1!B10*100^2))))))","v":{"$error":"#DIV/0!"}}]
[null,null,null,null,null,null,null,"As-","mm^2/m",{"$f":"IF(J53=0,(0),(IF(J69>(0.0018*4000/Sheet1!$B$9),(ABS(J69*1000*(Sheet1!$B$16*1000-Sheet1!$B$13*10)*-1)),(ABS((0.0018*4000/Sheet1!$B$9)*1000*(Sheet1!$B$16*1000-Sheet1!$B$13*10)*-1)))))","v":0},{"$f":"IF(K53=0,(0),(IF(K69>(0.0018*4000/Sheet1!$B$9),(ABS(K69*1000*(Sheet1!$B$16*1000-Sheet1!$B$13*10)*-1)),(ABS((0.0018*4000/Sheet1!$B$9)*1000*(Sheet1!$B$16*1000-Sheet1!$B$13*10)*-1)))))","v":0},null,{"$f":"IF(M53=0,(0),(IF(M69>(0.0018*4000/Sheet1!$B$9),(ABS(M69*1000*(Sheet1!$B$16*1000-Sheet1!$B$13*10)*-1)),(ABS((0.0018*4000/Sheet1!$B$9)*1000*(Sheet1!$B$16*1000-Sheet1!$B$13*10)*-1)))))","v":0},{"$f":"IF(N53=0,(0),(IF(N69>(0.0018*4000/Sheet1!$B$9),(ABS(N69*1000*(Sheet1!$B$16*1000-Sheet1!$B$13*10)*-1)),(ABS((0.0018*4000/Sheet1!$B$9)*1000*(Sheet1!$B$16*1000-Sheet1!$B$13*10)*-1)))))","v":0},{"$f":"IF(O53=0,(0),(IF(O69>(0.0018*4000/Sheet1!$B$9),(ABS(O69*1000*(Sheet1!$B$16*1000-Sheet1!$B$13*10)*-1)),(ABS((0.0018*4000/Sheet1!$B$9)*1000*(Sheet1!$B$16*1000-Sheet1!$B$13*10)*-1)))))","v":0},{"$f":"IF(P53=0,(0),(IF(P69>(0.0018*4000/Sheet1!$B$9),(ABS(P69*1000*(Sheet1!$B$16*1000-Sheet1!$B$13*10)*-1)),(ABS((0.0018*4000/Sheet1!$B$9)*1000*(Sheet1!$B$16*1000-Sheet1!$B$13*10)*-1)))))","v":0},{"$f":"IF(Q53=0,(0),(IF(Q69>(0.0018*4000/Sheet1!$B$9),(ABS(Q69*1000*(Sheet1!$B$16*1000-Sheet1!$B$13*10)*-1)),(ABS((0.0018*4000/Sheet1!$B$9)*1000*(Sheet1!$B$16*1000-Sheet1!$B$13*10)*-1)))))","v":0},{"$f":"IF(R53=0,(0),(IF(R69>(0.0018*4000/Sheet1!$B$9),(ABS(R69*1000*(Sheet1!$B$16*1000-Sheet1!$B$13*10)*-1)),(ABS((0.0018*4000/Sheet1!$B$9)*1000*(Sheet1!$B$16*1000-Sheet1!$B$13*10)*-1)))))","v":0},{"$f":"IF(S53=0,(0),(IF(S69>(0.0018*4000/Sheet1!$B$9),(ABS(S69*1000*(Sheet1!$B$16*1000-Sheet1!$B$13*10)*-1)),(ABS((0.0018*4000/Sheet1!$B$9)*1000*(Sheet1!$B$16*1000-Sheet1!$B$13*10)*-1)))))","v":0},{"$f":"IF(T53=0,(0),(IF(T69>(0.0018*4000/Sheet1!$B$9),(ABS(T69*1000*(Sheet1!$B$16*1000-Sheet1!$B$13*10)*-1)),(ABS((0.0018*4000/Sheet1!$B$9)*1000*(Sheet1!$B$16*1000-Sheet1!$B$13*10)*-1)))))","v":0}]
[]
[]
[]
[]
[]
[]
[]
[]
[]
[]
[]
[]
[]
[]
[]
[]
[]
[]
[]
[]
[]
[]
[]
[]
[]
[]
[]
[]
[]
[]
[]
[]
[]
[]
[]
[null,null,null,null,null,null,null,null,null,"โมเมนต์บวก span 1",null,null,"โมเมนต์ลบ span 1  ขวา",null,null,"โมเมนต์ลบ span 1 ซ้าย",null,null,null,null,null,"โมเมนต์บวก span 2",null,null,"โมเมนต์ลบ span 2  ซ้าย",null,null,"โมเมนต์ลบspan 2 ขวา",null,null,null,null,null,"โมเมนต์บวกสแปน 3",null,null,"โมเมนต์ลบspan 3 ซ้าย",null,null,"โมเมนต์ลบspan 3 ขวา",null,null,null,null,null,"โมเมนต์บวกสแปน 4",null,null,"โมเมนต์ลบสแปน 4 ซ้าย",null,null,"โมเมนต์ลบสแปน 4 ขวา",null,null,null,null,null,"โมเมนต์บวกสแปน 5",null,null,"โมเมนต์ลบ span 5 ซ้าย",null,null,"โมเมนต์ลบ span 5 ขวา"]
[null,null,null,null,null,null,null,null,null,"M 1l =",{"$f":"(K46+AI46+BG46+BS46)*-1","v":0},null,"M 1l =",{"$f":"(K46+W46+AU46+BS46)*-1","v":0},null,"M- max span1l =",{"$f":"IF(K107=0,(0),(-K107+0.5*K109*Sheet1!D10-0.25*'l6'!E2*('l6'!B7+'l6'!E7)*Sheet1!D10^2))","v":0},null,null,null,null,"M 2l =",{"$f":"(Y46+AW46+BU46)*-1","v":0},null,"M 2l =",{"$f":"(M46+Y46+AW46+BU46)*-1","v":0},null,"M 2l =",{"$f":"(Y46+AK46+BU46+BI46)*-1","v":0},null,null,null,null,"M 3l =",{"$f":"(AM46+O46+BK46+BW46)*-1","v":0},null,"M3l =",{"$f":"(AM46+AA46+BW46+BK46)*-1","v":0},null,"M3l =",{"$f":"(AM46+AY46+O46+BW46)*-1","v":0},null,null,null,null,"m 4l =",{"$f":"(BA46+AC46+BY46)*-1","v":0},null,"m4l =",{"$f":"(BA46+AO46+Q46+BY46)*-1","v":0},null," m4l =",{"$f":"(BA46+BM46+AC46+BY46)*-1","v":0},null,null,null,null,"m5l =",{"$f":"(BO46+AQ46+S46+CA46)*-1","v":0},null,"m5l =",{"$f":"(BO46+BC46+AE46+CA46)*-1","v":0},null,"m5l =",{"$f":"(BO46+AQ46+S46+CA46)*-1","v":0}]
[null,null,null,null,null,null,null,null,null,"M 1r =",{"$f":"(L46+AJ46+BH46+BT46)","v":0},null,"M 1r =",{"$f":"(L46+X46+AV46+BT46)","v":0},null,null,null,null,null,null,null,"M 2r =",{"$f":"(Z46+AX46+BV46)","v":0},null,"M 2r =",{"$f":"Z46+N46+AX46+BV46","v":0},null,"M 2r =",{"$f":"(Z46+AL46+BV46)+BJ46","v":0},null,null,null,null,"M 3r =",{"$f":"(AN46+P46+BL46+BX46)","v":0},null,"M3r =",{"$f":"AN46+AB46+BL46+BX46","v":0},null,"M3r =",{"$f":"AN46+AZ46+P46+BX46","v":0},null,null,null,null,"m 4r =",{"$f":"(BB46+AD46+BZ46)","v":0},null,"m4r =",{"$f":"BB46+AP46+R46+BZ46","v":0},null,"m4r =",{"$f":"(BB46+BN46+BZ46+AD46)","v":0},null,null,null,null,"m5r =",{"$f":"(BP46+AR46+T46+CB46)","v":0},null,"m5r =",{"$f":"BP46+CB46+BD46+AF46","v":0},null,"m5r =",{"$f":"BP46+CB46+AR46+T46","v":0}]
[null,null,null,null,null,null,null,null,null,"V1l =",{"$f":"(-K108+K107+(0.5*(B7+E7)*E2*Sheet1!L9^2))/Sheet1!L9","v":0},null,"V 1r =",{"$f":"(N108-N107+0.5*(B7+E7)*E2*Sheet1!$L$9^2)/Sheet1!$L$9","v":0},null,null,null,null,null,null,null,"V2l =",{"$f":"(-W108+W107+0.5*(B8+E8)*E2*Sheet1!L10^2)/Sheet1!L10","v":0},null,"V2l  =",{"$f":"(-Z108+Z107+0.5*(B8+E8)*E2*Sheet1!L10^2)/Sheet1!L10","v":0},null,"V2l =",{"$f":"(-AC108+AC107+0.5*(B8+E8)*E2*Sheet1!L10^2)/Sheet1!L10","v":0},null,null,null,null,"V3l =",{"$f":"(-AI108+AI107+0.5*(B9+E9)*E2*Sheet1!L11^2)/Sheet1!L11","v":{"$error":"#DIV/0!"}},null,"V3l =",{"$f":"(-AL108+AL107+0.5*(B9+E9)*Sheet1!L11^2*E2)/Sheet1!L11","v":{"$error":"#DIV/0!"}},null,"V3r =",{"$f":"(AO108-AO107+0.5*(B9+E9)*E2*Sheet1!L11^2)/Sheet1!L11","v":{"$error":"#DIV/0!"}},null,null,null,null,"v4l =",{"$f":"(-AU108+AU107+0.5*(B10+E10)*E2*Sheet1!L12^2)/Sheet1!L12","v":{"$error":"#DIV/0!"}},null,"V4l =",{"$f":"(-AX108+AX107+0.5*(B10+E10)*Sheet1!L12^2*E2)/Sheet1!L12","v":{"$error":"#DIV/0!"}},null,"v4r =",{"$f":"(BA108-BA107+0.5*(B10+E10)*E2*Sheet1!L12^2)/Sheet1!L12","v":{"$error":"#DIV/0!"}},null,null,null,null,"v5l =",{"$f":"(-BG108+BG107+0.5*(B11+E11)*E2*Sheet1!L13^2)/Sheet1!L13","v":{"$error":"#DIV/0!"}},null,"v5l =",{"$f":"(-BJ108+BJ107+0.5*(B11+E11)*E2*Sheet1!L13^2)/Sheet1!L13","v":{"$error":"#DIV/0!"}},null,"v5r =",{"$f":"(BM108-BM107+0.5*(B11+E11)*E2*Sheet1!L13^2)/Sheet1!L13","v":{"$error":"#DIV/0!"}}]
[null,null,null,null,null,null,null,null,null,"ระยะที่ V=0",{"$f":"K109/((B7+E7)*E2)","v":{"$error":"#DIV/0!"}},null,"M- max span1r =",{"$f":"IF(N107=0,(0),(0.5*Sheet1!$D$10*'l6'!N109-'l6'!N108-0.25*('l6'!B7+'l6'!E7)*'l6'!E2*Sheet1!$D$10^2))","v":0},null,null,null,null,null,null,null,"ระยะที่ V=0",{"$f":"W109/((B8+E8)*E2)","v":{"$error":"#DIV/0!"}},null,"V2 r =",{"$f":"(Z108-Z107+0.5*(B8+E8)*E2*Sheet1!L10^2)/Sheet1!L10","v":0},null,"v2r =",{"$f":"(AC108-AC107+0.5*(B8+E8)*E2*Sheet1!L10^2)/Sheet1!L10","v":0},null,null,null,null,"ระยะที่ V=0",{"$f":"AI109/((B9+E9)*E2)","v":{"$error":"#DIV/0!"}},null,"M- max span3l =",{"$f":"IF(AL107=0,(0),(-AL107+0.5*AL109*Sheet1!D10-0.25*Sheet1!D10^2*'l6'!E2*('l6'!B9+'l6'!E9)))","v":0},null,"M- max span3r =",{"$f":"IF(AO107=0,(0),(0.5*AO109*Sheet1!D10-'l6'!AO108-0.25*('l6'!B9+'l6'!E9)*'l6'!E2*Sheet1!D10^2))","v":0},null,null,null,null,"ระยะที่ v=0",{"$f":"AU109/((B10+E10)*E2)","v":{"$error":"#DIV/0!"}},null,"M- max span4l =",{"$f":"IF(AX107=0,(0),(-AX107+0.5*AX109*Sheet1!D10-0.25*Sheet1!D10^2*'l6'!E2*('l6'!B10+'l6'!E10)))","v":0},null,"M- max span4r =",{"$f":"IF(BA107=0,(0),(0.5*BA109*Sheet1!D10-'l6'!BA108-0.25*('l6'!B10+'l6'!E10)*'l6'!E2*Sheet1!D10^2))","v":0},null,null,null,null,"ระยะที่ v=0",{"$f":"BG109/((B11+E11)*E2)","v":{"$error":"#DIV/0!"}},null,"M- max span 5l =",{"$f":"IF(BJ107=0,(0),(-BJ107+0.5*BJ109*Sheet1!D10-0.25*Sheet1!D10^2*'l6'!E2*('l6'!B11+'l6'!E11)))","v":0},null,"M- max span 5r =",{"$f":"IF(BM107=0,(0),(0.5*BM109*Sheet1!D10-'l6'!BM108-0.25*('l6'!B11+'l6'!E11)*'l6'!E2*Sheet1!D10^2))","v":0}]
[null,null,null,null,null,null,null,null,null,"M1+max=",{"$f":"IF(K107=0,(0),(K109*K110-0.5*(B7+E7)*K110^2*E2-K107))","v":0},null,"V1l =",{"$f":"(B7+E7)*E2*Sheet1!$L$10-'l6'!N109","v":0},null,null,null,null,null,null,null,"M2+max=",{"$f":"IF(W107=0,(0),((W109*W110)-0.5*(B8+E8)*E2*W110^2-W107))","v":0},null,"M- max span2l =",{"$f":"IF(Z107=0,(0),(-Z107+0.5*Z109*Sheet1!D10-0.25*(B8+E8)*E2*Sheet1!D10^2))","v":0},null,"M- max span2r =",{"$f":"IF(AC107=0,(0),(0.5*AC110*Sheet1!D10-'l6'!AC108-0.25*('l6'!B8+'l6'!E8)*'l6'!E2*Sheet1!D10^2))","v":0},null,null,null,null,"M3+ max =",{"$f":"IF(AI107=0,(0),(AI109*AI110-0.5*(B9+E9)*E2*AI110^2-AI107))","v":0},null,null,null,null,null,null,null,null,null,null,"M4+ max =",{"$f":"IF(AU107=0,(0),(AU109*AU110-0.5*(B10+E10)*AU110^2*E2-AU107))","v":0},null,null,null,null,null,null,null,null,null,null,"M5+ max =",{"$f":"IF(BG107=0,(0),(BG109*BG110-0.5*(B11+E11)*E2*BG110^2-BG107))","v":0},null,null,null,null,null,null,null,null,null,null,null,null,null,null,null,null,null,null,null,null,null,null,null,null,null,null," "]