{"text_format":"1","workbook":"xlsx","n_sheets":3,"sheets":["Input","Output","Data"],"not_rendered":{"charts":0,"images":47,"macros":1,"external_links":0,"defined_names":51,"comments":0,"pivot_tables":0},"unopened":[],"bounds":{"document_bytes":16777216,"sheet_cells":100000,"rows_first":2000,"rows_last":500,"rows_between":2000,"halvings":0,"cell_chars":16384,"cell_head_chars":4096},"cells_cut":0,"cells_raw":0,"read":"whole","date_system":"1900"}

{"sheet":"Input","index":0,"n_rows":100,"n_cols":16,"rows_kept":100,"cut":false,"hidden":false,"merged":[]}
["DATA","ตำแหน่ง","เหล็ก","ยาว","จำนวน","รูปร่าง","A","B","C","D","E","F","G","H","I","J"]
["HIDE",1,2,3,4,5,6,7,8,9,10,11,12,13,14,15]
["F1/DB12/2.5/9/5/20/100/100/",{"$f":"IFERROR((LEFT($A3, FIND(\"_\", SUBSTITUTE($A3,\"/\",\"_\",$B$2))-1)),0)","v":"F1"},{"$f":"IFERROR((REPLACE(LEFT($A3, FIND(\"_\", SUBSTITUTE($A3,\"/\",\"_\",C$2))-1),1,LEN(LEFT($A3, FIND(\"_\", SUBSTITUTE($A3,\"/\",\"_\",(C$2-1))))),\"\")),0)","v":"DB12"},"2.5","9","5","20","100","100",0,0,0,0,0,0,0]
["F1/DB12/2.5/7/8/20/100/100/200/","F1","DB12","2.5","7","8","20","100","100","200",0,0,0,0,0,0]
["F1/DB12/2.5/5/2/20/100/100/300/400/","F1","DB12","2.5","5","2","20","100","100","300","400",0,0,0,0,0]
["F1/DB12/2.5/54/4/20/100/100/","F1","DB12","2.5","54","4","20","100","100",0,0,0,0,0,0,0]
["F1/DB12/2.5/25/9/20/100/100/900/","F1","DB12","2.5","25","9","20","100","100","900",0,0,0,0,0,0]
["F1/DB12/2.5/5/10/20/100/100/400/300/700/","F1","DB12","2.5","5","10","20","100","100","400","300","700",0,0,0,0]
["F1/DB12/2.5/15/3/20/100/100/","F1","DB12","2.5","15","3","20","100","100",0,0,0,0,0,0,0]
["F1/DB12/2.5/5/6/20/100/100/800/200/","F1","DB12","2.5","5","6","20","100","100","800","200",0,0,0,0,0]
["F1/DB12/2.5/20/5/20/100/100/","F1","DB12","2.5","20","5","20","100","100",0,0,0,0,0,0,0]
["F1/DB12/2.5/5/8/20/100/100/","F1","DB12","2.5","5","8","20","100","100",0,0,0,0,0,0,0]
["F1/DB12/2.5/5/7/20/100/100/","F1",{"$f":"IFERROR((REPLACE(LEFT($A13, FIND(\"_\", SUBSTITUTE($A13,\"/\",\"_\",C$2))-1),1,LEN(LEFT($A13, FIND(\"_\", SUBSTITUTE($A13,\"/\",\"_\",(C$2-1))))),\"\")),0)","v":"DB12"},"2.5","5","7","20","100","100",0,0,0,0,0,0,0]
["F1/DB12/2.5/50/3/20/100/100/","F1","DB12","2.5","50","3","20","100","100",0,0,0,0,0,0,0]
["F1/DB12/2.5/5/2/20/100/100/","F1","DB12","2.5","5","2","20","100","100",0,0,0,0,0,0,0]
["F1/DB12/2.5/5/5/20/100/100/","F1","DB12","2.5","5","5","20","100","100",0,0,0,0,0,0,0]
["F1/DB12/2.5/5/6/20/100/100/","F1","DB12","2.5","5","6","20","100","100",0,0,0,0,0,0,0]
["F1/DB12/2.5/5/11/20/100/100/","F1","DB12","2.5","5","11","20","100","100",0,0,0,0,0,0,0]
["F1/DB12/2.5/5/12/20/100/100/","F1","DB12","2.5","5","12","20","100","100",0,0,0,0,0,0,0]
["F1/DB12/2.5/5/12/20/100/100/","F1","DB12","2.5","5","12","20","100","100",0,0,0,0,0,0,0]
["F1/DB12/2.5/5/12/20/100/100/",{"$f":"IFERROR((LEFT($A21, FIND(\"_\", SUBSTITUTE($A21,\"/\",\"_\",$B$2))-1)),0)","v":"F1"},{"$f":"IFERROR((REPLACE(LEFT($A21, FIND(\"_\", SUBSTITUTE($A21,\"/\",\"_\",C$2))-1),1,LEN(LEFT($A21, FIND(\"_\", SUBSTITUTE($A21,\"/\",\"_\",(C$2-1))))),\"\")),0)","v":"DB12"},"2.5","5",{"$f":"IFERROR((REPLACE(LEFT($A21, FIND(\"_\", SUBSTITUTE($A21,\"/\",\"_\",F$2))-1),1,LEN(LEFT($A21, FIND(\"_\", SUBSTITUTE($A21,\"/\",\"_\",(F$2-1))))),\"\")),0)","v":"12"},"20","100","100",0,0,0,0,0,0,0]
["F1/DB12/2.5/5/12/20/100/100/","F1","DB12","2.5","5","12","20","100","100",0,0,0,0,0,0,0]
[null,0,0,0,0,0,0,0,0,0,0,0,0,0,0,0]
[null,0,0,0,0,0,0,0,null,0,0,0,0,0,0,0]
[null,0,0,0,0,0,0,0,0,0,0,0,0,0,0,0]
[null,0,0,0,0,0,0,0,0,0,0,0,0,0,0,0]
[null,0,0,0,0,0,0,0,0,0,0,0,0,0,0,0]
[null,0,0,0,0,0,0,0,0,0,0,0,0,0,0,0]
[null,0,0,0,0,0,0,0,0,0,0,0,0,0,0,0]
[null,0,0,0,0,0,0,0,0,0,0,0,0,0,0,0]
[null,0,0,0,0,0,0,0,0,0,0,0,0,0,0,0]
[null,0,0,0,0,0,0,0,0,0,0,0,0,0,0,0]
[null,0,0,0,0,0,0,0,0,0,0,0,0,0,0,0]
[null,0,0,0,0,0,0,0,0,0,0,0,0,0,0,0]
[null,0,0,0,0,0,0,0,0,0,0,0,0,0,0,0]
[null,0,0,0,0,0,0,0,0,0,0,0,0,0,0,0]
[null,0,0,0,0,0,{"$f":"IFERROR((REPLACE(LEFT($A37, FIND(\"_\", SUBSTITUTE($A37,\"/\",\"_\",G$2))-1),1,LEN(LEFT($A37, FIND(\"_\", SUBSTITUTE($A37,\"/\",\"_\",(G$2-1))))),\"\")),0)","v":0},0,0,0,0,0,0,0,0,0]
[null,0,{"$f":"IFERROR((REPLACE(LEFT($A38, FIND(\"_\", SUBSTITUTE($A38,\"/\",\"_\",C$2))-1),1,LEN(LEFT($A38, FIND(\"_\", SUBSTITUTE($A38,\"/\",\"_\",(C$2-1))))),\"\")),0)","v":0},0,0,0,0,0,0,0,0,0,0,0,0,0]
[null,0,0,0,0,0,0,0,0,0,0,0,0,0,0,0]
[null,0,0,0,0,0,0,0,0,0,0,0,0,0,0,0]
[null,0,0,0,0,0,0,0,0,0,0,0,0,0,0,0]
[null,0,0,0,0,0,0,0,0,0,0,0,0,0,0,0]
[null,0,0,0,0,0,0,0,0,0,0,0,0,0,0,0]
[null,0,0,0,0,0,0,0,0,0,0,0,0,0,0,0]
[null,0,0,0,0,0,0,0,0,0,0,0,0,0,0,0]
[null,0,0,0,0,0,0,0,0,0,0,0,0,0,0,0]
[null,0,0,0,0,0,0,0,0,0,0,0,0,0,0,0]
[null,0,0,0,0,0,0,0,0,0,0,0,0,0,0,0]
[null,0,0,0,0,0,0,0,0,0,0,0,0,0,0,0]
[null,0,0,0,0,0,0,0,0,0,0,0,0,0,0,0]
[null,0,0,0,0,0,0,0,0,0,0,0,0,0,0,0]
[null,0,0,0,0,0,0,0,0,0,0,0,0,0,0,0]
[null,0,0,0,0,0,0,0,0,0,0,0,0,0,0,0]
[null,0,0,0,0,0,0,0,0,0,0,0,0,0,0,0]
[null,0,0,0,0,0,0,0,0,0,0,0,0,0,0,0]
[null,0,0,0,0,0,0,0,0,0,0,0,0,{"$f":"IFERROR((REPLACE(LEFT($A56, FIND(\"_\", SUBSTITUTE($A56,\"/\",\"_\",N$2))-1),1,LEN(LEFT($A56, FIND(\"_\", SUBSTITUTE($A56,\"/\",\"_\",(N$2-1))))),\"\")),0)","v":0},0,0]
[null,0,0,0,0,0,0,0,0,0,0,0,0,0,0,0]
[null,0,0,0,0,0,0,0,0,0,0,0,0,0,0,0]
[null,0,0,0,0,0,0,0,0,0,0,0,0,0,0,0]
[null,0,0,0,0,0,0,0,0,0,0,0,0,0,0,0]
[null,0,0,0,0,0,0,0,0,0,0,0,0,0,0,0]
[null,0,0,0,0,0,0,0,0,0,0,0,0,0,0,0]
[null,0,0,0,0,0,0,0,0,0,0,0,0,0,0,0]
[null,0,0,0,0,0,0,0,0,0,0,0,0,0,0,0]
[null,0,0,0,0,0,0,0,0,0,0,0,0,0,0,0]
[null,0,0,0,0,0,0,0,0,0,0,0,0,0,0,0]
[null,{"$f":"IFERROR((LEFT($A67, FIND(\"_\", SUBSTITUTE($A67,\"/\",\"_\",$B$2))-1)),0)","v":0},0,0,0,0,0,0,0,0,0,0,0,0,0,0]
[null,0,0,0,0,0,0,0,0,0,0,0,0,0,0,0]
[null,0,0,0,0,0,0,0,0,0,0,0,0,0,0,0]
[null,0,{"$f":"IFERROR((REPLACE(LEFT($A70, FIND(\"_\", SUBSTITUTE($A70,\"/\",\"_\",C$2))-1),1,LEN(LEFT($A70, FIND(\"_\", SUBSTITUTE($A70,\"/\",\"_\",(C$2-1))))),\"\")),0)","v":0},0,0,0,0,0,0,0,0,0,0,0,0,0]
[null,0,0,0,0,0,0,0,0,0,0,0,0,0,0,0]
[null,0,0,0,0,0,0,0,0,0,0,0,0,0,0,0]
[null,0,0,0,0,0,0,0,0,0,0,0,0,0,0,0]
[null,0,0,0,0,0,0,0,0,0,0,0,0,0,0,0]
[null,0,0,0,0,0,0,0,0,0,0,0,0,0,0,0]
[null,0,0,0,0,0,0,0,0,0,0,0,0,0,0,0]
[null,0,0,0,0,0,0,0,0,0,0,0,0,0,0,0]
[null,0,0,0,0,0,0,0,0,0,0,0,0,0,0,0]
[null,0,0,0,0,0,0,0,0,0,0,0,0,0,0,0]
[null,0,0,0,0,0,0,0,0,0,0,0,0,0,0,0]
[null,0,0,0,0,0,0,0,0,0,0,0,0,0,0,0]
[null,0,0,0,0,0,0,0,0,0,0,0,0,0,0,0]
[null,0,0,0,0,{"$f":"IFERROR((REPLACE(LEFT($A83, FIND(\"_\", SUBSTITUTE($A83,\"/\",\"_\",F$2))-1),1,LEN(LEFT($A83, FIND(\"_\", SUBSTITUTE($A83,\"/\",\"_\",(F$2-1))))),\"\")),0)","v":0},0,0,0,0,0,0,0,0,0,0]
[null,0,0,0,0,0,0,0,0,0,0,0,0,0,0,0]
[null,0,0,0,0,0,0,0,0,0,0,0,0,0,0,0]
[null,0,0,0,0,0,0,0,0,0,0,0,0,0,0,0]
[null,0,0,0,0,0,0,0,0,0,0,0,0,0,0,0]
[null,0,0,0,0,0,{"$f":"IFERROR((REPLACE(LEFT($A88, FIND(\"_\", SUBSTITUTE($A88,\"/\",\"_\",G$2))-1),1,LEN(LEFT($A88, FIND(\"_\", SUBSTITUTE($A88,\"/\",\"_\",(G$2-1))))),\"\")),0)","v":0},0,0,0,0,0,0,0,0,0]
[null,0,{"$f":"IFERROR((REPLACE(LEFT($A89, FIND(\"_\", SUBSTITUTE($A89,\"/\",\"_\",C$2))-1),1,LEN(LEFT($A89, FIND(\"_\", SUBSTITUTE($A89,\"/\",\"_\",(C$2-1))))),\"\")),0)","v":0},0,0,0,0,0,0,0,0,0,0,0,0,0]
[null,0,0,0,0,0,0,0,0,0,0,0,0,0,0,0]
[null,0,0,0,0,0,0,0,0,0,0,0,0,0,0,0]
[null,0,0,0,0,0,0,0,0,0,0,0,0,0,0,0]
[null,0,0,0,0,0,0,0,0,0,0,0,0,0,0,0]
[null,0,0,0,0,0,0,0,0,0,0,0,0,0,0,0]
[null,0,0,0,0,0,0,0,0,0,0,0,0,0,0,0]
[null,0,0,0,0,0,0,0,0,0,0,0,0,0,0,0]
[null,0,0,0,0,0,0,0,0,0,0,0,0,0,0,0]
[null,0,0,0,0,0,0,0,0,0,0,0,0,0,0,0]
[null,0,0,0,0,0,0,0,0,0,0,0,0,0,0,0]
[null,0,0,0,0,0,0,0,0,0,0,0,0,0,0,0]

{"sheet":"Output","index":1,"n_rows":57,"n_cols":18,"rows_kept":57,"cut":false,"hidden":false,"merged":[[5,0,6,0],[5,1,5,5],[5,7,5,16],[5,17,6,17],[0,0,1,4],[0,15,0,16],[1,15,1,16],[0,7,0,14],[1,7,1,14],[5,6,6,6]]}
["รายการดัดเหล็ก",null,null,null,null,"โครงการ :",null,null,null,null,null,null,null,null,null,"ผู้รับรอง :"]
[null,null,null,null,null,"อาคาร :",null,null,null,null,null,null,null,null,null,"เวอร์ชั่น :"]
[]
[]
[]
["ลำดับ","รายละเอียด",null,null,null,null,"TYPE","ระยะ(ม.)",null,null,null,null,null,null,null,null,null,"หมายเหตุ"]
[null,"ตำแหน่ง","เหล็ก","ยาว","จำนวน","รูปร่าง",null,"A","B","C","D","E","F","G","H","I","J"]
[{"$f":"IF(E8>0,IFERROR((A7+1),1),\"\")","v":1},{"$f":"Input!B3","v":"F1"},{"$f":"Input!C3","v":"DB12"},{"$f":"Input!D3","v":"2.5"},{"$f":"Input!E3","v":"9"},{"$f":"G8","v":3},3,{"$f":"Input!G3","v":"20"},{"$f":"Input!H3","v":"100"},{"$f":"Input!I3","v":"100"},50,60,{"$f":"Input!L3","v":0},{"$f":"Input!M3","v":0},{"$f":"Input!N3","v":0},{"$f":"Input!O3","v":0},{"$f":"Input!P3","v":0}]
[{"$f":"IF(E9>0,IFERROR((A8+1),1),\"\")","v":2},{"$f":"Input!B4","v":"F1"},{"$f":"Input!C4","v":"DB12"},{"$f":"Input!D4","v":"2.5"},{"$f":"Input!E4","v":"7"},{"$f":"G9","v":3},3,{"$f":"Input!G4","v":"20"},{"$f":"Input!H4","v":"100"},{"$f":"Input!I4","v":"100"},{"$f":"Input!J4","v":"200"},{"$f":"Input!K4","v":0},{"$f":"Input!L4","v":0},{"$f":"Input!M4","v":0},{"$f":"Input!N4","v":0},{"$f":"Input!O4","v":0},{"$f":"Input!P4","v":0}]
[3,{"$f":"Input!B5","v":"F1"},{"$f":"Input!C5","v":"DB12"},{"$f":"Input!D5","v":"2.5"},{"$f":"Input!E5","v":"5"},9,9,{"$f":"Input!G5","v":"20"},{"$f":"Input!H5","v":"100"},{"$f":"Input!I5","v":"100"},{"$f":"Input!J5","v":"300"},{"$f":"Input!K5","v":"400"},{"$f":"Input!L5","v":0},{"$f":"Input!M5","v":0},{"$f":"Input!N5","v":0},{"$f":"Input!O5","v":0},{"$f":"Input!P5","v":0}]
[{"$f":"IF(E11>0,IFERROR((A10+1),1),\"\")","v":4},{"$f":"Input!B6","v":"F1"},{"$f":"Input!C6","v":"DB12"},{"$f":"Input!D6","v":"2.5"},{"$f":"Input!E6","v":"54"},"4",{"$f":"IF(Input!F6>0,Input!F6,1)","v":"4"},{"$f":"Input!G6","v":"20"},{"$f":"Input!H6","v":"100"},{"$f":"Input!I6","v":"100"},{"$f":"Input!J6","v":0},{"$f":"Input!K6","v":0},{"$f":"Input!L6","v":0},{"$f":"Input!M6","v":0},{"$f":"Input!N6","v":0},{"$f":"Input!O6","v":0},{"$f":"Input!P6","v":0}]
[5,{"$f":"Input!B7","v":"F1"},{"$f":"Input!C7","v":"DB12"},{"$f":"Input!D7","v":"2.5"},{"$f":"Input!E7","v":"25"},"9",{"$f":"IF(Input!F7>0,Input!F7,1)","v":"9"},{"$f":"Input!G7","v":"20"},{"$f":"Input!H7","v":"100"},{"$f":"Input!I7","v":"100"},{"$f":"Input!J7","v":"900"},{"$f":"Input!K7","v":0},{"$f":"Input!L7","v":0},{"$f":"Input!M7","v":0},{"$f":"Input!N7","v":0},{"$f":"Input!O7","v":0},{"$f":"Input!P7","v":0}]
[6,{"$f":"Input!B8","v":"F1"},{"$f":"Input!C8","v":"DB12"},{"$f":"Input!D8","v":"2.5"},{"$f":"Input!E8","v":"5"},"10",{"$f":"IF(Input!F8>0,Input!F8,1)","v":"10"},{"$f":"Input!G8","v":"20"},{"$f":"Input!H8","v":"100"},{"$f":"Input!I8","v":"100"},{"$f":"Input!J8","v":"400"},{"$f":"Input!K8","v":"300"},{"$f":"Input!L8","v":"700"},{"$f":"Input!M8","v":0},{"$f":"Input!N8","v":0},{"$f":"Input!O8","v":0},{"$f":"Input!P8","v":0}]
[7,{"$f":"Input!B9","v":"F1"},{"$f":"Input!C9","v":"DB12"},{"$f":"Input!D9","v":"2.5"},{"$f":"Input!E9","v":"15"},"3",{"$f":"IF(Input!F9>0,Input!F9,1)","v":"3"},{"$f":"Input!G9","v":"20"},{"$f":"Input!H9","v":"100"},{"$f":"Input!I9","v":"100"},{"$f":"Input!J9","v":0},{"$f":"Input!K9","v":0},{"$f":"Input!L9","v":0},{"$f":"Input!M9","v":0},{"$f":"Input!N9","v":0},{"$f":"Input!O9","v":0},{"$f":"Input!P9","v":0}]
[8,{"$f":"Input!B10","v":"F1"},{"$f":"Input!C10","v":"DB12"},{"$f":"Input!D10","v":"2.5"},{"$f":"Input!E10","v":"5"},"6",{"$f":"IF(Input!F10>0,Input!F10,1)","v":"6"},{"$f":"Input!G10","v":"20"},{"$f":"Input!H10","v":"100"},{"$f":"Input!I10","v":"100"},{"$f":"Input!J10","v":"800"},{"$f":"Input!K10","v":"200"},{"$f":"Input!L10","v":0},{"$f":"Input!M10","v":0},{"$f":"Input!N10","v":0},{"$f":"Input!O10","v":0},{"$f":"Input!P10","v":0}]
[9,{"$f":"Input!B11","v":"F1"},{"$f":"Input!C11","v":"DB12"},{"$f":"Input!D11","v":"2.5"},{"$f":"Input!E11","v":"20"},"5",{"$f":"IF(Input!F11>0,Input!F11,1)","v":"5"},{"$f":"Input!G11","v":"20"},{"$f":"Input!H11","v":"100"},{"$f":"Input!I11","v":"100"},{"$f":"Input!J11","v":0},{"$f":"Input!K11","v":0},{"$f":"Input!L11","v":0},{"$f":"Input!M11","v":0},{"$f":"Input!N11","v":0},{"$f":"Input!O11","v":0},{"$f":"Input!P11","v":0}]
[10,{"$f":"Input!B12","v":"F1"},{"$f":"Input!C12","v":"DB12"},{"$f":"Input!D12","v":"2.5"},{"$f":"Input!E12","v":"5"},"8",{"$f":"IF(Input!F12>0,Input!F12,1)","v":"8"},{"$f":"Input!G12","v":"20"},{"$f":"Input!H12","v":"100"},{"$f":"Input!I12","v":"100"},{"$f":"Input!J12","v":0},{"$f":"Input!K12","v":0},{"$f":"Input!L12","v":0},{"$f":"Input!M12","v":0},{"$f":"Input!N12","v":0},{"$f":"Input!O12","v":0},{"$f":"Input!P12","v":0}]
[11,{"$f":"Input!B13","v":"F1"},{"$f":"Input!C13","v":"DB12"},{"$f":"Input!D13","v":"2.5"},{"$f":"Input!E13","v":"5"},"7",{"$f":"IF(Input!F13>0,Input!F13,1)","v":"7"},{"$f":"Input!G13","v":"20"},{"$f":"Input!H13","v":"100"},{"$f":"Input!I13","v":"100"},{"$f":"Input!J13","v":0},{"$f":"Input!K13","v":0},{"$f":"Input!L13","v":0},{"$f":"Input!M13","v":0},{"$f":"Input!N13","v":0},{"$f":"Input!O13","v":0},{"$f":"Input!P13","v":0}]
[12,{"$f":"Input!B14","v":"F1"},{"$f":"Input!C14","v":"DB12"},{"$f":"Input!D14","v":"2.5"},{"$f":"Input!E14","v":"50"},"3",{"$f":"IF(Input!F14>0,Input!F14,1)","v":"3"},{"$f":"Input!G14","v":"20"},{"$f":"Input!H14","v":"100"},{"$f":"Input!I14","v":"100"},{"$f":"Input!J14","v":0},{"$f":"Input!K14","v":0},{"$f":"Input!L14","v":0},{"$f":"Input!M14","v":0},{"$f":"Input!N14","v":0},{"$f":"Input!O14","v":0},{"$f":"Input!P14","v":0}]
[13,{"$f":"Input!B15","v":"F1"},{"$f":"Input!C15","v":"DB12"},{"$f":"Input!D15","v":"2.5"},{"$f":"Input!E15","v":"5"},"2",{"$f":"IF(Input!F15>0,Input!F15,1)","v":"2"},{"$f":"Input!G15","v":"20"},{"$f":"Input!H15","v":"100"},{"$f":"Input!I15","v":"100"},{"$f":"Input!J15","v":0},{"$f":"Input!K15","v":0},{"$f":"Input!L15","v":0},{"$f":"Input!M15","v":0},{"$f":"Input!N15","v":0},{"$f":"Input!O15","v":0},{"$f":"Input!P15","v":0}]
[14,{"$f":"Input!B16","v":"F1"},{"$f":"Input!C16","v":"DB12"},{"$f":"Input!D16","v":"2.5"},{"$f":"Input!E16","v":"5"},"5",{"$f":"IF(Input!F16>0,Input!F16,1)","v":"5"},{"$f":"Input!G16","v":"20"},{"$f":"Input!H16","v":"100"},{"$f":"Input!I16","v":"100"},{"$f":"Input!J16","v":0},{"$f":"Input!K16","v":0},{"$f":"Input!L16","v":0},{"$f":"Input!M16","v":0},{"$f":"Input!N16","v":0},{"$f":"Input!O16","v":0},{"$f":"Input!P16","v":0}]
[15,{"$f":"Input!B17","v":"F1"},{"$f":"Input!C17","v":"DB12"},{"$f":"Input!D17","v":"2.5"},{"$f":"Input!E17","v":"5"},"6",{"$f":"IF(Input!F17>0,Input!F17,1)","v":"6"},{"$f":"Input!G17","v":"20"},{"$f":"Input!H17","v":"100"},{"$f":"Input!I17","v":"100"},{"$f":"Input!J17","v":0},{"$f":"Input!K17","v":0},{"$f":"Input!L17","v":0},{"$f":"Input!M17","v":0},{"$f":"Input!N17","v":0},{"$f":"Input!O17","v":0},{"$f":"Input!P17","v":0}]
[16,{"$f":"Input!B18","v":"F1"},{"$f":"Input!C18","v":"DB12"},{"$f":"Input!D18","v":"2.5"},{"$f":"Input!E18","v":"5"},"11",{"$f":"IF(Input!F18>0,Input!F18,1)","v":"11"},{"$f":"Input!G18","v":"20"},{"$f":"Input!H18","v":"100"},{"$f":"Input!I18","v":"100"},{"$f":"Input!J18","v":0},{"$f":"Input!K18","v":0},{"$f":"Input!L18","v":0},{"$f":"Input!M18","v":0},{"$f":"Input!N18","v":0},{"$f":"Input!O18","v":0},{"$f":"Input!P18","v":0}]
[17,{"$f":"Input!B19","v":"F1"},{"$f":"Input!C19","v":"DB12"},{"$f":"Input!D19","v":"2.5"},{"$f":"Input!E19","v":"5"},"12",{"$f":"IF(Input!F19>0,Input!F19,1)","v":"12"},{"$f":"Input!G19","v":"20"},{"$f":"Input!H19","v":"100"},{"$f":"Input!I19","v":"100"},{"$f":"Input!J19","v":0},{"$f":"Input!K19","v":0},{"$f":"Input!L19","v":0},{"$f":"Input!M19","v":0},{"$f":"Input!N19","v":0},{"$f":"Input!O19","v":0},{"$f":"Input!P19","v":0}]
[18,{"$f":"Input!B20","v":"F1"},{"$f":"Input!C20","v":"DB12"},{"$f":"Input!D20","v":"2.5"},{"$f":"Input!E20","v":"5"},"12",{"$f":"IF(Input!F20>0,Input!F20,1)","v":"12"},{"$f":"Input!G20","v":"20"},{"$f":"Input!H20","v":"100"},{"$f":"Input!I20","v":"100"},{"$f":"Input!J20","v":0},{"$f":"Input!K20","v":0},{"$f":"Input!L20","v":0},{"$f":"Input!M20","v":0},{"$f":"Input!N20","v":0},{"$f":"Input!O20","v":0},{"$f":"Input!P20","v":0}]
[19,{"$f":"Input!B21","v":"F1"},{"$f":"Input!C21","v":"DB12"},{"$f":"Input!D21","v":"2.5"},{"$f":"Input!E21","v":"5"},"12",{"$f":"IF(Input!F21>0,Input!F21,1)","v":"12"},{"$f":"Input!G21","v":"20"},{"$f":"Input!H21","v":"100"},{"$f":"Input!I21","v":"100"},{"$f":"Input!J21","v":0},{"$f":"Input!K21","v":0},{"$f":"Input!L21","v":0},{"$f":"Input!M21","v":0},{"$f":"Input!N21","v":0},{"$f":"Input!O21","v":0},{"$f":"Input!P21","v":0}]
[20,{"$f":"Input!B22","v":"F1"},{"$f":"Input!C22","v":"DB12"},{"$f":"Input!D22","v":"2.5"},{"$f":"Input!E22","v":"5"},"12",{"$f":"IF(Input!F22>0,Input!F22,1)","v":"12"},{"$f":"Input!G22","v":"20"},{"$f":"Input!H22","v":"100"},{"$f":"Input!I22","v":"100"},{"$f":"Input!J22","v":0},{"$f":"Input!K22","v":0},{"$f":"Input!L22","v":0},{"$f":"Input!M22","v":0},{"$f":"Input!N22","v":0},{"$f":"Input!O22","v":0},{"$f":"Input!P22","v":0}]
["",{"$f":"Input!B23","v":0},{"$f":"Input!C23","v":0},{"$f":"Input!D23","v":0},{"$f":"Input!E23","v":0},1,{"$f":"IF(Input!F23>0,Input!F23,1)","v":1},{"$f":"Input!G23","v":0},{"$f":"Input!H23","v":0},{"$f":"Input!I23","v":0},{"$f":"Input!J23","v":0},{"$f":"Input!K23","v":0},{"$f":"Input!L23","v":0},{"$f":"Input!M23","v":0},{"$f":"Input!N23","v":0},{"$f":"Input!O23","v":0},{"$f":"Input!P23","v":0}]
["",{"$f":"Input!B24","v":0},{"$f":"Input!C24","v":0},{"$f":"Input!D24","v":0},{"$f":"Input!E24","v":0},1,{"$f":"IF(Input!F24>0,Input!F24,1)","v":1},{"$f":"Input!G24","v":0},{"$f":"Input!H24","v":0},{"$f":"Input!I24","v":0},{"$f":"Input!J24","v":0},{"$f":"Input!K24","v":0},{"$f":"Input!L24","v":0},{"$f":"Input!M24","v":0},{"$f":"Input!N24","v":0},{"$f":"Input!O24","v":0},{"$f":"Input!P24","v":0}]
["",{"$f":"Input!B25","v":0},{"$f":"Input!C25","v":0},{"$f":"Input!D25","v":0},{"$f":"Input!E25","v":0},1,{"$f":"IF(Input!F25>0,Input!F25,1)","v":1},{"$f":"Input!G25","v":0},{"$f":"Input!H25","v":0},{"$f":"Input!I25","v":0},{"$f":"Input!J25","v":0},{"$f":"Input!K25","v":0},{"$f":"Input!L25","v":0},{"$f":"Input!M25","v":0},{"$f":"Input!N25","v":0},{"$f":"Input!O25","v":0},{"$f":"Input!P25","v":0}]
["",{"$f":"Input!B26","v":0},{"$f":"Input!C26","v":0},{"$f":"Input!D26","v":0},{"$f":"Input!E26","v":0},1,{"$f":"IF(Input!F26>0,Input!F26,1)","v":1},{"$f":"Input!G26","v":0},{"$f":"Input!H26","v":0},{"$f":"Input!I26","v":0},{"$f":"Input!J26","v":0},{"$f":"Input!K26","v":0},{"$f":"Input!L26","v":0},{"$f":"Input!M26","v":0},{"$f":"Input!N26","v":0},{"$f":"Input!O26","v":0},{"$f":"Input!P26","v":0}]
["",{"$f":"Input!B27","v":0},{"$f":"Input!C27","v":0},{"$f":"Input!D27","v":0},{"$f":"Input!E27","v":0},1,{"$f":"IF(Input!F27>0,Input!F27,1)","v":1},{"$f":"Input!G27","v":0},{"$f":"Input!H27","v":0},{"$f":"Input!I27","v":0},{"$f":"Input!J27","v":0},{"$f":"Input!K27","v":0},{"$f":"Input!L27","v":0},{"$f":"Input!M27","v":0},{"$f":"Input!N27","v":0},{"$f":"Input!O27","v":0},{"$f":"Input!P27","v":0}]
["",{"$f":"Input!B28","v":0},{"$f":"Input!C28","v":0},{"$f":"Input!D28","v":0},{"$f":"Input!E28","v":0},1,{"$f":"IF(Input!F28>0,Input!F28,1)","v":1},{"$f":"Input!G28","v":0},{"$f":"Input!H28","v":0},{"$f":"Input!I28","v":0},{"$f":"Input!J28","v":0},{"$f":"Input!K28","v":0},{"$f":"Input!L28","v":0},{"$f":"Input!M28","v":0},{"$f":"Input!N28","v":0},{"$f":"Input!O28","v":0},{"$f":"Input!P28","v":0}]
["",{"$f":"Input!B29","v":0},{"$f":"Input!C29","v":0},{"$f":"Input!D29","v":0},{"$f":"Input!E29","v":0},1,{"$f":"IF(Input!F29>0,Input!F29,1)","v":1},{"$f":"Input!G29","v":0},{"$f":"Input!H29","v":0},{"$f":"Input!I29","v":0},{"$f":"Input!J29","v":0},{"$f":"Input!K29","v":0},{"$f":"Input!L29","v":0},{"$f":"Input!M29","v":0},{"$f":"Input!N29","v":0},{"$f":"Input!O29","v":0},{"$f":"Input!P29","v":0}]
["",{"$f":"Input!B30","v":0},{"$f":"Input!C30","v":0},{"$f":"Input!D30","v":0},{"$f":"Input!E30","v":0},1,{"$f":"IF(Input!F30>0,Input!F30,1)","v":1},{"$f":"Input!G30","v":0},{"$f":"Input!H30","v":0},{"$f":"Input!I30","v":0},{"$f":"Input!J30","v":0},{"$f":"Input!K30","v":0},{"$f":"Input!L30","v":0},{"$f":"Input!M30","v":0},{"$f":"Input!N30","v":0},{"$f":"Input!O30","v":0},{"$f":"Input!P30","v":0}]
["",{"$f":"Input!B31","v":0},{"$f":"Input!C31","v":0},{"$f":"Input!D31","v":0},{"$f":"Input!E31","v":0},1,{"$f":"IF(Input!F31>0,Input!F31,1)","v":1},{"$f":"Input!G31","v":0},{"$f":"Input!H31","v":0},{"$f":"Input!I31","v":0},{"$f":"Input!J31","v":0},{"$f":"Input!K31","v":0},{"$f":"Input!L31","v":0},{"$f":"Input!M31","v":0},{"$f":"Input!N31","v":0},{"$f":"Input!O31","v":0},{"$f":"Input!P31","v":0}]
["",{"$f":"Input!B32","v":0},{"$f":"Input!C32","v":0},{"$f":"Input!D32","v":0},{"$f":"Input!E32","v":0},1,{"$f":"IF(Input!F32>0,Input!F32,1)","v":1},{"$f":"Input!G32","v":0},{"$f":"Input!H32","v":0},{"$f":"Input!I32","v":0},{"$f":"Input!J32","v":0},{"$f":"Input!K32","v":0},{"$f":"Input!L32","v":0},{"$f":"Input!M32","v":0},{"$f":"Input!N32","v":0},{"$f":"Input!O32","v":0},{"$f":"Input!P32","v":0}]
["",{"$f":"Input!B33","v":0},{"$f":"Input!C33","v":0},{"$f":"Input!D33","v":0},{"$f":"Input!E33","v":0},1,{"$f":"IF(Input!F33>0,Input!F33,1)","v":1},{"$f":"Input!G33","v":0},{"$f":"Input!H33","v":0},{"$f":"Input!I33","v":0},{"$f":"Input!J33","v":0},{"$f":"Input!K33","v":0},{"$f":"Input!L33","v":0},{"$f":"Input!M33","v":0},{"$f":"Input!N33","v":0},{"$f":"Input!O33","v":0},{"$f":"Input!P33","v":0}]
["",{"$f":"Input!B34","v":0},{"$f":"Input!C34","v":0},{"$f":"Input!D34","v":0},{"$f":"Input!E34","v":0},1,{"$f":"IF(Input!F34>0,Input!F34,1)","v":1},{"$f":"Input!G34","v":0},{"$f":"Input!H34","v":0},{"$f":"Input!I34","v":0},{"$f":"Input!J34","v":0},{"$f":"Input!K34","v":0},{"$f":"Input!L34","v":0},{"$f":"Input!M34","v":0},{"$f":"Input!N34","v":0},{"$f":"Input!O34","v":0},{"$f":"Input!P34","v":0}]
["",{"$f":"Input!B35","v":0},{"$f":"Input!C35","v":0},{"$f":"Input!D35","v":0},{"$f":"Input!E35","v":0},1,{"$f":"IF(Input!F35>0,Input!F35,1)","v":1},{"$f":"Input!G35","v":0},{"$f":"Input!H35","v":0},{"$f":"Input!I35","v":0},{"$f":"Input!J35","v":0},{"$f":"Input!K35","v":0},{"$f":"Input!L35","v":0},{"$f":"Input!M35","v":0},{"$f":"Input!N35","v":0},{"$f":"Input!O35","v":0},{"$f":"Input!P35","v":0}]
["",{"$f":"Input!B36","v":0},{"$f":"Input!C36","v":0},{"$f":"Input!D36","v":0},{"$f":"Input!E36","v":0},1,{"$f":"IF(Input!F36>0,Input!F36,1)","v":1},{"$f":"Input!G36","v":0},{"$f":"Input!H36","v":0},{"$f":"Input!I36","v":0},{"$f":"Input!J36","v":0},{"$f":"Input!K36","v":0},{"$f":"Input!L36","v":0},{"$f":"Input!M36","v":0},{"$f":"Input!N36","v":0},{"$f":"Input!O36","v":0},{"$f":"Input!P36","v":0}]
["",{"$f":"Input!B37","v":0},{"$f":"Input!C37","v":0},{"$f":"Input!D37","v":0},{"$f":"Input!E37","v":0},1,{"$f":"IF(Input!F37>0,Input!F37,1)","v":1},{"$f":"Input!G37","v":0},{"$f":"Input!H37","v":0},{"$f":"Input!I37","v":0},{"$f":"Input!J37","v":0},{"$f":"Input!K37","v":0},{"$f":"Input!L37","v":0},{"$f":"Input!M37","v":0},{"$f":"Input!N37","v":0},{"$f":"Input!O37","v":0},{"$f":"Input!P37","v":0}]
["",{"$f":"Input!B38","v":0},{"$f":"Input!C38","v":0},{"$f":"Input!D38","v":0},{"$f":"Input!E38","v":0},1,{"$f":"IF(Input!F38>0,Input!F38,1)","v":1},{"$f":"Input!G38","v":0},{"$f":"Input!H38","v":0},{"$f":"Input!I38","v":0},{"$f":"Input!J38","v":0},{"$f":"Input!K38","v":0},{"$f":"Input!L38","v":0},{"$f":"Input!M38","v":0},{"$f":"Input!N38","v":0},{"$f":"Input!O38","v":0},{"$f":"Input!P38","v":0}]
["",{"$f":"Input!B39","v":0},{"$f":"Input!C39","v":0},{"$f":"Input!D39","v":0},{"$f":"Input!E39","v":0},1,{"$f":"IF(Input!F39>0,Input!F39,1)","v":1},{"$f":"Input!G39","v":0},{"$f":"Input!H39","v":0},{"$f":"Input!I39","v":0},{"$f":"Input!J39","v":0},{"$f":"Input!K39","v":0},{"$f":"Input!L39","v":0},{"$f":"Input!M39","v":0},{"$f":"Input!N39","v":0},{"$f":"Input!O39","v":0},{"$f":"Input!P39","v":0}]
["",{"$f":"Input!B40","v":0},{"$f":"Input!C40","v":0},{"$f":"Input!D40","v":0},{"$f":"Input!E40","v":0},1,{"$f":"IF(Input!F40>0,Input!F40,1)","v":1},{"$f":"Input!G40","v":0},{"$f":"Input!H40","v":0},{"$f":"Input!I40","v":0},{"$f":"Input!J40","v":0},{"$f":"Input!K40","v":0},{"$f":"Input!L40","v":0},{"$f":"Input!M40","v":0},{"$f":"Input!N40","v":0},{"$f":"Input!O40","v":0},{"$f":"Input!P40","v":0}]
["",{"$f":"Input!B41","v":0},{"$f":"Input!C41","v":0},{"$f":"Input!D41","v":0},{"$f":"Input!E41","v":0},1,{"$f":"IF(Input!F41>0,Input!F41,1)","v":1},{"$f":"Input!G41","v":0},{"$f":"Input!H41","v":0},{"$f":"Input!I41","v":0},{"$f":"Input!J41","v":0},{"$f":"Input!K41","v":0},{"$f":"Input!L41","v":0},{"$f":"Input!M41","v":0},{"$f":"Input!N41","v":0},{"$f":"Input!O41","v":0},{"$f":"Input!P41","v":0}]
["",{"$f":"Input!B42","v":0},{"$f":"Input!C42","v":0},{"$f":"Input!D42","v":0},{"$f":"Input!E42","v":0},1,{"$f":"IF(Input!F42>0,Input!F42,1)","v":1},{"$f":"Input!G42","v":0},{"$f":"Input!H42","v":0},{"$f":"Input!I42","v":0},{"$f":"Input!J42","v":0},{"$f":"Input!K42","v":0},{"$f":"Input!L42","v":0},{"$f":"Input!M42","v":0},{"$f":"Input!N42","v":0},{"$f":"Input!O42","v":0},{"$f":"Input!P42","v":0}]
["",{"$f":"Input!B43","v":0},{"$f":"Input!C43","v":0},{"$f":"Input!D43","v":0},{"$f":"Input!E43","v":0},1,{"$f":"IF(Input!F43>0,Input!F43,1)","v":1},{"$f":"Input!G43","v":0},{"$f":"Input!H43","v":0},{"$f":"Input!I43","v":0},{"$f":"Input!J43","v":0},{"$f":"Input!K43","v":0},{"$f":"Input!L43","v":0},{"$f":"Input!M43","v":0},{"$f":"Input!N43","v":0},{"$f":"Input!O43","v":0},{"$f":"Input!P43","v":0}]
["",{"$f":"Input!B44","v":0},{"$f":"Input!C44","v":0},{"$f":"Input!D44","v":0},{"$f":"Input!E44","v":0},1,{"$f":"IF(Input!F44>0,Input!F44,1)","v":1},{"$f":"Input!G44","v":0},{"$f":"Input!H44","v":0},{"$f":"Input!I44","v":0},{"$f":"Input!J44","v":0},{"$f":"Input!K44","v":0},{"$f":"Input!L44","v":0},{"$f":"Input!M44","v":0},{"$f":"Input!N44","v":0},{"$f":"Input!O44","v":0},{"$f":"Input!P44","v":0}]
["",{"$f":"Input!B45","v":0},{"$f":"Input!C45","v":0},{"$f":"Input!D45","v":0},{"$f":"Input!E45","v":0},1,{"$f":"IF(Input!F45>0,Input!F45,1)","v":1},{"$f":"Input!G45","v":0},{"$f":"Input!H45","v":0},{"$f":"Input!I45","v":0},{"$f":"Input!J45","v":0},{"$f":"Input!K45","v":0},{"$f":"Input!L45","v":0},{"$f":"Input!M45","v":0},{"$f":"Input!N45","v":0},{"$f":"Input!O45","v":0},{"$f":"Input!P45","v":0}]
["",{"$f":"Input!B46","v":0},{"$f":"Input!C46","v":0},{"$f":"Input!D46","v":0},{"$f":"Input!E46","v":0},1,{"$f":"IF(Input!F46>0,Input!F46,1)","v":1},{"$f":"Input!G46","v":0},{"$f":"Input!H46","v":0},{"$f":"Input!I46","v":0},{"$f":"Input!J46","v":0},{"$f":"Input!K46","v":0},{"$f":"Input!L46","v":0},{"$f":"Input!M46","v":0},{"$f":"Input!N46","v":0},{"$f":"Input!O46","v":0},{"$f":"Input!P46","v":0}]
["",{"$f":"Input!B47","v":0},{"$f":"Input!C47","v":0},{"$f":"Input!D47","v":0},{"$f":"Input!E47","v":0},1,{"$f":"IF(Input!F47>0,Input!F47,1)","v":1},{"$f":"Input!G47","v":0},{"$f":"Input!H47","v":0},{"$f":"Input!I47","v":0},{"$f":"Input!J47","v":0},{"$f":"Input!K47","v":0},{"$f":"Input!L47","v":0},{"$f":"Input!M47","v":0},{"$f":"Input!N47","v":0},{"$f":"Input!O47","v":0},{"$f":"Input!P47","v":0}]
["",{"$f":"Input!B48","v":0},{"$f":"Input!C48","v":0},{"$f":"Input!D48","v":0},{"$f":"Input!E48","v":0},1,{"$f":"IF(Input!F48>0,Input!F48,1)","v":1},{"$f":"Input!G48","v":0},{"$f":"Input!H48","v":0},{"$f":"Input!I48","v":0},{"$f":"Input!J48","v":0},{"$f":"Input!K48","v":0},{"$f":"Input!L48","v":0},{"$f":"Input!M48","v":0},{"$f":"Input!N48","v":0},{"$f":"Input!O48","v":0},{"$f":"Input!P48","v":0}]
["",{"$f":"Input!B49","v":0},{"$f":"Input!C49","v":0},{"$f":"Input!D49","v":0},{"$f":"Input!E49","v":0},1,{"$f":"IF(Input!F49>0,Input!F49,1)","v":1},{"$f":"Input!G49","v":0},{"$f":"Input!H49","v":0},{"$f":"Input!I49","v":0},{"$f":"Input!J49","v":0},{"$f":"Input!K49","v":0},{"$f":"Input!L49","v":0},{"$f":"Input!M49","v":0},{"$f":"Input!N49","v":0},{"$f":"Input!O49","v":0},{"$f":"Input!P49","v":0}]
["",{"$f":"Input!B50","v":0},{"$f":"Input!C50","v":0},{"$f":"Input!D50","v":0},{"$f":"Input!E50","v":0},1,{"$f":"IF(Input!F50>0,Input!F50,1)","v":1},{"$f":"Input!G50","v":0},{"$f":"Input!H50","v":0},{"$f":"Input!I50","v":0},{"$f":"Input!J50","v":0},{"$f":"Input!K50","v":0},{"$f":"Input!L50","v":0},{"$f":"Input!M50","v":0},{"$f":"Input!N50","v":0},{"$f":"Input!O50","v":0},{"$f":"Input!P50","v":0}]
["",{"$f":"Input!B51","v":0},{"$f":"Input!C51","v":0},{"$f":"Input!D51","v":0},{"$f":"Input!E51","v":0},1,{"$f":"IF(Input!F51>0,Input!F51,1)","v":1},{"$f":"Input!G51","v":0},{"$f":"Input!H51","v":0},{"$f":"Input!I51","v":0},{"$f":"Input!J51","v":0},{"$f":"Input!K51","v":0},{"$f":"Input!L51","v":0},{"$f":"Input!M51","v":0},{"$f":"Input!N51","v":0},{"$f":"Input!O51","v":0},{"$f":"Input!P51","v":0}]
["",{"$f":"Input!B52","v":0},{"$f":"Input!C52","v":0},{"$f":"Input!D52","v":0},{"$f":"Input!E52","v":0},1,{"$f":"IF(Input!F52>0,Input!F52,1)","v":1},{"$f":"Input!G52","v":0},{"$f":"Input!H52","v":0},{"$f":"Input!I52","v":0},{"$f":"Input!J52","v":0},{"$f":"Input!K52","v":0},{"$f":"Input!L52","v":0},{"$f":"Input!M52","v":0},{"$f":"Input!N52","v":0},{"$f":"Input!O52","v":0},{"$f":"Input!P52","v":0}]

{"sheet":"Data","index":2,"n_rows":1,"n_cols":1,"rows_kept":1,"cut":false,"hidden":false,"merged":[]}
["no"]